{"text_format":"3","workbook":"xlsx","n_sheets":4,"sheets":["Filtro","BBDD","BM18","BM18A"],"not_rendered":{"macros":1,"external_links":2,"defined_names":1,"pivot_tables":1},"read":"whole","date_system":"1900"}

{"sheet":"Filtro","index":0,"n_rows":315,"n_cols":50,"rows_kept":315}
["Comuna / Hospital","(Todas)"]
["Mes","(Todas)"]
[]
["Etiquetas de fila","Suma de Col01","Suma de Col02","Suma de Col03","Suma de Col04","Suma de Col05","Suma de Col06","Suma de Col07","Cuenta de Col08","Cuenta de Col09","Cuenta de Col10","Cuenta de Col11","Cuenta de Col12","Cuenta de Col13","Cuenta de Col14","Cuenta de Col15","Cuenta de Col16","Cuenta de Col17","Cuenta de Col18","Cuenta de Col19","Cuenta de Col20","Cuenta de Col21","Cuenta de Col22","Cuenta de Col23","Cuenta de Col24","Cuenta de Col25","Cuenta de Col26","Cuenta de Col27","Cuenta de Col28","Cuenta de Col29","Cuenta de Col30","Cuenta de Col31","Cuenta de Col32","Cuenta de Col33","Cuenta de Col34","Cuenta de Col35","Cuenta de Col36","Cuenta de Col37","Cuenta de Col38","Cuenta de Col39","Cuenta de Col40","Cuenta de Col41","Cuenta de col42","Cuenta de col43","Cuenta de col44","Cuenta de col45","Cuenta de col46","Cuenta de col47","Cuenta de col48","Cuenta de col49"]
["18010100",38222,1314,36908]
["18010200",111748,4687,107061]
["18010500",1266,27,1239]
["18010601",11880,644,11236]
["18010800",309,3,306]
["18010900",37851,2459,35392]
["18011001",16622,12474,4148]
["18011002",342,5,337]
["18020200",204,135,69]
["18020300",4423,2771,1652]
["18020400",345,21,324]
["18020500",48978,10796,38182]
["18020600",124,61,63]
["18020700",969,428,541]
["18020800",384,365,19]
["18020900",483,4,479]
["18030000",3315,1940,1375]
["18040100",1926,383,1543]
["18040200",1393,146,1247]
["18050100",84674,11735,72939]
["18050200",4133,2334,1799]
["18050300",905,84,821]
["18070100",34,5,19,null,null,7,3]
["18070300",2480,159,187,49,121,1246,718]
["18090000",11742,301,11441]
["18090100",19926,835,19091]
["18090200",9805,1617]
["18400400",307,56,251]
["18400500",73,5,68]
["18400600",2405,26,2379]
["18400700",621449]
["18400900",5281,1268,4013]
["18700100",73919,6062,59945,9602,10271]
["18700110",439,4,475,2,292,4,333]
["18700140",251,7,278,2,217,11,266]
["18700150",170,null,170,null,29,1,169]
["18700160",206,0,206,0,18,0,206]
["18700170",217,null,219,null,217,0,219]
["18700190",259,null,259,null,122,4,119]
["18700200",33,null,33,null,33,0,33]
["18700210",459,null,457,2,424,40,419]
["18700230",3156,54,2985,259,2867,29,3243]
["80106002",84674,11735,72939,193,73227,283]
["80106005",4133,2334,1799,41,4056]
["80106006",905,84,821,0,834]
["80106007",978,441,537,184,708]
["80106008",441,174,267,64,254]
["80106009",38,28,10,13,24,0]
["80106010",818,124,694,342,230,0]
["80106011",26,17,9,7,17]
["80106012",65,58,7,24,27]
["80106013",2636,1396,1240,419,2102,0]
["80106014",225641,116217,109424,9665,201629,1118]
["80106015",33096,25592,7504,3800,26467,86]
["80106017",48017,2333,45684,97,45462,197]
["80106020",2410,1855,555,152,1961,8]
["80106021",112,66,46,12,92]
["80106022",2382,976,1406,15,2088,3]
["80106023",11742,301,11441,0,9113,568]
["80301002",0,null,null,1]
["80301005",0,null,null,11]
["80301011",0,null,null,71]
["80301014",0,null,null,70]
["80301015",37,null,37,353]
["80301016",0,null,null,1]
["80301026",0,null,null,140]
["80301033",0,null,null,1]
["80301034",1088,65,1023,1478]
["80301035",0,null,null,57]
["80301036",2705,59,2646,20095]
["80301038",1917,84,1823,16300]
["80301039",0,null,null,30]
["80301040",0,null,null,20]
["80301041",7776,340,7436,22209]
["80301042",1,null,1,124]
["80301044",0,null,null,14]
["80301045",16006,722,15284,29066]
["80301046",0,null,null,15]
["80301049",0,null,null,19]
["80301059",2472,16,2456,4042]
["80301064",0,null,null,4]
["80301065",73,null,73,113]
["80301067",91,1,90,117]
["80301072",33,null,33]
["80301075",0,null,null,21]
["80301082",0,null,null,5]
["80301083",382,null,382,52]
["80301085",645,null,645,911]
["80301086",5006,27,4979,1966]
["80301087",0,null,null,13]
["80302002",0,null,null,1]
["80302004",0,null,null,11]
["80302005",8025,310,7715,17255]
["80302006",111,102,9]
["80302008",0,null,null,80]
["80302012",69,5,64,404]
["80302013",219,19,200,4153]
["80302014",0,null,null,12]
["80302015",0,null,null,210]
["80302022",0,null,null,332]
["80302023",15568,574,14994,40500]
["80302024",125,3,122,413]
["80302025",0,null,null,36]
["80302026",0,null,null,82]
["80302030",0,null,null,26]
["80302031",0,null,null,48]
["80302032",24399,1230,23169,23544]
["80302033",0,null,null,146]
["80302034",18099,634,17465,24006]
["80302035",0,null,null,67]
["80302036",0,null,null,5]
["80302037",0,null,null,27]
["80302038",0,null,null,5]
["80302039",0,null,null,4]
["80302040",129,2,127,3831]
["80302042",0,null,null,48]
["80302043",0,null,null,21]
["80302045",27,1,26,8]
["80302047",21228,805,20423,54314]
["80302048",3175,128,3047,6617]
["80302051",0,null,null,3]
["80302056",0,null,null,4]
["80302057",9280,448,8832,15529]
["80302059",919,55,864,65]
["80302060",362,6,356,1115]
["80302061",0,null,null,32]
["80302062",0,null,null,4]
["80302063",386,16,370,9302]
["80302064",345,5,340,28426]
["80302065",0,null,null,24]
["80302067",1076,6,1070,32539]
["80302068",1445,2,1443,27330]
["80302075",0,null,null,314]
["80302076",6761,336,6425,5033]
["80303024",11597,457,11140,31736]
["80303025",1751,null,1751,73]
["80303026",6071,378,5693,8136]
["80303027",260,null,260,667]
["80303028",247,null,247,930]
["80305003",0,null,null,1]
["80305004",0,null,null,6]
["80305005",0,null,null,8]
["80305012",0,null,null,2]
["80305019",634,27,607,1113]
["80305020",0,null,null,73]
["80305027",0,null,null,3]
["80305030",0,null,null,259]
["80305031",0,null,null,1]
["80305070",632,null,632,815]
["80305170",0,null,null,1]
["80306001",0,null,null,71]
["80306002",6,null,6,535]
["80306004",18,1,17,7]
["80306005",268,21,247,24]
["80306007",190,8,182,79]
["80306008",244,21,223,53]
["80306011",6055,374,5681,11150]
["80306016",0,null,null,7]
["80306017",5,null,5]
["80306018",0,null,null,21]
["80306022",0,null,null,1]
["80306025",0,null,null,10]
["80306026",294,35,259]
["80306038",3758,172,3586,402]
["80306041",0,null,null,52]
["80306042",48,null,48,10584]
["80306045",0,null,null,6]
["80306046",0,null,null,3]
["80306047",0,null,null,4]
["80306048",226,7,219,149]
["80306049",0,null,null,4]
["80306050",0,null,null,1]
["80306051",145,4,141,206]
["80306052",0,null,null,75]
["80306053",0,null,null,5]
["80306056",10,null,10]
["80306059",217,null,217,450]
["80306061",338,null,338,1798]
["80306066",0,null,null,46]
["80306069",1,null,1,1]
["80306079",0,null,null,5]
["80306080",0,null,null,4]
["80306081",0,null,null,9]
["80306117",13,1,12]
["80306169",14,null,14,1055]
["80306170",30,null,30]
["80307011",139141,3416,135725,48932]
["80307012",3838,304,3534,511]
["80308001",0,null,null,33]
["80308004",102,null,102,399]
["80308005",174,null,174,138]
["80308012",0,null,null,1561]
["80308013",0,null,null,60]
["80308018",0,null,null,2]
["80308022",0,null,null,41]
["80308024",0,null,null,168]
["80308030",0,null,null,8]
["80308035",0,null,null,25]
["80308044",33,3,30,11]
["80309004",0,null,null,126]
["80309006",0,null,null,12]
["80309008",0,null,null,1]
["80309010",7301,414,6887,9292]
["80309011",5,null,5]
["80309012",0,null,null,462]
["80309013",9944,421,9523,16858]
["80309014",81,null,81,139]
["80309016",361,null,361,230]
["80309020",0,null,null,464]
["80309021",0,null,null,125]
["80309022",16560,826,15734,46509]
["80309023",3292,769,2523,1581]
["80309024",26,26,null,2052]
["80309027",0,null,null,227]
["80309028",281,3,278,1563]
["80401002",65,5,60]
["80401008",98,61,37,64]
["80401009",470,381,89,230]
["80401010",284,null,284,182]
["80401013",444,439,5]
["80401014",57,55,2]
["80401019",1,1]
["80401028",19,18,1]
["80401029",9,8,1]
["80401030",4,4]
["80401031",552,480,72]
["80401032",665,639,26]
["80401033",40,40]
["80401042",319,233,86]
["80401043",140,133,7]
["80401044",4,3,1]
["80401045",672,605,67]
["80401046",627,355,272]
["80401047",1,null,1]
["80401048",18,18,0]
["80401049",3,3]
["80401051",879,497,382,607]
["80401052",428,144,284]
["80401053",102,84,18]
["80401054",4460,3842,618]
["80401055",107,103,4]
["80401056",17,3,14,3]
["80401058",12,12,0]
["80401059",496,456,40]
["80401060",2776,1620,1156,650]
["80401061",2,2]
["80401062",306,245,61]
["80401063",7,7]
["80401070",1902,1549,353,337]
["80401110",3,null,3,3]
["80401151",633,429,204,1605]
["80404002",2405,26,2379,23]
["80404003",73,5,68,360]
["80404005",52,null,52]
["80404006",81,0,81]
["80404012",136,null,136,47]
["80500001",774,5,769,24,733]
["80500007",3,null,3,1,1]
["80500008",1110,12,1098,0,1078,12]
["80500009",852,10,842,0,825,7]
["80500010",160,70,90,null,100]
["80500011",50348,24669,25679,2402,38579,469]
["80500014",978,189,789,36,806,1747]
["80500016",438,432,6,null,432,6]
["80500017",1140,1140,null,null,1140,30]
["81201012",194,null,194]
["81201029",113,56,57,18,67]
["81301025",122,72,50,29,85]
["81301026",40,35,5,5,35]
["81301029",15,14,1,7,7]
["81301030",26,13,13,3,23]
["81301043",1,1,null,1]
["81601110",21,21]
["81601115",324,0,324,0,326,3]
["81602201",9,1,8,7,null,1]
["81602202",40,10,30,27,3,31]
["81602203",66,null,66,29,7]
["81602204",13,null,13,13]
["81602205",17,null,17,13,4]
["81602206",36,null,36,36]
["81602211",1,null,1,null,1]
["81602212",1,null,1,null,1]
["81602216",12,12,null,3]
["81602217",17,0,17,14,3,0]
["81602221",829,571,258,395,335]
["81602222",1871,1237,634,1045,595]
["81602224",84,1,83,63,11,5]
["81602225",58,1,57,38,10,0]
["81602231",179,32,147,96,33,15]
["81602240",73,66,7,1,68]
["81602242",9,9,null,8]
["81701001",27592,8566,19026,819,23340,5578]
["81701006",0,{"$nulls":3},12]
["81701009",21386,2230,19156,91,20551,0]
["81707001",671,4,667,4,655,4]
["81707002",304,26,278,26,316,31]
["81707004",35,0,35,0,35]
["81707030",3413,2741,672,293,2840,70]
["81801023",112,58,54,8,98,0]
["81801042",12,3,9,2,8]
["81901019",764,304,460,27,616,0]
["81901022",205,124,81,2,200]
["82001015",483,4,479,1,470,3]
["82101001",24,23,1,10,14]
["82106004",3,3,null,null,9]
["82106005",3,2,1,null,3]
["82106006",66,66,null,null,14]
["82106007",32,28,4,null,32]
["82107003",256,243,13,3,236]
["(en blanco)"]
["Total general",2040116,296244,1104126,630071,477659,11617,5728]

{"sheet":"BBDD","index":1,"n_rows":38056,"n_cols":57,"rows_kept":4500,"cut":true,"hidden":true,"bounds":{"rows_first":2000,"rows_last":500,"rows_between":2000,"halvings":0}}
["Mes","IdServicio","Ano","Comuna / Hospital","IdEstablecimiento","CodigoPrestacion","fechaIngreso","Col01","Col02","Col03","Col04","Col05","Col06","Col07","Col08","Col09","Col10","Col11","Col12","Col13","Col14","Col15","Col16","Col17","Col18","Col19","Col20","Col21","Col22","Col23","Col24","Col25","Col26","Col27","Col28","Col29","Col30","Col31","Col32","Col33","Col34","Col35","Col36","Col37","Col38","Col39","Col40","Col41","col42","col43","col44","col45","col46","col47","col48","col49","col50"]
[9,"5",2020,{"$f":"IFERROR(VLOOKUP([1]!Tabla_SERIEA_01_5[[#This Row],[IdEstablecimiento]],[2]Establecimientos!$A$1:$E$175,5,FALSE),0)","v":"105108-HOSPITAL LOS VILOS"},"105405","80309022","2020-10-16T09:23:04",0,null,null,29]
[9,"5",2020,{"$f":"IFERROR(VLOOKUP([1]!Tabla_SERIEA_01_5[[#This Row],[IdEstablecimiento]],[2]Establecimientos!$A$1:$E$175,5,FALSE),0)","v":"105108-HOSPITAL LOS VILOS"},"105405","80309028","2020-10-16T09:23:04",0,null,null,2]
[9,"5",2020,{"$f":"IFERROR(VLOOKUP([1]!Tabla_SERIEA_01_5[[#This Row],[IdEstablecimiento]],[2]Establecimientos!$A$1:$E$175,5,FALSE),0)","v":"04106-VICUÑA"},"105405","80301036","2020-10-16T09:23:04",0,null,null,5]
[9,"5",2020,{"$f":"IFERROR(VLOOKUP([1]!Tabla_SERIEA_01_5[[#This Row],[IdEstablecimiento]],[2]Establecimientos!$A$1:$E$175,5,FALSE),0)","v":"04106-VICUÑA"},"105405","80301038","2020-10-16T09:23:04",0,null,null,5]
[9,"5",2020,{"$f":"IFERROR(VLOOKUP([1]!Tabla_SERIEA_01_5[[#This Row],[IdEstablecimiento]],[2]Establecimientos!$A$1:$E$175,5,FALSE),0)","v":"04101-LA SERENA"},"105405","80301041","2020-10-16T09:23:04",0,null,null,7]
[9,"5",2020,{"$f":"IFERROR(VLOOKUP([1]!Tabla_SERIEA_01_5[[#This Row],[IdEstablecimiento]],[2]Establecimientos!$A$1:$E$175,5,FALSE),0)","v":"04106-VICUÑA"},"105405","80301045","2020-10-16T09:23:04",0,null,null,31]
[9,"5",2020,{"$f":"IFERROR(VLOOKUP([1]!Tabla_SERIEA_01_5[[#This Row],[IdEstablecimiento]],[2]Establecimientos!$A$1:$E$175,5,FALSE),0)","v":"04106-VICUÑA"},"105405","80306059","2020-10-16T09:23:04",0,null,null,2]
[11,"5",2020,{"$f":"IFERROR(VLOOKUP([1]!Tabla_SERIEA_01_5[[#This Row],[IdEstablecimiento]],[2]Establecimientos!$A$1:$E$175,5,FALSE),0)","v":"04106-VICUÑA"},"105300","80302068","2020-12-11T14:48:10",0,null,null,271]
[12,"5",2020,{"$f":"IFERROR(VLOOKUP([1]!Tabla_SERIEA_01_5[[#This Row],[IdEstablecimiento]],[2]Establecimientos!$A$1:$E$175,5,FALSE),0)","v":"04106-VICUÑA"},"105302","80309013","2021-01-18T11:31:15",0,null,null,89]
[12,"5",2020,{"$f":"IFERROR(VLOOKUP([1]!Tabla_SERIEA_01_5[[#This Row],[IdEstablecimiento]],[2]Establecimientos!$A$1:$E$175,5,FALSE),0)","v":"04106-VICUÑA"},"105302","80309022","2021-01-18T11:31:15",0,null,null,173]
[12,"5",2020,{"$f":"IFERROR(VLOOKUP([1]!Tabla_SERIEA_01_5[[#This Row],[IdEstablecimiento]],[2]Establecimientos!$A$1:$E$175,5,FALSE),0)","v":"04106-VICUÑA"},"105302","80301034","2021-01-18T11:31:15",0,null,null,11]
[12,"5",2020,{"$f":"IFERROR(VLOOKUP([1]!Tabla_SERIEA_01_5[[#This Row],[IdEstablecimiento]],[2]Establecimientos!$A$1:$E$175,5,FALSE),0)","v":"04101-LA SERENA"},"105302","80301036","2021-01-18T11:31:15",0,null,null,90]
[12,"5",2020,{"$f":"IFERROR(VLOOKUP([1]!Tabla_SERIEA_01_5[[#This Row],[IdEstablecimiento]],[2]Establecimientos!$A$1:$E$175,5,FALSE),0)","v":"04102-COQUIMBO"},"105302","80301038","2021-01-18T11:31:15",0,null,null,90]
[12,"5",2020,{"$f":"IFERROR(VLOOKUP([1]!Tabla_SERIEA_01_5[[#This Row],[IdEstablecimiento]],[2]Establecimientos!$A$1:$E$175,5,FALSE),0)","v":"04102-COQUIMBO"},"105302","80301041","2021-01-18T11:31:15",0,null,null,85]
[12,"5",2020,{"$f":"IFERROR(VLOOKUP([1]!Tabla_SERIEA_01_5[[#This Row],[IdEstablecimiento]],[2]Establecimientos!$A$1:$E$175,5,FALSE),0)","v":"04102-COQUIMBO"},"105302","80404002","2021-01-18T11:31:15",8,null,8]
[12,"5",2020,{"$f":"IFERROR(VLOOKUP([1]!Tabla_SERIEA_01_5[[#This Row],[IdEstablecimiento]],[2]Establecimientos!$A$1:$E$175,5,FALSE),0)","v":"04102-COQUIMBO"},"105302","80301059","2021-01-18T11:31:15",0,null,null,9]
[12,"5",2020,{"$f":"IFERROR(VLOOKUP([1]!Tabla_SERIEA_01_5[[#This Row],[IdEstablecimiento]],[2]Establecimientos!$A$1:$E$175,5,FALSE),0)","v":"04106-VICUÑA"},"105302","80301086","2021-01-18T11:31:15",0,null,null,81]
[12,"5",2020,{"$f":"IFERROR(VLOOKUP([1]!Tabla_SERIEA_01_5[[#This Row],[IdEstablecimiento]],[2]Establecimientos!$A$1:$E$175,5,FALSE),0)","v":"04106-VICUÑA"},"105302","80302005","2021-01-18T11:31:15",0,null,null,22]
[12,"5",2020,{"$f":"IFERROR(VLOOKUP([1]!Tabla_SERIEA_01_5[[#This Row],[IdEstablecimiento]],[2]Establecimientos!$A$1:$E$175,5,FALSE),0)","v":"04106-VICUÑA"},"105302","81901019","2021-01-18T11:31:15",6,null,6,null,6]
[12,"5",2020,{"$f":"IFERROR(VLOOKUP([1]!Tabla_SERIEA_01_5[[#This Row],[IdEstablecimiento]],[2]Establecimientos!$A$1:$E$175,5,FALSE),0)","v":"04106-VICUÑA"},"105302","82001015","2021-01-18T11:31:15",3,null,3,null,3]
[12,"5",2020,{"$f":"IFERROR(VLOOKUP([1]!Tabla_SERIEA_01_5[[#This Row],[IdEstablecimiento]],[2]Establecimientos!$A$1:$E$175,5,FALSE),0)","v":"04106-VICUÑA"},"105302","81602201","2021-01-18T11:31:15",1,null,1]
[12,"5",2020,{"$f":"IFERROR(VLOOKUP([1]!Tabla_SERIEA_01_5[[#This Row],[IdEstablecimiento]],[2]Establecimientos!$A$1:$E$175,5,FALSE),0)","v":"04106-VICUÑA"},"105302","81602224","2021-01-18T11:31:15",9,null,9]
[12,"5",2020,{"$f":"IFERROR(VLOOKUP([1]!Tabla_SERIEA_01_5[[#This Row],[IdEstablecimiento]],[2]Establecimientos!$A$1:$E$175,5,FALSE),0)","v":"04106-VICUÑA"},"105302","81602225","2021-01-18T11:31:15",8,null,8]
[12,"5",2020,{"$f":"IFERROR(VLOOKUP([1]!Tabla_SERIEA_01_5[[#This Row],[IdEstablecimiento]],[2]Establecimientos!$A$1:$E$175,5,FALSE),0)","v":"04106-VICUÑA"},"105302","81602231","2021-01-18T11:31:15",3,null,3]
[12,"5",2020,{"$f":"IFERROR(VLOOKUP([1]!Tabla_SERIEA_01_5[[#This Row],[IdEstablecimiento]],[2]Establecimientos!$A$1:$E$175,5,FALSE),0)","v":"04106-VICUÑA"},"105302","80106002","2021-01-18T11:31:15",252,null,252]
[12,"5",2020,{"$f":"IFERROR(VLOOKUP([1]!Tabla_SERIEA_01_5[[#This Row],[IdEstablecimiento]],[2]Establecimientos!$A$1:$E$175,5,FALSE),0)","v":"04303-MONTE PATRIA"},"105302","80106005","2021-01-18T11:31:15",4,null,4]
[12,"5",2020,{"$f":"IFERROR(VLOOKUP([1]!Tabla_SERIEA_01_5[[#This Row],[IdEstablecimiento]],[2]Establecimientos!$A$1:$E$175,5,FALSE),0)","v":"04303-MONTE PATRIA"},"105302","80106017","2021-01-18T11:31:15",168,null,168]
[12,"5",2020,{"$f":"IFERROR(VLOOKUP([1]!Tabla_SERIEA_01_5[[#This Row],[IdEstablecimiento]],[2]Establecimientos!$A$1:$E$175,5,FALSE),0)","v":"105107-HOSPITAL VICUÑA"},"105302","80302012","2021-01-18T11:31:15",0,null,null,23]
[12,"5",2020,{"$f":"IFERROR(VLOOKUP([1]!Tabla_SERIEA_01_5[[#This Row],[IdEstablecimiento]],[2]Establecimientos!$A$1:$E$175,5,FALSE),0)","v":"105107-HOSPITAL VICUÑA"},"105302","80302067","2021-01-18T11:31:15",0,null,null,180]
[12,"5",2020,{"$f":"IFERROR(VLOOKUP([1]!Tabla_SERIEA_01_5[[#This Row],[IdEstablecimiento]],[2]Establecimientos!$A$1:$E$175,5,FALSE),0)","v":"105107-HOSPITAL VICUÑA"},"105302","80302023","2021-01-18T11:31:15",0,null,null,164]
[12,"5",2020,{"$f":"IFERROR(VLOOKUP([1]!Tabla_SERIEA_01_5[[#This Row],[IdEstablecimiento]],[2]Establecimientos!$A$1:$E$175,5,FALSE),0)","v":"105107-HOSPITAL VICUÑA"},"105302","80302032","2021-01-18T11:31:15",0,null,null,55]
[12,"5",2020,{"$f":"IFERROR(VLOOKUP([1]!Tabla_SERIEA_01_5[[#This Row],[IdEstablecimiento]],[2]Establecimientos!$A$1:$E$175,5,FALSE),0)","v":"105107-HOSPITAL VICUÑA"},"105302","80302034","2021-01-18T11:31:15",0,null,null,177]
[12,"5",2020,{"$f":"IFERROR(VLOOKUP([1]!Tabla_SERIEA_01_5[[#This Row],[IdEstablecimiento]],[2]Establecimientos!$A$1:$E$175,5,FALSE),0)","v":"105107-HOSPITAL VICUÑA"},"105302","80302040","2021-01-18T11:31:15",0,null,null,20]
[12,"5",2020,{"$f":"IFERROR(VLOOKUP([1]!Tabla_SERIEA_01_5[[#This Row],[IdEstablecimiento]],[2]Establecimientos!$A$1:$E$175,5,FALSE),0)","v":"105107-HOSPITAL VICUÑA"},"105302","80302047","2021-01-18T11:31:15",0,null,null,214]
[12,"5",2020,{"$f":"IFERROR(VLOOKUP([1]!Tabla_SERIEA_01_5[[#This Row],[IdEstablecimiento]],[2]Establecimientos!$A$1:$E$175,5,FALSE),0)","v":"105107-HOSPITAL VICUÑA"},"105302","80302048","2021-01-18T11:31:15",0,null,null,32]
[12,"5",2020,{"$f":"IFERROR(VLOOKUP([1]!Tabla_SERIEA_01_5[[#This Row],[IdEstablecimiento]],[2]Establecimientos!$A$1:$E$175,5,FALSE),0)","v":"105107-HOSPITAL VICUÑA"},"105302","80302063","2021-01-18T11:31:15",0,null,null,50]
[12,"5",2020,{"$f":"IFERROR(VLOOKUP([1]!Tabla_SERIEA_01_5[[#This Row],[IdEstablecimiento]],[2]Establecimientos!$A$1:$E$175,5,FALSE),0)","v":"105107-HOSPITAL VICUÑA"},"105302","80302064","2021-01-18T11:31:15",0,null,null,173]
[12,"5",2020,{"$f":"IFERROR(VLOOKUP([1]!Tabla_SERIEA_01_5[[#This Row],[IdEstablecimiento]],[2]Establecimientos!$A$1:$E$175,5,FALSE),0)","v":"105107-HOSPITAL VICUÑA"},"105302","80303024","2021-01-18T11:31:15",0,null,null,89]
[12,"5",2020,{"$f":"IFERROR(VLOOKUP([1]!Tabla_SERIEA_01_5[[#This Row],[IdEstablecimiento]],[2]Establecimientos!$A$1:$E$175,5,FALSE),0)","v":"105107-HOSPITAL VICUÑA"},"105302","80306002","2021-01-18T11:31:15",0,null,null,5]
[12,"5",2020,{"$f":"IFERROR(VLOOKUP([1]!Tabla_SERIEA_01_5[[#This Row],[IdEstablecimiento]],[2]Establecimientos!$A$1:$E$175,5,FALSE),0)","v":"105107-HOSPITAL VICUÑA"},"105302","80306011","2021-01-18T11:31:15",0,null,null,41]
[12,"5",2020,{"$f":"IFERROR(VLOOKUP([1]!Tabla_SERIEA_01_5[[#This Row],[IdEstablecimiento]],[2]Establecimientos!$A$1:$E$175,5,FALSE),0)","v":"105100-HOSPITAL LA SERENA"},"105302","80106014","2021-01-18T11:31:15",129,null,129]
[12,"5",2020,{"$f":"IFERROR(VLOOKUP([1]!Tabla_SERIEA_01_5[[#This Row],[IdEstablecimiento]],[2]Establecimientos!$A$1:$E$175,5,FALSE),0)","v":"04305-RIO HURTADO"},"105302","80106022","2021-01-18T11:31:15",5,null,5]
[12,"5",2020,{"$f":"IFERROR(VLOOKUP([1]!Tabla_SERIEA_01_5[[#This Row],[IdEstablecimiento]],[2]Establecimientos!$A$1:$E$175,5,FALSE),0)","v":"04305-RIO HURTADO"},"105302","80106023","2021-01-18T11:31:15",74,null,74]
[12,"5",2020,{"$f":"IFERROR(VLOOKUP([1]!Tabla_SERIEA_01_5[[#This Row],[IdEstablecimiento]],[2]Establecimientos!$A$1:$E$175,5,FALSE),0)","v":"04305-RIO HURTADO"},"105302","80307011","2021-01-18T11:31:15",279,null,279]
[12,"5",2020,{"$f":"IFERROR(VLOOKUP([1]!Tabla_SERIEA_01_5[[#This Row],[IdEstablecimiento]],[2]Establecimientos!$A$1:$E$175,5,FALSE),0)","v":"04303-MONTE PATRIA"},"105302","80307012","2021-01-18T11:31:15",3,null,3]
[12,"5",2020,{"$f":"IFERROR(VLOOKUP([1]!Tabla_SERIEA_01_5[[#This Row],[IdEstablecimiento]],[2]Establecimientos!$A$1:$E$175,5,FALSE),0)","v":"04303-MONTE PATRIA"},"105302","80500008","2021-01-18T11:31:15",2,null,2,null,2]
[12,"5",2020,{"$f":"IFERROR(VLOOKUP([1]!Tabla_SERIEA_01_5[[#This Row],[IdEstablecimiento]],[2]Establecimientos!$A$1:$E$175,5,FALSE),0)","v":"04303-MONTE PATRIA"},"105302","80500009","2021-01-18T11:31:15",4,null,4,null,4]
[12,"5",2020,{"$f":"IFERROR(VLOOKUP([1]!Tabla_SERIEA_01_5[[#This Row],[IdEstablecimiento]],[2]Establecimientos!$A$1:$E$175,5,FALSE),0)","v":"04303-MONTE PATRIA"},"105302","80500011","2021-01-18T11:31:15",32,null,32,null,32]
[12,"5",2020,{"$f":"IFERROR(VLOOKUP([1]!Tabla_SERIEA_01_5[[#This Row],[IdEstablecimiento]],[2]Establecimientos!$A$1:$E$175,5,FALSE),0)","v":"04303-MONTE PATRIA"},"105302","80306042","2021-01-18T11:31:15",0,null,null,39]
[12,"5",2020,{"$f":"IFERROR(VLOOKUP([1]!Tabla_SERIEA_01_5[[#This Row],[IdEstablecimiento]],[2]Establecimientos!$A$1:$E$175,5,FALSE),0)","v":"04303-MONTE PATRIA"},"105302","80305019","2021-01-18T11:31:15",0,null,null,2]
[12,"5",2020,{"$f":"IFERROR(VLOOKUP([1]!Tabla_SERIEA_01_5[[#This Row],[IdEstablecimiento]],[2]Establecimientos!$A$1:$E$175,5,FALSE),0)","v":"04303-MONTE PATRIA"},"105302","18400600","2021-01-18T11:31:15",8,0,8]
[12,"5",2020,{"$f":"IFERROR(VLOOKUP([1]!Tabla_SERIEA_01_5[[#This Row],[IdEstablecimiento]],[2]Establecimientos!$A$1:$E$175,5,FALSE),0)","v":"04303-MONTE PATRIA"},"105302","18020700","2021-01-18T11:31:15",6,0,6]
[12,"5",2020,{"$f":"IFERROR(VLOOKUP([1]!Tabla_SERIEA_01_5[[#This Row],[IdEstablecimiento]],[2]Establecimientos!$A$1:$E$175,5,FALSE),0)","v":"04303-MONTE PATRIA"},"105302","18020900","2021-01-18T11:31:15",3,0,3]
[12,"5",2020,{"$f":"IFERROR(VLOOKUP([1]!Tabla_SERIEA_01_5[[#This Row],[IdEstablecimiento]],[2]Establecimientos!$A$1:$E$175,5,FALSE),0)","v":"04303-MONTE PATRIA"},"105302","18030000","2021-01-18T11:31:15",21,0,21]
[12,"5",2020,{"$f":"IFERROR(VLOOKUP([1]!Tabla_SERIEA_01_5[[#This Row],[IdEstablecimiento]],[2]Establecimientos!$A$1:$E$175,5,FALSE),0)","v":"04204-SALAMANCA"},"105302","18040200","2021-01-18T11:31:15",21,null,21]
[12,"5",2020,{"$f":"IFERROR(VLOOKUP([1]!Tabla_SERIEA_01_5[[#This Row],[IdEstablecimiento]],[2]Establecimientos!$A$1:$E$175,5,FALSE),0)","v":"04204-SALAMANCA"},"105302","18090000","2021-01-18T11:31:15",74,0,74]
[12,"5",2020,{"$f":"IFERROR(VLOOKUP([1]!Tabla_SERIEA_01_5[[#This Row],[IdEstablecimiento]],[2]Establecimientos!$A$1:$E$175,5,FALSE),0)","v":"04204-SALAMANCA"},"105302","18050100","2021-01-18T11:31:15",252,0,252]
[12,"5",2020,{"$f":"IFERROR(VLOOKUP([1]!Tabla_SERIEA_01_5[[#This Row],[IdEstablecimiento]],[2]Establecimientos!$A$1:$E$175,5,FALSE),0)","v":"04204-SALAMANCA"},"105302","18050200","2021-01-18T11:31:15",4,0,4]
[12,"5",2020,{"$f":"IFERROR(VLOOKUP([1]!Tabla_SERIEA_01_5[[#This Row],[IdEstablecimiento]],[2]Establecimientos!$A$1:$E$175,5,FALSE),0)","v":"04204-SALAMANCA"},"105302","18400700","2021-01-18T11:31:15",2664]
[12,"5",2020,{"$f":"IFERROR(VLOOKUP([1]!Tabla_SERIEA_01_5[[#This Row],[IdEstablecimiento]],[2]Establecimientos!$A$1:$E$175,5,FALSE),0)","v":"04101-LA SERENA"},"105302","18090200","2021-01-18T11:31:15",30]
[12,"5",2020,{"$f":"IFERROR(VLOOKUP([1]!Tabla_SERIEA_01_5[[#This Row],[IdEstablecimiento]],[2]Establecimientos!$A$1:$E$175,5,FALSE),0)","v":"04102-COQUIMBO"},"105302","18700100","2021-01-18T11:31:15",575,52,460,63]
[12,"5",2020,{"$f":"IFERROR(VLOOKUP([1]!Tabla_SERIEA_01_5[[#This Row],[IdEstablecimiento]],[2]Establecimientos!$A$1:$E$175,5,FALSE),0)","v":"04102-COQUIMBO"},"105303","80309013","2021-01-18T11:31:40",0,null,null,165]
[12,"5",2020,{"$f":"IFERROR(VLOOKUP([1]!Tabla_SERIEA_01_5[[#This Row],[IdEstablecimiento]],[2]Establecimientos!$A$1:$E$175,5,FALSE),0)","v":"04102-COQUIMBO"},"105303","80309014","2021-01-18T11:31:40",0,null,null,1]
[12,"5",2020,{"$f":"IFERROR(VLOOKUP([1]!Tabla_SERIEA_01_5[[#This Row],[IdEstablecimiento]],[2]Establecimientos!$A$1:$E$175,5,FALSE),0)","v":"04102-COQUIMBO"},"105303","80309022","2021-01-18T11:31:40",0,null,null,214]
[12,"5",2020,{"$f":"IFERROR(VLOOKUP([1]!Tabla_SERIEA_01_5[[#This Row],[IdEstablecimiento]],[2]Establecimientos!$A$1:$E$175,5,FALSE),0)","v":"04102-COQUIMBO"},"105303","80309028","2021-01-18T11:31:40",0,null,null,1]
[12,"5",2020,{"$f":"IFERROR(VLOOKUP([1]!Tabla_SERIEA_01_5[[#This Row],[IdEstablecimiento]],[2]Establecimientos!$A$1:$E$175,5,FALSE),0)","v":"04102-COQUIMBO"},"105303","80401070","2021-01-18T11:31:40",0,null,null,2]
[12,"5",2020,{"$f":"IFERROR(VLOOKUP([1]!Tabla_SERIEA_01_5[[#This Row],[IdEstablecimiento]],[2]Establecimientos!$A$1:$E$175,5,FALSE),0)","v":"04102-COQUIMBO"},"105303","80301034","2021-01-18T11:31:40",11,null,11]
[12,"5",2020,{"$f":"IFERROR(VLOOKUP([1]!Tabla_SERIEA_01_5[[#This Row],[IdEstablecimiento]],[2]Establecimientos!$A$1:$E$175,5,FALSE),0)","v":"04106-VICUÑA"},"105303","80301036","2021-01-18T11:31:40",0,null,null,130]
[12,"5",2020,{"$f":"IFERROR(VLOOKUP([1]!Tabla_SERIEA_01_5[[#This Row],[IdEstablecimiento]],[2]Establecimientos!$A$1:$E$175,5,FALSE),0)","v":"04106-VICUÑA"},"105303","80301038","2021-01-18T11:31:40",0,null,null,130]
[12,"5",2020,{"$f":"IFERROR(VLOOKUP([1]!Tabla_SERIEA_01_5[[#This Row],[IdEstablecimiento]],[2]Establecimientos!$A$1:$E$175,5,FALSE),0)","v":"04106-VICUÑA"},"105303","80301041","2021-01-18T11:31:40",0,null,null,86]
[12,"5",2020,{"$f":"IFERROR(VLOOKUP([1]!Tabla_SERIEA_01_5[[#This Row],[IdEstablecimiento]],[2]Establecimientos!$A$1:$E$175,5,FALSE),0)","v":"04106-VICUÑA"},"105303","80301045","2021-01-18T11:31:40",0,null,null,98]
[12,"5",2020,{"$f":"IFERROR(VLOOKUP([1]!Tabla_SERIEA_01_5[[#This Row],[IdEstablecimiento]],[2]Establecimientos!$A$1:$E$175,5,FALSE),0)","v":"04106-VICUÑA"},"105303","80404002","2021-01-18T11:31:40",5,null,5]
[12,"5",2020,{"$f":"IFERROR(VLOOKUP([1]!Tabla_SERIEA_01_5[[#This Row],[IdEstablecimiento]],[2]Establecimientos!$A$1:$E$175,5,FALSE),0)","v":"04106-VICUÑA"},"105303","80306059","2021-01-18T11:31:40",0,null,null,2]
[12,"5",2020,{"$f":"IFERROR(VLOOKUP([1]!Tabla_SERIEA_01_5[[#This Row],[IdEstablecimiento]],[2]Establecimientos!$A$1:$E$175,5,FALSE),0)","v":"04106-VICUÑA"},"105303","80306061","2021-01-18T11:31:40",14,null,14]
[12,"5",2020,{"$f":"IFERROR(VLOOKUP([1]!Tabla_SERIEA_01_5[[#This Row],[IdEstablecimiento]],[2]Establecimientos!$A$1:$E$175,5,FALSE),0)","v":"04303-MONTE PATRIA"},"105303","80308004","2021-01-18T11:31:40",0,null,null,3]
[12,"5",2020,{"$f":"IFERROR(VLOOKUP([1]!Tabla_SERIEA_01_5[[#This Row],[IdEstablecimiento]],[2]Establecimientos!$A$1:$E$175,5,FALSE),0)","v":"04303-MONTE PATRIA"},"105303","80308005","2021-01-18T11:31:40",0,null,null,2]
[12,"5",2020,{"$f":"IFERROR(VLOOKUP([1]!Tabla_SERIEA_01_5[[#This Row],[IdEstablecimiento]],[2]Establecimientos!$A$1:$E$175,5,FALSE),0)","v":"04303-MONTE PATRIA"},"105303","80301059","2021-01-18T11:31:40",0,null,null,6]
[12,"5",2020,{"$f":"IFERROR(VLOOKUP([1]!Tabla_SERIEA_01_5[[#This Row],[IdEstablecimiento]],[2]Establecimientos!$A$1:$E$175,5,FALSE),0)","v":"04303-MONTE PATRIA"},"105303","80301085","2021-01-18T11:31:40",0,null,null,4]
[12,"5",2020,{"$f":"IFERROR(VLOOKUP([1]!Tabla_SERIEA_01_5[[#This Row],[IdEstablecimiento]],[2]Establecimientos!$A$1:$E$175,5,FALSE),0)","v":"04101-LA SERENA"},"105303","80302005","2021-01-18T11:31:40",0,null,null,179]
[12,"5",2020,{"$f":"IFERROR(VLOOKUP([1]!Tabla_SERIEA_01_5[[#This Row],[IdEstablecimiento]],[2]Establecimientos!$A$1:$E$175,5,FALSE),0)","v":"04101-LA SERENA"},"105303","81701001","2021-01-18T11:31:40",3,null,3,null,3,3]
[12,"5",2020,{"$f":"IFERROR(VLOOKUP([1]!Tabla_SERIEA_01_5[[#This Row],[IdEstablecimiento]],[2]Establecimientos!$A$1:$E$175,5,FALSE),0)","v":"04101-LA SERENA"},"105303","81707030","2021-01-18T11:31:40",15,null,15,null,15]
[12,"5",2020,{"$f":"IFERROR(VLOOKUP([1]!Tabla_SERIEA_01_5[[#This Row],[IdEstablecimiento]],[2]Establecimientos!$A$1:$E$175,5,FALSE),0)","v":"04303-MONTE PATRIA"},"105303","81901019","2021-01-18T11:31:40",2,null,2,null,2]
[12,"5",2020,{"$f":"IFERROR(VLOOKUP([1]!Tabla_SERIEA_01_5[[#This Row],[IdEstablecimiento]],[2]Establecimientos!$A$1:$E$175,5,FALSE),0)","v":"04303-MONTE PATRIA"},"105303","82001015","2021-01-18T11:31:40",1,null,1,null,1]
[12,"5",2020,{"$f":"IFERROR(VLOOKUP([1]!Tabla_SERIEA_01_5[[#This Row],[IdEstablecimiento]],[2]Establecimientos!$A$1:$E$175,5,FALSE),0)","v":"04303-MONTE PATRIA"},"105303","81602202","2021-01-18T11:31:40",2,null,2,null,2]
[12,"5",2020,{"$f":"IFERROR(VLOOKUP([1]!Tabla_SERIEA_01_5[[#This Row],[IdEstablecimiento]],[2]Establecimientos!$A$1:$E$175,5,FALSE),0)","v":"04104-LA HIGUERA"},"105303","81602203","2021-01-18T11:31:40",5,null,5,null,5]
[12,"5",2020,{"$f":"IFERROR(VLOOKUP([1]!Tabla_SERIEA_01_5[[#This Row],[IdEstablecimiento]],[2]Establecimientos!$A$1:$E$175,5,FALSE),0)","v":"04104-LA HIGUERA"},"105303","81602205","2021-01-18T11:31:40",4,null,4,null,4]
[12,"5",2020,{"$f":"IFERROR(VLOOKUP([1]!Tabla_SERIEA_01_5[[#This Row],[IdEstablecimiento]],[2]Establecimientos!$A$1:$E$175,5,FALSE),0)","v":"04204-SALAMANCA"},"105303","81602225","2021-01-18T11:31:40",1,null,1,null,1]
[12,"5",2020,{"$f":"IFERROR(VLOOKUP([1]!Tabla_SERIEA_01_5[[#This Row],[IdEstablecimiento]],[2]Establecimientos!$A$1:$E$175,5,FALSE),0)","v":"04204-SALAMANCA"},"105303","81602231","2021-01-18T11:31:40",5,null,5,null,5]
[12,"5",2020,{"$f":"IFERROR(VLOOKUP([1]!Tabla_SERIEA_01_5[[#This Row],[IdEstablecimiento]],[2]Establecimientos!$A$1:$E$175,5,FALSE),0)","v":"04204-SALAMANCA"},"105303","80106002","2021-01-18T11:31:40",552,null,552,null,552]
[12,"5",2020,{"$f":"IFERROR(VLOOKUP([1]!Tabla_SERIEA_01_5[[#This Row],[IdEstablecimiento]],[2]Establecimientos!$A$1:$E$175,5,FALSE),0)","v":"04204-SALAMANCA"},"105303","80106017","2021-01-18T11:31:40",424,null,424,null,424]
[12,"5",2020,{"$f":"IFERROR(VLOOKUP([1]!Tabla_SERIEA_01_5[[#This Row],[IdEstablecimiento]],[2]Establecimientos!$A$1:$E$175,5,FALSE),0)","v":"04204-SALAMANCA"},"105303","80302013","2021-01-18T11:31:40",0,null,null,25]
[12,"5",2020,{"$f":"IFERROR(VLOOKUP([1]!Tabla_SERIEA_01_5[[#This Row],[IdEstablecimiento]],[2]Establecimientos!$A$1:$E$175,5,FALSE),0)","v":"04106-VICUÑA"},"105303","80302067","2021-01-18T11:31:40",0,null,null,203]
[12,"5",2020,{"$f":"IFERROR(VLOOKUP([1]!Tabla_SERIEA_01_5[[#This Row],[IdEstablecimiento]],[2]Establecimientos!$A$1:$E$175,5,FALSE),0)","v":"04106-VICUÑA"},"105303","80302068","2021-01-18T11:31:40",0,null,null,200]
[12,"5",2020,{"$f":"IFERROR(VLOOKUP([1]!Tabla_SERIEA_01_5[[#This Row],[IdEstablecimiento]],[2]Establecimientos!$A$1:$E$175,5,FALSE),0)","v":"04106-VICUÑA"},"105303","80302023","2021-01-18T11:31:40",0,null,null,192]
[12,"5",2020,{"$f":"IFERROR(VLOOKUP([1]!Tabla_SERIEA_01_5[[#This Row],[IdEstablecimiento]],[2]Establecimientos!$A$1:$E$175,5,FALSE),0)","v":"04106-VICUÑA"},"105303","80302032","2021-01-18T11:31:40",0,null,null,164]
[12,"5",2020,{"$f":"IFERROR(VLOOKUP([1]!Tabla_SERIEA_01_5[[#This Row],[IdEstablecimiento]],[2]Establecimientos!$A$1:$E$175,5,FALSE),0)","v":"04106-VICUÑA"},"105303","80302035","2021-01-18T11:31:40",0,null,null,3]
[12,"5",2020,{"$f":"IFERROR(VLOOKUP([1]!Tabla_SERIEA_01_5[[#This Row],[IdEstablecimiento]],[2]Establecimientos!$A$1:$E$175,5,FALSE),0)","v":"04106-VICUÑA"},"105303","80302040","2021-01-18T11:31:40",0,null,null,26]
[12,"5",2020,{"$f":"IFERROR(VLOOKUP([1]!Tabla_SERIEA_01_5[[#This Row],[IdEstablecimiento]],[2]Establecimientos!$A$1:$E$175,5,FALSE),0)","v":"04106-VICUÑA"},"105303","80302047","2021-01-18T11:31:40",0,null,null,202]
[12,"5",2020,{"$f":"IFERROR(VLOOKUP([1]!Tabla_SERIEA_01_5[[#This Row],[IdEstablecimiento]],[2]Establecimientos!$A$1:$E$175,5,FALSE),0)","v":"04106-VICUÑA"},"105303","80302048","2021-01-18T11:31:40",0,null,null,27]
[12,"5",2020,{"$f":"IFERROR(VLOOKUP([1]!Tabla_SERIEA_01_5[[#This Row],[IdEstablecimiento]],[2]Establecimientos!$A$1:$E$175,5,FALSE),0)","v":"04106-VICUÑA"},"105303","80302057","2021-01-18T11:31:40",0,null,null,182]
[12,"5",2020,{"$f":"IFERROR(VLOOKUP([1]!Tabla_SERIEA_01_5[[#This Row],[IdEstablecimiento]],[2]Establecimientos!$A$1:$E$175,5,FALSE),0)","v":"04106-VICUÑA"},"105303","80302060","2021-01-18T11:31:40",0,null,null,5]
[12,"5",2020,{"$f":"IFERROR(VLOOKUP([1]!Tabla_SERIEA_01_5[[#This Row],[IdEstablecimiento]],[2]Establecimientos!$A$1:$E$175,5,FALSE),0)","v":"04106-VICUÑA"},"105303","80302063","2021-01-18T11:31:40",0,null,null,62]
[12,"5",2020,{"$f":"IFERROR(VLOOKUP([1]!Tabla_SERIEA_01_5[[#This Row],[IdEstablecimiento]],[2]Establecimientos!$A$1:$E$175,5,FALSE),0)","v":"04106-VICUÑA"},"105303","80302064","2021-01-18T11:31:40",0,null,null,197]
[12,"5",2020,{"$f":"IFERROR(VLOOKUP([1]!Tabla_SERIEA_01_5[[#This Row],[IdEstablecimiento]],[2]Establecimientos!$A$1:$E$175,5,FALSE),0)","v":"105100-HOSPITAL LA SERENA"},"105303","80303024","2021-01-18T11:31:40",0,null,null,218]
[12,"5",2020,{"$f":"IFERROR(VLOOKUP([1]!Tabla_SERIEA_01_5[[#This Row],[IdEstablecimiento]],[2]Establecimientos!$A$1:$E$175,5,FALSE),0)","v":"105100-HOSPITAL LA SERENA"},"105303","80303026","2021-01-18T11:31:40",0,null,null,27]
[12,"5",2020,{"$f":"IFERROR(VLOOKUP([1]!Tabla_SERIEA_01_5[[#This Row],[IdEstablecimiento]],[2]Establecimientos!$A$1:$E$175,5,FALSE),0)","v":"105100-HOSPITAL LA SERENA"},"105303","80303027","2021-01-18T11:31:40",0,null,null,4]
[12,"5",2020,{"$f":"IFERROR(VLOOKUP([1]!Tabla_SERIEA_01_5[[#This Row],[IdEstablecimiento]],[2]Establecimientos!$A$1:$E$175,5,FALSE),0)","v":"105100-HOSPITAL LA SERENA"},"105303","80303028","2021-01-18T11:31:40",0,null,null,3]
[12,"5",2020,{"$f":"IFERROR(VLOOKUP([1]!Tabla_SERIEA_01_5[[#This Row],[IdEstablecimiento]],[2]Establecimientos!$A$1:$E$175,5,FALSE),0)","v":"105100-HOSPITAL LA SERENA"},"105303","80306011","2021-01-18T11:31:40",0,null,null,60]
[12,"5",2020,{"$f":"IFERROR(VLOOKUP([1]!Tabla_SERIEA_01_5[[#This Row],[IdEstablecimiento]],[2]Establecimientos!$A$1:$E$175,5,FALSE),0)","v":"105100-HOSPITAL LA SERENA"},"105303","80106010","2021-01-18T11:31:40",2,2,null,2]
[12,"5",2020,{"$f":"IFERROR(VLOOKUP([1]!Tabla_SERIEA_01_5[[#This Row],[IdEstablecimiento]],[2]Establecimientos!$A$1:$E$175,5,FALSE),0)","v":"105100-HOSPITAL LA SERENA"},"105303","80106014","2021-01-18T11:31:40",338,null,338,null,338]
[12,"5",2020,{"$f":"IFERROR(VLOOKUP([1]!Tabla_SERIEA_01_5[[#This Row],[IdEstablecimiento]],[2]Establecimientos!$A$1:$E$175,5,FALSE),0)","v":"04105-PAIHUANO"},"105303","80106015","2021-01-18T11:31:40",2,null,2,null,2]
[12,"5",2020,{"$f":"IFERROR(VLOOKUP([1]!Tabla_SERIEA_01_5[[#This Row],[IdEstablecimiento]],[2]Establecimientos!$A$1:$E$175,5,FALSE),0)","v":"04105-PAIHUANO"},"105303","80106022","2021-01-18T11:31:40",8,null,8,null,8]
[12,"5",2020,{"$f":"IFERROR(VLOOKUP([1]!Tabla_SERIEA_01_5[[#This Row],[IdEstablecimiento]],[2]Establecimientos!$A$1:$E$175,5,FALSE),0)","v":"105104-HOSPITAL SALAMANCA"},"105303","80106023","2021-01-18T11:31:40",58,null,58,null,58]
[12,"5",2020,{"$f":"IFERROR(VLOOKUP([1]!Tabla_SERIEA_01_5[[#This Row],[IdEstablecimiento]],[2]Establecimientos!$A$1:$E$175,5,FALSE),0)","v":"04301-OVALLE"},"105303","80307011","2021-01-18T11:31:40",332,null,332]
[12,"5",2020,{"$f":"IFERROR(VLOOKUP([1]!Tabla_SERIEA_01_5[[#This Row],[IdEstablecimiento]],[2]Establecimientos!$A$1:$E$175,5,FALSE),0)","v":"04301-OVALLE"},"105303","80307012","2021-01-18T11:31:40",6,null,6]
[12,"5",2020,{"$f":"IFERROR(VLOOKUP([1]!Tabla_SERIEA_01_5[[#This Row],[IdEstablecimiento]],[2]Establecimientos!$A$1:$E$175,5,FALSE),0)","v":"04301-OVALLE"},"105303","80500001","2021-01-18T11:31:40",1,null,1,null,1]
[12,"5",2020,{"$f":"IFERROR(VLOOKUP([1]!Tabla_SERIEA_01_5[[#This Row],[IdEstablecimiento]],[2]Establecimientos!$A$1:$E$175,5,FALSE),0)","v":"04301-OVALLE"},"105303","80500008","2021-01-18T11:31:40",5,null,5,null,5]
[12,"5",2020,{"$f":"IFERROR(VLOOKUP([1]!Tabla_SERIEA_01_5[[#This Row],[IdEstablecimiento]],[2]Establecimientos!$A$1:$E$175,5,FALSE),0)","v":"04301-OVALLE"},"105303","80500009","2021-01-18T11:31:40",4,null,4,null,4]
[12,"5",2020,{"$f":"IFERROR(VLOOKUP([1]!Tabla_SERIEA_01_5[[#This Row],[IdEstablecimiento]],[2]Establecimientos!$A$1:$E$175,5,FALSE),0)","v":"04301-OVALLE"},"105303","80500011","2021-01-18T11:31:40",63,null,63,null,63]
[12,"5",2020,{"$f":"IFERROR(VLOOKUP([1]!Tabla_SERIEA_01_5[[#This Row],[IdEstablecimiento]],[2]Establecimientos!$A$1:$E$175,5,FALSE),0)","v":"04102-COQUIMBO"},"105303","80500014","2021-01-18T11:31:40",27,null,27,null,27]
[12,"5",2020,{"$f":"IFERROR(VLOOKUP([1]!Tabla_SERIEA_01_5[[#This Row],[IdEstablecimiento]],[2]Establecimientos!$A$1:$E$175,5,FALSE),0)","v":"04102-COQUIMBO"},"105303","80306042","2021-01-18T11:31:40",0,null,null,44]
[12,"5",2020,{"$f":"IFERROR(VLOOKUP([1]!Tabla_SERIEA_01_5[[#This Row],[IdEstablecimiento]],[2]Establecimientos!$A$1:$E$175,5,FALSE),0)","v":"04102-COQUIMBO"},"105303","80306052","2021-01-18T11:31:40",0,null,null,1]
[12,"5",2020,{"$f":"IFERROR(VLOOKUP([1]!Tabla_SERIEA_01_5[[#This Row],[IdEstablecimiento]],[2]Establecimientos!$A$1:$E$175,5,FALSE),0)","v":"04102-COQUIMBO"},"105303","80305019","2021-01-18T11:31:40",0,null,null,5]
[12,"5",2020,{"$f":"IFERROR(VLOOKUP([1]!Tabla_SERIEA_01_5[[#This Row],[IdEstablecimiento]],[2]Establecimientos!$A$1:$E$175,5,FALSE),0)","v":"04102-COQUIMBO"},"105303","18010100","2021-01-18T11:31:40",11,0,11]
[12,"5",2020,{"$f":"IFERROR(VLOOKUP([1]!Tabla_SERIEA_01_5[[#This Row],[IdEstablecimiento]],[2]Establecimientos!$A$1:$E$175,5,FALSE),0)","v":"105106-HOSPITAL ANDACOLLO"},"105303","18010601","2021-01-18T11:31:40",14,0,14]
[12,"5",2020,{"$f":"IFERROR(VLOOKUP([1]!Tabla_SERIEA_01_5[[#This Row],[IdEstablecimiento]],[2]Establecimientos!$A$1:$E$175,5,FALSE),0)","v":"04201-ILLAPEL"},"105303","18400600","2021-01-18T11:31:40",5,0,5]
[12,"5",2020,{"$f":"IFERROR(VLOOKUP([1]!Tabla_SERIEA_01_5[[#This Row],[IdEstablecimiento]],[2]Establecimientos!$A$1:$E$175,5,FALSE),0)","v":"04201-ILLAPEL"},"105303","18020300","2021-01-18T11:31:40",15,0,15]
[12,"5",2020,{"$f":"IFERROR(VLOOKUP([1]!Tabla_SERIEA_01_5[[#This Row],[IdEstablecimiento]],[2]Establecimientos!$A$1:$E$175,5,FALSE),0)","v":"04301-OVALLE"},"105303","18020500","2021-01-18T11:31:40",3,0,3]
[12,"5",2020,{"$f":"IFERROR(VLOOKUP([1]!Tabla_SERIEA_01_5[[#This Row],[IdEstablecimiento]],[2]Establecimientos!$A$1:$E$175,5,FALSE),0)","v":"04301-OVALLE"},"105303","18020700","2021-01-18T11:31:40",2,0,2]
[12,"5",2020,{"$f":"IFERROR(VLOOKUP([1]!Tabla_SERIEA_01_5[[#This Row],[IdEstablecimiento]],[2]Establecimientos!$A$1:$E$175,5,FALSE),0)","v":"04301-OVALLE"},"105303","18020900","2021-01-18T11:31:40",1,0,1]
[12,"5",2020,{"$f":"IFERROR(VLOOKUP([1]!Tabla_SERIEA_01_5[[#This Row],[IdEstablecimiento]],[2]Establecimientos!$A$1:$E$175,5,FALSE),0)","v":"04301-OVALLE"},"105303","18030000","2021-01-18T11:31:40",17,0,17]
[12,"5",2020,{"$f":"IFERROR(VLOOKUP([1]!Tabla_SERIEA_01_5[[#This Row],[IdEstablecimiento]],[2]Establecimientos!$A$1:$E$175,5,FALSE),0)","v":"04301-OVALLE"},"105303","18040200","2021-01-18T11:31:40",17,null,17]
[12,"5",2020,{"$f":"IFERROR(VLOOKUP([1]!Tabla_SERIEA_01_5[[#This Row],[IdEstablecimiento]],[2]Establecimientos!$A$1:$E$175,5,FALSE),0)","v":"04301-OVALLE"},"105303","18090000","2021-01-18T11:31:40",58,0,58]
[12,"5",2020,{"$f":"IFERROR(VLOOKUP([1]!Tabla_SERIEA_01_5[[#This Row],[IdEstablecimiento]],[2]Establecimientos!$A$1:$E$175,5,FALSE),0)","v":"04301-OVALLE"},"105303","18050100","2021-01-18T11:31:40",552,0,552]
[12,"5",2020,{"$f":"IFERROR(VLOOKUP([1]!Tabla_SERIEA_01_5[[#This Row],[IdEstablecimiento]],[2]Establecimientos!$A$1:$E$175,5,FALSE),0)","v":"04301-OVALLE"},"105303","18400700","2021-01-18T11:31:40",1509]
[12,"5",2020,{"$f":"IFERROR(VLOOKUP([1]!Tabla_SERIEA_01_5[[#This Row],[IdEstablecimiento]],[2]Establecimientos!$A$1:$E$175,5,FALSE),0)","v":"04301-OVALLE"},"105303","18070300","2021-01-18T11:31:40",5,2,3]
[12,"5",2020,{"$f":"IFERROR(VLOOKUP([1]!Tabla_SERIEA_01_5[[#This Row],[IdEstablecimiento]],[2]Establecimientos!$A$1:$E$175,5,FALSE),0)","v":"04301-OVALLE"},"105303","18400900","2021-01-18T11:31:40",127,39,88]
[12,"5",2020,{"$f":"IFERROR(VLOOKUP([1]!Tabla_SERIEA_01_5[[#This Row],[IdEstablecimiento]],[2]Establecimientos!$A$1:$E$175,5,FALSE),0)","v":"04301-OVALLE"},"105303","18090200","2021-01-18T11:31:40",1]
[12,"5",2020,{"$f":"IFERROR(VLOOKUP([1]!Tabla_SERIEA_01_5[[#This Row],[IdEstablecimiento]],[2]Establecimientos!$A$1:$E$175,5,FALSE),0)","v":"04301-OVALLE"},"105303","18700100","2021-01-18T11:31:40",648,43,509,96]
[12,"5",2020,{"$f":"IFERROR(VLOOKUP([1]!Tabla_SERIEA_01_5[[#This Row],[IdEstablecimiento]],[2]Establecimientos!$A$1:$E$175,5,FALSE),0)","v":"04301-OVALLE"},"105303","18700140","2021-01-18T11:31:40",2,null,2,{"$nulls":3},2]
[12,"5",2020,{"$f":"IFERROR(VLOOKUP([1]!Tabla_SERIEA_01_5[[#This Row],[IdEstablecimiento]],[2]Establecimientos!$A$1:$E$175,5,FALSE),0)","v":"04301-OVALLE"},"105304","80309013","2021-01-18T11:32:18",0,null,null,72]
[12,"5",2020,{"$f":"IFERROR(VLOOKUP([1]!Tabla_SERIEA_01_5[[#This Row],[IdEstablecimiento]],[2]Establecimientos!$A$1:$E$175,5,FALSE),0)","v":"04301-OVALLE"},"105304","80309014","2021-01-18T11:32:18",0,null,null,21]
[12,"5",2020,{"$f":"IFERROR(VLOOKUP([1]!Tabla_SERIEA_01_5[[#This Row],[IdEstablecimiento]],[2]Establecimientos!$A$1:$E$175,5,FALSE),0)","v":"04301-OVALLE"},"105304","80309022","2021-01-18T11:32:18",0,null,null,163]
[12,"5",2020,{"$f":"IFERROR(VLOOKUP([1]!Tabla_SERIEA_01_5[[#This Row],[IdEstablecimiento]],[2]Establecimientos!$A$1:$E$175,5,FALSE),0)","v":"04301-OVALLE"},"105304","80309023","2021-01-18T11:32:18",0,null,null,1]
[12,"5",2020,{"$f":"IFERROR(VLOOKUP([1]!Tabla_SERIEA_01_5[[#This Row],[IdEstablecimiento]],[2]Establecimientos!$A$1:$E$175,5,FALSE),0)","v":"04102-COQUIMBO"},"105304","80301036","2021-01-18T11:32:18",0,null,null,75]
[12,"5",2020,{"$f":"IFERROR(VLOOKUP([1]!Tabla_SERIEA_01_5[[#This Row],[IdEstablecimiento]],[2]Establecimientos!$A$1:$E$175,5,FALSE),0)","v":"04102-COQUIMBO"},"105304","80301038","2021-01-18T11:32:18",0,null,null,64]
[12,"5",2020,{"$f":"IFERROR(VLOOKUP([1]!Tabla_SERIEA_01_5[[#This Row],[IdEstablecimiento]],[2]Establecimientos!$A$1:$E$175,5,FALSE),0)","v":"04102-COQUIMBO"},"105304","80301041","2021-01-18T11:32:18",0,null,null,73]
[12,"5",2020,{"$f":"IFERROR(VLOOKUP([1]!Tabla_SERIEA_01_5[[#This Row],[IdEstablecimiento]],[2]Establecimientos!$A$1:$E$175,5,FALSE),0)","v":"04102-COQUIMBO"},"105304","80301045","2021-01-18T11:32:18",0,null,null,116]
[12,"5",2020,{"$f":"IFERROR(VLOOKUP([1]!Tabla_SERIEA_01_5[[#This Row],[IdEstablecimiento]],[2]Establecimientos!$A$1:$E$175,5,FALSE),0)","v":"04102-COQUIMBO"},"105304","80306059","2021-01-18T11:32:18",0,null,null,1]
[12,"5",2020,{"$f":"IFERROR(VLOOKUP([1]!Tabla_SERIEA_01_5[[#This Row],[IdEstablecimiento]],[2]Establecimientos!$A$1:$E$175,5,FALSE),0)","v":"04102-COQUIMBO"},"105304","80308004","2021-01-18T11:32:18",0,null,null,3]
[12,"5",2020,{"$f":"IFERROR(VLOOKUP([1]!Tabla_SERIEA_01_5[[#This Row],[IdEstablecimiento]],[2]Establecimientos!$A$1:$E$175,5,FALSE),0)","v":"04102-COQUIMBO"},"105304","80301059","2021-01-18T11:32:18",0,null,null,15]
[12,"5",2020,{"$f":"IFERROR(VLOOKUP([1]!Tabla_SERIEA_01_5[[#This Row],[IdEstablecimiento]],[2]Establecimientos!$A$1:$E$175,5,FALSE),0)","v":"04305-RIO HURTADO"},"105304","80301085","2021-01-18T11:32:18",0,null,null,14]
[12,"5",2020,{"$f":"IFERROR(VLOOKUP([1]!Tabla_SERIEA_01_5[[#This Row],[IdEstablecimiento]],[2]Establecimientos!$A$1:$E$175,5,FALSE),0)","v":"04305-RIO HURTADO"},"105304","80302005","2021-01-18T11:32:18",0,null,null,90]
[12,"5",2020,{"$f":"IFERROR(VLOOKUP([1]!Tabla_SERIEA_01_5[[#This Row],[IdEstablecimiento]],[2]Establecimientos!$A$1:$E$175,5,FALSE),0)","v":"04101-LA SERENA"},"105304","81601115","2021-01-18T11:32:18",11,0,11,0,11]
[12,"5",2020,{"$f":"IFERROR(VLOOKUP([1]!Tabla_SERIEA_01_5[[#This Row],[IdEstablecimiento]],[2]Establecimientos!$A$1:$E$175,5,FALSE),0)","v":"04101-LA SERENA"},"105304","81701001","2021-01-18T11:32:18",57,0,57,0,57,57]
[12,"5",2020,{"$f":"IFERROR(VLOOKUP([1]!Tabla_SERIEA_01_5[[#This Row],[IdEstablecimiento]],[2]Establecimientos!$A$1:$E$175,5,FALSE),0)","v":"04101-LA SERENA"},"105304","82001015","2021-01-18T11:32:18",1,0,1,0,1]
[12,"5",2020,{"$f":"IFERROR(VLOOKUP([1]!Tabla_SERIEA_01_5[[#This Row],[IdEstablecimiento]],[2]Establecimientos!$A$1:$E$175,5,FALSE),0)","v":"04101-LA SERENA"},"105304","80106002","2021-01-18T11:32:18",301,0,301,0,301]
[12,"5",2020,{"$f":"IFERROR(VLOOKUP([1]!Tabla_SERIEA_01_5[[#This Row],[IdEstablecimiento]],[2]Establecimientos!$A$1:$E$175,5,FALSE),0)","v":"04101-LA SERENA"},"105304","80106017","2021-01-18T11:32:18",364,0,364,0,364]
[12,"5",2020,{"$f":"IFERROR(VLOOKUP([1]!Tabla_SERIEA_01_5[[#This Row],[IdEstablecimiento]],[2]Establecimientos!$A$1:$E$175,5,FALSE),0)","v":"04201-ILLAPEL"},"105304","80302013","2021-01-18T11:32:18",0,null,null,37]
[12,"5",2020,{"$f":"IFERROR(VLOOKUP([1]!Tabla_SERIEA_01_5[[#This Row],[IdEstablecimiento]],[2]Establecimientos!$A$1:$E$175,5,FALSE),0)","v":"04201-ILLAPEL"},"105304","80302067","2021-01-18T11:32:18",0,null,null,103]
[12,"5",2020,{"$f":"IFERROR(VLOOKUP([1]!Tabla_SERIEA_01_5[[#This Row],[IdEstablecimiento]],[2]Establecimientos!$A$1:$E$175,5,FALSE),0)","v":"04201-ILLAPEL"},"105304","80302068","2021-01-18T11:32:18",0,null,null,88]
[12,"5",2020,{"$f":"IFERROR(VLOOKUP([1]!Tabla_SERIEA_01_5[[#This Row],[IdEstablecimiento]],[2]Establecimientos!$A$1:$E$175,5,FALSE),0)","v":"04201-ILLAPEL"},"105304","80302023","2021-01-18T11:32:18",0,null,null,129]
[12,"5",2020,{"$f":"IFERROR(VLOOKUP([1]!Tabla_SERIEA_01_5[[#This Row],[IdEstablecimiento]],[2]Establecimientos!$A$1:$E$175,5,FALSE),0)","v":"04201-ILLAPEL"},"105304","80302024","2021-01-18T11:32:18",0,null,null,22]
[12,"5",2020,{"$f":"IFERROR(VLOOKUP([1]!Tabla_SERIEA_01_5[[#This Row],[IdEstablecimiento]],[2]Establecimientos!$A$1:$E$175,5,FALSE),0)","v":"04201-ILLAPEL"},"105304","80302026","2021-01-18T11:32:18",0,null,null,5]
[12,"5",2020,{"$f":"IFERROR(VLOOKUP([1]!Tabla_SERIEA_01_5[[#This Row],[IdEstablecimiento]],[2]Establecimientos!$A$1:$E$175,5,FALSE),0)","v":"04201-ILLAPEL"},"105304","80302032","2021-01-18T11:32:18",0,null,null,66]
[12,"5",2020,{"$f":"IFERROR(VLOOKUP([1]!Tabla_SERIEA_01_5[[#This Row],[IdEstablecimiento]],[2]Establecimientos!$A$1:$E$175,5,FALSE),0)","v":"04201-ILLAPEL"},"105304","80302034","2021-01-18T11:32:18",0,null,null,52]
[12,"5",2020,{"$f":"IFERROR(VLOOKUP([1]!Tabla_SERIEA_01_5[[#This Row],[IdEstablecimiento]],[2]Establecimientos!$A$1:$E$175,5,FALSE),0)","v":"04201-ILLAPEL"},"105304","80302035","2021-01-18T11:32:18",0,null,null,9]
[12,"5",2020,{"$f":"IFERROR(VLOOKUP([1]!Tabla_SERIEA_01_5[[#This Row],[IdEstablecimiento]],[2]Establecimientos!$A$1:$E$175,5,FALSE),0)","v":"04201-ILLAPEL"},"105304","80302040","2021-01-18T11:32:18",0,null,null,30]
[12,"5",2020,{"$f":"IFERROR(VLOOKUP([1]!Tabla_SERIEA_01_5[[#This Row],[IdEstablecimiento]],[2]Establecimientos!$A$1:$E$175,5,FALSE),0)","v":"04201-ILLAPEL"},"105304","80302047","2021-01-18T11:32:18",0,null,null,145]
[12,"5",2020,{"$f":"IFERROR(VLOOKUP([1]!Tabla_SERIEA_01_5[[#This Row],[IdEstablecimiento]],[2]Establecimientos!$A$1:$E$175,5,FALSE),0)","v":"04201-ILLAPEL"},"105304","80302048","2021-01-18T11:32:18",0,null,null,25]
[12,"5",2020,{"$f":"IFERROR(VLOOKUP([1]!Tabla_SERIEA_01_5[[#This Row],[IdEstablecimiento]],[2]Establecimientos!$A$1:$E$175,5,FALSE),0)","v":"04201-ILLAPEL"},"105304","80302057","2021-01-18T11:32:18",0,null,null,78]
[12,"5",2020,{"$f":"IFERROR(VLOOKUP([1]!Tabla_SERIEA_01_5[[#This Row],[IdEstablecimiento]],[2]Establecimientos!$A$1:$E$175,5,FALSE),0)","v":"04201-ILLAPEL"},"105304","80302075","2021-01-18T11:32:18",0,null,null,3]
[12,"5",2020,{"$f":"IFERROR(VLOOKUP([1]!Tabla_SERIEA_01_5[[#This Row],[IdEstablecimiento]],[2]Establecimientos!$A$1:$E$175,5,FALSE),0)","v":"04201-ILLAPEL"},"105304","80302060","2021-01-18T11:32:18",0,null,null,18]
[12,"5",2020,{"$f":"IFERROR(VLOOKUP([1]!Tabla_SERIEA_01_5[[#This Row],[IdEstablecimiento]],[2]Establecimientos!$A$1:$E$175,5,FALSE),0)","v":"04201-ILLAPEL"},"105304","80302076","2021-01-18T11:32:18",0,null,null,13]
[12,"5",2020,{"$f":"IFERROR(VLOOKUP([1]!Tabla_SERIEA_01_5[[#This Row],[IdEstablecimiento]],[2]Establecimientos!$A$1:$E$175,5,FALSE),0)","v":"04201-ILLAPEL"},"105304","80302063","2021-01-18T11:32:18",0,null,null,75]
[12,"5",2020,{"$f":"IFERROR(VLOOKUP([1]!Tabla_SERIEA_01_5[[#This Row],[IdEstablecimiento]],[2]Establecimientos!$A$1:$E$175,5,FALSE),0)","v":"105106-HOSPITAL ANDACOLLO"},"105304","80302064","2021-01-18T11:32:18",0,null,null,92]
[12,"5",2020,{"$f":"IFERROR(VLOOKUP([1]!Tabla_SERIEA_01_5[[#This Row],[IdEstablecimiento]],[2]Establecimientos!$A$1:$E$175,5,FALSE),0)","v":"105106-HOSPITAL ANDACOLLO"},"105304","80303024","2021-01-18T11:32:18",0,null,null,139]
[12,"5",2020,{"$f":"IFERROR(VLOOKUP([1]!Tabla_SERIEA_01_5[[#This Row],[IdEstablecimiento]],[2]Establecimientos!$A$1:$E$175,5,FALSE),0)","v":"04106-VICUÑA"},"105304","80303026","2021-01-18T11:32:18",0,null,null,30]
[12,"5",2020,{"$f":"IFERROR(VLOOKUP([1]!Tabla_SERIEA_01_5[[#This Row],[IdEstablecimiento]],[2]Establecimientos!$A$1:$E$175,5,FALSE),0)","v":"04106-VICUÑA"},"105304","80303028","2021-01-18T11:32:18",0,null,null,1]
[12,"5",2020,{"$f":"IFERROR(VLOOKUP([1]!Tabla_SERIEA_01_5[[#This Row],[IdEstablecimiento]],[2]Establecimientos!$A$1:$E$175,5,FALSE),0)","v":"04102-COQUIMBO"},"105304","80306002","2021-01-18T11:32:18",1,null,1]
[12,"5",2020,{"$f":"IFERROR(VLOOKUP([1]!Tabla_SERIEA_01_5[[#This Row],[IdEstablecimiento]],[2]Establecimientos!$A$1:$E$175,5,FALSE),0)","v":"04102-COQUIMBO"},"105304","80306004","2021-01-18T11:32:18",0,null,null,2]
[12,"5",2020,{"$f":"IFERROR(VLOOKUP([1]!Tabla_SERIEA_01_5[[#This Row],[IdEstablecimiento]],[2]Establecimientos!$A$1:$E$175,5,FALSE),0)","v":"04102-COQUIMBO"},"105304","80306011","2021-01-18T11:32:18",0,null,null,50]
[12,"5",2020,{"$f":"IFERROR(VLOOKUP([1]!Tabla_SERIEA_01_5[[#This Row],[IdEstablecimiento]],[2]Establecimientos!$A$1:$E$175,5,FALSE),0)","v":"04102-COQUIMBO"},"105304","80106014","2021-01-18T11:32:18",217,0,217,0,217]
[12,"5",2020,{"$f":"IFERROR(VLOOKUP([1]!Tabla_SERIEA_01_5[[#This Row],[IdEstablecimiento]],[2]Establecimientos!$A$1:$E$175,5,FALSE),0)","v":"04203-LOS VILOS"},"105304","80106022","2021-01-18T11:32:18",2,0,2,0,2]
[12,"5",2020,{"$f":"IFERROR(VLOOKUP([1]!Tabla_SERIEA_01_5[[#This Row],[IdEstablecimiento]],[2]Establecimientos!$A$1:$E$175,5,FALSE),0)","v":"04203-LOS VILOS"},"105304","80106023","2021-01-18T11:32:18",44,0,44,0,44]
[12,"5",2020,{"$f":"IFERROR(VLOOKUP([1]!Tabla_SERIEA_01_5[[#This Row],[IdEstablecimiento]],[2]Establecimientos!$A$1:$E$175,5,FALSE),0)","v":"04201-ILLAPEL"},"105304","80307011","2021-01-18T11:32:18",250,null,250]
[12,"5",2020,{"$f":"IFERROR(VLOOKUP([1]!Tabla_SERIEA_01_5[[#This Row],[IdEstablecimiento]],[2]Establecimientos!$A$1:$E$175,5,FALSE),0)","v":"04201-ILLAPEL"},"105304","80307012","2021-01-18T11:32:18",10,null,10]
[12,"5",2020,{"$f":"IFERROR(VLOOKUP([1]!Tabla_SERIEA_01_5[[#This Row],[IdEstablecimiento]],[2]Establecimientos!$A$1:$E$175,5,FALSE),0)","v":"04201-ILLAPEL"},"105304","80500009","2021-01-18T11:32:18",8,0,8,0,8]
[12,"5",2020,{"$f":"IFERROR(VLOOKUP([1]!Tabla_SERIEA_01_5[[#This Row],[IdEstablecimiento]],[2]Establecimientos!$A$1:$E$175,5,FALSE),0)","v":"04201-ILLAPEL"},"105304","80500011","2021-01-18T11:32:18",28,0,28,0,28]
[12,"5",2020,{"$f":"IFERROR(VLOOKUP([1]!Tabla_SERIEA_01_5[[#This Row],[IdEstablecimiento]],[2]Establecimientos!$A$1:$E$175,5,FALSE),0)","v":"04201-ILLAPEL"},"105304","80500014","2021-01-18T11:32:18",1,0,1,0,1,1]
[12,"5",2020,{"$f":"IFERROR(VLOOKUP([1]!Tabla_SERIEA_01_5[[#This Row],[IdEstablecimiento]],[2]Establecimientos!$A$1:$E$175,5,FALSE),0)","v":"04201-ILLAPEL"},"105304","80306042","2021-01-18T11:32:18",0,null,null,40]
[12,"5",2020,{"$f":"IFERROR(VLOOKUP([1]!Tabla_SERIEA_01_5[[#This Row],[IdEstablecimiento]],[2]Establecimientos!$A$1:$E$175,5,FALSE),0)","v":"04201-ILLAPEL"},"105304","80305019","2021-01-18T11:32:18",0,null,null,4]
[12,"5",2020,{"$f":"IFERROR(VLOOKUP([1]!Tabla_SERIEA_01_5[[#This Row],[IdEstablecimiento]],[2]Establecimientos!$A$1:$E$175,5,FALSE),0)","v":"04201-ILLAPEL"},"105304","18010601","2021-01-18T11:32:18",1,0,1]
[12,"5",2020,{"$f":"IFERROR(VLOOKUP([1]!Tabla_SERIEA_01_5[[#This Row],[IdEstablecimiento]],[2]Establecimientos!$A$1:$E$175,5,FALSE),0)","v":"04201-ILLAPEL"},"105304","18020400","2021-01-18T11:32:18",11,0,11]
[12,"5",2020,{"$f":"IFERROR(VLOOKUP([1]!Tabla_SERIEA_01_5[[#This Row],[IdEstablecimiento]],[2]Establecimientos!$A$1:$E$175,5,FALSE),0)","v":"04301-OVALLE"},"105304","18020500","2021-01-18T11:32:18",57,0,57]
[12,"5",2020,{"$f":"IFERROR(VLOOKUP([1]!Tabla_SERIEA_01_5[[#This Row],[IdEstablecimiento]],[2]Establecimientos!$A$1:$E$175,5,FALSE),0)","v":"04301-OVALLE"},"105304","18020900","2021-01-18T11:32:18",1,0,1]
[12,"5",2020,{"$f":"IFERROR(VLOOKUP([1]!Tabla_SERIEA_01_5[[#This Row],[IdEstablecimiento]],[2]Establecimientos!$A$1:$E$175,5,FALSE),0)","v":"04301-OVALLE"},"105304","18090000","2021-01-18T11:32:18",44,0,44]
[12,"5",2020,{"$f":"IFERROR(VLOOKUP([1]!Tabla_SERIEA_01_5[[#This Row],[IdEstablecimiento]],[2]Establecimientos!$A$1:$E$175,5,FALSE),0)","v":"04301-OVALLE"},"105304","18050100","2021-01-18T11:32:18",301,0,301]
[12,"5",2020,{"$f":"IFERROR(VLOOKUP([1]!Tabla_SERIEA_01_5[[#This Row],[IdEstablecimiento]],[2]Establecimientos!$A$1:$E$175,5,FALSE),0)","v":"04301-OVALLE"},"105304","18400700","2021-01-18T11:32:18",1296]
[12,"5",2020,{"$f":"IFERROR(VLOOKUP([1]!Tabla_SERIEA_01_5[[#This Row],[IdEstablecimiento]],[2]Establecimientos!$A$1:$E$175,5,FALSE),0)","v":"04101-LA SERENA"},"105304","18400900","2021-01-18T11:32:18",2,1,1]
[12,"5",2020,{"$f":"IFERROR(VLOOKUP([1]!Tabla_SERIEA_01_5[[#This Row],[IdEstablecimiento]],[2]Establecimientos!$A$1:$E$175,5,FALSE),0)","v":"04101-LA SERENA"},"105304","18090200","2021-01-18T11:32:18",19,0]
[12,"5",2020,{"$f":"IFERROR(VLOOKUP([1]!Tabla_SERIEA_01_5[[#This Row],[IdEstablecimiento]],[2]Establecimientos!$A$1:$E$175,5,FALSE),0)","v":"04104-LA HIGUERA"},"105304","18700100","2021-01-18T11:32:18",459,71,347,41,0]
[12,"5",2020,{"$f":"IFERROR(VLOOKUP([1]!Tabla_SERIEA_01_5[[#This Row],[IdEstablecimiento]],[2]Establecimientos!$A$1:$E$175,5,FALSE),0)","v":"04102-COQUIMBO"},"105304","18700110","2021-01-18T11:32:18",70,0,70,0,0,1,0]
[12,"5",2020,{"$f":"IFERROR(VLOOKUP([1]!Tabla_SERIEA_01_5[[#This Row],[IdEstablecimiento]],[2]Establecimientos!$A$1:$E$175,5,FALSE),0)","v":"04102-COQUIMBO"},"105305","80401151","2021-01-18T11:32:40",0,null,null,14]
[12,"5",2020,{"$f":"IFERROR(VLOOKUP([1]!Tabla_SERIEA_01_5[[#This Row],[IdEstablecimiento]],[2]Establecimientos!$A$1:$E$175,5,FALSE),0)","v":"04204-SALAMANCA"},"105305","80309013","2021-01-18T11:32:40",0,null,null,120]
[12,"5",2020,{"$f":"IFERROR(VLOOKUP([1]!Tabla_SERIEA_01_5[[#This Row],[IdEstablecimiento]],[2]Establecimientos!$A$1:$E$175,5,FALSE),0)","v":"04204-SALAMANCA"},"105305","80309022","2021-01-18T11:32:40",0,null,null,165]
[12,"5",2020,{"$f":"IFERROR(VLOOKUP([1]!Tabla_SERIEA_01_5[[#This Row],[IdEstablecimiento]],[2]Establecimientos!$A$1:$E$175,5,FALSE),0)","v":"04102-COQUIMBO"},"105305","80309023","2021-01-18T11:32:40",0,null,null,1]
[12,"5",2020,{"$f":"IFERROR(VLOOKUP([1]!Tabla_SERIEA_01_5[[#This Row],[IdEstablecimiento]],[2]Establecimientos!$A$1:$E$175,5,FALSE),0)","v":"04102-COQUIMBO"},"105305","80301015","2021-01-18T11:32:40",11,null,11]
[12,"5",2020,{"$f":"IFERROR(VLOOKUP([1]!Tabla_SERIEA_01_5[[#This Row],[IdEstablecimiento]],[2]Establecimientos!$A$1:$E$175,5,FALSE),0)","v":"04102-COQUIMBO"},"105305","80301034","2021-01-18T11:32:40",11,null,11]
[12,"5",2020,{"$f":"IFERROR(VLOOKUP([1]!Tabla_SERIEA_01_5[[#This Row],[IdEstablecimiento]],[2]Establecimientos!$A$1:$E$175,5,FALSE),0)","v":"04102-COQUIMBO"},"105305","80301036","2021-01-18T11:32:40",0,null,null,58]
[12,"5",2020,{"$f":"IFERROR(VLOOKUP([1]!Tabla_SERIEA_01_5[[#This Row],[IdEstablecimiento]],[2]Establecimientos!$A$1:$E$175,5,FALSE),0)","v":"04102-COQUIMBO"},"105305","80301038","2021-01-18T11:32:40",0,null,null,58]
[12,"5",2020,{"$f":"IFERROR(VLOOKUP([1]!Tabla_SERIEA_01_5[[#This Row],[IdEstablecimiento]],[2]Establecimientos!$A$1:$E$175,5,FALSE),0)","v":"04102-COQUIMBO"},"105305","80301041","2021-01-18T11:32:40",0,null,null,98]
[12,"5",2020,{"$f":"IFERROR(VLOOKUP([1]!Tabla_SERIEA_01_5[[#This Row],[IdEstablecimiento]],[2]Establecimientos!$A$1:$E$175,5,FALSE),0)","v":"04201-ILLAPEL"},"105305","80301045","2021-01-18T11:32:40",0,null,null,110]
[12,"5",2020,{"$f":"IFERROR(VLOOKUP([1]!Tabla_SERIEA_01_5[[#This Row],[IdEstablecimiento]],[2]Establecimientos!$A$1:$E$175,5,FALSE),0)","v":"04201-ILLAPEL"},"105305","80404002","2021-01-18T11:32:40",2,null,2]
[12,"5",2020,{"$f":"IFERROR(VLOOKUP([1]!Tabla_SERIEA_01_5[[#This Row],[IdEstablecimiento]],[2]Establecimientos!$A$1:$E$175,5,FALSE),0)","v":"04203-LOS VILOS"},"105305","80306059","2021-01-18T11:32:40",0,null,null,2]
[12,"5",2020,{"$f":"IFERROR(VLOOKUP([1]!Tabla_SERIEA_01_5[[#This Row],[IdEstablecimiento]],[2]Establecimientos!$A$1:$E$175,5,FALSE),0)","v":"105102-HOSPITAL OVALLE"},"105305","80306061","2021-01-18T11:32:40",11,null,11]
[12,"5",2020,{"$f":"IFERROR(VLOOKUP([1]!Tabla_SERIEA_01_5[[#This Row],[IdEstablecimiento]],[2]Establecimientos!$A$1:$E$175,5,FALSE),0)","v":"04203-LOS VILOS"},"105305","80308004","2021-01-18T11:32:40",0,null,null,1]
[12,"5",2020,{"$f":"IFERROR(VLOOKUP([1]!Tabla_SERIEA_01_5[[#This Row],[IdEstablecimiento]],[2]Establecimientos!$A$1:$E$175,5,FALSE),0)","v":"04203-LOS VILOS"},"105305","80308005","2021-01-18T11:32:40",0,null,null,1]
[12,"5",2020,{"$f":"IFERROR(VLOOKUP([1]!Tabla_SERIEA_01_5[[#This Row],[IdEstablecimiento]],[2]Establecimientos!$A$1:$E$175,5,FALSE),0)","v":"04203-LOS VILOS"},"105305","80301059","2021-01-18T11:32:40",0,null,null,8]
[12,"5",2020,{"$f":"IFERROR(VLOOKUP([1]!Tabla_SERIEA_01_5[[#This Row],[IdEstablecimiento]],[2]Establecimientos!$A$1:$E$175,5,FALSE),0)","v":"105104-HOSPITAL SALAMANCA"},"105305","80301085","2021-01-18T11:32:40",0,null,null,2]
[12,"5",2020,{"$f":"IFERROR(VLOOKUP([1]!Tabla_SERIEA_01_5[[#This Row],[IdEstablecimiento]],[2]Establecimientos!$A$1:$E$175,5,FALSE),0)","v":"105104-HOSPITAL SALAMANCA"},"105305","80302005","2021-01-18T11:32:40",0,null,null,135]
[12,"5",2020,{"$f":"IFERROR(VLOOKUP([1]!Tabla_SERIEA_01_5[[#This Row],[IdEstablecimiento]],[2]Establecimientos!$A$1:$E$175,5,FALSE),0)","v":"105104-HOSPITAL SALAMANCA"},"105305","81701009","2021-01-18T11:32:40",28,null,28,null,28]
[12,"5",2020,{"$f":"IFERROR(VLOOKUP([1]!Tabla_SERIEA_01_5[[#This Row],[IdEstablecimiento]],[2]Establecimientos!$A$1:$E$175,5,FALSE),0)","v":"105104-HOSPITAL SALAMANCA"},"105305","81801023","2021-01-18T11:32:40",3,null,3,null,3]
[12,"5",2020,{"$f":"IFERROR(VLOOKUP([1]!Tabla_SERIEA_01_5[[#This Row],[IdEstablecimiento]],[2]Establecimientos!$A$1:$E$175,5,FALSE),0)","v":"105104-HOSPITAL SALAMANCA"},"105305","81901019","2021-01-18T11:32:40",6,null,6,null,6]
[12,"5",2020,{"$f":"IFERROR(VLOOKUP([1]!Tabla_SERIEA_01_5[[#This Row],[IdEstablecimiento]],[2]Establecimientos!$A$1:$E$175,5,FALSE),0)","v":"105104-HOSPITAL SALAMANCA"},"105305","82001015","2021-01-18T11:32:40",4,null,4,null,4]
[12,"5",2020,{"$f":"IFERROR(VLOOKUP([1]!Tabla_SERIEA_01_5[[#This Row],[IdEstablecimiento]],[2]Establecimientos!$A$1:$E$175,5,FALSE),0)","v":"105101-HOSPITAL COQUIMBO"},"105305","80106002","2021-01-18T11:32:40",320,null,320,null,320]
[12,"5",2020,{"$f":"IFERROR(VLOOKUP([1]!Tabla_SERIEA_01_5[[#This Row],[IdEstablecimiento]],[2]Establecimientos!$A$1:$E$175,5,FALSE),0)","v":"04101-LA SERENA"},"105305","80106005","2021-01-18T11:32:40",3,null,3,null,3]
[12,"5",2020,{"$f":"IFERROR(VLOOKUP([1]!Tabla_SERIEA_01_5[[#This Row],[IdEstablecimiento]],[2]Establecimientos!$A$1:$E$175,5,FALSE),0)","v":"04101-LA SERENA"},"105305","80106006","2021-01-18T11:32:40",17,null,17,null,17]
[12,"5",2020,{"$f":"IFERROR(VLOOKUP([1]!Tabla_SERIEA_01_5[[#This Row],[IdEstablecimiento]],[2]Establecimientos!$A$1:$E$175,5,FALSE),0)","v":"105104-HOSPITAL SALAMANCA"},"105305","80106017","2021-01-18T11:32:40",169,null,169,null,169]
[12,"5",2020,{"$f":"IFERROR(VLOOKUP([1]!Tabla_SERIEA_01_5[[#This Row],[IdEstablecimiento]],[2]Establecimientos!$A$1:$E$175,5,FALSE),0)","v":"105104-HOSPITAL SALAMANCA"},"105305","80302013","2021-01-18T11:32:40",0,null,null,13]
[12,"5",2020,{"$f":"IFERROR(VLOOKUP([1]!Tabla_SERIEA_01_5[[#This Row],[IdEstablecimiento]],[2]Establecimientos!$A$1:$E$175,5,FALSE),0)","v":"105104-HOSPITAL SALAMANCA"},"105305","80302067","2021-01-18T11:32:40",0,null,null,122]
[12,"5",2020,{"$f":"IFERROR(VLOOKUP([1]!Tabla_SERIEA_01_5[[#This Row],[IdEstablecimiento]],[2]Establecimientos!$A$1:$E$175,5,FALSE),0)","v":"04102-COQUIMBO"},"105305","80302068","2021-01-18T11:32:40",0,null,null,129]
[12,"5",2020,{"$f":"IFERROR(VLOOKUP([1]!Tabla_SERIEA_01_5[[#This Row],[IdEstablecimiento]],[2]Establecimientos!$A$1:$E$175,5,FALSE),0)","v":"04102-COQUIMBO"},"105305","80302023","2021-01-18T11:32:40",0,null,null,138]
[12,"5",2020,{"$f":"IFERROR(VLOOKUP([1]!Tabla_SERIEA_01_5[[#This Row],[IdEstablecimiento]],[2]Establecimientos!$A$1:$E$175,5,FALSE),0)","v":"105105-HOSPITAL COMBARBALÁ"},"105305","80302032","2021-01-18T11:32:40",0,null,null,125]
[12,"5",2020,{"$f":"IFERROR(VLOOKUP([1]!Tabla_SERIEA_01_5[[#This Row],[IdEstablecimiento]],[2]Establecimientos!$A$1:$E$175,5,FALSE),0)","v":"04302-COMBARBALÁ"},"105305","80302034","2021-01-18T11:32:40",0,null,null,48]
[12,"5",2020,{"$f":"IFERROR(VLOOKUP([1]!Tabla_SERIEA_01_5[[#This Row],[IdEstablecimiento]],[2]Establecimientos!$A$1:$E$175,5,FALSE),0)","v":"04302-COMBARBALÁ"},"105305","80302040","2021-01-18T11:32:40",0,null,null,7]
[12,"5",2020,{"$f":"IFERROR(VLOOKUP([1]!Tabla_SERIEA_01_5[[#This Row],[IdEstablecimiento]],[2]Establecimientos!$A$1:$E$175,5,FALSE),0)","v":"105102-HOSPITAL OVALLE"},"105305","80302047","2021-01-18T11:32:40",0,null,null,179]
[12,"5",2020,{"$f":"IFERROR(VLOOKUP([1]!Tabla_SERIEA_01_5[[#This Row],[IdEstablecimiento]],[2]Establecimientos!$A$1:$E$175,5,FALSE),0)","v":"105102-HOSPITAL OVALLE"},"105305","80302048","2021-01-18T11:32:40",0,null,null,25]
[12,"5",2020,{"$f":"IFERROR(VLOOKUP([1]!Tabla_SERIEA_01_5[[#This Row],[IdEstablecimiento]],[2]Establecimientos!$A$1:$E$175,5,FALSE),0)","v":"105102-HOSPITAL OVALLE"},"105305","80302057","2021-01-18T11:32:40",0,null,null,131]
[12,"5",2020,{"$f":"IFERROR(VLOOKUP([1]!Tabla_SERIEA_01_5[[#This Row],[IdEstablecimiento]],[2]Establecimientos!$A$1:$E$175,5,FALSE),0)","v":"105102-HOSPITAL OVALLE"},"105305","80302060","2021-01-18T11:32:40",0,null,null,8]
[12,"5",2020,{"$f":"IFERROR(VLOOKUP([1]!Tabla_SERIEA_01_5[[#This Row],[IdEstablecimiento]],[2]Establecimientos!$A$1:$E$175,5,FALSE),0)","v":"105102-HOSPITAL OVALLE"},"105305","80302076","2021-01-18T11:32:40",0,null,null,13]
[12,"5",2020,{"$f":"IFERROR(VLOOKUP([1]!Tabla_SERIEA_01_5[[#This Row],[IdEstablecimiento]],[2]Establecimientos!$A$1:$E$175,5,FALSE),0)","v":"105102-HOSPITAL OVALLE"},"105305","80302063","2021-01-18T11:32:40",0,null,null,18]
[12,"5",2020,{"$f":"IFERROR(VLOOKUP([1]!Tabla_SERIEA_01_5[[#This Row],[IdEstablecimiento]],[2]Establecimientos!$A$1:$E$175,5,FALSE),0)","v":"105102-HOSPITAL OVALLE"},"105305","80302064","2021-01-18T11:32:40",0,null,null,132]
[12,"5",2020,{"$f":"IFERROR(VLOOKUP([1]!Tabla_SERIEA_01_5[[#This Row],[IdEstablecimiento]],[2]Establecimientos!$A$1:$E$175,5,FALSE),0)","v":"105102-HOSPITAL OVALLE"},"105305","80303024","2021-01-18T11:32:40",0,null,null,143]
[12,"5",2020,{"$f":"IFERROR(VLOOKUP([1]!Tabla_SERIEA_01_5[[#This Row],[IdEstablecimiento]],[2]Establecimientos!$A$1:$E$175,5,FALSE),0)","v":"105102-HOSPITAL OVALLE"},"105305","80303026","2021-01-18T11:32:40",0,null,null,58]
[12,"5",2020,{"$f":"IFERROR(VLOOKUP([1]!Tabla_SERIEA_01_5[[#This Row],[IdEstablecimiento]],[2]Establecimientos!$A$1:$E$175,5,FALSE),0)","v":"105102-HOSPITAL OVALLE"},"105305","80303027","2021-01-18T11:32:40",0,null,null,5]
[12,"5",2020,{"$f":"IFERROR(VLOOKUP([1]!Tabla_SERIEA_01_5[[#This Row],[IdEstablecimiento]],[2]Establecimientos!$A$1:$E$175,5,FALSE),0)","v":"105102-HOSPITAL OVALLE"},"105305","80303028","2021-01-18T11:32:40",0,null,null,7]
[12,"5",2020,{"$f":"IFERROR(VLOOKUP([1]!Tabla_SERIEA_01_5[[#This Row],[IdEstablecimiento]],[2]Establecimientos!$A$1:$E$175,5,FALSE),0)","v":"04203-LOS VILOS"},"105305","80306011","2021-01-18T11:32:40",0,null,null,53]
[12,"5",2020,{"$f":"IFERROR(VLOOKUP([1]!Tabla_SERIEA_01_5[[#This Row],[IdEstablecimiento]],[2]Establecimientos!$A$1:$E$175,5,FALSE),0)","v":"04203-LOS VILOS"},"105305","80106014","2021-01-18T11:32:40",486,null,486,null,486]
[12,"5",2020,{"$f":"IFERROR(VLOOKUP([1]!Tabla_SERIEA_01_5[[#This Row],[IdEstablecimiento]],[2]Establecimientos!$A$1:$E$175,5,FALSE),0)","v":"04203-LOS VILOS"},"105305","80106022","2021-01-18T11:32:40",1,null,1,null,1]
[12,"5",2020,{"$f":"IFERROR(VLOOKUP([1]!Tabla_SERIEA_01_5[[#This Row],[IdEstablecimiento]],[2]Establecimientos!$A$1:$E$175,5,FALSE),0)","v":"04301-OVALLE"},"105305","80106023","2021-01-18T11:32:40",32,null,32,null,32]
[12,"5",2020,{"$f":"IFERROR(VLOOKUP([1]!Tabla_SERIEA_01_5[[#This Row],[IdEstablecimiento]],[2]Establecimientos!$A$1:$E$175,5,FALSE),0)","v":"04104-LA HIGUERA"},"105305","80307011","2021-01-18T11:32:40",278,null,278]
[12,"5",2020,{"$f":"IFERROR(VLOOKUP([1]!Tabla_SERIEA_01_5[[#This Row],[IdEstablecimiento]],[2]Establecimientos!$A$1:$E$175,5,FALSE),0)","v":"04104-LA HIGUERA"},"105305","80307012","2021-01-18T11:32:40",8,null,8]
[12,"5",2020,{"$f":"IFERROR(VLOOKUP([1]!Tabla_SERIEA_01_5[[#This Row],[IdEstablecimiento]],[2]Establecimientos!$A$1:$E$175,5,FALSE),0)","v":"04104-LA HIGUERA"},"105305","80500008","2021-01-18T11:32:40",19,null,19,null,19]
[12,"5",2020,{"$f":"IFERROR(VLOOKUP([1]!Tabla_SERIEA_01_5[[#This Row],[IdEstablecimiento]],[2]Establecimientos!$A$1:$E$175,5,FALSE),0)","v":"04104-LA HIGUERA"},"105305","80500009","2021-01-18T11:32:40",12,null,12,null,12]
[12,"5",2020,{"$f":"IFERROR(VLOOKUP([1]!Tabla_SERIEA_01_5[[#This Row],[IdEstablecimiento]],[2]Establecimientos!$A$1:$E$175,5,FALSE),0)","v":"04203-LOS VILOS"},"105305","80500011","2021-01-18T11:32:40",43,null,43,null,43]
[12,"5",2020,{"$f":"IFERROR(VLOOKUP([1]!Tabla_SERIEA_01_5[[#This Row],[IdEstablecimiento]],[2]Establecimientos!$A$1:$E$175,5,FALSE),0)","v":"105102-HOSPITAL OVALLE"},"105305","80500014","2021-01-18T11:32:40",0,{"$nulls":4},14]
[12,"5",2020,{"$f":"IFERROR(VLOOKUP([1]!Tabla_SERIEA_01_5[[#This Row],[IdEstablecimiento]],[2]Establecimientos!$A$1:$E$175,5,FALSE),0)","v":"04101-LA SERENA"},"105305","80306042","2021-01-18T11:32:40",0,null,null,69]
[12,"5",2020,{"$f":"IFERROR(VLOOKUP([1]!Tabla_SERIEA_01_5[[#This Row],[IdEstablecimiento]],[2]Establecimientos!$A$1:$E$175,5,FALSE),0)","v":"04203-LOS VILOS"},"105305","80306051","2021-01-18T11:32:40",0,null,null,1]
[12,"5",2020,{"$f":"IFERROR(VLOOKUP([1]!Tabla_SERIEA_01_5[[#This Row],[IdEstablecimiento]],[2]Establecimientos!$A$1:$E$175,5,FALSE),0)","v":"04203-LOS VILOS"},"105305","80306052","2021-01-18T11:32:40",0,null,null,1]
[12,"5",2020,{"$f":"IFERROR(VLOOKUP([1]!Tabla_SERIEA_01_5[[#This Row],[IdEstablecimiento]],[2]Establecimientos!$A$1:$E$175,5,FALSE),0)","v":"04203-LOS VILOS"},"105305","80305019","2021-01-18T11:32:40",0,null,null,5]
[12,"5",2020,{"$f":"IFERROR(VLOOKUP([1]!Tabla_SERIEA_01_5[[#This Row],[IdEstablecimiento]],[2]Establecimientos!$A$1:$E$175,5,FALSE),0)","v":"04203-LOS VILOS"},"105305","18700230","2021-01-18T11:32:40",84,null,84,null,84,null,84]
[12,"5",2020,{"$f":"IFERROR(VLOOKUP([1]!Tabla_SERIEA_01_5[[#This Row],[IdEstablecimiento]],[2]Establecimientos!$A$1:$E$175,5,FALSE),0)","v":"04203-LOS VILOS"},"105305","18010100","2021-01-18T11:32:40",22,0,22]
[12,"5",2020,{"$f":"IFERROR(VLOOKUP([1]!Tabla_SERIEA_01_5[[#This Row],[IdEstablecimiento]],[2]Establecimientos!$A$1:$E$175,5,FALSE),0)","v":"04203-LOS VILOS"},"105305","18010601","2021-01-18T11:32:40",11,0,11]
[12,"5",2020,{"$f":"IFERROR(VLOOKUP([1]!Tabla_SERIEA_01_5[[#This Row],[IdEstablecimiento]],[2]Establecimientos!$A$1:$E$175,5,FALSE),0)","v":"04203-LOS VILOS"},"105305","18400600","2021-01-18T11:32:40",2,0,2]
[12,"5",2020,{"$f":"IFERROR(VLOOKUP([1]!Tabla_SERIEA_01_5[[#This Row],[IdEstablecimiento]],[2]Establecimientos!$A$1:$E$175,5,FALSE),0)","v":"04203-LOS VILOS"},"105305","18020500","2021-01-18T11:32:40",28,0,28]
[12,"5",2020,{"$f":"IFERROR(VLOOKUP([1]!Tabla_SERIEA_01_5[[#This Row],[IdEstablecimiento]],[2]Establecimientos!$A$1:$E$175,5,FALSE),0)","v":"04203-LOS VILOS"},"105305","18020600","2021-01-18T11:32:40",3,0,3]
[12,"5",2020,{"$f":"IFERROR(VLOOKUP([1]!Tabla_SERIEA_01_5[[#This Row],[IdEstablecimiento]],[2]Establecimientos!$A$1:$E$175,5,FALSE),0)","v":"04203-LOS VILOS"},"105305","18020700","2021-01-18T11:32:40",6,0,6]
[12,"5",2020,{"$f":"IFERROR(VLOOKUP([1]!Tabla_SERIEA_01_5[[#This Row],[IdEstablecimiento]],[2]Establecimientos!$A$1:$E$175,5,FALSE),0)","v":"04203-LOS VILOS"},"105305","18020900","2021-01-18T11:32:40",4,0,4]
[12,"5",2020,{"$f":"IFERROR(VLOOKUP([1]!Tabla_SERIEA_01_5[[#This Row],[IdEstablecimiento]],[2]Establecimientos!$A$1:$E$175,5,FALSE),0)","v":"04203-LOS VILOS"},"105305","18090000","2021-01-18T11:32:40",32,0,32]
[12,"5",2020,{"$f":"IFERROR(VLOOKUP([1]!Tabla_SERIEA_01_5[[#This Row],[IdEstablecimiento]],[2]Establecimientos!$A$1:$E$175,5,FALSE),0)","v":"04203-LOS VILOS"},"105305","18050100","2021-01-18T11:32:40",320,0,320]
[12,"5",2020,{"$f":"IFERROR(VLOOKUP([1]!Tabla_SERIEA_01_5[[#This Row],[IdEstablecimiento]],[2]Establecimientos!$A$1:$E$175,5,FALSE),0)","v":"04203-LOS VILOS"},"105305","18050200","2021-01-18T11:32:40",3,0,3]
[12,"5",2020,{"$f":"IFERROR(VLOOKUP([1]!Tabla_SERIEA_01_5[[#This Row],[IdEstablecimiento]],[2]Establecimientos!$A$1:$E$175,5,FALSE),0)","v":"04203-LOS VILOS"},"105305","18050300","2021-01-18T11:32:40",17,0,17]
[12,"5",2020,{"$f":"IFERROR(VLOOKUP([1]!Tabla_SERIEA_01_5[[#This Row],[IdEstablecimiento]],[2]Establecimientos!$A$1:$E$175,5,FALSE),0)","v":"105107-HOSPITAL VICUÑA"},"105307","80401151","2021-01-18T11:35:11",7,null,7,7]
[12,"5",2020,{"$f":"IFERROR(VLOOKUP([1]!Tabla_SERIEA_01_5[[#This Row],[IdEstablecimiento]],[2]Establecimientos!$A$1:$E$175,5,FALSE),0)","v":"105107-HOSPITAL VICUÑA"},"105307","80309013","2021-01-18T11:35:11",255,null,255]
[12,"5",2020,{"$f":"IFERROR(VLOOKUP([1]!Tabla_SERIEA_01_5[[#This Row],[IdEstablecimiento]],[2]Establecimientos!$A$1:$E$175,5,FALSE),0)","v":"04301-OVALLE"},"105307","80309014","2021-01-18T11:35:11",3,null,3]
[12,"5",2020,{"$f":"IFERROR(VLOOKUP([1]!Tabla_SERIEA_01_5[[#This Row],[IdEstablecimiento]],[2]Establecimientos!$A$1:$E$175,5,FALSE),0)","v":"04302-COMBARBALÁ"},"105307","80309016","2021-01-18T11:35:11",39,null,39]
[12,"5",2020,{"$f":"IFERROR(VLOOKUP([1]!Tabla_SERIEA_01_5[[#This Row],[IdEstablecimiento]],[2]Establecimientos!$A$1:$E$175,5,FALSE),0)","v":"04201-ILLAPEL"},"105307","80309022","2021-01-18T11:35:11",433,null,433]
[12,"5",2020,{"$f":"IFERROR(VLOOKUP([1]!Tabla_SERIEA_01_5[[#This Row],[IdEstablecimiento]],[2]Establecimientos!$A$1:$E$175,5,FALSE),0)","v":"04201-ILLAPEL"},"105307","80309028","2021-01-18T11:35:11",20,null,20]
[12,"5",2020,{"$f":"IFERROR(VLOOKUP([1]!Tabla_SERIEA_01_5[[#This Row],[IdEstablecimiento]],[2]Establecimientos!$A$1:$E$175,5,FALSE),0)","v":"04201-ILLAPEL"},"105307","80301034","2021-01-18T11:35:11",15,null,15]
[12,"5",2020,{"$f":"IFERROR(VLOOKUP([1]!Tabla_SERIEA_01_5[[#This Row],[IdEstablecimiento]],[2]Establecimientos!$A$1:$E$175,5,FALSE),0)","v":"04201-ILLAPEL"},"105308","80301041","2021-01-18T11:35:37",0,null,null,81]
[12,"5",2020,{"$f":"IFERROR(VLOOKUP([1]!Tabla_SERIEA_01_5[[#This Row],[IdEstablecimiento]],[2]Establecimientos!$A$1:$E$175,5,FALSE),0)","v":"04101-LA SERENA"},"105308","80301045","2021-01-18T11:35:37",0,null,null,158]
[12,"5",2020,{"$f":"IFERROR(VLOOKUP([1]!Tabla_SERIEA_01_5[[#This Row],[IdEstablecimiento]],[2]Establecimientos!$A$1:$E$175,5,FALSE),0)","v":"04101-LA SERENA"},"105308","80306061","2021-01-18T11:35:37",0,null,null,5]
[12,"5",2020,{"$f":"IFERROR(VLOOKUP([1]!Tabla_SERIEA_01_5[[#This Row],[IdEstablecimiento]],[2]Establecimientos!$A$1:$E$175,5,FALSE),0)","v":"04101-LA SERENA"},"105308","80301059","2021-01-18T11:35:37",0,null,null,7]
[12,"5",2020,{"$f":"IFERROR(VLOOKUP([1]!Tabla_SERIEA_01_5[[#This Row],[IdEstablecimiento]],[2]Establecimientos!$A$1:$E$175,5,FALSE),0)","v":"04101-LA SERENA"},"105308","80302005","2021-01-18T11:35:37",0,null,null,1]
[12,"5",2020,{"$f":"IFERROR(VLOOKUP([1]!Tabla_SERIEA_01_5[[#This Row],[IdEstablecimiento]],[2]Establecimientos!$A$1:$E$175,5,FALSE),0)","v":"04101-LA SERENA"},"105308","81601115","2021-01-18T11:35:37",6,null,6,null,6]
[12,"5",2020,{"$f":"IFERROR(VLOOKUP([1]!Tabla_SERIEA_01_5[[#This Row],[IdEstablecimiento]],[2]Establecimientos!$A$1:$E$175,5,FALSE),0)","v":"04101-LA SERENA"},"105308","81701001","2021-01-18T11:35:37",77,null,77,null,77]
[12,"5",2020,{"$f":"IFERROR(VLOOKUP([1]!Tabla_SERIEA_01_5[[#This Row],[IdEstablecimiento]],[2]Establecimientos!$A$1:$E$175,5,FALSE),0)","v":"04101-LA SERENA"},"105308","81701009","2021-01-18T11:35:37",32,null,32,null,32]
[12,"5",2020,{"$f":"IFERROR(VLOOKUP([1]!Tabla_SERIEA_01_5[[#This Row],[IdEstablecimiento]],[2]Establecimientos!$A$1:$E$175,5,FALSE),0)","v":"04101-LA SERENA"},"105308","81901019","2021-01-18T11:35:37",2,null,2,null,2]
[12,"5",2020,{"$f":"IFERROR(VLOOKUP([1]!Tabla_SERIEA_01_5[[#This Row],[IdEstablecimiento]],[2]Establecimientos!$A$1:$E$175,5,FALSE),0)","v":"04101-LA SERENA"},"105308","82001015","2021-01-18T11:35:37",3,null,3,null,3]
[12,"5",2020,{"$f":"IFERROR(VLOOKUP([1]!Tabla_SERIEA_01_5[[#This Row],[IdEstablecimiento]],[2]Establecimientos!$A$1:$E$175,5,FALSE),0)","v":"04101-LA SERENA"},"105308","80106002","2021-01-18T11:35:37",110,null,110,null,110]
[12,"5",2020,{"$f":"IFERROR(VLOOKUP([1]!Tabla_SERIEA_01_5[[#This Row],[IdEstablecimiento]],[2]Establecimientos!$A$1:$E$175,5,FALSE),0)","v":"04101-LA SERENA"},"105308","80106017","2021-01-18T11:35:37",137,null,137,null,137]
[12,"5",2020,{"$f":"IFERROR(VLOOKUP([1]!Tabla_SERIEA_01_5[[#This Row],[IdEstablecimiento]],[2]Establecimientos!$A$1:$E$175,5,FALSE),0)","v":"04101-LA SERENA"},"105308","80302023","2021-01-18T11:35:37",0,null,null,129]
[12,"5",2020,{"$f":"IFERROR(VLOOKUP([1]!Tabla_SERIEA_01_5[[#This Row],[IdEstablecimiento]],[2]Establecimientos!$A$1:$E$175,5,FALSE),0)","v":"04101-LA SERENA"},"105308","80302034","2021-01-18T11:35:37",0,null,null,164]
[12,"5",2020,{"$f":"IFERROR(VLOOKUP([1]!Tabla_SERIEA_01_5[[#This Row],[IdEstablecimiento]],[2]Establecimientos!$A$1:$E$175,5,FALSE),0)","v":"04101-LA SERENA"},"105308","80302047","2021-01-18T11:35:37",0,null,null,155]
[12,"5",2020,{"$f":"IFERROR(VLOOKUP([1]!Tabla_SERIEA_01_5[[#This Row],[IdEstablecimiento]],[2]Establecimientos!$A$1:$E$175,5,FALSE),0)","v":"04101-LA SERENA"},"105308","80302048","2021-01-18T11:35:37",0,null,null,14]
[12,"5",2020,{"$f":"IFERROR(VLOOKUP([1]!Tabla_SERIEA_01_5[[#This Row],[IdEstablecimiento]],[2]Establecimientos!$A$1:$E$175,5,FALSE),0)","v":"04101-LA SERENA"},"105308","80302075","2021-01-18T11:35:37",0,null,null,4]
[12,"5",2020,{"$f":"IFERROR(VLOOKUP([1]!Tabla_SERIEA_01_5[[#This Row],[IdEstablecimiento]],[2]Establecimientos!$A$1:$E$175,5,FALSE),0)","v":"04101-LA SERENA"},"105308","80302076","2021-01-18T11:35:37",0,null,null,86]
[12,"5",2020,{"$f":"IFERROR(VLOOKUP([1]!Tabla_SERIEA_01_5[[#This Row],[IdEstablecimiento]],[2]Establecimientos!$A$1:$E$175,5,FALSE),0)","v":"04203-LOS VILOS"},"105308","80303024","2021-01-18T11:35:37",0,null,null,99]
[12,"5",2020,{"$f":"IFERROR(VLOOKUP([1]!Tabla_SERIEA_01_5[[#This Row],[IdEstablecimiento]],[2]Establecimientos!$A$1:$E$175,5,FALSE),0)","v":"04203-LOS VILOS"},"105308","80303026","2021-01-18T11:35:37",0,null,null,39]
[12,"5",2020,{"$f":"IFERROR(VLOOKUP([1]!Tabla_SERIEA_01_5[[#This Row],[IdEstablecimiento]],[2]Establecimientos!$A$1:$E$175,5,FALSE),0)","v":"04203-LOS VILOS"},"105308","80306011","2021-01-18T11:35:37",0,null,null,26]
[12,"5",2020,{"$f":"IFERROR(VLOOKUP([1]!Tabla_SERIEA_01_5[[#This Row],[IdEstablecimiento]],[2]Establecimientos!$A$1:$E$175,5,FALSE),0)","v":"105102-HOSPITAL OVALLE"},"105308","80106007","2021-01-18T11:35:37",3,null,3,null,3]
[12,"5",2020,{"$f":"IFERROR(VLOOKUP([1]!Tabla_SERIEA_01_5[[#This Row],[IdEstablecimiento]],[2]Establecimientos!$A$1:$E$175,5,FALSE),0)","v":"105102-HOSPITAL OVALLE"},"105308","80106013","2021-01-18T11:35:37",5,null,5,null,5]
[12,"5",2020,{"$f":"IFERROR(VLOOKUP([1]!Tabla_SERIEA_01_5[[#This Row],[IdEstablecimiento]],[2]Establecimientos!$A$1:$E$175,5,FALSE),0)","v":"04104-LA HIGUERA"},"105308","80106014","2021-01-18T11:35:37",407,null,407,null,407]
[12,"5",2020,{"$f":"IFERROR(VLOOKUP([1]!Tabla_SERIEA_01_5[[#This Row],[IdEstablecimiento]],[2]Establecimientos!$A$1:$E$175,5,FALSE),0)","v":"04104-LA HIGUERA"},"105308","80106015","2021-01-18T11:35:37",98,null,98,null,98]
[12,"5",2020,{"$f":"IFERROR(VLOOKUP([1]!Tabla_SERIEA_01_5[[#This Row],[IdEstablecimiento]],[2]Establecimientos!$A$1:$E$175,5,FALSE),0)","v":"105100-HOSPITAL LA SERENA"},"105308","80106020","2021-01-18T11:35:37",3,null,3,null,3]
[12,"5",2020,{"$f":"IFERROR(VLOOKUP([1]!Tabla_SERIEA_01_5[[#This Row],[IdEstablecimiento]],[2]Establecimientos!$A$1:$E$175,5,FALSE),0)","v":"04304-PUNITAQUI"},"105308","80106022","2021-01-18T11:35:37",4,null,4,null,4]
[12,"5",2020,{"$f":"IFERROR(VLOOKUP([1]!Tabla_SERIEA_01_5[[#This Row],[IdEstablecimiento]],[2]Establecimientos!$A$1:$E$175,5,FALSE),0)","v":"04304-PUNITAQUI"},"105308","80106023","2021-01-18T11:35:37",7,null,7,null,7]
[12,"5",2020,{"$f":"IFERROR(VLOOKUP([1]!Tabla_SERIEA_01_5[[#This Row],[IdEstablecimiento]],[2]Establecimientos!$A$1:$E$175,5,FALSE),0)","v":"04304-PUNITAQUI"},"105308","80307011","2021-01-18T11:35:37",249,null,249]
[12,"5",2020,{"$f":"IFERROR(VLOOKUP([1]!Tabla_SERIEA_01_5[[#This Row],[IdEstablecimiento]],[2]Establecimientos!$A$1:$E$175,5,FALSE),0)","v":"04304-PUNITAQUI"},"105308","80307012","2021-01-18T11:35:37",5,null,5]
[12,"5",2020,{"$f":"IFERROR(VLOOKUP([1]!Tabla_SERIEA_01_5[[#This Row],[IdEstablecimiento]],[2]Establecimientos!$A$1:$E$175,5,FALSE),0)","v":"04304-PUNITAQUI"},"105308","80500011","2021-01-18T11:35:37",9,null,9,null,9]
[12,"5",2020,{"$f":"IFERROR(VLOOKUP([1]!Tabla_SERIEA_01_5[[#This Row],[IdEstablecimiento]],[2]Establecimientos!$A$1:$E$175,5,FALSE),0)","v":"04102-COQUIMBO"},"105308","80306038","2021-01-18T11:35:37",0,null,null,16]
[12,"5",2020,{"$f":"IFERROR(VLOOKUP([1]!Tabla_SERIEA_01_5[[#This Row],[IdEstablecimiento]],[2]Establecimientos!$A$1:$E$175,5,FALSE),0)","v":"04102-COQUIMBO"},"105308","80306045","2021-01-18T11:35:37",0,null,null,1]
[12,"5",2020,{"$f":"IFERROR(VLOOKUP([1]!Tabla_SERIEA_01_5[[#This Row],[IdEstablecimiento]],[2]Establecimientos!$A$1:$E$175,5,FALSE),0)","v":"105100-HOSPITAL LA SERENA"},"105308","80305019","2021-01-18T11:35:37",0,null,null,5]
[12,"5",2020,{"$f":"IFERROR(VLOOKUP([1]!Tabla_SERIEA_01_5[[#This Row],[IdEstablecimiento]],[2]Establecimientos!$A$1:$E$175,5,FALSE),0)","v":"105100-HOSPITAL LA SERENA"},"105308","18700160","2021-01-18T11:35:37",17,null,17,{"$nulls":3},17]
[12,"5",2020,{"$f":"IFERROR(VLOOKUP([1]!Tabla_SERIEA_01_5[[#This Row],[IdEstablecimiento]],[2]Establecimientos!$A$1:$E$175,5,FALSE),0)","v":"105100-HOSPITAL LA SERENA"},"105308","18700200","2021-01-18T11:35:37",33,null,33,null,33,0,33]
[12,"5",2020,{"$f":"IFERROR(VLOOKUP([1]!Tabla_SERIEA_01_5[[#This Row],[IdEstablecimiento]],[2]Establecimientos!$A$1:$E$175,5,FALSE),0)","v":"105100-HOSPITAL LA SERENA"},"105308","18020400","2021-01-18T11:35:37",6,0,6]
[12,"5",2020,{"$f":"IFERROR(VLOOKUP([1]!Tabla_SERIEA_01_5[[#This Row],[IdEstablecimiento]],[2]Establecimientos!$A$1:$E$175,5,FALSE),0)","v":"105100-HOSPITAL LA SERENA"},"105308","18020500","2021-01-18T11:35:37",109,0,109]
[12,"5",2020,{"$f":"IFERROR(VLOOKUP([1]!Tabla_SERIEA_01_5[[#This Row],[IdEstablecimiento]],[2]Establecimientos!$A$1:$E$175,5,FALSE),0)","v":"105100-HOSPITAL LA SERENA"},"105308","18020700","2021-01-18T11:35:37",2,0,2]
[12,"5",2020,{"$f":"IFERROR(VLOOKUP([1]!Tabla_SERIEA_01_5[[#This Row],[IdEstablecimiento]],[2]Establecimientos!$A$1:$E$175,5,FALSE),0)","v":"04106-VICUÑA"},"105308","18020900","2021-01-18T11:35:37",3,0,3]
[12,"5",2020,{"$f":"IFERROR(VLOOKUP([1]!Tabla_SERIEA_01_5[[#This Row],[IdEstablecimiento]],[2]Establecimientos!$A$1:$E$175,5,FALSE),0)","v":"105100-HOSPITAL LA SERENA"},"105308","18090000","2021-01-18T11:35:37",7,0,7]
[12,"5",2020,{"$f":"IFERROR(VLOOKUP([1]!Tabla_SERIEA_01_5[[#This Row],[IdEstablecimiento]],[2]Establecimientos!$A$1:$E$175,5,FALSE),0)","v":"105100-HOSPITAL LA SERENA"},"105308","18050100","2021-01-18T11:35:37",110,0,110]
[12,"5",2020,{"$f":"IFERROR(VLOOKUP([1]!Tabla_SERIEA_01_5[[#This Row],[IdEstablecimiento]],[2]Establecimientos!$A$1:$E$175,5,FALSE),0)","v":"105100-HOSPITAL LA SERENA"},"105308","18700100","2021-01-18T11:35:37",301,30,227,43]
[12,"5",2020,{"$f":"IFERROR(VLOOKUP([1]!Tabla_SERIEA_01_5[[#This Row],[IdEstablecimiento]],[2]Establecimientos!$A$1:$E$175,5,FALSE),0)","v":"04105-PAIHUANO"},"105309","80308044","2021-01-18T11:36:57",0,null,null,1]
[12,"5",2020,{"$f":"IFERROR(VLOOKUP([1]!Tabla_SERIEA_01_5[[#This Row],[IdEstablecimiento]],[2]Establecimientos!$A$1:$E$175,5,FALSE),0)","v":"04105-PAIHUANO"},"105309","80309010","2021-01-18T11:36:57",0,null,null,56]
[12,"5",2020,{"$f":"IFERROR(VLOOKUP([1]!Tabla_SERIEA_01_5[[#This Row],[IdEstablecimiento]],[2]Establecimientos!$A$1:$E$175,5,FALSE),0)","v":"04105-PAIHUANO"},"105309","80309013","2021-01-18T11:36:57",0,null,null,64]
[12,"5",2020,{"$f":"IFERROR(VLOOKUP([1]!Tabla_SERIEA_01_5[[#This Row],[IdEstablecimiento]],[2]Establecimientos!$A$1:$E$175,5,FALSE),0)","v":"04105-PAIHUANO"},"105309","80309022","2021-01-18T11:36:57",0,null,null,131]
[12,"5",2020,{"$f":"IFERROR(VLOOKUP([1]!Tabla_SERIEA_01_5[[#This Row],[IdEstablecimiento]],[2]Establecimientos!$A$1:$E$175,5,FALSE),0)","v":"04105-PAIHUANO"},"105309","80301011","2021-01-18T11:36:57",0,null,null,5]
[12,"5",2020,{"$f":"IFERROR(VLOOKUP([1]!Tabla_SERIEA_01_5[[#This Row],[IdEstablecimiento]],[2]Establecimientos!$A$1:$E$175,5,FALSE),0)","v":"04105-PAIHUANO"},"105314","80106015","2021-01-18T11:40:33",40,40,null,null,40]
[12,"5",2020,{"$f":"IFERROR(VLOOKUP([1]!Tabla_SERIEA_01_5[[#This Row],[IdEstablecimiento]],[2]Establecimientos!$A$1:$E$175,5,FALSE),0)","v":"04105-PAIHUANO"},"105314","80106020","2021-01-18T11:40:33",1,1,null,null,1]
[12,"5",2020,{"$f":"IFERROR(VLOOKUP([1]!Tabla_SERIEA_01_5[[#This Row],[IdEstablecimiento]],[2]Establecimientos!$A$1:$E$175,5,FALSE),0)","v":"04105-PAIHUANO"},"105314","80500011","2021-01-18T11:40:33",102,102,null,null,102]
[12,"5",2020,{"$f":"IFERROR(VLOOKUP([1]!Tabla_SERIEA_01_5[[#This Row],[IdEstablecimiento]],[2]Establecimientos!$A$1:$E$175,5,FALSE),0)","v":"04105-PAIHUANO"},"105314","18020500","2021-01-18T11:40:33",25,25,0]
[12,"5",2020,{"$f":"IFERROR(VLOOKUP([1]!Tabla_SERIEA_01_5[[#This Row],[IdEstablecimiento]],[2]Establecimientos!$A$1:$E$175,5,FALSE),0)","v":"04102-COQUIMBO"},"105314","18020700","2021-01-18T11:40:33",4,4,0]
[12,"5",2020,{"$f":"IFERROR(VLOOKUP([1]!Tabla_SERIEA_01_5[[#This Row],[IdEstablecimiento]],[2]Establecimientos!$A$1:$E$175,5,FALSE),0)","v":"04102-COQUIMBO"},"105314","18050100","2021-01-18T11:40:33",9,9,0]
[12,"5",2020,{"$f":"IFERROR(VLOOKUP([1]!Tabla_SERIEA_01_5[[#This Row],[IdEstablecimiento]],[2]Establecimientos!$A$1:$E$175,5,FALSE),0)","v":"04102-COQUIMBO"},"105314","18400900","2021-01-18T11:40:33",3,null,3]
[12,"5",2020,{"$f":"IFERROR(VLOOKUP([1]!Tabla_SERIEA_01_5[[#This Row],[IdEstablecimiento]],[2]Establecimientos!$A$1:$E$175,5,FALSE),0)","v":"04102-COQUIMBO"},"105317","81701001","2021-01-18T11:41:35",128,null,128,null,128]
[12,"5",2020,{"$f":"IFERROR(VLOOKUP([1]!Tabla_SERIEA_01_5[[#This Row],[IdEstablecimiento]],[2]Establecimientos!$A$1:$E$175,5,FALSE),0)","v":"04102-COQUIMBO"},"105317","81701009","2021-01-18T11:41:35",44,null,44,null,44]
[12,"5",2020,{"$f":"IFERROR(VLOOKUP([1]!Tabla_SERIEA_01_5[[#This Row],[IdEstablecimiento]],[2]Establecimientos!$A$1:$E$175,5,FALSE),0)","v":"04102-COQUIMBO"},"105317","81707030","2021-01-18T11:41:35",1,null,1,null,1]
[12,"5",2020,{"$f":"IFERROR(VLOOKUP([1]!Tabla_SERIEA_01_5[[#This Row],[IdEstablecimiento]],[2]Establecimientos!$A$1:$E$175,5,FALSE),0)","v":"04102-COQUIMBO"},"105317","80106002","2021-01-18T11:41:35",108,null,108,null,108]
[12,"5",2020,{"$f":"IFERROR(VLOOKUP([1]!Tabla_SERIEA_01_5[[#This Row],[IdEstablecimiento]],[2]Establecimientos!$A$1:$E$175,5,FALSE),0)","v":"04102-COQUIMBO"},"105317","80106017","2021-01-18T11:41:35",90,null,90,null,90]
[12,"5",2020,{"$f":"IFERROR(VLOOKUP([1]!Tabla_SERIEA_01_5[[#This Row],[IdEstablecimiento]],[2]Establecimientos!$A$1:$E$175,5,FALSE),0)","v":"04102-COQUIMBO"},"105317","80106014","2021-01-18T11:41:35",117,null,117,null,117]
[12,"5",2020,{"$f":"IFERROR(VLOOKUP([1]!Tabla_SERIEA_01_5[[#This Row],[IdEstablecimiento]],[2]Establecimientos!$A$1:$E$175,5,FALSE),0)","v":"04102-COQUIMBO"},"105317","80106015","2021-01-18T11:41:35",1,null,1,null,1]
[12,"5",2020,{"$f":"IFERROR(VLOOKUP([1]!Tabla_SERIEA_01_5[[#This Row],[IdEstablecimiento]],[2]Establecimientos!$A$1:$E$175,5,FALSE),0)","v":"04102-COQUIMBO"},"105317","80307011","2021-01-18T11:41:35",260,null,260]
[12,"5",2020,{"$f":"IFERROR(VLOOKUP([1]!Tabla_SERIEA_01_5[[#This Row],[IdEstablecimiento]],[2]Establecimientos!$A$1:$E$175,5,FALSE),0)","v":"04102-COQUIMBO"},"105317","80307012","2021-01-18T11:41:35",3,null,3]
[12,"5",2020,{"$f":"IFERROR(VLOOKUP([1]!Tabla_SERIEA_01_5[[#This Row],[IdEstablecimiento]],[2]Establecimientos!$A$1:$E$175,5,FALSE),0)","v":"04102-COQUIMBO"},"105317","80500008","2021-01-18T11:41:35",3,null,3,null,3]
[12,"5",2020,{"$f":"IFERROR(VLOOKUP([1]!Tabla_SERIEA_01_5[[#This Row],[IdEstablecimiento]],[2]Establecimientos!$A$1:$E$175,5,FALSE),0)","v":"04102-COQUIMBO"},"105317","80500009","2021-01-18T11:41:35",2,null,2,null,2]
[12,"5",2020,{"$f":"IFERROR(VLOOKUP([1]!Tabla_SERIEA_01_5[[#This Row],[IdEstablecimiento]],[2]Establecimientos!$A$1:$E$175,5,FALSE),0)","v":"04102-COQUIMBO"},"105317","80500011","2021-01-18T11:41:35",23,null,23]
[12,"5",2020,{"$f":"IFERROR(VLOOKUP([1]!Tabla_SERIEA_01_5[[#This Row],[IdEstablecimiento]],[2]Establecimientos!$A$1:$E$175,5,FALSE),0)","v":"04102-COQUIMBO"},"105317","18020300","2021-01-18T11:41:35",1,0,1]
[12,"5",2020,{"$f":"IFERROR(VLOOKUP([1]!Tabla_SERIEA_01_5[[#This Row],[IdEstablecimiento]],[2]Establecimientos!$A$1:$E$175,5,FALSE),0)","v":"04102-COQUIMBO"},"105317","18020500","2021-01-18T11:41:35",172,0,172]
[12,"5",2020,{"$f":"IFERROR(VLOOKUP([1]!Tabla_SERIEA_01_5[[#This Row],[IdEstablecimiento]],[2]Establecimientos!$A$1:$E$175,5,FALSE),0)","v":"04102-COQUIMBO"},"105317","18050100","2021-01-18T11:41:35",108,0,108]
[12,"5",2020,{"$f":"IFERROR(VLOOKUP([1]!Tabla_SERIEA_01_5[[#This Row],[IdEstablecimiento]],[2]Establecimientos!$A$1:$E$175,5,FALSE),0)","v":"04102-COQUIMBO"},"105317","18090200","2021-01-18T11:41:35",50]
[12,"5",2020,{"$f":"IFERROR(VLOOKUP([1]!Tabla_SERIEA_01_5[[#This Row],[IdEstablecimiento]],[2]Establecimientos!$A$1:$E$175,5,FALSE),0)","v":"04102-COQUIMBO"},"105317","18700100","2021-01-18T11:41:35",68,3,60,5]
[12,"5",2020,{"$f":"IFERROR(VLOOKUP([1]!Tabla_SERIEA_01_5[[#This Row],[IdEstablecimiento]],[2]Establecimientos!$A$1:$E$175,5,FALSE),0)","v":"04102-COQUIMBO"},"105318","80401010","2021-01-18T11:41:54",13,null,13]
[12,"5",2020,{"$f":"IFERROR(VLOOKUP([1]!Tabla_SERIEA_01_5[[#This Row],[IdEstablecimiento]],[2]Establecimientos!$A$1:$E$175,5,FALSE),0)","v":"04102-COQUIMBO"},"105318","80404002","2021-01-18T11:41:54",12,null,12]
[12,"5",2020,{"$f":"IFERROR(VLOOKUP([1]!Tabla_SERIEA_01_5[[#This Row],[IdEstablecimiento]],[2]Establecimientos!$A$1:$E$175,5,FALSE),0)","v":"04102-COQUIMBO"},"105318","81701001","2021-01-18T11:41:54",29,6,23,null,29]
[12,"5",2020,{"$f":"IFERROR(VLOOKUP([1]!Tabla_SERIEA_01_5[[#This Row],[IdEstablecimiento]],[2]Establecimientos!$A$1:$E$175,5,FALSE),0)","v":"04102-COQUIMBO"},"105318","81701009","2021-01-18T11:41:54",10,null,10,null,10]
[12,"5",2020,{"$f":"IFERROR(VLOOKUP([1]!Tabla_SERIEA_01_5[[#This Row],[IdEstablecimiento]],[2]Establecimientos!$A$1:$E$175,5,FALSE),0)","v":"04102-COQUIMBO"},"105318","81707030","2021-01-18T11:41:54",1,0,1]
[12,"5",2020,{"$f":"IFERROR(VLOOKUP([1]!Tabla_SERIEA_01_5[[#This Row],[IdEstablecimiento]],[2]Establecimientos!$A$1:$E$175,5,FALSE),0)","v":"04102-COQUIMBO"},"105318","80106002","2021-01-18T11:41:54",64,7,57,null,64]
[12,"5",2020,{"$f":"IFERROR(VLOOKUP([1]!Tabla_SERIEA_01_5[[#This Row],[IdEstablecimiento]],[2]Establecimientos!$A$1:$E$175,5,FALSE),0)","v":"04102-COQUIMBO"},"105318","80106017","2021-01-18T11:41:54",81,0,81,null,81]
[12,"5",2020,{"$f":"IFERROR(VLOOKUP([1]!Tabla_SERIEA_01_5[[#This Row],[IdEstablecimiento]],[2]Establecimientos!$A$1:$E$175,5,FALSE),0)","v":"04102-COQUIMBO"},"105318","80106007","2021-01-18T11:41:54",2,2,null,null,2]
[12,"5",2020,{"$f":"IFERROR(VLOOKUP([1]!Tabla_SERIEA_01_5[[#This Row],[IdEstablecimiento]],[2]Establecimientos!$A$1:$E$175,5,FALSE),0)","v":"04102-COQUIMBO"},"105318","80106008","2021-01-18T11:41:54",1,null,1,null,1]
[12,"5",2020,{"$f":"IFERROR(VLOOKUP([1]!Tabla_SERIEA_01_5[[#This Row],[IdEstablecimiento]],[2]Establecimientos!$A$1:$E$175,5,FALSE),0)","v":"04102-COQUIMBO"},"105318","80106013","2021-01-18T11:41:54",4,3,1,null,4]
[12,"5",2020,{"$f":"IFERROR(VLOOKUP([1]!Tabla_SERIEA_01_5[[#This Row],[IdEstablecimiento]],[2]Establecimientos!$A$1:$E$175,5,FALSE),0)","v":"04102-COQUIMBO"},"105318","80106014","2021-01-18T11:41:54",420,197,223,null,420]
[12,"5",2020,{"$f":"IFERROR(VLOOKUP([1]!Tabla_SERIEA_01_5[[#This Row],[IdEstablecimiento]],[2]Establecimientos!$A$1:$E$175,5,FALSE),0)","v":"04102-COQUIMBO"},"105318","80106015","2021-01-18T11:41:54",104,73,31,null,104]
[12,"5",2020,{"$f":"IFERROR(VLOOKUP([1]!Tabla_SERIEA_01_5[[#This Row],[IdEstablecimiento]],[2]Establecimientos!$A$1:$E$175,5,FALSE),0)","v":"04102-COQUIMBO"},"105318","80106020","2021-01-18T11:41:54",2,null,2,null,2]
[12,"5",2020,{"$f":"IFERROR(VLOOKUP([1]!Tabla_SERIEA_01_5[[#This Row],[IdEstablecimiento]],[2]Establecimientos!$A$1:$E$175,5,FALSE),0)","v":"04102-COQUIMBO"},"105318","80106022","2021-01-18T11:41:54",2,2,null,null,2]
[12,"5",2020,{"$f":"IFERROR(VLOOKUP([1]!Tabla_SERIEA_01_5[[#This Row],[IdEstablecimiento]],[2]Establecimientos!$A$1:$E$175,5,FALSE),0)","v":"04102-COQUIMBO"},"105318","80106023","2021-01-18T11:41:54",36,null,36,null,36,36]
[12,"5",2020,{"$f":"IFERROR(VLOOKUP([1]!Tabla_SERIEA_01_5[[#This Row],[IdEstablecimiento]],[2]Establecimientos!$A$1:$E$175,5,FALSE),0)","v":"04105-PAIHUANO"},"105318","80307011","2021-01-18T11:41:54",123,null,123]
[12,"5",2020,{"$f":"IFERROR(VLOOKUP([1]!Tabla_SERIEA_01_5[[#This Row],[IdEstablecimiento]],[2]Establecimientos!$A$1:$E$175,5,FALSE),0)","v":"04105-PAIHUANO"},"105318","80500011","2021-01-18T11:41:54",29,17,12,null,29]
[12,"5",2020,{"$f":"IFERROR(VLOOKUP([1]!Tabla_SERIEA_01_5[[#This Row],[IdEstablecimiento]],[2]Establecimientos!$A$1:$E$175,5,FALSE),0)","v":"04105-PAIHUANO"},"105318","80500014","2021-01-18T11:41:54",6,null,6,6]
[12,"5",2020,{"$f":"IFERROR(VLOOKUP([1]!Tabla_SERIEA_01_5[[#This Row],[IdEstablecimiento]],[2]Establecimientos!$A$1:$E$175,5,FALSE),0)","v":"04105-PAIHUANO"},"105318","18011001","2021-01-18T11:41:54",13,0,13]
[12,"5",2020,{"$f":"IFERROR(VLOOKUP([1]!Tabla_SERIEA_01_5[[#This Row],[IdEstablecimiento]],[2]Establecimientos!$A$1:$E$175,5,FALSE),0)","v":"04105-PAIHUANO"},"105318","18400600","2021-01-18T11:41:54",12,0,12]
[12,"5",2020,{"$f":"IFERROR(VLOOKUP([1]!Tabla_SERIEA_01_5[[#This Row],[IdEstablecimiento]],[2]Establecimientos!$A$1:$E$175,5,FALSE),0)","v":"04105-PAIHUANO"},"105318","18020300","2021-01-18T11:41:54",1,0,1]
[12,"5",2020,{"$f":"IFERROR(VLOOKUP([1]!Tabla_SERIEA_01_5[[#This Row],[IdEstablecimiento]],[2]Establecimientos!$A$1:$E$175,5,FALSE),0)","v":"04105-PAIHUANO"},"105318","18020500","2021-01-18T11:41:54",39,6,33]
[12,"5",2020,{"$f":"IFERROR(VLOOKUP([1]!Tabla_SERIEA_01_5[[#This Row],[IdEstablecimiento]],[2]Establecimientos!$A$1:$E$175,5,FALSE),0)","v":"04105-PAIHUANO"},"105318","18090000","2021-01-18T11:41:54",36,0,36]
[12,"5",2020,{"$f":"IFERROR(VLOOKUP([1]!Tabla_SERIEA_01_5[[#This Row],[IdEstablecimiento]],[2]Establecimientos!$A$1:$E$175,5,FALSE),0)","v":"04105-PAIHUANO"},"105318","18050100","2021-01-18T11:41:54",64,7,57]
[12,"5",2020,{"$f":"IFERROR(VLOOKUP([1]!Tabla_SERIEA_01_5[[#This Row],[IdEstablecimiento]],[2]Establecimientos!$A$1:$E$175,5,FALSE),0)","v":"04105-PAIHUANO"},"105318","18090200","2021-01-18T11:41:54",46]
[12,"5",2020,{"$f":"IFERROR(VLOOKUP([1]!Tabla_SERIEA_01_5[[#This Row],[IdEstablecimiento]],[2]Establecimientos!$A$1:$E$175,5,FALSE),0)","v":"04105-PAIHUANO"},"105318","18700100","2021-01-18T11:41:54",null,3,206,14]
[12,"5",2020,{"$f":"IFERROR(VLOOKUP([1]!Tabla_SERIEA_01_5[[#This Row],[IdEstablecimiento]],[2]Establecimientos!$A$1:$E$175,5,FALSE),0)","v":"04105-PAIHUANO"},"105319","80401051","2021-01-18T11:42:13",0,null,null,5]
[12,"5",2020,{"$f":"IFERROR(VLOOKUP([1]!Tabla_SERIEA_01_5[[#This Row],[IdEstablecimiento]],[2]Establecimientos!$A$1:$E$175,5,FALSE),0)","v":"04105-PAIHUANO"},"105319","80401060","2021-01-18T11:42:13",0,null,null,5]
[12,"5",2020,{"$f":"IFERROR(VLOOKUP([1]!Tabla_SERIEA_01_5[[#This Row],[IdEstablecimiento]],[2]Establecimientos!$A$1:$E$175,5,FALSE),0)","v":"04105-PAIHUANO"},"105319","80309013","2021-01-18T11:42:13",12,null,12,12]
[12,"5",2020,{"$f":"IFERROR(VLOOKUP([1]!Tabla_SERIEA_01_5[[#This Row],[IdEstablecimiento]],[2]Establecimientos!$A$1:$E$175,5,FALSE),0)","v":"04105-PAIHUANO"},"105319","80309022","2021-01-18T11:42:13",123,null,123,123]
[12,"5",2020,{"$f":"IFERROR(VLOOKUP([1]!Tabla_SERIEA_01_5[[#This Row],[IdEstablecimiento]],[2]Establecimientos!$A$1:$E$175,5,FALSE),0)","v":"04105-PAIHUANO"},"105319","80301034","2021-01-18T11:42:13",11,null,11,11]
[12,"5",2020,{"$f":"IFERROR(VLOOKUP([1]!Tabla_SERIEA_01_5[[#This Row],[IdEstablecimiento]],[2]Establecimientos!$A$1:$E$175,5,FALSE),0)","v":"04105-PAIHUANO"},"105319","80301036","2021-01-18T11:42:13",62,null,62,62]
[12,"5",2020,{"$f":"IFERROR(VLOOKUP([1]!Tabla_SERIEA_01_5[[#This Row],[IdEstablecimiento]],[2]Establecimientos!$A$1:$E$175,5,FALSE),0)","v":"04105-PAIHUANO"},"105319","80301038","2021-01-18T11:42:13",62,null,62,62]
[12,"5",2020,{"$f":"IFERROR(VLOOKUP([1]!Tabla_SERIEA_01_5[[#This Row],[IdEstablecimiento]],[2]Establecimientos!$A$1:$E$175,5,FALSE),0)","v":"04105-PAIHUANO"},"105319","80301041","2021-01-18T11:42:13",72,null,72,72]
[12,"5",2020,{"$f":"IFERROR(VLOOKUP([1]!Tabla_SERIEA_01_5[[#This Row],[IdEstablecimiento]],[2]Establecimientos!$A$1:$E$175,5,FALSE),0)","v":"04105-PAIHUANO"},"105319","80301045","2021-01-18T11:42:13",58,null,58,58]
[12,"5",2020,{"$f":"IFERROR(VLOOKUP([1]!Tabla_SERIEA_01_5[[#This Row],[IdEstablecimiento]],[2]Establecimientos!$A$1:$E$175,5,FALSE),0)","v":"04105-PAIHUANO"},"105319","80404002","2021-01-18T11:42:13",20,null,20]
[12,"5",2020,{"$f":"IFERROR(VLOOKUP([1]!Tabla_SERIEA_01_5[[#This Row],[IdEstablecimiento]],[2]Establecimientos!$A$1:$E$175,5,FALSE),0)","v":"04105-PAIHUANO"},"105319","80306061","2021-01-18T11:42:13",11,null,11,11]
[12,"5",2020,{"$f":"IFERROR(VLOOKUP([1]!Tabla_SERIEA_01_5[[#This Row],[IdEstablecimiento]],[2]Establecimientos!$A$1:$E$175,5,FALSE),0)","v":"105100-HOSPITAL LA SERENA"},"105319","80302005","2021-01-18T11:42:13",7,null,7,7]
[12,"5",2020,{"$f":"IFERROR(VLOOKUP([1]!Tabla_SERIEA_01_5[[#This Row],[IdEstablecimiento]],[2]Establecimientos!$A$1:$E$175,5,FALSE),0)","v":"105100-HOSPITAL LA SERENA"},"105319","81602204","2021-01-18T11:42:13",1,null,1,1]
[12,"5",2020,{"$f":"IFERROR(VLOOKUP([1]!Tabla_SERIEA_01_5[[#This Row],[IdEstablecimiento]],[2]Establecimientos!$A$1:$E$175,5,FALSE),0)","v":"04304-PUNITAQUI"},"105319","81602224","2021-01-18T11:42:13",5,null,5,5]
[12,"5",2020,{"$f":"IFERROR(VLOOKUP([1]!Tabla_SERIEA_01_5[[#This Row],[IdEstablecimiento]],[2]Establecimientos!$A$1:$E$175,5,FALSE),0)","v":"04304-PUNITAQUI"},"105307","80301036","2021-01-18T11:35:11",31,null,31]
[12,"5",2020,{"$f":"IFERROR(VLOOKUP([1]!Tabla_SERIEA_01_5[[#This Row],[IdEstablecimiento]],[2]Establecimientos!$A$1:$E$175,5,FALSE),0)","v":"04304-PUNITAQUI"},"105307","80301038","2021-01-18T11:35:11",31,null,31]
[12,"5",2020,{"$f":"IFERROR(VLOOKUP([1]!Tabla_SERIEA_01_5[[#This Row],[IdEstablecimiento]],[2]Establecimientos!$A$1:$E$175,5,FALSE),0)","v":"04304-PUNITAQUI"},"105307","80301041","2021-01-18T11:35:11",207,null,207]
[12,"5",2020,{"$f":"IFERROR(VLOOKUP([1]!Tabla_SERIEA_01_5[[#This Row],[IdEstablecimiento]],[2]Establecimientos!$A$1:$E$175,5,FALSE),0)","v":"04304-PUNITAQUI"},"105307","80301045","2021-01-18T11:35:11",430,null,430]
[12,"5",2020,{"$f":"IFERROR(VLOOKUP([1]!Tabla_SERIEA_01_5[[#This Row],[IdEstablecimiento]],[2]Establecimientos!$A$1:$E$175,5,FALSE),0)","v":"04304-PUNITAQUI"},"105307","80404002","2021-01-18T11:35:11",12,null,12]
[12,"5",2020,{"$f":"IFERROR(VLOOKUP([1]!Tabla_SERIEA_01_5[[#This Row],[IdEstablecimiento]],[2]Establecimientos!$A$1:$E$175,5,FALSE),0)","v":"04304-PUNITAQUI"},"105307","80404006","2021-01-18T11:35:11",2,null,2]
[12,"5",2020,{"$f":"IFERROR(VLOOKUP([1]!Tabla_SERIEA_01_5[[#This Row],[IdEstablecimiento]],[2]Establecimientos!$A$1:$E$175,5,FALSE),0)","v":"04304-PUNITAQUI"},"105307","80306059","2021-01-18T11:35:11",16,null,16]
[12,"5",2020,{"$f":"IFERROR(VLOOKUP([1]!Tabla_SERIEA_01_5[[#This Row],[IdEstablecimiento]],[2]Establecimientos!$A$1:$E$175,5,FALSE),0)","v":"04304-PUNITAQUI"},"105307","80306061","2021-01-18T11:35:11",15,null,15]
[12,"5",2020,{"$f":"IFERROR(VLOOKUP([1]!Tabla_SERIEA_01_5[[#This Row],[IdEstablecimiento]],[2]Establecimientos!$A$1:$E$175,5,FALSE),0)","v":"04304-PUNITAQUI"},"105307","80306170","2021-01-18T11:35:11",4,null,4]
[12,"5",2020,{"$f":"IFERROR(VLOOKUP([1]!Tabla_SERIEA_01_5[[#This Row],[IdEstablecimiento]],[2]Establecimientos!$A$1:$E$175,5,FALSE),0)","v":"04304-PUNITAQUI"},"105307","80308004","2021-01-18T11:35:11",5,null,5]
[12,"5",2020,{"$f":"IFERROR(VLOOKUP([1]!Tabla_SERIEA_01_5[[#This Row],[IdEstablecimiento]],[2]Establecimientos!$A$1:$E$175,5,FALSE),0)","v":"04304-PUNITAQUI"},"105307","80308005","2021-01-18T11:35:11",9,null,9]
[12,"5",2020,{"$f":"IFERROR(VLOOKUP([1]!Tabla_SERIEA_01_5[[#This Row],[IdEstablecimiento]],[2]Establecimientos!$A$1:$E$175,5,FALSE),0)","v":"04304-PUNITAQUI"},"105307","80301059","2021-01-18T11:35:11",153,null,153]
[12,"5",2020,{"$f":"IFERROR(VLOOKUP([1]!Tabla_SERIEA_01_5[[#This Row],[IdEstablecimiento]],[2]Establecimientos!$A$1:$E$175,5,FALSE),0)","v":"04304-PUNITAQUI"},"105307","80301072","2021-01-18T11:35:11",2,null,2]
[12,"5",2020,{"$f":"IFERROR(VLOOKUP([1]!Tabla_SERIEA_01_5[[#This Row],[IdEstablecimiento]],[2]Establecimientos!$A$1:$E$175,5,FALSE),0)","v":"04304-PUNITAQUI"},"105307","80301085","2021-01-18T11:35:11",41,null,41]
[12,"5",2020,{"$f":"IFERROR(VLOOKUP([1]!Tabla_SERIEA_01_5[[#This Row],[IdEstablecimiento]],[2]Establecimientos!$A$1:$E$175,5,FALSE),0)","v":"04304-PUNITAQUI"},"105307","80301086","2021-01-18T11:35:11",430,null,430]
[12,"5",2020,{"$f":"IFERROR(VLOOKUP([1]!Tabla_SERIEA_01_5[[#This Row],[IdEstablecimiento]],[2]Establecimientos!$A$1:$E$175,5,FALSE),0)","v":"04102-COQUIMBO"},"105307","80302005","2021-01-18T11:35:11",232,null,232]
[12,"5",2020,{"$f":"IFERROR(VLOOKUP([1]!Tabla_SERIEA_01_5[[#This Row],[IdEstablecimiento]],[2]Establecimientos!$A$1:$E$175,5,FALSE),0)","v":"04102-COQUIMBO"},"105307","81601115","2021-01-18T11:35:11",1,null,1,null,1]
[12,"5",2020,{"$f":"IFERROR(VLOOKUP([1]!Tabla_SERIEA_01_5[[#This Row],[IdEstablecimiento]],[2]Establecimientos!$A$1:$E$175,5,FALSE),0)","v":"105100-HOSPITAL LA SERENA"},"105307","81701001","2021-01-18T11:35:11",22,null,22,null,22]
[12,"5",2020,{"$f":"IFERROR(VLOOKUP([1]!Tabla_SERIEA_01_5[[#This Row],[IdEstablecimiento]],[2]Establecimientos!$A$1:$E$175,5,FALSE),0)","v":"105100-HOSPITAL LA SERENA"},"105307","81701009","2021-01-18T11:35:11",27,null,27,null,27]
[12,"5",2020,{"$f":"IFERROR(VLOOKUP([1]!Tabla_SERIEA_01_5[[#This Row],[IdEstablecimiento]],[2]Establecimientos!$A$1:$E$175,5,FALSE),0)","v":"105100-HOSPITAL LA SERENA"},"105307","81901019","2021-01-18T11:35:11",9,null,9,null,9]
[12,"5",2020,{"$f":"IFERROR(VLOOKUP([1]!Tabla_SERIEA_01_5[[#This Row],[IdEstablecimiento]],[2]Establecimientos!$A$1:$E$175,5,FALSE),0)","v":"105100-HOSPITAL LA SERENA"},"105307","82001015","2021-01-18T11:35:11",1,null,1,null,1]
[12,"5",2020,{"$f":"IFERROR(VLOOKUP([1]!Tabla_SERIEA_01_5[[#This Row],[IdEstablecimiento]],[2]Establecimientos!$A$1:$E$175,5,FALSE),0)","v":"105100-HOSPITAL LA SERENA"},"105307","80106002","2021-01-18T11:35:11",105,null,105,null,105]
[12,"5",2020,{"$f":"IFERROR(VLOOKUP([1]!Tabla_SERIEA_01_5[[#This Row],[IdEstablecimiento]],[2]Establecimientos!$A$1:$E$175,5,FALSE),0)","v":"105100-HOSPITAL LA SERENA"},"105307","80106017","2021-01-18T11:35:11",48,null,48,null,48]
[12,"5",2020,{"$f":"IFERROR(VLOOKUP([1]!Tabla_SERIEA_01_5[[#This Row],[IdEstablecimiento]],[2]Establecimientos!$A$1:$E$175,5,FALSE),0)","v":"04102-COQUIMBO"},"105307","80302067","2021-01-18T11:35:11",15,null,15]
[12,"5",2020,{"$f":"IFERROR(VLOOKUP([1]!Tabla_SERIEA_01_5[[#This Row],[IdEstablecimiento]],[2]Establecimientos!$A$1:$E$175,5,FALSE),0)","v":"04102-COQUIMBO"},"105307","80302023","2021-01-18T11:35:11",394,null,394]
[12,"5",2020,{"$f":"IFERROR(VLOOKUP([1]!Tabla_SERIEA_01_5[[#This Row],[IdEstablecimiento]],[2]Establecimientos!$A$1:$E$175,5,FALSE),0)","v":"04102-COQUIMBO"},"105307","80302032","2021-01-18T11:35:11",242,null,242]
[12,"5",2020,{"$f":"IFERROR(VLOOKUP([1]!Tabla_SERIEA_01_5[[#This Row],[IdEstablecimiento]],[2]Establecimientos!$A$1:$E$175,5,FALSE),0)","v":"04102-COQUIMBO"},"105307","80302034","2021-01-18T11:35:11",410,null,410]
[12,"5",2020,{"$f":"IFERROR(VLOOKUP([1]!Tabla_SERIEA_01_5[[#This Row],[IdEstablecimiento]],[2]Establecimientos!$A$1:$E$175,5,FALSE),0)","v":"04102-COQUIMBO"},"105307","80302040","2021-01-18T11:35:11",5,null,5]
[12,"5",2020,{"$f":"IFERROR(VLOOKUP([1]!Tabla_SERIEA_01_5[[#This Row],[IdEstablecimiento]],[2]Establecimientos!$A$1:$E$175,5,FALSE),0)","v":"04102-COQUIMBO"},"105307","80302047","2021-01-18T11:35:11",471,null,471]
[12,"5",2020,{"$f":"IFERROR(VLOOKUP([1]!Tabla_SERIEA_01_5[[#This Row],[IdEstablecimiento]],[2]Establecimientos!$A$1:$E$175,5,FALSE),0)","v":"04102-COQUIMBO"},"105307","80302048","2021-01-18T11:35:11",42,null,42]
[12,"5",2020,{"$f":"IFERROR(VLOOKUP([1]!Tabla_SERIEA_01_5[[#This Row],[IdEstablecimiento]],[2]Establecimientos!$A$1:$E$175,5,FALSE),0)","v":"04102-COQUIMBO"},"105307","80302057","2021-01-18T11:35:11",117,null,117]
[12,"5",2020,{"$f":"IFERROR(VLOOKUP([1]!Tabla_SERIEA_01_5[[#This Row],[IdEstablecimiento]],[2]Establecimientos!$A$1:$E$175,5,FALSE),0)","v":"04102-COQUIMBO"},"105307","80302059","2021-01-18T11:35:11",15,null,15]
[12,"5",2020,{"$f":"IFERROR(VLOOKUP([1]!Tabla_SERIEA_01_5[[#This Row],[IdEstablecimiento]],[2]Establecimientos!$A$1:$E$175,5,FALSE),0)","v":"04102-COQUIMBO"},"105307","80302060","2021-01-18T11:35:11",11,null,11]
[12,"5",2020,{"$f":"IFERROR(VLOOKUP([1]!Tabla_SERIEA_01_5[[#This Row],[IdEstablecimiento]],[2]Establecimientos!$A$1:$E$175,5,FALSE),0)","v":"04105-PAIHUANO"},"105307","80302076","2021-01-18T11:35:11",195,null,195]
[12,"5",2020,{"$f":"IFERROR(VLOOKUP([1]!Tabla_SERIEA_01_5[[#This Row],[IdEstablecimiento]],[2]Establecimientos!$A$1:$E$175,5,FALSE),0)","v":"04105-PAIHUANO"},"105307","80302064","2021-01-18T11:35:11",4,null,4]
[12,"5",2020,{"$f":"IFERROR(VLOOKUP([1]!Tabla_SERIEA_01_5[[#This Row],[IdEstablecimiento]],[2]Establecimientos!$A$1:$E$175,5,FALSE),0)","v":"04105-PAIHUANO"},"105307","80303024","2021-01-18T11:35:11",268,null,268]
[12,"5",2020,{"$f":"IFERROR(VLOOKUP([1]!Tabla_SERIEA_01_5[[#This Row],[IdEstablecimiento]],[2]Establecimientos!$A$1:$E$175,5,FALSE),0)","v":"04105-PAIHUANO"},"105307","80303026","2021-01-18T11:35:11",111,null,111]
[12,"5",2020,{"$f":"IFERROR(VLOOKUP([1]!Tabla_SERIEA_01_5[[#This Row],[IdEstablecimiento]],[2]Establecimientos!$A$1:$E$175,5,FALSE),0)","v":"04105-PAIHUANO"},"105307","80303027","2021-01-18T11:35:11",15,null,15]
[12,"5",2020,{"$f":"IFERROR(VLOOKUP([1]!Tabla_SERIEA_01_5[[#This Row],[IdEstablecimiento]],[2]Establecimientos!$A$1:$E$175,5,FALSE),0)","v":"04105-PAIHUANO"},"105307","80303028","2021-01-18T11:35:11",16,null,16]
[12,"5",2020,{"$f":"IFERROR(VLOOKUP([1]!Tabla_SERIEA_01_5[[#This Row],[IdEstablecimiento]],[2]Establecimientos!$A$1:$E$175,5,FALSE),0)","v":"04105-PAIHUANO"},"105307","80306005","2021-01-18T11:35:11",3,null,3]
[12,"5",2020,{"$f":"IFERROR(VLOOKUP([1]!Tabla_SERIEA_01_5[[#This Row],[IdEstablecimiento]],[2]Establecimientos!$A$1:$E$175,5,FALSE),0)","v":"04105-PAIHUANO"},"105307","80306011","2021-01-18T11:35:11",83,null,83]
[12,"5",2020,{"$f":"IFERROR(VLOOKUP([1]!Tabla_SERIEA_01_5[[#This Row],[IdEstablecimiento]],[2]Establecimientos!$A$1:$E$175,5,FALSE),0)","v":"04105-PAIHUANO"},"105307","80106014","2021-01-18T11:35:11",109,null,109,null,109]
[12,"5",2020,{"$f":"IFERROR(VLOOKUP([1]!Tabla_SERIEA_01_5[[#This Row],[IdEstablecimiento]],[2]Establecimientos!$A$1:$E$175,5,FALSE),0)","v":"04105-PAIHUANO"},"105307","80106022","2021-01-18T11:35:11",9,null,9,null,9]
[12,"5",2020,{"$f":"IFERROR(VLOOKUP([1]!Tabla_SERIEA_01_5[[#This Row],[IdEstablecimiento]],[2]Establecimientos!$A$1:$E$175,5,FALSE),0)","v":"04105-PAIHUANO"},"105307","80106023","2021-01-18T11:35:11",47,null,47,null,47,47]
[12,"5",2020,{"$f":"IFERROR(VLOOKUP([1]!Tabla_SERIEA_01_5[[#This Row],[IdEstablecimiento]],[2]Establecimientos!$A$1:$E$175,5,FALSE),0)","v":"105100-HOSPITAL LA SERENA"},"105307","80307011","2021-01-18T11:35:11",210,null,210]
[12,"5",2020,{"$f":"IFERROR(VLOOKUP([1]!Tabla_SERIEA_01_5[[#This Row],[IdEstablecimiento]],[2]Establecimientos!$A$1:$E$175,5,FALSE),0)","v":"105102-HOSPITAL OVALLE"},"105307","80307012","2021-01-18T11:35:11",6,null,6]
[12,"5",2020,{"$f":"IFERROR(VLOOKUP([1]!Tabla_SERIEA_01_5[[#This Row],[IdEstablecimiento]],[2]Establecimientos!$A$1:$E$175,5,FALSE),0)","v":"105102-HOSPITAL OVALLE"},"105307","80500011","2021-01-18T11:35:11",24,null,24,null,24]
[12,"5",2020,{"$f":"IFERROR(VLOOKUP([1]!Tabla_SERIEA_01_5[[#This Row],[IdEstablecimiento]],[2]Establecimientos!$A$1:$E$175,5,FALSE),0)","v":"105102-HOSPITAL OVALLE"},"105307","80306038","2021-01-18T11:35:11",43,null,43]
[12,"5",2020,{"$f":"IFERROR(VLOOKUP([1]!Tabla_SERIEA_01_5[[#This Row],[IdEstablecimiento]],[2]Establecimientos!$A$1:$E$175,5,FALSE),0)","v":"105102-HOSPITAL OVALLE"},"105307","80306051","2021-01-18T11:35:11",4,null,4]
[12,"5",2020,{"$f":"IFERROR(VLOOKUP([1]!Tabla_SERIEA_01_5[[#This Row],[IdEstablecimiento]],[2]Establecimientos!$A$1:$E$175,5,FALSE),0)","v":"105102-HOSPITAL OVALLE"},"105307","80305070","2021-01-18T11:35:11",26,null,26]
[12,"5",2020,{"$f":"IFERROR(VLOOKUP([1]!Tabla_SERIEA_01_5[[#This Row],[IdEstablecimiento]],[2]Establecimientos!$A$1:$E$175,5,FALSE),0)","v":"105102-HOSPITAL OVALLE"},"105307","80305019","2021-01-18T11:35:11",13,null,13]
[12,"5",2020,{"$f":"IFERROR(VLOOKUP([1]!Tabla_SERIEA_01_5[[#This Row],[IdEstablecimiento]],[2]Establecimientos!$A$1:$E$175,5,FALSE),0)","v":"04102-COQUIMBO"},"105307","18010100","2021-01-18T11:35:11",1340,0,1340]
[12,"5",2020,{"$f":"IFERROR(VLOOKUP([1]!Tabla_SERIEA_01_5[[#This Row],[IdEstablecimiento]],[2]Establecimientos!$A$1:$E$175,5,FALSE),0)","v":"04102-COQUIMBO"},"105307","18010200","2021-01-18T11:35:11",2153,0,2153]
[12,"5",2020,{"$f":"IFERROR(VLOOKUP([1]!Tabla_SERIEA_01_5[[#This Row],[IdEstablecimiento]],[2]Establecimientos!$A$1:$E$175,5,FALSE),0)","v":"04102-COQUIMBO"},"105307","18090100","2021-01-18T11:35:11",410,0,410]
[12,"5",2020,{"$f":"IFERROR(VLOOKUP([1]!Tabla_SERIEA_01_5[[#This Row],[IdEstablecimiento]],[2]Establecimientos!$A$1:$E$175,5,FALSE),0)","v":"04102-COQUIMBO"},"105307","18010500","2021-01-18T11:35:11",39,0,39]
[12,"5",2020,{"$f":"IFERROR(VLOOKUP([1]!Tabla_SERIEA_01_5[[#This Row],[IdEstablecimiento]],[2]Establecimientos!$A$1:$E$175,5,FALSE),0)","v":"04102-COQUIMBO"},"105307","18010601","2021-01-18T11:35:11",168,0,168]
[12,"5",2020,{"$f":"IFERROR(VLOOKUP([1]!Tabla_SERIEA_01_5[[#This Row],[IdEstablecimiento]],[2]Establecimientos!$A$1:$E$175,5,FALSE),0)","v":"04102-COQUIMBO"},"105307","18010800","2021-01-18T11:35:11",14,0,14]
[12,"5",2020,{"$f":"IFERROR(VLOOKUP([1]!Tabla_SERIEA_01_5[[#This Row],[IdEstablecimiento]],[2]Establecimientos!$A$1:$E$175,5,FALSE),0)","v":"04102-COQUIMBO"},"105307","18010900","2021-01-18T11:35:11",750,0,750]
[12,"5",2020,{"$f":"IFERROR(VLOOKUP([1]!Tabla_SERIEA_01_5[[#This Row],[IdEstablecimiento]],[2]Establecimientos!$A$1:$E$175,5,FALSE),0)","v":"04102-COQUIMBO"},"105307","18011001","2021-01-18T11:35:11",7,0,7]
[12,"5",2020,{"$f":"IFERROR(VLOOKUP([1]!Tabla_SERIEA_01_5[[#This Row],[IdEstablecimiento]],[2]Establecimientos!$A$1:$E$175,5,FALSE),0)","v":"04102-COQUIMBO"},"105307","18011002","2021-01-18T11:35:11",2,0,2]
[12,"5",2020,{"$f":"IFERROR(VLOOKUP([1]!Tabla_SERIEA_01_5[[#This Row],[IdEstablecimiento]],[2]Establecimientos!$A$1:$E$175,5,FALSE),0)","v":"04102-COQUIMBO"},"105307","18400600","2021-01-18T11:35:11",12,0,12]
[12,"5",2020,{"$f":"IFERROR(VLOOKUP([1]!Tabla_SERIEA_01_5[[#This Row],[IdEstablecimiento]],[2]Establecimientos!$A$1:$E$175,5,FALSE),0)","v":"04102-COQUIMBO"},"105307","18020400","2021-01-18T11:35:11",1,0,1]
[12,"5",2020,{"$f":"IFERROR(VLOOKUP([1]!Tabla_SERIEA_01_5[[#This Row],[IdEstablecimiento]],[2]Establecimientos!$A$1:$E$175,5,FALSE),0)","v":"04102-COQUIMBO"},"105307","18020500","2021-01-18T11:35:11",49,0,49]
[12,"5",2020,{"$f":"IFERROR(VLOOKUP([1]!Tabla_SERIEA_01_5[[#This Row],[IdEstablecimiento]],[2]Establecimientos!$A$1:$E$175,5,FALSE),0)","v":"04102-COQUIMBO"},"105307","18020700","2021-01-18T11:35:11",9,0,9]
[12,"5",2020,{"$f":"IFERROR(VLOOKUP([1]!Tabla_SERIEA_01_5[[#This Row],[IdEstablecimiento]],[2]Establecimientos!$A$1:$E$175,5,FALSE),0)","v":"04102-COQUIMBO"},"105307","18020900","2021-01-18T11:35:11",1,0,1]
[12,"5",2020,{"$f":"IFERROR(VLOOKUP([1]!Tabla_SERIEA_01_5[[#This Row],[IdEstablecimiento]],[2]Establecimientos!$A$1:$E$175,5,FALSE),0)","v":"04102-COQUIMBO"},"105307","18090000","2021-01-18T11:35:11",47,0,47]
[12,"5",2020,{"$f":"IFERROR(VLOOKUP([1]!Tabla_SERIEA_01_5[[#This Row],[IdEstablecimiento]],[2]Establecimientos!$A$1:$E$175,5,FALSE),0)","v":"105100-HOSPITAL LA SERENA"},"105307","18050100","2021-01-18T11:35:11",105,0,105]
[12,"5",2020,{"$f":"IFERROR(VLOOKUP([1]!Tabla_SERIEA_01_5[[#This Row],[IdEstablecimiento]],[2]Establecimientos!$A$1:$E$175,5,FALSE),0)","v":"105100-HOSPITAL LA SERENA"},"105307","18700100","2021-01-18T11:35:11",514,45,174,76]
[12,"5",2020,{"$f":"IFERROR(VLOOKUP([1]!Tabla_SERIEA_01_5[[#This Row],[IdEstablecimiento]],[2]Establecimientos!$A$1:$E$175,5,FALSE),0)","v":"04304-PUNITAQUI"},"105308","80309012","2021-01-18T11:35:37",0,null,null,94]
[12,"5",2020,{"$f":"IFERROR(VLOOKUP([1]!Tabla_SERIEA_01_5[[#This Row],[IdEstablecimiento]],[2]Establecimientos!$A$1:$E$175,5,FALSE),0)","v":"04304-PUNITAQUI"},"105308","80309013","2021-01-18T11:35:37",0,null,null,106]
[12,"5",2020,{"$f":"IFERROR(VLOOKUP([1]!Tabla_SERIEA_01_5[[#This Row],[IdEstablecimiento]],[2]Establecimientos!$A$1:$E$175,5,FALSE),0)","v":"04304-PUNITAQUI"},"105308","80309020","2021-01-18T11:35:37",0,null,null,100]
[12,"5",2020,{"$f":"IFERROR(VLOOKUP([1]!Tabla_SERIEA_01_5[[#This Row],[IdEstablecimiento]],[2]Establecimientos!$A$1:$E$175,5,FALSE),0)","v":"04301-OVALLE"},"105308","80309022","2021-01-18T11:35:37",0,null,null,130]
[12,"5",2020,{"$f":"IFERROR(VLOOKUP([1]!Tabla_SERIEA_01_5[[#This Row],[IdEstablecimiento]],[2]Establecimientos!$A$1:$E$175,5,FALSE),0)","v":"04301-OVALLE"},"105310","81602222","2021-01-18T11:38:55",2,null,2,null,2]
[12,"5",2020,{"$f":"IFERROR(VLOOKUP([1]!Tabla_SERIEA_01_5[[#This Row],[IdEstablecimiento]],[2]Establecimientos!$A$1:$E$175,5,FALSE),0)","v":"04301-OVALLE"},"105310","80106002","2021-01-18T11:38:55",39,null,39,null,39]
[12,"5",2020,{"$f":"IFERROR(VLOOKUP([1]!Tabla_SERIEA_01_5[[#This Row],[IdEstablecimiento]],[2]Establecimientos!$A$1:$E$175,5,FALSE),0)","v":"04301-OVALLE"},"105310","80106017","2021-01-18T11:38:55",4,null,4,null,4]
[12,"5",2020,{"$f":"IFERROR(VLOOKUP([1]!Tabla_SERIEA_01_5[[#This Row],[IdEstablecimiento]],[2]Establecimientos!$A$1:$E$175,5,FALSE),0)","v":"04301-OVALLE"},"105310","80106013","2021-01-18T11:38:55",6,null,6,null,6]
[12,"5",2020,{"$f":"IFERROR(VLOOKUP([1]!Tabla_SERIEA_01_5[[#This Row],[IdEstablecimiento]],[2]Establecimientos!$A$1:$E$175,5,FALSE),0)","v":"04301-OVALLE"},"105310","80106014","2021-01-18T11:38:55",72,null,72,null,72]
[12,"5",2020,{"$f":"IFERROR(VLOOKUP([1]!Tabla_SERIEA_01_5[[#This Row],[IdEstablecimiento]],[2]Establecimientos!$A$1:$E$175,5,FALSE),0)","v":"04301-OVALLE"},"105310","80106015","2021-01-18T11:38:55",44,null,44,null,44]
[12,"5",2020,{"$f":"IFERROR(VLOOKUP([1]!Tabla_SERIEA_01_5[[#This Row],[IdEstablecimiento]],[2]Establecimientos!$A$1:$E$175,5,FALSE),0)","v":"04301-OVALLE"},"105310","80106020","2021-01-18T11:38:55",2,null,2,null,2]
[12,"5",2020,{"$f":"IFERROR(VLOOKUP([1]!Tabla_SERIEA_01_5[[#This Row],[IdEstablecimiento]],[2]Establecimientos!$A$1:$E$175,5,FALSE),0)","v":"04301-OVALLE"},"105310","80106022","2021-01-18T11:38:55",2,null,2,null,2]
[12,"5",2020,{"$f":"IFERROR(VLOOKUP([1]!Tabla_SERIEA_01_5[[#This Row],[IdEstablecimiento]],[2]Establecimientos!$A$1:$E$175,5,FALSE),0)","v":"04301-OVALLE"},"105310","80307011","2021-01-18T11:38:55",85,0,85,0]
[12,"5",2020,{"$f":"IFERROR(VLOOKUP([1]!Tabla_SERIEA_01_5[[#This Row],[IdEstablecimiento]],[2]Establecimientos!$A$1:$E$175,5,FALSE),0)","v":"04301-OVALLE"},"105310","80500011","2021-01-18T11:38:55",37,null,37,null,37]
[12,"5",2020,{"$f":"IFERROR(VLOOKUP([1]!Tabla_SERIEA_01_5[[#This Row],[IdEstablecimiento]],[2]Establecimientos!$A$1:$E$175,5,FALSE),0)","v":"04301-OVALLE"},"105310","18020500","2021-01-18T11:38:55",35,0,35]
[12,"5",2020,{"$f":"IFERROR(VLOOKUP([1]!Tabla_SERIEA_01_5[[#This Row],[IdEstablecimiento]],[2]Establecimientos!$A$1:$E$175,5,FALSE),0)","v":"04301-OVALLE"},"105310","18030000","2021-01-18T11:38:55",2,0,2]
[12,"5",2020,{"$f":"IFERROR(VLOOKUP([1]!Tabla_SERIEA_01_5[[#This Row],[IdEstablecimiento]],[2]Establecimientos!$A$1:$E$175,5,FALSE),0)","v":"04301-OVALLE"},"105310","18050100","2021-01-18T11:38:55",39,0,39]
[12,"5",2020,{"$f":"IFERROR(VLOOKUP([1]!Tabla_SERIEA_01_5[[#This Row],[IdEstablecimiento]],[2]Establecimientos!$A$1:$E$175,5,FALSE),0)","v":"105102-HOSPITAL OVALLE"},"105310","18070300","2021-01-18T11:38:55",10,null,1,null,null,1,8]
[12,"5",2020,{"$f":"IFERROR(VLOOKUP([1]!Tabla_SERIEA_01_5[[#This Row],[IdEstablecimiento]],[2]Establecimientos!$A$1:$E$175,5,FALSE),0)","v":"105101-HOSPITAL COQUIMBO"},"105310","18700100","2021-01-18T11:38:55",182,21,142,19,0]
[12,"5",2020,{"$f":"IFERROR(VLOOKUP([1]!Tabla_SERIEA_01_5[[#This Row],[IdEstablecimiento]],[2]Establecimientos!$A$1:$E$175,5,FALSE),0)","v":"105101-HOSPITAL COQUIMBO"},"105310","18700140","2021-01-18T11:38:55",null,4]
[12,"5",2020,{"$f":"IFERROR(VLOOKUP([1]!Tabla_SERIEA_01_5[[#This Row],[IdEstablecimiento]],[2]Establecimientos!$A$1:$E$175,5,FALSE),0)","v":"105101-HOSPITAL COQUIMBO"},"105311","81701001","2021-01-18T11:39:14",70,null,70,null,70]
[12,"5",2020,{"$f":"IFERROR(VLOOKUP([1]!Tabla_SERIEA_01_5[[#This Row],[IdEstablecimiento]],[2]Establecimientos!$A$1:$E$175,5,FALSE),0)","v":"105101-HOSPITAL COQUIMBO"},"105311","81701009","2021-01-18T11:39:14",476,null,476,null,476]
[12,"5",2020,{"$f":"IFERROR(VLOOKUP([1]!Tabla_SERIEA_01_5[[#This Row],[IdEstablecimiento]],[2]Establecimientos!$A$1:$E$175,5,FALSE),0)","v":"105101-HOSPITAL COQUIMBO"},"105311","81901019","2021-01-18T11:39:14",1,null,1,null,1]
[12,"5",2020,{"$f":"IFERROR(VLOOKUP([1]!Tabla_SERIEA_01_5[[#This Row],[IdEstablecimiento]],[2]Establecimientos!$A$1:$E$175,5,FALSE),0)","v":"105101-HOSPITAL COQUIMBO"},"105311","81602221","2021-01-18T11:39:14",4,null,4,null,4]
[12,"5",2020,{"$f":"IFERROR(VLOOKUP([1]!Tabla_SERIEA_01_5[[#This Row],[IdEstablecimiento]],[2]Establecimientos!$A$1:$E$175,5,FALSE),0)","v":"105101-HOSPITAL COQUIMBO"},"105311","80106002","2021-01-18T11:39:14",98,null,98,null,98]
[12,"5",2020,{"$f":"IFERROR(VLOOKUP([1]!Tabla_SERIEA_01_5[[#This Row],[IdEstablecimiento]],[2]Establecimientos!$A$1:$E$175,5,FALSE),0)","v":"105101-HOSPITAL COQUIMBO"},"105311","80106017","2021-01-18T11:39:14",36,null,36,null,36]
[12,"5",2020,{"$f":"IFERROR(VLOOKUP([1]!Tabla_SERIEA_01_5[[#This Row],[IdEstablecimiento]],[2]Establecimientos!$A$1:$E$175,5,FALSE),0)","v":"04305-RIO HURTADO"},"105311","80106013","2021-01-18T11:39:14",2,null,2,null,2]
[12,"5",2020,{"$f":"IFERROR(VLOOKUP([1]!Tabla_SERIEA_01_5[[#This Row],[IdEstablecimiento]],[2]Establecimientos!$A$1:$E$175,5,FALSE),0)","v":"105100-HOSPITAL LA SERENA"},"105311","80106014","2021-01-18T11:39:14",457,null,457,null,457]
[12,"5",2020,{"$f":"IFERROR(VLOOKUP([1]!Tabla_SERIEA_01_5[[#This Row],[IdEstablecimiento]],[2]Establecimientos!$A$1:$E$175,5,FALSE),0)","v":"105100-HOSPITAL LA SERENA"},"105311","80106015","2021-01-18T11:39:14",49,null,49,null,49]
[12,"5",2020,{"$f":"IFERROR(VLOOKUP([1]!Tabla_SERIEA_01_5[[#This Row],[IdEstablecimiento]],[2]Establecimientos!$A$1:$E$175,5,FALSE),0)","v":"105100-HOSPITAL LA SERENA"},"105311","80106020","2021-01-18T11:39:14",4,null,4,null,4]
[12,"5",2020,{"$f":"IFERROR(VLOOKUP([1]!Tabla_SERIEA_01_5[[#This Row],[IdEstablecimiento]],[2]Establecimientos!$A$1:$E$175,5,FALSE),0)","v":"105100-HOSPITAL LA SERENA"},"105311","80106022","2021-01-18T11:39:14",1,null,1,null,1]
[12,"5",2020,{"$f":"IFERROR(VLOOKUP([1]!Tabla_SERIEA_01_5[[#This Row],[IdEstablecimiento]],[2]Establecimientos!$A$1:$E$175,5,FALSE),0)","v":"105100-HOSPITAL LA SERENA"},"105311","80106023","2021-01-18T11:39:14",29,null,29,null,29,29]
[12,"5",2020,{"$f":"IFERROR(VLOOKUP([1]!Tabla_SERIEA_01_5[[#This Row],[IdEstablecimiento]],[2]Establecimientos!$A$1:$E$175,5,FALSE),0)","v":"04301-OVALLE"},"105311","80307011","2021-01-18T11:39:14",63,null,63,0]
[12,"5",2020,{"$f":"IFERROR(VLOOKUP([1]!Tabla_SERIEA_01_5[[#This Row],[IdEstablecimiento]],[2]Establecimientos!$A$1:$E$175,5,FALSE),0)","v":"04305-RIO HURTADO"},"105311","80307012","2021-01-18T11:39:14",5,null,5,0]
[12,"5",2020,{"$f":"IFERROR(VLOOKUP([1]!Tabla_SERIEA_01_5[[#This Row],[IdEstablecimiento]],[2]Establecimientos!$A$1:$E$175,5,FALSE),0)","v":"04101-LA SERENA"},"105311","80500008","2021-01-18T11:39:14",3,null,3,null,3]
[12,"5",2020,{"$f":"IFERROR(VLOOKUP([1]!Tabla_SERIEA_01_5[[#This Row],[IdEstablecimiento]],[2]Establecimientos!$A$1:$E$175,5,FALSE),0)","v":"04101-LA SERENA"},"105311","80500009","2021-01-18T11:39:14",1,null,1,null,1]
[12,"5",2020,{"$f":"IFERROR(VLOOKUP([1]!Tabla_SERIEA_01_5[[#This Row],[IdEstablecimiento]],[2]Establecimientos!$A$1:$E$175,5,FALSE),0)","v":"04101-LA SERENA"},"105311","80500011","2021-01-18T11:39:14",75,null,75,null,75]
[12,"5",2020,{"$f":"IFERROR(VLOOKUP([1]!Tabla_SERIEA_01_5[[#This Row],[IdEstablecimiento]],[2]Establecimientos!$A$1:$E$175,5,FALSE),0)","v":"04101-LA SERENA"},"105311","18020500","2021-01-18T11:39:14",546,0,546]
[12,"5",2020,{"$f":"IFERROR(VLOOKUP([1]!Tabla_SERIEA_01_5[[#This Row],[IdEstablecimiento]],[2]Establecimientos!$A$1:$E$175,5,FALSE),0)","v":"04101-LA SERENA"},"105311","18020700","2021-01-18T11:39:14",1,0,1]
[12,"5",2020,{"$f":"IFERROR(VLOOKUP([1]!Tabla_SERIEA_01_5[[#This Row],[IdEstablecimiento]],[2]Establecimientos!$A$1:$E$175,5,FALSE),0)","v":"04101-LA SERENA"},"105311","18030000","2021-01-18T11:39:14",4,0,4]
[12,"5",2020,{"$f":"IFERROR(VLOOKUP([1]!Tabla_SERIEA_01_5[[#This Row],[IdEstablecimiento]],[2]Establecimientos!$A$1:$E$175,5,FALSE),0)","v":"04101-LA SERENA"},"105311","18040200","2021-01-18T11:39:14",4,null,4]
[12,"5",2020,{"$f":"IFERROR(VLOOKUP([1]!Tabla_SERIEA_01_5[[#This Row],[IdEstablecimiento]],[2]Establecimientos!$A$1:$E$175,5,FALSE),0)","v":"04101-LA SERENA"},"105311","18090000","2021-01-18T11:39:14",29,0,29]
[12,"5",2020,{"$f":"IFERROR(VLOOKUP([1]!Tabla_SERIEA_01_5[[#This Row],[IdEstablecimiento]],[2]Establecimientos!$A$1:$E$175,5,FALSE),0)","v":"04101-LA SERENA"},"105311","18050100","2021-01-18T11:39:14",98,0,98]
[12,"5",2020,{"$f":"IFERROR(VLOOKUP([1]!Tabla_SERIEA_01_5[[#This Row],[IdEstablecimiento]],[2]Establecimientos!$A$1:$E$175,5,FALSE),0)","v":"04101-LA SERENA"},"105311","18070300","2021-01-18T11:39:14",12,null,1,1,null,4,6]
[12,"5",2020,{"$f":"IFERROR(VLOOKUP([1]!Tabla_SERIEA_01_5[[#This Row],[IdEstablecimiento]],[2]Establecimientos!$A$1:$E$175,5,FALSE),0)","v":"04101-LA SERENA"},"105311","18400900","2021-01-18T11:39:14",3,1,2]
[12,"5",2020,{"$f":"IFERROR(VLOOKUP([1]!Tabla_SERIEA_01_5[[#This Row],[IdEstablecimiento]],[2]Establecimientos!$A$1:$E$175,5,FALSE),0)","v":"04101-LA SERENA"},"105311","18090200","2021-01-18T11:39:14",60,0]
[12,"5",2020,{"$f":"IFERROR(VLOOKUP([1]!Tabla_SERIEA_01_5[[#This Row],[IdEstablecimiento]],[2]Establecimientos!$A$1:$E$175,5,FALSE),0)","v":"04101-LA SERENA"},"105311","18700100","2021-01-18T11:39:14",287,7,254,26,0]
[12,"5",2020,{"$f":"IFERROR(VLOOKUP([1]!Tabla_SERIEA_01_5[[#This Row],[IdEstablecimiento]],[2]Establecimientos!$A$1:$E$175,5,FALSE),0)","v":"04101-LA SERENA"},"105312","81701001","2021-01-18T11:39:51",22,null,22,null,22]
[12,"5",2020,{"$f":"IFERROR(VLOOKUP([1]!Tabla_SERIEA_01_5[[#This Row],[IdEstablecimiento]],[2]Establecimientos!$A$1:$E$175,5,FALSE),0)","v":"04101-LA SERENA"},"105312","81701009","2021-01-18T11:39:51",31,null,31,null,31]
[12,"5",2020,{"$f":"IFERROR(VLOOKUP([1]!Tabla_SERIEA_01_5[[#This Row],[IdEstablecimiento]],[2]Establecimientos!$A$1:$E$175,5,FALSE),0)","v":"04101-LA SERENA"},"105312","81602222","2021-01-18T11:39:51",3,null,3,null,3]
[12,"5",2020,{"$f":"IFERROR(VLOOKUP([1]!Tabla_SERIEA_01_5[[#This Row],[IdEstablecimiento]],[2]Establecimientos!$A$1:$E$175,5,FALSE),0)","v":"04101-LA SERENA"},"105312","80106002","2021-01-18T11:39:51",67,null,67,null,67]
[12,"5",2020,{"$f":"IFERROR(VLOOKUP([1]!Tabla_SERIEA_01_5[[#This Row],[IdEstablecimiento]],[2]Establecimientos!$A$1:$E$175,5,FALSE),0)","v":"04101-LA SERENA"},"105312","80106017","2021-01-18T11:39:51",30,null,30,null,30]
[12,"5",2020,{"$f":"IFERROR(VLOOKUP([1]!Tabla_SERIEA_01_5[[#This Row],[IdEstablecimiento]],[2]Establecimientos!$A$1:$E$175,5,FALSE),0)","v":"04101-LA SERENA"},"105312","80106013","2021-01-18T11:39:51",8,null,8,null,8]
[12,"5",2020,{"$f":"IFERROR(VLOOKUP([1]!Tabla_SERIEA_01_5[[#This Row],[IdEstablecimiento]],[2]Establecimientos!$A$1:$E$175,5,FALSE),0)","v":"04101-LA SERENA"},"105312","80106014","2021-01-18T11:39:51",167,null,167,null,167]
[12,"5",2020,{"$f":"IFERROR(VLOOKUP([1]!Tabla_SERIEA_01_5[[#This Row],[IdEstablecimiento]],[2]Establecimientos!$A$1:$E$175,5,FALSE),0)","v":"04101-LA SERENA"},"105312","80106015","2021-01-18T11:39:51",81,null,81,null,81]
[12,"5",2020,{"$f":"IFERROR(VLOOKUP([1]!Tabla_SERIEA_01_5[[#This Row],[IdEstablecimiento]],[2]Establecimientos!$A$1:$E$175,5,FALSE),0)","v":"04101-LA SERENA"},"105312","80106020","2021-01-18T11:39:51",6,null,6,null,6]
[12,"5",2020,{"$f":"IFERROR(VLOOKUP([1]!Tabla_SERIEA_01_5[[#This Row],[IdEstablecimiento]],[2]Establecimientos!$A$1:$E$175,5,FALSE),0)","v":"04101-LA SERENA"},"105312","80106022","2021-01-18T11:39:51",5,null,5,null,5]
[12,"5",2020,{"$f":"IFERROR(VLOOKUP([1]!Tabla_SERIEA_01_5[[#This Row],[IdEstablecimiento]],[2]Establecimientos!$A$1:$E$175,5,FALSE),0)","v":"04101-LA SERENA"},"105312","80307011","2021-01-18T11:39:51",25,null,25]
[12,"5",2020,{"$f":"IFERROR(VLOOKUP([1]!Tabla_SERIEA_01_5[[#This Row],[IdEstablecimiento]],[2]Establecimientos!$A$1:$E$175,5,FALSE),0)","v":"04101-LA SERENA"},"105312","80500011","2021-01-18T11:39:51",43,null,43,null,43]
[12,"5",2020,{"$f":"IFERROR(VLOOKUP([1]!Tabla_SERIEA_01_5[[#This Row],[IdEstablecimiento]],[2]Establecimientos!$A$1:$E$175,5,FALSE),0)","v":"04101-LA SERENA"},"105312","80500014","2021-01-18T11:39:51",2,null,2,null,null,2]
[12,"5",2020,{"$f":"IFERROR(VLOOKUP([1]!Tabla_SERIEA_01_5[[#This Row],[IdEstablecimiento]],[2]Establecimientos!$A$1:$E$175,5,FALSE),0)","v":"04101-LA SERENA"},"105309","80301015","2021-01-18T11:36:57",0,null,null,5]
[12,"5",2020,{"$f":"IFERROR(VLOOKUP([1]!Tabla_SERIEA_01_5[[#This Row],[IdEstablecimiento]],[2]Establecimientos!$A$1:$E$175,5,FALSE),0)","v":"04101-LA SERENA"},"105309","80301034","2021-01-18T11:36:57",0,null,null,5]
[12,"5",2020,{"$f":"IFERROR(VLOOKUP([1]!Tabla_SERIEA_01_5[[#This Row],[IdEstablecimiento]],[2]Establecimientos!$A$1:$E$175,5,FALSE),0)","v":"04101-LA SERENA"},"105309","80301036","2021-01-18T11:36:57",0,null,null,15]
[12,"5",2020,{"$f":"IFERROR(VLOOKUP([1]!Tabla_SERIEA_01_5[[#This Row],[IdEstablecimiento]],[2]Establecimientos!$A$1:$E$175,5,FALSE),0)","v":"04101-LA SERENA"},"105309","80301038","2021-01-18T11:36:57",0,null,null,5]
[12,"5",2020,{"$f":"IFERROR(VLOOKUP([1]!Tabla_SERIEA_01_5[[#This Row],[IdEstablecimiento]],[2]Establecimientos!$A$1:$E$175,5,FALSE),0)","v":"04101-LA SERENA"},"105309","80301041","2021-01-18T11:36:57",0,null,null,56]
[12,"5",2020,{"$f":"IFERROR(VLOOKUP([1]!Tabla_SERIEA_01_5[[#This Row],[IdEstablecimiento]],[2]Establecimientos!$A$1:$E$175,5,FALSE),0)","v":"04101-LA SERENA"},"105309","80301045","2021-01-18T11:36:57",0,null,null,119]
[12,"5",2020,{"$f":"IFERROR(VLOOKUP([1]!Tabla_SERIEA_01_5[[#This Row],[IdEstablecimiento]],[2]Establecimientos!$A$1:$E$175,5,FALSE),0)","v":"04101-LA SERENA"},"105309","80306061","2021-01-18T11:36:57",0,null,null,5]
[12,"5",2020,{"$f":"IFERROR(VLOOKUP([1]!Tabla_SERIEA_01_5[[#This Row],[IdEstablecimiento]],[2]Establecimientos!$A$1:$E$175,5,FALSE),0)","v":"04101-LA SERENA"},"105309","80306169","2021-01-18T11:36:57",0,null,null,4]
[12,"5",2020,{"$f":"IFERROR(VLOOKUP([1]!Tabla_SERIEA_01_5[[#This Row],[IdEstablecimiento]],[2]Establecimientos!$A$1:$E$175,5,FALSE),0)","v":"04101-LA SERENA"},"105309","80301059","2021-01-18T11:36:57",0,null,null,52]
[12,"5",2020,{"$f":"IFERROR(VLOOKUP([1]!Tabla_SERIEA_01_5[[#This Row],[IdEstablecimiento]],[2]Establecimientos!$A$1:$E$175,5,FALSE),0)","v":"04101-LA SERENA"},"105309","80301086","2021-01-18T11:36:57",0,null,null,12]
[12,"5",2020,{"$f":"IFERROR(VLOOKUP([1]!Tabla_SERIEA_01_5[[#This Row],[IdEstablecimiento]],[2]Establecimientos!$A$1:$E$175,5,FALSE),0)","v":"04101-LA SERENA"},"105309","80302005","2021-01-18T11:36:57",0,null,null,86]
[12,"5",2020,{"$f":"IFERROR(VLOOKUP([1]!Tabla_SERIEA_01_5[[#This Row],[IdEstablecimiento]],[2]Establecimientos!$A$1:$E$175,5,FALSE),0)","v":"04101-LA SERENA"},"105309","80302008","2021-01-18T11:36:57",0,null,null,1]
[12,"5",2020,{"$f":"IFERROR(VLOOKUP([1]!Tabla_SERIEA_01_5[[#This Row],[IdEstablecimiento]],[2]Establecimientos!$A$1:$E$175,5,FALSE),0)","v":"04101-LA SERENA"},"105309","81701001","2021-01-18T11:36:57",25,null,25,null,25]
[12,"5",2020,{"$f":"IFERROR(VLOOKUP([1]!Tabla_SERIEA_01_5[[#This Row],[IdEstablecimiento]],[2]Establecimientos!$A$1:$E$175,5,FALSE),0)","v":"04101-LA SERENA"},"105309","81707001","2021-01-18T11:36:57",1,null,1,null,1]
[12,"5",2020,{"$f":"IFERROR(VLOOKUP([1]!Tabla_SERIEA_01_5[[#This Row],[IdEstablecimiento]],[2]Establecimientos!$A$1:$E$175,5,FALSE),0)","v":"04101-LA SERENA"},"105309","81801023","2021-01-18T11:36:57",1,null,1,null,1]
[12,"5",2020,{"$f":"IFERROR(VLOOKUP([1]!Tabla_SERIEA_01_5[[#This Row],[IdEstablecimiento]],[2]Establecimientos!$A$1:$E$175,5,FALSE),0)","v":"04101-LA SERENA"},"105309","81901019","2021-01-18T11:36:57",1,null,1,null,1]
[12,"5",2020,{"$f":"IFERROR(VLOOKUP([1]!Tabla_SERIEA_01_5[[#This Row],[IdEstablecimiento]],[2]Establecimientos!$A$1:$E$175,5,FALSE),0)","v":"04101-LA SERENA"},"105309","81901022","2021-01-18T11:36:57",1,null,1,null,1]
[12,"5",2020,{"$f":"IFERROR(VLOOKUP([1]!Tabla_SERIEA_01_5[[#This Row],[IdEstablecimiento]],[2]Establecimientos!$A$1:$E$175,5,FALSE),0)","v":"04101-LA SERENA"},"105309","82001015","2021-01-18T11:36:57",1,0,1,null,1]
[12,"5",2020,{"$f":"IFERROR(VLOOKUP([1]!Tabla_SERIEA_01_5[[#This Row],[IdEstablecimiento]],[2]Establecimientos!$A$1:$E$175,5,FALSE),0)","v":"04101-LA SERENA"},"105309","80106002","2021-01-18T11:36:57",75,null,75,null,75]
[12,"5",2020,{"$f":"IFERROR(VLOOKUP([1]!Tabla_SERIEA_01_5[[#This Row],[IdEstablecimiento]],[2]Establecimientos!$A$1:$E$175,5,FALSE),0)","v":"04101-LA SERENA"},"105309","80106005","2021-01-18T11:36:57",56,null,56,null,56]
[12,"5",2020,{"$f":"IFERROR(VLOOKUP([1]!Tabla_SERIEA_01_5[[#This Row],[IdEstablecimiento]],[2]Establecimientos!$A$1:$E$175,5,FALSE),0)","v":"04101-LA SERENA"},"105309","80106006","2021-01-18T11:36:57",5,null,5,null,5]
[12,"5",2020,{"$f":"IFERROR(VLOOKUP([1]!Tabla_SERIEA_01_5[[#This Row],[IdEstablecimiento]],[2]Establecimientos!$A$1:$E$175,5,FALSE),0)","v":"04101-LA SERENA"},"105309","80106017","2021-01-18T11:36:57",90,null,90,null,90]
[12,"5",2020,{"$f":"IFERROR(VLOOKUP([1]!Tabla_SERIEA_01_5[[#This Row],[IdEstablecimiento]],[2]Establecimientos!$A$1:$E$175,5,FALSE),0)","v":"04101-LA SERENA"},"105309","80302013","2021-01-18T11:36:57",0,null,null,3]
[12,"5",2020,{"$f":"IFERROR(VLOOKUP([1]!Tabla_SERIEA_01_5[[#This Row],[IdEstablecimiento]],[2]Establecimientos!$A$1:$E$175,5,FALSE),0)","v":"04101-LA SERENA"},"105309","80302015","2021-01-18T11:36:57",0,null,null,5]
[12,"5",2020,{"$f":"IFERROR(VLOOKUP([1]!Tabla_SERIEA_01_5[[#This Row],[IdEstablecimiento]],[2]Establecimientos!$A$1:$E$175,5,FALSE),0)","v":"04101-LA SERENA"},"105309","80302023","2021-01-18T11:36:57",0,null,null,137]
[12,"5",2020,{"$f":"IFERROR(VLOOKUP([1]!Tabla_SERIEA_01_5[[#This Row],[IdEstablecimiento]],[2]Establecimientos!$A$1:$E$175,5,FALSE),0)","v":"04101-LA SERENA"},"105309","80302025","2021-01-18T11:36:57",0,null,null,2]
[12,"5",2020,{"$f":"IFERROR(VLOOKUP([1]!Tabla_SERIEA_01_5[[#This Row],[IdEstablecimiento]],[2]Establecimientos!$A$1:$E$175,5,FALSE),0)","v":"04101-LA SERENA"},"105309","80302026","2021-01-18T11:36:57",0,null,null,1]
[12,"5",2020,{"$f":"IFERROR(VLOOKUP([1]!Tabla_SERIEA_01_5[[#This Row],[IdEstablecimiento]],[2]Establecimientos!$A$1:$E$175,5,FALSE),0)","v":"04101-LA SERENA"},"105309","80302030","2021-01-18T11:36:57",0,null,null,5]
[12,"5",2020,{"$f":"IFERROR(VLOOKUP([1]!Tabla_SERIEA_01_5[[#This Row],[IdEstablecimiento]],[2]Establecimientos!$A$1:$E$175,5,FALSE),0)","v":"04101-LA SERENA"},"105309","80302032","2021-01-18T11:36:57",0,null,null,63]
[12,"5",2020,{"$f":"IFERROR(VLOOKUP([1]!Tabla_SERIEA_01_5[[#This Row],[IdEstablecimiento]],[2]Establecimientos!$A$1:$E$175,5,FALSE),0)","v":"04101-LA SERENA"},"105309","80302034","2021-01-18T11:36:57",0,null,null,129]
[12,"5",2020,{"$f":"IFERROR(VLOOKUP([1]!Tabla_SERIEA_01_5[[#This Row],[IdEstablecimiento]],[2]Establecimientos!$A$1:$E$175,5,FALSE),0)","v":"04101-LA SERENA"},"105309","80302042","2021-01-18T11:36:57",0,null,null,4]
[12,"5",2020,{"$f":"IFERROR(VLOOKUP([1]!Tabla_SERIEA_01_5[[#This Row],[IdEstablecimiento]],[2]Establecimientos!$A$1:$E$175,5,FALSE),0)","v":"04101-LA SERENA"},"105309","80302047","2021-01-18T11:36:57",0,null,null,139]
[12,"5",2020,{"$f":"IFERROR(VLOOKUP([1]!Tabla_SERIEA_01_5[[#This Row],[IdEstablecimiento]],[2]Establecimientos!$A$1:$E$175,5,FALSE),0)","v":"04101-LA SERENA"},"105309","80302048","2021-01-18T11:36:57",0,null,null,4]
[12,"5",2020,{"$f":"IFERROR(VLOOKUP([1]!Tabla_SERIEA_01_5[[#This Row],[IdEstablecimiento]],[2]Establecimientos!$A$1:$E$175,5,FALSE),0)","v":"04101-LA SERENA"},"105309","80302057","2021-01-18T11:36:57",0,null,null,90]
[12,"5",2020,{"$f":"IFERROR(VLOOKUP([1]!Tabla_SERIEA_01_5[[#This Row],[IdEstablecimiento]],[2]Establecimientos!$A$1:$E$175,5,FALSE),0)","v":"04101-LA SERENA"},"105309","80302060","2021-01-18T11:36:57",0,null,null,9]
[12,"5",2020,{"$f":"IFERROR(VLOOKUP([1]!Tabla_SERIEA_01_5[[#This Row],[IdEstablecimiento]],[2]Establecimientos!$A$1:$E$175,5,FALSE),0)","v":"04101-LA SERENA"},"105309","80302076","2021-01-18T11:36:57",0,null,null,27]
[12,"5",2020,{"$f":"IFERROR(VLOOKUP([1]!Tabla_SERIEA_01_5[[#This Row],[IdEstablecimiento]],[2]Establecimientos!$A$1:$E$175,5,FALSE),0)","v":"04101-LA SERENA"},"105309","80302063","2021-01-18T11:36:57",0,null,null,52]
[12,"5",2020,{"$f":"IFERROR(VLOOKUP([1]!Tabla_SERIEA_01_5[[#This Row],[IdEstablecimiento]],[2]Establecimientos!$A$1:$E$175,5,FALSE),0)","v":"04101-LA SERENA"},"105309","80303024","2021-01-18T11:36:57",0,null,null,79]
[12,"5",2020,{"$f":"IFERROR(VLOOKUP([1]!Tabla_SERIEA_01_5[[#This Row],[IdEstablecimiento]],[2]Establecimientos!$A$1:$E$175,5,FALSE),0)","v":"04101-LA SERENA"},"105309","80303026","2021-01-18T11:36:57",0,null,null,35]
[12,"5",2020,{"$f":"IFERROR(VLOOKUP([1]!Tabla_SERIEA_01_5[[#This Row],[IdEstablecimiento]],[2]Establecimientos!$A$1:$E$175,5,FALSE),0)","v":"04101-LA SERENA"},"105309","80303027","2021-01-18T11:36:57",0,null,null,1]
[12,"5",2020,{"$f":"IFERROR(VLOOKUP([1]!Tabla_SERIEA_01_5[[#This Row],[IdEstablecimiento]],[2]Establecimientos!$A$1:$E$175,5,FALSE),0)","v":"04101-LA SERENA"},"105309","80303028","2021-01-18T11:36:57",0,null,null,1]
[12,"5",2020,{"$f":"IFERROR(VLOOKUP([1]!Tabla_SERIEA_01_5[[#This Row],[IdEstablecimiento]],[2]Establecimientos!$A$1:$E$175,5,FALSE),0)","v":"04101-LA SERENA"},"105309","80306007","2021-01-18T11:36:57",0,null,null,1]
[12,"5",2020,{"$f":"IFERROR(VLOOKUP([1]!Tabla_SERIEA_01_5[[#This Row],[IdEstablecimiento]],[2]Establecimientos!$A$1:$E$175,5,FALSE),0)","v":"04101-LA SERENA"},"105309","80306008","2021-01-18T11:36:57",0,null,null,2]
[12,"5",2020,{"$f":"IFERROR(VLOOKUP([1]!Tabla_SERIEA_01_5[[#This Row],[IdEstablecimiento]],[2]Establecimientos!$A$1:$E$175,5,FALSE),0)","v":"04101-LA SERENA"},"105309","80306011","2021-01-18T11:36:57",0,null,null,29]
[12,"5",2020,{"$f":"IFERROR(VLOOKUP([1]!Tabla_SERIEA_01_5[[#This Row],[IdEstablecimiento]],[2]Establecimientos!$A$1:$E$175,5,FALSE),0)","v":"04101-LA SERENA"},"105309","80106007","2021-01-18T11:36:57",2,null,2,null,2]
[12,"5",2020,{"$f":"IFERROR(VLOOKUP([1]!Tabla_SERIEA_01_5[[#This Row],[IdEstablecimiento]],[2]Establecimientos!$A$1:$E$175,5,FALSE),0)","v":"04101-LA SERENA"},"105309","80106013","2021-01-18T11:36:57",3,null,3,null,3]
[12,"5",2020,{"$f":"IFERROR(VLOOKUP([1]!Tabla_SERIEA_01_5[[#This Row],[IdEstablecimiento]],[2]Establecimientos!$A$1:$E$175,5,FALSE),0)","v":"04101-LA SERENA"},"105309","80106014","2021-01-18T11:36:57",207,null,207,null,207]
[12,"5",2020,{"$f":"IFERROR(VLOOKUP([1]!Tabla_SERIEA_01_5[[#This Row],[IdEstablecimiento]],[2]Establecimientos!$A$1:$E$175,5,FALSE),0)","v":"04101-LA SERENA"},"105309","80106015","2021-01-18T11:36:57",37,null,37,null,37]
[12,"5",2020,{"$f":"IFERROR(VLOOKUP([1]!Tabla_SERIEA_01_5[[#This Row],[IdEstablecimiento]],[2]Establecimientos!$A$1:$E$175,5,FALSE),0)","v":"04101-LA SERENA"},"105309","80106020","2021-01-18T11:36:57",4,null,4,null,4]
[12,"5",2020,{"$f":"IFERROR(VLOOKUP([1]!Tabla_SERIEA_01_5[[#This Row],[IdEstablecimiento]],[2]Establecimientos!$A$1:$E$175,5,FALSE),0)","v":"04101-LA SERENA"},"105309","80106022","2021-01-18T11:36:57",10,null,10,null,10]
[12,"5",2020,{"$f":"IFERROR(VLOOKUP([1]!Tabla_SERIEA_01_5[[#This Row],[IdEstablecimiento]],[2]Establecimientos!$A$1:$E$175,5,FALSE),0)","v":"04101-LA SERENA"},"105309","80307011","2021-01-18T11:36:57",231,null,231,231]
[12,"5",2020,{"$f":"IFERROR(VLOOKUP([1]!Tabla_SERIEA_01_5[[#This Row],[IdEstablecimiento]],[2]Establecimientos!$A$1:$E$175,5,FALSE),0)","v":"04101-LA SERENA"},"105309","80307012","2021-01-18T11:36:57",1,null,1,1]
[12,"5",2020,{"$f":"IFERROR(VLOOKUP([1]!Tabla_SERIEA_01_5[[#This Row],[IdEstablecimiento]],[2]Establecimientos!$A$1:$E$175,5,FALSE),0)","v":"04101-LA SERENA"},"105309","80500008","2021-01-18T11:36:57",8,null,8,null,8]
[12,"5",2020,{"$f":"IFERROR(VLOOKUP([1]!Tabla_SERIEA_01_5[[#This Row],[IdEstablecimiento]],[2]Establecimientos!$A$1:$E$175,5,FALSE),0)","v":"04101-LA SERENA"},"105309","80500009","2021-01-18T11:36:57",11,null,11,null,11]
[12,"5",2020,{"$f":"IFERROR(VLOOKUP([1]!Tabla_SERIEA_01_5[[#This Row],[IdEstablecimiento]],[2]Establecimientos!$A$1:$E$175,5,FALSE),0)","v":"04101-LA SERENA"},"105309","80500011","2021-01-18T11:36:57",21,null,21,null,21]
[12,"5",2020,{"$f":"IFERROR(VLOOKUP([1]!Tabla_SERIEA_01_5[[#This Row],[IdEstablecimiento]],[2]Establecimientos!$A$1:$E$175,5,FALSE),0)","v":"04101-LA SERENA"},"105309","80500014","2021-01-18T11:36:57",0,{"$nulls":4},3]
[12,"5",2020,{"$f":"IFERROR(VLOOKUP([1]!Tabla_SERIEA_01_5[[#This Row],[IdEstablecimiento]],[2]Establecimientos!$A$1:$E$175,5,FALSE),0)","v":"04101-LA SERENA"},"105309","80306038","2021-01-18T11:36:57",0,null,null,6]
[12,"5",2020,{"$f":"IFERROR(VLOOKUP([1]!Tabla_SERIEA_01_5[[#This Row],[IdEstablecimiento]],[2]Establecimientos!$A$1:$E$175,5,FALSE),0)","v":"04101-LA SERENA"},"105309","80305070","2021-01-18T11:36:57",0,null,null,26]
[12,"5",2020,{"$f":"IFERROR(VLOOKUP([1]!Tabla_SERIEA_01_5[[#This Row],[IdEstablecimiento]],[2]Establecimientos!$A$1:$E$175,5,FALSE),0)","v":"04101-LA SERENA"},"105309","80305170","2021-01-18T11:36:57",0,null,null,1]
[12,"5",2020,{"$f":"IFERROR(VLOOKUP([1]!Tabla_SERIEA_01_5[[#This Row],[IdEstablecimiento]],[2]Establecimientos!$A$1:$E$175,5,FALSE),0)","v":"04101-LA SERENA"},"105309","80305019","2021-01-18T11:36:57",0,null,null,3]
[12,"5",2020,{"$f":"IFERROR(VLOOKUP([1]!Tabla_SERIEA_01_5[[#This Row],[IdEstablecimiento]],[2]Establecimientos!$A$1:$E$175,5,FALSE),0)","v":"04101-LA SERENA"},"105309","80305030","2021-01-18T11:36:57",0,null,null,7]
[12,"5",2020,{"$f":"IFERROR(VLOOKUP([1]!Tabla_SERIEA_01_5[[#This Row],[IdEstablecimiento]],[2]Establecimientos!$A$1:$E$175,5,FALSE),0)","v":"04101-LA SERENA"},"105309","18020300","2021-01-18T11:36:57",1,0,1]
[12,"5",2020,{"$f":"IFERROR(VLOOKUP([1]!Tabla_SERIEA_01_5[[#This Row],[IdEstablecimiento]],[2]Establecimientos!$A$1:$E$175,5,FALSE),0)","v":"04101-LA SERENA"},"105309","18020500","2021-01-18T11:36:57",25,0,25]
[12,"5",2020,{"$f":"IFERROR(VLOOKUP([1]!Tabla_SERIEA_01_5[[#This Row],[IdEstablecimiento]],[2]Establecimientos!$A$1:$E$175,5,FALSE),0)","v":"04101-LA SERENA"},"105309","18020600","2021-01-18T11:36:57",1,0,1]
[12,"5",2020,{"$f":"IFERROR(VLOOKUP([1]!Tabla_SERIEA_01_5[[#This Row],[IdEstablecimiento]],[2]Establecimientos!$A$1:$E$175,5,FALSE),0)","v":"04101-LA SERENA"},"105309","18020700","2021-01-18T11:36:57",2,0,2]
[12,"5",2020,{"$f":"IFERROR(VLOOKUP([1]!Tabla_SERIEA_01_5[[#This Row],[IdEstablecimiento]],[2]Establecimientos!$A$1:$E$175,5,FALSE),0)","v":"04101-LA SERENA"},"105309","18020900","2021-01-18T11:36:57",1,0,1]
[12,"5",2020,{"$f":"IFERROR(VLOOKUP([1]!Tabla_SERIEA_01_5[[#This Row],[IdEstablecimiento]],[2]Establecimientos!$A$1:$E$175,5,FALSE),0)","v":"04101-LA SERENA"},"105309","18050100","2021-01-18T11:36:57",75,0,75]
[12,"5",2020,{"$f":"IFERROR(VLOOKUP([1]!Tabla_SERIEA_01_5[[#This Row],[IdEstablecimiento]],[2]Establecimientos!$A$1:$E$175,5,FALSE),0)","v":"04101-LA SERENA"},"105309","18050200","2021-01-18T11:36:57",56,0,56]
[12,"5",2020,{"$f":"IFERROR(VLOOKUP([1]!Tabla_SERIEA_01_5[[#This Row],[IdEstablecimiento]],[2]Establecimientos!$A$1:$E$175,5,FALSE),0)","v":"04101-LA SERENA"},"105309","18050300","2021-01-18T11:36:57",5,0,5]
[12,"5",2020,{"$f":"IFERROR(VLOOKUP([1]!Tabla_SERIEA_01_5[[#This Row],[IdEstablecimiento]],[2]Establecimientos!$A$1:$E$175,5,FALSE),0)","v":"04101-LA SERENA"},"105309","18400700","2021-01-18T11:36:57",1393]
[12,"5",2020,{"$f":"IFERROR(VLOOKUP([1]!Tabla_SERIEA_01_5[[#This Row],[IdEstablecimiento]],[2]Establecimientos!$A$1:$E$175,5,FALSE),0)","v":"04101-LA SERENA"},"105309","18400900","2021-01-18T11:36:57",11,2,9]
[12,"5",2020,{"$f":"IFERROR(VLOOKUP([1]!Tabla_SERIEA_01_5[[#This Row],[IdEstablecimiento]],[2]Establecimientos!$A$1:$E$175,5,FALSE),0)","v":"04101-LA SERENA"},"105310","81701001","2021-01-18T11:38:55",35,null,35,null,35]
[12,"5",2020,{"$f":"IFERROR(VLOOKUP([1]!Tabla_SERIEA_01_5[[#This Row],[IdEstablecimiento]],[2]Establecimientos!$A$1:$E$175,5,FALSE),0)","v":"04101-LA SERENA"},"105312","18020500","2021-01-18T11:39:51",53,0,53]
[12,"5",2020,{"$f":"IFERROR(VLOOKUP([1]!Tabla_SERIEA_01_5[[#This Row],[IdEstablecimiento]],[2]Establecimientos!$A$1:$E$175,5,FALSE),0)","v":"04101-LA SERENA"},"105312","18030000","2021-01-18T11:39:51",3,0,3]
[12,"5",2020,{"$f":"IFERROR(VLOOKUP([1]!Tabla_SERIEA_01_5[[#This Row],[IdEstablecimiento]],[2]Establecimientos!$A$1:$E$175,5,FALSE),0)","v":"04101-LA SERENA"},"105312","18040200","2021-01-18T11:39:51",3,1,2]
[12,"5",2020,{"$f":"IFERROR(VLOOKUP([1]!Tabla_SERIEA_01_5[[#This Row],[IdEstablecimiento]],[2]Establecimientos!$A$1:$E$175,5,FALSE),0)","v":"04101-LA SERENA"},"105312","18050100","2021-01-18T11:39:51",67,0,67]
[12,"5",2020,{"$f":"IFERROR(VLOOKUP([1]!Tabla_SERIEA_01_5[[#This Row],[IdEstablecimiento]],[2]Establecimientos!$A$1:$E$175,5,FALSE),0)","v":"04101-LA SERENA"},"105312","18090200","2021-01-18T11:39:51",25]
[12,"5",2020,{"$f":"IFERROR(VLOOKUP([1]!Tabla_SERIEA_01_5[[#This Row],[IdEstablecimiento]],[2]Establecimientos!$A$1:$E$175,5,FALSE),0)","v":"04101-LA SERENA"},"105312","18700100","2021-01-18T11:39:51",172,4,136,32]
[12,"5",2020,{"$f":"IFERROR(VLOOKUP([1]!Tabla_SERIEA_01_5[[#This Row],[IdEstablecimiento]],[2]Establecimientos!$A$1:$E$175,5,FALSE),0)","v":"04101-LA SERENA"},"105313","80401051","2021-01-18T11:40:14",0,null,null,3]
[12,"5",2020,{"$f":"IFERROR(VLOOKUP([1]!Tabla_SERIEA_01_5[[#This Row],[IdEstablecimiento]],[2]Establecimientos!$A$1:$E$175,5,FALSE),0)","v":"04101-LA SERENA"},"105313","80401060","2021-01-18T11:40:14",0,null,null,1]
[12,"5",2020,{"$f":"IFERROR(VLOOKUP([1]!Tabla_SERIEA_01_5[[#This Row],[IdEstablecimiento]],[2]Establecimientos!$A$1:$E$175,5,FALSE),0)","v":"04101-LA SERENA"},"105313","80309004","2021-01-18T11:40:14",0,null,null,17]
[12,"5",2020,{"$f":"IFERROR(VLOOKUP([1]!Tabla_SERIEA_01_5[[#This Row],[IdEstablecimiento]],[2]Establecimientos!$A$1:$E$175,5,FALSE),0)","v":"04101-LA SERENA"},"105313","80309010","2021-01-18T11:40:14",0,null,null,209]
[12,"5",2020,{"$f":"IFERROR(VLOOKUP([1]!Tabla_SERIEA_01_5[[#This Row],[IdEstablecimiento]],[2]Establecimientos!$A$1:$E$175,5,FALSE),0)","v":"04101-LA SERENA"},"105313","80309022","2021-01-18T11:40:14",0,null,null,176]
[12,"5",2020,{"$f":"IFERROR(VLOOKUP([1]!Tabla_SERIEA_01_5[[#This Row],[IdEstablecimiento]],[2]Establecimientos!$A$1:$E$175,5,FALSE),0)","v":"04101-LA SERENA"},"105313","80301014","2021-01-18T11:40:14",0,null,null,2]
[12,"5",2020,{"$f":"IFERROR(VLOOKUP([1]!Tabla_SERIEA_01_5[[#This Row],[IdEstablecimiento]],[2]Establecimientos!$A$1:$E$175,5,FALSE),0)","v":"04101-LA SERENA"},"105313","80301034","2021-01-18T11:40:14",0,null,null,2]
[12,"5",2020,{"$f":"IFERROR(VLOOKUP([1]!Tabla_SERIEA_01_5[[#This Row],[IdEstablecimiento]],[2]Establecimientos!$A$1:$E$175,5,FALSE),0)","v":"04101-LA SERENA"},"105313","80301036","2021-01-18T11:40:14",0,null,null,58]
[12,"5",2020,{"$f":"IFERROR(VLOOKUP([1]!Tabla_SERIEA_01_5[[#This Row],[IdEstablecimiento]],[2]Establecimientos!$A$1:$E$175,5,FALSE),0)","v":"04101-LA SERENA"},"105313","80301038","2021-01-18T11:40:14",0,null,null,58]
[12,"5",2020,{"$f":"IFERROR(VLOOKUP([1]!Tabla_SERIEA_01_5[[#This Row],[IdEstablecimiento]],[2]Establecimientos!$A$1:$E$175,5,FALSE),0)","v":"04101-LA SERENA"},"105313","80301041","2021-01-18T11:40:14",0,null,null,100]
[12,"5",2020,{"$f":"IFERROR(VLOOKUP([1]!Tabla_SERIEA_01_5[[#This Row],[IdEstablecimiento]],[2]Establecimientos!$A$1:$E$175,5,FALSE),0)","v":"04101-LA SERENA"},"105313","80301045","2021-01-18T11:40:14",0,null,null,94]
[12,"5",2020,{"$f":"IFERROR(VLOOKUP([1]!Tabla_SERIEA_01_5[[#This Row],[IdEstablecimiento]],[2]Establecimientos!$A$1:$E$175,5,FALSE),0)","v":"04101-LA SERENA"},"105313","80306061","2021-01-18T11:40:14",0,null,null,2]
[12,"5",2020,{"$f":"IFERROR(VLOOKUP([1]!Tabla_SERIEA_01_5[[#This Row],[IdEstablecimiento]],[2]Establecimientos!$A$1:$E$175,5,FALSE),0)","v":"04101-LA SERENA"},"105313","80306169","2021-01-18T11:40:14",0,null,null,2]
[12,"5",2020,{"$f":"IFERROR(VLOOKUP([1]!Tabla_SERIEA_01_5[[#This Row],[IdEstablecimiento]],[2]Establecimientos!$A$1:$E$175,5,FALSE),0)","v":"04101-LA SERENA"},"105313","80301059","2021-01-18T11:40:14",0,null,null,1]
[12,"5",2020,{"$f":"IFERROR(VLOOKUP([1]!Tabla_SERIEA_01_5[[#This Row],[IdEstablecimiento]],[2]Establecimientos!$A$1:$E$175,5,FALSE),0)","v":"04101-LA SERENA"},"105313","81701001","2021-01-18T11:40:14",29,null,29,null,29]
[12,"5",2020,{"$f":"IFERROR(VLOOKUP([1]!Tabla_SERIEA_01_5[[#This Row],[IdEstablecimiento]],[2]Establecimientos!$A$1:$E$175,5,FALSE),0)","v":"04101-LA SERENA"},"105313","80106002","2021-01-18T11:40:14",180,null,180,null,180]
[12,"5",2020,{"$f":"IFERROR(VLOOKUP([1]!Tabla_SERIEA_01_5[[#This Row],[IdEstablecimiento]],[2]Establecimientos!$A$1:$E$175,5,FALSE),0)","v":"04101-LA SERENA"},"105313","80106017","2021-01-18T11:40:14",59,null,59,null,59]
[12,"5",2020,{"$f":"IFERROR(VLOOKUP([1]!Tabla_SERIEA_01_5[[#This Row],[IdEstablecimiento]],[2]Establecimientos!$A$1:$E$175,5,FALSE),0)","v":"04101-LA SERENA"},"105313","80302013","2021-01-18T11:40:14",0,null,null,43]
[12,"5",2020,{"$f":"IFERROR(VLOOKUP([1]!Tabla_SERIEA_01_5[[#This Row],[IdEstablecimiento]],[2]Establecimientos!$A$1:$E$175,5,FALSE),0)","v":"04101-LA SERENA"},"105313","80302067","2021-01-18T11:40:14",0,null,null,211]
[12,"5",2020,{"$f":"IFERROR(VLOOKUP([1]!Tabla_SERIEA_01_5[[#This Row],[IdEstablecimiento]],[2]Establecimientos!$A$1:$E$175,5,FALSE),0)","v":"04101-LA SERENA"},"105313","80302068","2021-01-18T11:40:14",0,null,null,209]
[12,"5",2020,{"$f":"IFERROR(VLOOKUP([1]!Tabla_SERIEA_01_5[[#This Row],[IdEstablecimiento]],[2]Establecimientos!$A$1:$E$175,5,FALSE),0)","v":"04101-LA SERENA"},"105313","80302023","2021-01-18T11:40:14",0,null,null,184]
[12,"5",2020,{"$f":"IFERROR(VLOOKUP([1]!Tabla_SERIEA_01_5[[#This Row],[IdEstablecimiento]],[2]Establecimientos!$A$1:$E$175,5,FALSE),0)","v":"04101-LA SERENA"},"105313","80302032","2021-01-18T11:40:14",0,null,null,323]
[12,"5",2020,{"$f":"IFERROR(VLOOKUP([1]!Tabla_SERIEA_01_5[[#This Row],[IdEstablecimiento]],[2]Establecimientos!$A$1:$E$175,5,FALSE),0)","v":"04101-LA SERENA"},"105313","80302040","2021-01-18T11:40:14",0,null,null,36]
[12,"5",2020,{"$f":"IFERROR(VLOOKUP([1]!Tabla_SERIEA_01_5[[#This Row],[IdEstablecimiento]],[2]Establecimientos!$A$1:$E$175,5,FALSE),0)","v":"04101-LA SERENA"},"105313","80302047","2021-01-18T11:40:14",0,null,null,246]
[12,"5",2020,{"$f":"IFERROR(VLOOKUP([1]!Tabla_SERIEA_01_5[[#This Row],[IdEstablecimiento]],[2]Establecimientos!$A$1:$E$175,5,FALSE),0)","v":"04101-LA SERENA"},"105313","80302048","2021-01-18T11:40:14",0,null,null,21]
[12,"5",2020,{"$f":"IFERROR(VLOOKUP([1]!Tabla_SERIEA_01_5[[#This Row],[IdEstablecimiento]],[2]Establecimientos!$A$1:$E$175,5,FALSE),0)","v":"04101-LA SERENA"},"105313","80302063","2021-01-18T11:40:14",0,null,null,60]
[12,"5",2020,{"$f":"IFERROR(VLOOKUP([1]!Tabla_SERIEA_01_5[[#This Row],[IdEstablecimiento]],[2]Establecimientos!$A$1:$E$175,5,FALSE),0)","v":"04101-LA SERENA"},"105313","80302064","2021-01-18T11:40:14",0,null,null,205]
[12,"5",2020,{"$f":"IFERROR(VLOOKUP([1]!Tabla_SERIEA_01_5[[#This Row],[IdEstablecimiento]],[2]Establecimientos!$A$1:$E$175,5,FALSE),0)","v":"04101-LA SERENA"},"105313","80303024","2021-01-18T11:40:14",0,null,null,148]
[12,"5",2020,{"$f":"IFERROR(VLOOKUP([1]!Tabla_SERIEA_01_5[[#This Row],[IdEstablecimiento]],[2]Establecimientos!$A$1:$E$175,5,FALSE),0)","v":"04101-LA SERENA"},"105313","80303026","2021-01-18T11:40:14",0,null,null,51]
[12,"5",2020,{"$f":"IFERROR(VLOOKUP([1]!Tabla_SERIEA_01_5[[#This Row],[IdEstablecimiento]],[2]Establecimientos!$A$1:$E$175,5,FALSE),0)","v":"04101-LA SERENA"},"105313","80306001","2021-01-18T11:40:14",0,null,null,4]
[12,"5",2020,{"$f":"IFERROR(VLOOKUP([1]!Tabla_SERIEA_01_5[[#This Row],[IdEstablecimiento]],[2]Establecimientos!$A$1:$E$175,5,FALSE),0)","v":"04101-LA SERENA"},"105313","80306011","2021-01-18T11:40:14",0,null,null,17]
[12,"5",2020,{"$f":"IFERROR(VLOOKUP([1]!Tabla_SERIEA_01_5[[#This Row],[IdEstablecimiento]],[2]Establecimientos!$A$1:$E$175,5,FALSE),0)","v":"04101-LA SERENA"},"105313","80106014","2021-01-18T11:40:14",64,null,64,null,64]
[12,"5",2020,{"$f":"IFERROR(VLOOKUP([1]!Tabla_SERIEA_01_5[[#This Row],[IdEstablecimiento]],[2]Establecimientos!$A$1:$E$175,5,FALSE),0)","v":"04101-LA SERENA"},"105313","80106023","2021-01-18T11:40:14",14,null,14,null,14]
[12,"5",2020,{"$f":"IFERROR(VLOOKUP([1]!Tabla_SERIEA_01_5[[#This Row],[IdEstablecimiento]],[2]Establecimientos!$A$1:$E$175,5,FALSE),0)","v":"04101-LA SERENA"},"105313","80307011","2021-01-18T11:40:14",2351,null,2351]
[12,"5",2020,{"$f":"IFERROR(VLOOKUP([1]!Tabla_SERIEA_01_5[[#This Row],[IdEstablecimiento]],[2]Establecimientos!$A$1:$E$175,5,FALSE),0)","v":"04101-LA SERENA"},"105313","80307012","2021-01-18T11:40:14",43,null,43]
[12,"5",2020,{"$f":"IFERROR(VLOOKUP([1]!Tabla_SERIEA_01_5[[#This Row],[IdEstablecimiento]],[2]Establecimientos!$A$1:$E$175,5,FALSE),0)","v":"04101-LA SERENA"},"105313","80500011","2021-01-18T11:40:14",22,null,22,null,22]
[12,"5",2020,{"$f":"IFERROR(VLOOKUP([1]!Tabla_SERIEA_01_5[[#This Row],[IdEstablecimiento]],[2]Establecimientos!$A$1:$E$175,5,FALSE),0)","v":"04101-LA SERENA"},"105313","80306042","2021-01-18T11:40:14",0,null,null,32]
[12,"5",2020,{"$f":"IFERROR(VLOOKUP([1]!Tabla_SERIEA_01_5[[#This Row],[IdEstablecimiento]],[2]Establecimientos!$A$1:$E$175,5,FALSE),0)","v":"04101-LA SERENA"},"105313","80305019","2021-01-18T11:40:14",0,null,null,17]
[12,"5",2020,{"$f":"IFERROR(VLOOKUP([1]!Tabla_SERIEA_01_5[[#This Row],[IdEstablecimiento]],[2]Establecimientos!$A$1:$E$175,5,FALSE),0)","v":"04301-OVALLE"},"105313","18020500","2021-01-18T11:40:14",29,0,29]
[12,"5",2020,{"$f":"IFERROR(VLOOKUP([1]!Tabla_SERIEA_01_5[[#This Row],[IdEstablecimiento]],[2]Establecimientos!$A$1:$E$175,5,FALSE),0)","v":"04301-OVALLE"},"105313","18090000","2021-01-18T11:40:14",14,0,14]
[12,"5",2020,{"$f":"IFERROR(VLOOKUP([1]!Tabla_SERIEA_01_5[[#This Row],[IdEstablecimiento]],[2]Establecimientos!$A$1:$E$175,5,FALSE),0)","v":"04301-OVALLE"},"105313","18050100","2021-01-18T11:40:14",180,0,180]
[12,"5",2020,{"$f":"IFERROR(VLOOKUP([1]!Tabla_SERIEA_01_5[[#This Row],[IdEstablecimiento]],[2]Establecimientos!$A$1:$E$175,5,FALSE),0)","v":"04301-OVALLE"},"105313","18400900","2021-01-18T11:40:14",9,1,8]
[12,"5",2020,{"$f":"IFERROR(VLOOKUP([1]!Tabla_SERIEA_01_5[[#This Row],[IdEstablecimiento]],[2]Establecimientos!$A$1:$E$175,5,FALSE),0)","v":"04301-OVALLE"},"105313","18700100","2021-01-18T11:40:14",410,32,352,26]
[12,"5",2020,{"$f":"IFERROR(VLOOKUP([1]!Tabla_SERIEA_01_5[[#This Row],[IdEstablecimiento]],[2]Establecimientos!$A$1:$E$175,5,FALSE),0)","v":"04301-OVALLE"},"105314","81701001","2021-01-18T11:40:33",12,12,null,null,12]
[12,"5",2020,{"$f":"IFERROR(VLOOKUP([1]!Tabla_SERIEA_01_5[[#This Row],[IdEstablecimiento]],[2]Establecimientos!$A$1:$E$175,5,FALSE),0)","v":"04301-OVALLE"},"105314","81701009","2021-01-18T11:40:33",13,13,null,null,13]
[12,"5",2020,{"$f":"IFERROR(VLOOKUP([1]!Tabla_SERIEA_01_5[[#This Row],[IdEstablecimiento]],[2]Establecimientos!$A$1:$E$175,5,FALSE),0)","v":"04301-OVALLE"},"105314","81901019","2021-01-18T11:40:33",4,4,null,null,4]
[12,"5",2020,{"$f":"IFERROR(VLOOKUP([1]!Tabla_SERIEA_01_5[[#This Row],[IdEstablecimiento]],[2]Establecimientos!$A$1:$E$175,5,FALSE),0)","v":"04301-OVALLE"},"105314","80106002","2021-01-18T11:40:33",9,9,null,null,9]
[12,"5",2020,{"$f":"IFERROR(VLOOKUP([1]!Tabla_SERIEA_01_5[[#This Row],[IdEstablecimiento]],[2]Establecimientos!$A$1:$E$175,5,FALSE),0)","v":"04301-OVALLE"},"105314","80106017","2021-01-18T11:40:33",11,11,null,null,11]
[12,"5",2020,{"$f":"IFERROR(VLOOKUP([1]!Tabla_SERIEA_01_5[[#This Row],[IdEstablecimiento]],[2]Establecimientos!$A$1:$E$175,5,FALSE),0)","v":"04301-OVALLE"},"105314","80106010","2021-01-18T11:40:33",1,1,null,null,1]
[12,"5",2020,{"$f":"IFERROR(VLOOKUP([1]!Tabla_SERIEA_01_5[[#This Row],[IdEstablecimiento]],[2]Establecimientos!$A$1:$E$175,5,FALSE),0)","v":"04301-OVALLE"},"105314","80106014","2021-01-18T11:40:33",62,62,null,null,62]
[12,"5",2020,{"$f":"IFERROR(VLOOKUP([1]!Tabla_SERIEA_01_5[[#This Row],[IdEstablecimiento]],[2]Establecimientos!$A$1:$E$175,5,FALSE),0)","v":"04301-OVALLE"},"105319","81602225","2021-01-18T11:42:13",1,null,1,1]
[12,"5",2020,{"$f":"IFERROR(VLOOKUP([1]!Tabla_SERIEA_01_5[[#This Row],[IdEstablecimiento]],[2]Establecimientos!$A$1:$E$175,5,FALSE),0)","v":"04301-OVALLE"},"105319","81602231","2021-01-18T11:42:13",5,null,5,5]
[12,"5",2020,{"$f":"IFERROR(VLOOKUP([1]!Tabla_SERIEA_01_5[[#This Row],[IdEstablecimiento]],[2]Establecimientos!$A$1:$E$175,5,FALSE),0)","v":"04301-OVALLE"},"105319","80106002","2021-01-18T11:42:13",144,null,144,null,144]
[12,"5",2020,{"$f":"IFERROR(VLOOKUP([1]!Tabla_SERIEA_01_5[[#This Row],[IdEstablecimiento]],[2]Establecimientos!$A$1:$E$175,5,FALSE),0)","v":"04301-OVALLE"},"105319","80106017","2021-01-18T11:42:13",162,null,162,null,162]
[12,"5",2020,{"$f":"IFERROR(VLOOKUP([1]!Tabla_SERIEA_01_5[[#This Row],[IdEstablecimiento]],[2]Establecimientos!$A$1:$E$175,5,FALSE),0)","v":"04301-OVALLE"},"105319","80302013","2021-01-18T11:42:13",7,null,7,7]
[12,"5",2020,{"$f":"IFERROR(VLOOKUP([1]!Tabla_SERIEA_01_5[[#This Row],[IdEstablecimiento]],[2]Establecimientos!$A$1:$E$175,5,FALSE),0)","v":"04301-OVALLE"},"105319","80302067","2021-01-18T11:42:13",167,null,167,167]
[12,"5",2020,{"$f":"IFERROR(VLOOKUP([1]!Tabla_SERIEA_01_5[[#This Row],[IdEstablecimiento]],[2]Establecimientos!$A$1:$E$175,5,FALSE),0)","v":"04301-OVALLE"},"105319","80302068","2021-01-18T11:42:13",167,null,167,167]
[12,"5",2020,{"$f":"IFERROR(VLOOKUP([1]!Tabla_SERIEA_01_5[[#This Row],[IdEstablecimiento]],[2]Establecimientos!$A$1:$E$175,5,FALSE),0)","v":"04301-OVALLE"},"105319","80302023","2021-01-18T11:42:13",142,null,142,142]
[12,"5",2020,{"$f":"IFERROR(VLOOKUP([1]!Tabla_SERIEA_01_5[[#This Row],[IdEstablecimiento]],[2]Establecimientos!$A$1:$E$175,5,FALSE),0)","v":"04301-OVALLE"},"105319","80302032","2021-01-18T11:42:13",71,null,71,71]
[12,"5",2020,{"$f":"IFERROR(VLOOKUP([1]!Tabla_SERIEA_01_5[[#This Row],[IdEstablecimiento]],[2]Establecimientos!$A$1:$E$175,5,FALSE),0)","v":"04301-OVALLE"},"105319","80302040","2021-01-18T11:42:13",15,null,15,15]
[12,"5",2020,{"$f":"IFERROR(VLOOKUP([1]!Tabla_SERIEA_01_5[[#This Row],[IdEstablecimiento]],[2]Establecimientos!$A$1:$E$175,5,FALSE),0)","v":"04301-OVALLE"},"105319","80302047","2021-01-18T11:42:13",167,null,167,167]
[12,"5",2020,{"$f":"IFERROR(VLOOKUP([1]!Tabla_SERIEA_01_5[[#This Row],[IdEstablecimiento]],[2]Establecimientos!$A$1:$E$175,5,FALSE),0)","v":"04301-OVALLE"},"105319","80302063","2021-01-18T11:42:13",24,null,24,24]
[12,"5",2020,{"$f":"IFERROR(VLOOKUP([1]!Tabla_SERIEA_01_5[[#This Row],[IdEstablecimiento]],[2]Establecimientos!$A$1:$E$175,5,FALSE),0)","v":"04301-OVALLE"},"105319","80302064","2021-01-18T11:42:13",148,null,148,148]
[12,"5",2020,{"$f":"IFERROR(VLOOKUP([1]!Tabla_SERIEA_01_5[[#This Row],[IdEstablecimiento]],[2]Establecimientos!$A$1:$E$175,5,FALSE),0)","v":"04102-COQUIMBO"},"105319","80303024","2021-01-18T11:42:13",78,null,78,78]
[12,"5",2020,{"$f":"IFERROR(VLOOKUP([1]!Tabla_SERIEA_01_5[[#This Row],[IdEstablecimiento]],[2]Establecimientos!$A$1:$E$175,5,FALSE),0)","v":"04102-COQUIMBO"},"105319","80303026","2021-01-18T11:42:13",22,null,22,22]
[12,"5",2020,{"$f":"IFERROR(VLOOKUP([1]!Tabla_SERIEA_01_5[[#This Row],[IdEstablecimiento]],[2]Establecimientos!$A$1:$E$175,5,FALSE),0)","v":"04102-COQUIMBO"},"105319","80306002","2021-01-18T11:42:13",1,null,1,1]
[12,"5",2020,{"$f":"IFERROR(VLOOKUP([1]!Tabla_SERIEA_01_5[[#This Row],[IdEstablecimiento]],[2]Establecimientos!$A$1:$E$175,5,FALSE),0)","v":"04102-COQUIMBO"},"105319","80306011","2021-01-18T11:42:13",43,null,43,43]
[12,"5",2020,{"$f":"IFERROR(VLOOKUP([1]!Tabla_SERIEA_01_5[[#This Row],[IdEstablecimiento]],[2]Establecimientos!$A$1:$E$175,5,FALSE),0)","v":"04102-COQUIMBO"},"105319","80106014","2021-01-18T11:42:13",233,null,233,null,233]
[12,"5",2020,{"$f":"IFERROR(VLOOKUP([1]!Tabla_SERIEA_01_5[[#This Row],[IdEstablecimiento]],[2]Establecimientos!$A$1:$E$175,5,FALSE),0)","v":"04102-COQUIMBO"},"105319","80307011","2021-01-18T11:42:13",258,null,258,258]
[12,"5",2020,{"$f":"IFERROR(VLOOKUP([1]!Tabla_SERIEA_01_5[[#This Row],[IdEstablecimiento]],[2]Establecimientos!$A$1:$E$175,5,FALSE),0)","v":"04102-COQUIMBO"},"105319","80307012","2021-01-18T11:42:13",6,null,6,6]
[12,"5",2020,{"$f":"IFERROR(VLOOKUP([1]!Tabla_SERIEA_01_5[[#This Row],[IdEstablecimiento]],[2]Establecimientos!$A$1:$E$175,5,FALSE),0)","v":"04102-COQUIMBO"},"105319","80500008","2021-01-18T11:42:13",4,null,4,null,4]
[12,"5",2020,{"$f":"IFERROR(VLOOKUP([1]!Tabla_SERIEA_01_5[[#This Row],[IdEstablecimiento]],[2]Establecimientos!$A$1:$E$175,5,FALSE),0)","v":"04102-COQUIMBO"},"105319","80500011","2021-01-18T11:42:13",30,null,30,null,30]
[12,"5",2020,{"$f":"IFERROR(VLOOKUP([1]!Tabla_SERIEA_01_5[[#This Row],[IdEstablecimiento]],[2]Establecimientos!$A$1:$E$175,5,FALSE),0)","v":"04102-COQUIMBO"},"105319","80306042","2021-01-18T11:42:13",42,null,42,42]
[12,"5",2020,{"$f":"IFERROR(VLOOKUP([1]!Tabla_SERIEA_01_5[[#This Row],[IdEstablecimiento]],[2]Establecimientos!$A$1:$E$175,5,FALSE),0)","v":"04102-COQUIMBO"},"105319","18010100","2021-01-18T11:42:13",265,0,265]
[12,"5",2020,{"$f":"IFERROR(VLOOKUP([1]!Tabla_SERIEA_01_5[[#This Row],[IdEstablecimiento]],[2]Establecimientos!$A$1:$E$175,5,FALSE),0)","v":"04102-COQUIMBO"},"105319","18010200","2021-01-18T11:42:13",915,0,915]
[12,"5",2020,{"$f":"IFERROR(VLOOKUP([1]!Tabla_SERIEA_01_5[[#This Row],[IdEstablecimiento]],[2]Establecimientos!$A$1:$E$175,5,FALSE),0)","v":"04102-COQUIMBO"},"105319","18090100","2021-01-18T11:42:13",100,0,100]
[12,"5",2020,{"$f":"IFERROR(VLOOKUP([1]!Tabla_SERIEA_01_5[[#This Row],[IdEstablecimiento]],[2]Establecimientos!$A$1:$E$175,5,FALSE),0)","v":"04102-COQUIMBO"},"105319","18010601","2021-01-18T11:42:13",97,0,97]
[12,"5",2020,{"$f":"IFERROR(VLOOKUP([1]!Tabla_SERIEA_01_5[[#This Row],[IdEstablecimiento]],[2]Establecimientos!$A$1:$E$175,5,FALSE),0)","v":"04102-COQUIMBO"},"105319","18010900","2021-01-18T11:42:13",135,0,135]
[12,"5",2020,{"$f":"IFERROR(VLOOKUP([1]!Tabla_SERIEA_01_5[[#This Row],[IdEstablecimiento]],[2]Establecimientos!$A$1:$E$175,5,FALSE),0)","v":"04102-COQUIMBO"},"105319","18400600","2021-01-18T11:42:13",20,0,20]
[12,"5",2020,{"$f":"IFERROR(VLOOKUP([1]!Tabla_SERIEA_01_5[[#This Row],[IdEstablecimiento]],[2]Establecimientos!$A$1:$E$175,5,FALSE),0)","v":"04102-COQUIMBO"},"105319","18030000","2021-01-18T11:42:13",12,0,12]
[12,"5",2020,{"$f":"IFERROR(VLOOKUP([1]!Tabla_SERIEA_01_5[[#This Row],[IdEstablecimiento]],[2]Establecimientos!$A$1:$E$175,5,FALSE),0)","v":"04102-COQUIMBO"},"105319","18040200","2021-01-18T11:42:13",12,3,9]
[12,"5",2020,{"$f":"IFERROR(VLOOKUP([1]!Tabla_SERIEA_01_5[[#This Row],[IdEstablecimiento]],[2]Establecimientos!$A$1:$E$175,5,FALSE),0)","v":"04102-COQUIMBO"},"105319","18050100","2021-01-18T11:42:13",144,0,144]
[12,"5",2020,{"$f":"IFERROR(VLOOKUP([1]!Tabla_SERIEA_01_5[[#This Row],[IdEstablecimiento]],[2]Establecimientos!$A$1:$E$175,5,FALSE),0)","v":"04102-COQUIMBO"},"105319","18090200","2021-01-18T11:42:13",8]
[12,"5",2020,{"$f":"IFERROR(VLOOKUP([1]!Tabla_SERIEA_01_5[[#This Row],[IdEstablecimiento]],[2]Establecimientos!$A$1:$E$175,5,FALSE),0)","v":"04102-COQUIMBO"},"105319","18700100","2021-01-18T11:42:13",126,null,123,3]
[12,"5",2020,{"$f":"IFERROR(VLOOKUP([1]!Tabla_SERIEA_01_5[[#This Row],[IdEstablecimiento]],[2]Establecimientos!$A$1:$E$175,5,FALSE),0)","v":"04102-COQUIMBO"},"105321","80309013","2021-01-18T11:42:36",0,null,null,38]
[12,"5",2020,{"$f":"IFERROR(VLOOKUP([1]!Tabla_SERIEA_01_5[[#This Row],[IdEstablecimiento]],[2]Establecimientos!$A$1:$E$175,5,FALSE),0)","v":"04102-COQUIMBO"},"105321","80309022","2021-01-18T11:42:36",0,null,null,57]
[12,"5",2020,{"$f":"IFERROR(VLOOKUP([1]!Tabla_SERIEA_01_5[[#This Row],[IdEstablecimiento]],[2]Establecimientos!$A$1:$E$175,5,FALSE),0)","v":"04102-COQUIMBO"},"105321","80301015","2021-01-18T11:42:36",1,null,1]
[12,"5",2020,{"$f":"IFERROR(VLOOKUP([1]!Tabla_SERIEA_01_5[[#This Row],[IdEstablecimiento]],[2]Establecimientos!$A$1:$E$175,5,FALSE),0)","v":"04102-COQUIMBO"},"105321","80301034","2021-01-18T11:42:36",3,null,3]
[12,"5",2020,{"$f":"IFERROR(VLOOKUP([1]!Tabla_SERIEA_01_5[[#This Row],[IdEstablecimiento]],[2]Establecimientos!$A$1:$E$175,5,FALSE),0)","v":"04102-COQUIMBO"},"105321","80301036","2021-01-18T11:42:36",0,null,null,36]
[12,"5",2020,{"$f":"IFERROR(VLOOKUP([1]!Tabla_SERIEA_01_5[[#This Row],[IdEstablecimiento]],[2]Establecimientos!$A$1:$E$175,5,FALSE),0)","v":"04102-COQUIMBO"},"105321","80301038","2021-01-18T11:42:36",0,null,null,40]
[12,"5",2020,{"$f":"IFERROR(VLOOKUP([1]!Tabla_SERIEA_01_5[[#This Row],[IdEstablecimiento]],[2]Establecimientos!$A$1:$E$175,5,FALSE),0)","v":"04102-COQUIMBO"},"105321","80301041","2021-01-18T11:42:36",0,null,null,20]
[12,"5",2020,{"$f":"IFERROR(VLOOKUP([1]!Tabla_SERIEA_01_5[[#This Row],[IdEstablecimiento]],[2]Establecimientos!$A$1:$E$175,5,FALSE),0)","v":"04102-COQUIMBO"},"105321","80301045","2021-01-18T11:42:36",0,null,null,26]
[12,"5",2020,{"$f":"IFERROR(VLOOKUP([1]!Tabla_SERIEA_01_5[[#This Row],[IdEstablecimiento]],[2]Establecimientos!$A$1:$E$175,5,FALSE),0)","v":"04102-COQUIMBO"},"105321","81201029","2021-01-18T11:42:36",4,4]
[12,"5",2020,{"$f":"IFERROR(VLOOKUP([1]!Tabla_SERIEA_01_5[[#This Row],[IdEstablecimiento]],[2]Establecimientos!$A$1:$E$175,5,FALSE),0)","v":"04102-COQUIMBO"},"105321","80306061","2021-01-18T11:42:36",3,null,3]
[12,"5",2020,{"$f":"IFERROR(VLOOKUP([1]!Tabla_SERIEA_01_5[[#This Row],[IdEstablecimiento]],[2]Establecimientos!$A$1:$E$175,5,FALSE),0)","v":"04102-COQUIMBO"},"105321","80301059","2021-01-18T11:42:36",0,null,null,2]
[12,"5",2020,{"$f":"IFERROR(VLOOKUP([1]!Tabla_SERIEA_01_5[[#This Row],[IdEstablecimiento]],[2]Establecimientos!$A$1:$E$175,5,FALSE),0)","v":"04102-COQUIMBO"},"105321","80301085","2021-01-18T11:42:36",0,null,null,2]
[12,"5",2020,{"$f":"IFERROR(VLOOKUP([1]!Tabla_SERIEA_01_5[[#This Row],[IdEstablecimiento]],[2]Establecimientos!$A$1:$E$175,5,FALSE),0)","v":"04102-COQUIMBO"},"105321","80302005","2021-01-18T11:42:36",0,null,null,35]
[12,"5",2020,{"$f":"IFERROR(VLOOKUP([1]!Tabla_SERIEA_01_5[[#This Row],[IdEstablecimiento]],[2]Establecimientos!$A$1:$E$175,5,FALSE),0)","v":"04102-COQUIMBO"},"105321","81701001","2021-01-18T11:42:36",58,50,8,null,4,58]
[12,"5",2020,{"$f":"IFERROR(VLOOKUP([1]!Tabla_SERIEA_01_5[[#This Row],[IdEstablecimiento]],[2]Establecimientos!$A$1:$E$175,5,FALSE),0)","v":"04102-COQUIMBO"},"105321","81707030","2021-01-18T11:42:36",7,7]
[12,"5",2020,{"$f":"IFERROR(VLOOKUP([1]!Tabla_SERIEA_01_5[[#This Row],[IdEstablecimiento]],[2]Establecimientos!$A$1:$E$175,5,FALSE),0)","v":"04102-COQUIMBO"},"105321","81901019","2021-01-18T11:42:36",6,2,4]
[12,"5",2020,{"$f":"IFERROR(VLOOKUP([1]!Tabla_SERIEA_01_5[[#This Row],[IdEstablecimiento]],[2]Establecimientos!$A$1:$E$175,5,FALSE),0)","v":"04102-COQUIMBO"},"105321","81602221","2021-01-18T11:42:36",2,2]
[12,"5",2020,{"$f":"IFERROR(VLOOKUP([1]!Tabla_SERIEA_01_5[[#This Row],[IdEstablecimiento]],[2]Establecimientos!$A$1:$E$175,5,FALSE),0)","v":"04102-COQUIMBO"},"105321","81602222","2021-01-18T11:42:36",11,11]
[12,"5",2020,{"$f":"IFERROR(VLOOKUP([1]!Tabla_SERIEA_01_5[[#This Row],[IdEstablecimiento]],[2]Establecimientos!$A$1:$E$175,5,FALSE),0)","v":"04102-COQUIMBO"},"105321","81602231","2021-01-18T11:42:36",1,1]
[12,"5",2020,{"$f":"IFERROR(VLOOKUP([1]!Tabla_SERIEA_01_5[[#This Row],[IdEstablecimiento]],[2]Establecimientos!$A$1:$E$175,5,FALSE),0)","v":"04102-COQUIMBO"},"105321","80106002","2021-01-18T11:42:36",137,75,62]
[12,"5",2020,{"$f":"IFERROR(VLOOKUP([1]!Tabla_SERIEA_01_5[[#This Row],[IdEstablecimiento]],[2]Establecimientos!$A$1:$E$175,5,FALSE),0)","v":"04102-COQUIMBO"},"105321","80106017","2021-01-18T11:42:36",51,4,47]
[12,"5",2020,{"$f":"IFERROR(VLOOKUP([1]!Tabla_SERIEA_01_5[[#This Row],[IdEstablecimiento]],[2]Establecimientos!$A$1:$E$175,5,FALSE),0)","v":"04102-COQUIMBO"},"105321","80302013","2021-01-18T11:42:36",0,null,null,28]
[12,"5",2020,{"$f":"IFERROR(VLOOKUP([1]!Tabla_SERIEA_01_5[[#This Row],[IdEstablecimiento]],[2]Establecimientos!$A$1:$E$175,5,FALSE),0)","v":"04102-COQUIMBO"},"105321","80302067","2021-01-18T11:42:36",0,null,null,63]
[12,"5",2020,{"$f":"IFERROR(VLOOKUP([1]!Tabla_SERIEA_01_5[[#This Row],[IdEstablecimiento]],[2]Establecimientos!$A$1:$E$175,5,FALSE),0)","v":"04102-COQUIMBO"},"105321","80302068","2021-01-18T11:42:36",0,null,null,55]
[12,"5",2020,{"$f":"IFERROR(VLOOKUP([1]!Tabla_SERIEA_01_5[[#This Row],[IdEstablecimiento]],[2]Establecimientos!$A$1:$E$175,5,FALSE),0)","v":"04102-COQUIMBO"},"105321","80302023","2021-01-18T11:42:36",0,null,null,54]
[12,"5",2020,{"$f":"IFERROR(VLOOKUP([1]!Tabla_SERIEA_01_5[[#This Row],[IdEstablecimiento]],[2]Establecimientos!$A$1:$E$175,5,FALSE),0)","v":"04102-COQUIMBO"},"105321","80302032","2021-01-18T11:42:36",0,null,null,35]
[12,"5",2020,{"$f":"IFERROR(VLOOKUP([1]!Tabla_SERIEA_01_5[[#This Row],[IdEstablecimiento]],[2]Establecimientos!$A$1:$E$175,5,FALSE),0)","v":"04102-COQUIMBO"},"105321","80302040","2021-01-18T11:42:36",0,null,null,15]
[12,"5",2020,{"$f":"IFERROR(VLOOKUP([1]!Tabla_SERIEA_01_5[[#This Row],[IdEstablecimiento]],[2]Establecimientos!$A$1:$E$175,5,FALSE),0)","v":"04102-COQUIMBO"},"105321","80302047","2021-01-18T11:42:36",0,null,null,54]
[12,"5",2020,{"$f":"IFERROR(VLOOKUP([1]!Tabla_SERIEA_01_5[[#This Row],[IdEstablecimiento]],[2]Establecimientos!$A$1:$E$175,5,FALSE),0)","v":"04102-COQUIMBO"},"105321","80302048","2021-01-18T11:42:36",0,null,null,8]
[12,"5",2020,{"$f":"IFERROR(VLOOKUP([1]!Tabla_SERIEA_01_5[[#This Row],[IdEstablecimiento]],[2]Establecimientos!$A$1:$E$175,5,FALSE),0)","v":"04102-COQUIMBO"},"105321","80302057","2021-01-18T11:42:36",0,null,null,47]
[12,"5",2020,{"$f":"IFERROR(VLOOKUP([1]!Tabla_SERIEA_01_5[[#This Row],[IdEstablecimiento]],[2]Establecimientos!$A$1:$E$175,5,FALSE),0)","v":"04102-COQUIMBO"},"105321","80302060","2021-01-18T11:42:36",0,null,null,2]
[12,"5",2020,{"$f":"IFERROR(VLOOKUP([1]!Tabla_SERIEA_01_5[[#This Row],[IdEstablecimiento]],[2]Establecimientos!$A$1:$E$175,5,FALSE),0)","v":"04102-COQUIMBO"},"105321","80302063","2021-01-18T11:42:36",0,null,null,46]
[12,"5",2020,{"$f":"IFERROR(VLOOKUP([1]!Tabla_SERIEA_01_5[[#This Row],[IdEstablecimiento]],[2]Establecimientos!$A$1:$E$175,5,FALSE),0)","v":"04102-COQUIMBO"},"105321","80302064","2021-01-18T11:42:36",0,null,null,61]
[12,"5",2020,{"$f":"IFERROR(VLOOKUP([1]!Tabla_SERIEA_01_5[[#This Row],[IdEstablecimiento]],[2]Establecimientos!$A$1:$E$175,5,FALSE),0)","v":"04102-COQUIMBO"},"105321","80303024","2021-01-18T11:42:36",0,null,null,55]
[12,"5",2020,{"$f":"IFERROR(VLOOKUP([1]!Tabla_SERIEA_01_5[[#This Row],[IdEstablecimiento]],[2]Establecimientos!$A$1:$E$175,5,FALSE),0)","v":"04102-COQUIMBO"},"105321","80303026","2021-01-18T11:42:36",0,null,null,8]
[12,"5",2020,{"$f":"IFERROR(VLOOKUP([1]!Tabla_SERIEA_01_5[[#This Row],[IdEstablecimiento]],[2]Establecimientos!$A$1:$E$175,5,FALSE),0)","v":"04102-COQUIMBO"},"105321","80306002","2021-01-18T11:42:36",4,null,4]
[12,"5",2020,{"$f":"IFERROR(VLOOKUP([1]!Tabla_SERIEA_01_5[[#This Row],[IdEstablecimiento]],[2]Establecimientos!$A$1:$E$175,5,FALSE),0)","v":"04102-COQUIMBO"},"105321","80306011","2021-01-18T11:42:36",0,null,null,9]
[12,"5",2020,{"$f":"IFERROR(VLOOKUP([1]!Tabla_SERIEA_01_5[[#This Row],[IdEstablecimiento]],[2]Establecimientos!$A$1:$E$175,5,FALSE),0)","v":"04102-COQUIMBO"},"105321","80106007","2021-01-18T11:42:36",1,1]
[12,"5",2020,{"$f":"IFERROR(VLOOKUP([1]!Tabla_SERIEA_01_5[[#This Row],[IdEstablecimiento]],[2]Establecimientos!$A$1:$E$175,5,FALSE),0)","v":"04102-COQUIMBO"},"105321","80106008","2021-01-18T11:42:36",1,1]
[12,"5",2020,{"$f":"IFERROR(VLOOKUP([1]!Tabla_SERIEA_01_5[[#This Row],[IdEstablecimiento]],[2]Establecimientos!$A$1:$E$175,5,FALSE),0)","v":"04102-COQUIMBO"},"105321","80106013","2021-01-18T11:42:36",3,3]
[12,"5",2020,{"$f":"IFERROR(VLOOKUP([1]!Tabla_SERIEA_01_5[[#This Row],[IdEstablecimiento]],[2]Establecimientos!$A$1:$E$175,5,FALSE),0)","v":"04102-COQUIMBO"},"105321","80106014","2021-01-18T11:42:36",271,212,59]
[12,"5",2020,{"$f":"IFERROR(VLOOKUP([1]!Tabla_SERIEA_01_5[[#This Row],[IdEstablecimiento]],[2]Establecimientos!$A$1:$E$175,5,FALSE),0)","v":"04102-COQUIMBO"},"105321","80106015","2021-01-18T11:42:36",135,135]
[12,"5",2020,{"$f":"IFERROR(VLOOKUP([1]!Tabla_SERIEA_01_5[[#This Row],[IdEstablecimiento]],[2]Establecimientos!$A$1:$E$175,5,FALSE),0)","v":"04102-COQUIMBO"},"105321","80106020","2021-01-18T11:42:36",1,1]
[12,"5",2020,{"$f":"IFERROR(VLOOKUP([1]!Tabla_SERIEA_01_5[[#This Row],[IdEstablecimiento]],[2]Establecimientos!$A$1:$E$175,5,FALSE),0)","v":"04102-COQUIMBO"},"105321","80106022","2021-01-18T11:42:36",2,2]
[12,"5",2020,{"$f":"IFERROR(VLOOKUP([1]!Tabla_SERIEA_01_5[[#This Row],[IdEstablecimiento]],[2]Establecimientos!$A$1:$E$175,5,FALSE),0)","v":"04102-COQUIMBO"},"105321","80307011","2021-01-18T11:42:36",97,null,97]
[12,"5",2020,{"$f":"IFERROR(VLOOKUP([1]!Tabla_SERIEA_01_5[[#This Row],[IdEstablecimiento]],[2]Establecimientos!$A$1:$E$175,5,FALSE),0)","v":"04102-COQUIMBO"},"105321","80307012","2021-01-18T11:42:36",3,null,3]
[12,"5",2020,{"$f":"IFERROR(VLOOKUP([1]!Tabla_SERIEA_01_5[[#This Row],[IdEstablecimiento]],[2]Establecimientos!$A$1:$E$175,5,FALSE),0)","v":"04102-COQUIMBO"},"105321","80306042","2021-01-18T11:42:36",0,null,null,5]
[12,"5",2020,{"$f":"IFERROR(VLOOKUP([1]!Tabla_SERIEA_01_5[[#This Row],[IdEstablecimiento]],[2]Establecimientos!$A$1:$E$175,5,FALSE),0)","v":"04102-COQUIMBO"},"105321","80305019","2021-01-18T11:42:36",0,null,null,2]
[12,"5",2020,{"$f":"IFERROR(VLOOKUP([1]!Tabla_SERIEA_01_5[[#This Row],[IdEstablecimiento]],[2]Establecimientos!$A$1:$E$175,5,FALSE),0)","v":"04102-COQUIMBO"},"105321","18010100","2021-01-18T11:42:36",4,0,4]
[12,"5",2020,{"$f":"IFERROR(VLOOKUP([1]!Tabla_SERIEA_01_5[[#This Row],[IdEstablecimiento]],[2]Establecimientos!$A$1:$E$175,5,FALSE),0)","v":"04102-COQUIMBO"},"105321","18010601","2021-01-18T11:42:36",7,0,7]
[12,"5",2020,{"$f":"IFERROR(VLOOKUP([1]!Tabla_SERIEA_01_5[[#This Row],[IdEstablecimiento]],[2]Establecimientos!$A$1:$E$175,5,FALSE),0)","v":"04102-COQUIMBO"},"105321","18400400","2021-01-18T11:42:36",4,4,0]
[12,"5",2020,{"$f":"IFERROR(VLOOKUP([1]!Tabla_SERIEA_01_5[[#This Row],[IdEstablecimiento]],[2]Establecimientos!$A$1:$E$175,5,FALSE),0)","v":"04102-COQUIMBO"},"105321","18020300","2021-01-18T11:42:36",7,7,0]
[12,"5",2020,{"$f":"IFERROR(VLOOKUP([1]!Tabla_SERIEA_01_5[[#This Row],[IdEstablecimiento]],[2]Establecimientos!$A$1:$E$175,5,FALSE),0)","v":"04102-COQUIMBO"},"105321","18020500","2021-01-18T11:42:36",58,50,8]
[12,"5",2020,{"$f":"IFERROR(VLOOKUP([1]!Tabla_SERIEA_01_5[[#This Row],[IdEstablecimiento]],[2]Establecimientos!$A$1:$E$175,5,FALSE),0)","v":"04102-COQUIMBO"},"105321","18020700","2021-01-18T11:42:36",6,2,4]
[12,"5",2020,{"$f":"IFERROR(VLOOKUP([1]!Tabla_SERIEA_01_5[[#This Row],[IdEstablecimiento]],[2]Establecimientos!$A$1:$E$175,5,FALSE),0)","v":"04102-COQUIMBO"},"105321","18030000","2021-01-18T11:42:36",14,14,0]
[12,"5",2020,{"$f":"IFERROR(VLOOKUP([1]!Tabla_SERIEA_01_5[[#This Row],[IdEstablecimiento]],[2]Establecimientos!$A$1:$E$175,5,FALSE),0)","v":"04102-COQUIMBO"},"105321","18040100","2021-01-18T11:42:36",14,3,11]
[12,"5",2020,{"$f":"IFERROR(VLOOKUP([1]!Tabla_SERIEA_01_5[[#This Row],[IdEstablecimiento]],[2]Establecimientos!$A$1:$E$175,5,FALSE),0)","v":"04102-COQUIMBO"},"105321","18050100","2021-01-18T11:42:36",137,75,62]
[12,"5",2020,{"$f":"IFERROR(VLOOKUP([1]!Tabla_SERIEA_01_5[[#This Row],[IdEstablecimiento]],[2]Establecimientos!$A$1:$E$175,5,FALSE),0)","v":"04102-COQUIMBO"},"105321","18700100","2021-01-18T11:42:36",316,26,218,72]
[12,"5",2020,{"$f":"IFERROR(VLOOKUP([1]!Tabla_SERIEA_01_5[[#This Row],[IdEstablecimiento]],[2]Establecimientos!$A$1:$E$175,5,FALSE),0)","v":"04102-COQUIMBO"},"105322","80401151","2021-01-18T11:42:56",0,null,null,78]
[12,"5",2020,{"$f":"IFERROR(VLOOKUP([1]!Tabla_SERIEA_01_5[[#This Row],[IdEstablecimiento]],[2]Establecimientos!$A$1:$E$175,5,FALSE),0)","v":"04102-COQUIMBO"},"105322","80308044","2021-01-18T11:42:56",2,null,2]
[12,"5",2020,{"$f":"IFERROR(VLOOKUP([1]!Tabla_SERIEA_01_5[[#This Row],[IdEstablecimiento]],[2]Establecimientos!$A$1:$E$175,5,FALSE),0)","v":"04102-COQUIMBO"},"105322","80309010","2021-01-18T11:42:56",617,null,617]
[12,"5",2020,{"$f":"IFERROR(VLOOKUP([1]!Tabla_SERIEA_01_5[[#This Row],[IdEstablecimiento]],[2]Establecimientos!$A$1:$E$175,5,FALSE),0)","v":"04102-COQUIMBO"},"105322","80309013","2021-01-18T11:42:56",624,null,624]
[12,"5",2020,{"$f":"IFERROR(VLOOKUP([1]!Tabla_SERIEA_01_5[[#This Row],[IdEstablecimiento]],[2]Establecimientos!$A$1:$E$175,5,FALSE),0)","v":"04102-COQUIMBO"},"105322","80309016","2021-01-18T11:42:56",1,null,1]
[12,"5",2020,{"$f":"IFERROR(VLOOKUP([1]!Tabla_SERIEA_01_5[[#This Row],[IdEstablecimiento]],[2]Establecimientos!$A$1:$E$175,5,FALSE),0)","v":"04102-COQUIMBO"},"105322","80309022","2021-01-18T11:42:56",915,null,915]
[12,"5",2020,{"$f":"IFERROR(VLOOKUP([1]!Tabla_SERIEA_01_5[[#This Row],[IdEstablecimiento]],[2]Establecimientos!$A$1:$E$175,5,FALSE),0)","v":"04102-COQUIMBO"},"105322","80309028","2021-01-18T11:42:56",2,null,2]
[12,"5",2020,{"$f":"IFERROR(VLOOKUP([1]!Tabla_SERIEA_01_5[[#This Row],[IdEstablecimiento]],[2]Establecimientos!$A$1:$E$175,5,FALSE),0)","v":"04102-COQUIMBO"},"105322","80401009","2021-01-18T11:42:56",0,null,null,28]
[12,"5",2020,{"$f":"IFERROR(VLOOKUP([1]!Tabla_SERIEA_01_5[[#This Row],[IdEstablecimiento]],[2]Establecimientos!$A$1:$E$175,5,FALSE),0)","v":"04102-COQUIMBO"},"105322","80301034","2021-01-18T11:42:56",36,null,36]
[12,"5",2020,{"$f":"IFERROR(VLOOKUP([1]!Tabla_SERIEA_01_5[[#This Row],[IdEstablecimiento]],[2]Establecimientos!$A$1:$E$175,5,FALSE),0)","v":"04102-COQUIMBO"},"105322","80301036","2021-01-18T11:42:56",178,null,178]
[12,"5",2020,{"$f":"IFERROR(VLOOKUP([1]!Tabla_SERIEA_01_5[[#This Row],[IdEstablecimiento]],[2]Establecimientos!$A$1:$E$175,5,FALSE),0)","v":"04102-COQUIMBO"},"105322","80301038","2021-01-18T11:42:56",50,null,50]
[12,"5",2020,{"$f":"IFERROR(VLOOKUP([1]!Tabla_SERIEA_01_5[[#This Row],[IdEstablecimiento]],[2]Establecimientos!$A$1:$E$175,5,FALSE),0)","v":"04102-COQUIMBO"},"105322","80301041","2021-01-18T11:42:56",498,null,498]
[12,"5",2020,{"$f":"IFERROR(VLOOKUP([1]!Tabla_SERIEA_01_5[[#This Row],[IdEstablecimiento]],[2]Establecimientos!$A$1:$E$175,5,FALSE),0)","v":"04102-COQUIMBO"},"105322","80301045","2021-01-18T11:42:56",773,null,773]
[12,"5",2020,{"$f":"IFERROR(VLOOKUP([1]!Tabla_SERIEA_01_5[[#This Row],[IdEstablecimiento]],[2]Establecimientos!$A$1:$E$175,5,FALSE),0)","v":"04102-COQUIMBO"},"105322","80308005","2021-01-18T11:42:56",3,null,3]
[12,"5",2020,{"$f":"IFERROR(VLOOKUP([1]!Tabla_SERIEA_01_5[[#This Row],[IdEstablecimiento]],[2]Establecimientos!$A$1:$E$175,5,FALSE),0)","v":"04102-COQUIMBO"},"105322","80301059","2021-01-18T11:42:56",25,null,25]
[12,"5",2020,{"$f":"IFERROR(VLOOKUP([1]!Tabla_SERIEA_01_5[[#This Row],[IdEstablecimiento]],[2]Establecimientos!$A$1:$E$175,5,FALSE),0)","v":"04102-COQUIMBO"},"105322","80301065","2021-01-18T11:42:56",1,null,1]
[12,"5",2020,{"$f":"IFERROR(VLOOKUP([1]!Tabla_SERIEA_01_5[[#This Row],[IdEstablecimiento]],[2]Establecimientos!$A$1:$E$175,5,FALSE),0)","v":"04102-COQUIMBO"},"105322","80301067","2021-01-18T11:42:56",4,null,4]
[12,"5",2020,{"$f":"IFERROR(VLOOKUP([1]!Tabla_SERIEA_01_5[[#This Row],[IdEstablecimiento]],[2]Establecimientos!$A$1:$E$175,5,FALSE),0)","v":"04102-COQUIMBO"},"105322","80301086","2021-01-18T11:42:56",3,null,3]
[12,"5",2020,{"$f":"IFERROR(VLOOKUP([1]!Tabla_SERIEA_01_5[[#This Row],[IdEstablecimiento]],[2]Establecimientos!$A$1:$E$175,5,FALSE),0)","v":"04102-COQUIMBO"},"105322","80302005","2021-01-18T11:42:56",503,null,503]
[12,"5",2020,{"$f":"IFERROR(VLOOKUP([1]!Tabla_SERIEA_01_5[[#This Row],[IdEstablecimiento]],[2]Establecimientos!$A$1:$E$175,5,FALSE),0)","v":"04102-COQUIMBO"},"105322","81701001","2021-01-18T11:42:56",41,null,41,null,41]
[12,"5",2020,{"$f":"IFERROR(VLOOKUP([1]!Tabla_SERIEA_01_5[[#This Row],[IdEstablecimiento]],[2]Establecimientos!$A$1:$E$175,5,FALSE),0)","v":"04102-COQUIMBO"},"105322","81701009","2021-01-18T11:42:56",12,null,12,null,12]
[12,"5",2020,{"$f":"IFERROR(VLOOKUP([1]!Tabla_SERIEA_01_5[[#This Row],[IdEstablecimiento]],[2]Establecimientos!$A$1:$E$175,5,FALSE),0)","v":"04102-COQUIMBO"},"105322","81901019","2021-01-18T11:42:56",7,null,7,null,7]
[12,"5",2020,{"$f":"IFERROR(VLOOKUP([1]!Tabla_SERIEA_01_5[[#This Row],[IdEstablecimiento]],[2]Establecimientos!$A$1:$E$175,5,FALSE),0)","v":"04102-COQUIMBO"},"105322","82001015","2021-01-18T11:42:56",1,null,1,null,1]
[12,"5",2020,{"$f":"IFERROR(VLOOKUP([1]!Tabla_SERIEA_01_5[[#This Row],[IdEstablecimiento]],[2]Establecimientos!$A$1:$E$175,5,FALSE),0)","v":"04102-COQUIMBO"},"105322","80106002","2021-01-18T11:42:56",241,null,241,null,241]
[12,"5",2020,{"$f":"IFERROR(VLOOKUP([1]!Tabla_SERIEA_01_5[[#This Row],[IdEstablecimiento]],[2]Establecimientos!$A$1:$E$175,5,FALSE),0)","v":"04102-COQUIMBO"},"105322","80106017","2021-01-18T11:42:56",399,null,399,null,399]
[12,"5",2020,{"$f":"IFERROR(VLOOKUP([1]!Tabla_SERIEA_01_5[[#This Row],[IdEstablecimiento]],[2]Establecimientos!$A$1:$E$175,5,FALSE),0)","v":"04102-COQUIMBO"},"105322","80302012","2021-01-18T11:42:56",2,null,2]
[12,"5",2020,{"$f":"IFERROR(VLOOKUP([1]!Tabla_SERIEA_01_5[[#This Row],[IdEstablecimiento]],[2]Establecimientos!$A$1:$E$175,5,FALSE),0)","v":"04102-COQUIMBO"},"105322","80302013","2021-01-18T11:42:56",11,null,11]
[12,"5",2020,{"$f":"IFERROR(VLOOKUP([1]!Tabla_SERIEA_01_5[[#This Row],[IdEstablecimiento]],[2]Establecimientos!$A$1:$E$175,5,FALSE),0)","v":"04102-COQUIMBO"},"105322","80302067","2021-01-18T11:42:56",9,null,9]
[12,"5",2020,{"$f":"IFERROR(VLOOKUP([1]!Tabla_SERIEA_01_5[[#This Row],[IdEstablecimiento]],[2]Establecimientos!$A$1:$E$175,5,FALSE),0)","v":"04102-COQUIMBO"},"105322","80302068","2021-01-18T11:42:56",4,null,4]
[12,"5",2020,{"$f":"IFERROR(VLOOKUP([1]!Tabla_SERIEA_01_5[[#This Row],[IdEstablecimiento]],[2]Establecimientos!$A$1:$E$175,5,FALSE),0)","v":"04102-COQUIMBO"},"105322","80302023","2021-01-18T11:42:56",824,null,824]
[12,"5",2020,{"$f":"IFERROR(VLOOKUP([1]!Tabla_SERIEA_01_5[[#This Row],[IdEstablecimiento]],[2]Establecimientos!$A$1:$E$175,5,FALSE),0)","v":"04102-COQUIMBO"},"105322","80302024","2021-01-18T11:42:56",7,null,7]
[12,"5",2020,{"$f":"IFERROR(VLOOKUP([1]!Tabla_SERIEA_01_5[[#This Row],[IdEstablecimiento]],[2]Establecimientos!$A$1:$E$175,5,FALSE),0)","v":"04102-COQUIMBO"},"105322","80302032","2021-01-18T11:42:56",1989,null,1989]
[12,"5",2020,{"$f":"IFERROR(VLOOKUP([1]!Tabla_SERIEA_01_5[[#This Row],[IdEstablecimiento]],[2]Establecimientos!$A$1:$E$175,5,FALSE),0)","v":"04102-COQUIMBO"},"105322","80302034","2021-01-18T11:42:56",906,null,906]
[12,"5",2020,{"$f":"IFERROR(VLOOKUP([1]!Tabla_SERIEA_01_5[[#This Row],[IdEstablecimiento]],[2]Establecimientos!$A$1:$E$175,5,FALSE),0)","v":"04102-COQUIMBO"},"105322","80302040","2021-01-18T11:42:56",4,null,4]
[12,"5",2020,{"$f":"IFERROR(VLOOKUP([1]!Tabla_SERIEA_01_5[[#This Row],[IdEstablecimiento]],[2]Establecimientos!$A$1:$E$175,5,FALSE),0)","v":"04102-COQUIMBO"},"105322","80302045","2021-01-18T11:42:56",1,null,1]
[12,"5",2020,{"$f":"IFERROR(VLOOKUP([1]!Tabla_SERIEA_01_5[[#This Row],[IdEstablecimiento]],[2]Establecimientos!$A$1:$E$175,5,FALSE),0)","v":"04102-COQUIMBO"},"105322","80302047","2021-01-18T11:42:56",1046,null,1046]
[12,"5",2020,{"$f":"IFERROR(VLOOKUP([1]!Tabla_SERIEA_01_5[[#This Row],[IdEstablecimiento]],[2]Establecimientos!$A$1:$E$175,5,FALSE),0)","v":"04102-COQUIMBO"},"105322","80302048","2021-01-18T11:42:56",146,null,146]
[12,"5",2020,{"$f":"IFERROR(VLOOKUP([1]!Tabla_SERIEA_01_5[[#This Row],[IdEstablecimiento]],[2]Establecimientos!$A$1:$E$175,5,FALSE),0)","v":"04102-COQUIMBO"},"105322","80302057","2021-01-18T11:42:56",692,null,692]
[12,"5",2020,{"$f":"IFERROR(VLOOKUP([1]!Tabla_SERIEA_01_5[[#This Row],[IdEstablecimiento]],[2]Establecimientos!$A$1:$E$175,5,FALSE),0)","v":"04102-COQUIMBO"},"105322","80302059","2021-01-18T11:42:56",66,null,66]
[12,"5",2020,{"$f":"IFERROR(VLOOKUP([1]!Tabla_SERIEA_01_5[[#This Row],[IdEstablecimiento]],[2]Establecimientos!$A$1:$E$175,5,FALSE),0)","v":"04102-COQUIMBO"},"105322","80302060","2021-01-18T11:42:56",15,null,15]
[12,"5",2020,{"$f":"IFERROR(VLOOKUP([1]!Tabla_SERIEA_01_5[[#This Row],[IdEstablecimiento]],[2]Establecimientos!$A$1:$E$175,5,FALSE),0)","v":"04102-COQUIMBO"},"105322","80302076","2021-01-18T11:42:56",402,null,402]
[12,"5",2020,{"$f":"IFERROR(VLOOKUP([1]!Tabla_SERIEA_01_5[[#This Row],[IdEstablecimiento]],[2]Establecimientos!$A$1:$E$175,5,FALSE),0)","v":"04102-COQUIMBO"},"105322","80302063","2021-01-18T11:42:56",8,null,8]
[12,"5",2020,{"$f":"IFERROR(VLOOKUP([1]!Tabla_SERIEA_01_5[[#This Row],[IdEstablecimiento]],[2]Establecimientos!$A$1:$E$175,5,FALSE),0)","v":"04102-COQUIMBO"},"105322","80302064","2021-01-18T11:42:56",6,null,6]
[12,"5",2020,{"$f":"IFERROR(VLOOKUP([1]!Tabla_SERIEA_01_5[[#This Row],[IdEstablecimiento]],[2]Establecimientos!$A$1:$E$175,5,FALSE),0)","v":"04102-COQUIMBO"},"105322","80303024","2021-01-18T11:42:56",539,null,539]
[12,"5",2020,{"$f":"IFERROR(VLOOKUP([1]!Tabla_SERIEA_01_5[[#This Row],[IdEstablecimiento]],[2]Establecimientos!$A$1:$E$175,5,FALSE),0)","v":"04102-COQUIMBO"},"105322","80303026","2021-01-18T11:42:56",426,null,426]
[12,"5",2020,{"$f":"IFERROR(VLOOKUP([1]!Tabla_SERIEA_01_5[[#This Row],[IdEstablecimiento]],[2]Establecimientos!$A$1:$E$175,5,FALSE),0)","v":"04102-COQUIMBO"},"105322","80306004","2021-01-18T11:42:56",2,null,2]
[12,"5",2020,{"$f":"IFERROR(VLOOKUP([1]!Tabla_SERIEA_01_5[[#This Row],[IdEstablecimiento]],[2]Establecimientos!$A$1:$E$175,5,FALSE),0)","v":"04102-COQUIMBO"},"105322","80306005","2021-01-18T11:42:56",6,null,6]
[12,"5",2020,{"$f":"IFERROR(VLOOKUP([1]!Tabla_SERIEA_01_5[[#This Row],[IdEstablecimiento]],[2]Establecimientos!$A$1:$E$175,5,FALSE),0)","v":"04102-COQUIMBO"},"105322","80306007","2021-01-18T11:42:56",5,null,5]
[12,"5",2020,{"$f":"IFERROR(VLOOKUP([1]!Tabla_SERIEA_01_5[[#This Row],[IdEstablecimiento]],[2]Establecimientos!$A$1:$E$175,5,FALSE),0)","v":"04102-COQUIMBO"},"105322","80306008","2021-01-18T11:42:56",6,null,6]
[12,"5",2020,{"$f":"IFERROR(VLOOKUP([1]!Tabla_SERIEA_01_5[[#This Row],[IdEstablecimiento]],[2]Establecimientos!$A$1:$E$175,5,FALSE),0)","v":"04102-COQUIMBO"},"105322","80306011","2021-01-18T11:42:56",225,null,225]
[12,"5",2020,{"$f":"IFERROR(VLOOKUP([1]!Tabla_SERIEA_01_5[[#This Row],[IdEstablecimiento]],[2]Establecimientos!$A$1:$E$175,5,FALSE),0)","v":"04102-COQUIMBO"},"105322","80306117","2021-01-18T11:42:56",2,null,2]
[12,"5",2020,{"$f":"IFERROR(VLOOKUP([1]!Tabla_SERIEA_01_5[[#This Row],[IdEstablecimiento]],[2]Establecimientos!$A$1:$E$175,5,FALSE),0)","v":"04102-COQUIMBO"},"105322","80106013","2021-01-18T11:42:56",1,null,1,null,1]
[12,"5",2020,{"$f":"IFERROR(VLOOKUP([1]!Tabla_SERIEA_01_5[[#This Row],[IdEstablecimiento]],[2]Establecimientos!$A$1:$E$175,5,FALSE),0)","v":"04102-COQUIMBO"},"105322","80106014","2021-01-18T11:42:56",210,null,210,null,210]
[12,"5",2020,{"$f":"IFERROR(VLOOKUP([1]!Tabla_SERIEA_01_5[[#This Row],[IdEstablecimiento]],[2]Establecimientos!$A$1:$E$175,5,FALSE),0)","v":"04102-COQUIMBO"},"105322","80106015","2021-01-18T11:42:56",1,null,1,null,1]
[12,"5",2020,{"$f":"IFERROR(VLOOKUP([1]!Tabla_SERIEA_01_5[[#This Row],[IdEstablecimiento]],[2]Establecimientos!$A$1:$E$175,5,FALSE),0)","v":"04102-COQUIMBO"},"105322","80106022","2021-01-18T11:42:56",17,null,17,null,17]
[12,"5",2020,{"$f":"IFERROR(VLOOKUP([1]!Tabla_SERIEA_01_5[[#This Row],[IdEstablecimiento]],[2]Establecimientos!$A$1:$E$175,5,FALSE),0)","v":"04102-COQUIMBO"},"105322","80106023","2021-01-18T11:42:56",29,null,29,null,29]
[12,"5",2020,{"$f":"IFERROR(VLOOKUP([1]!Tabla_SERIEA_01_5[[#This Row],[IdEstablecimiento]],[2]Establecimientos!$A$1:$E$175,5,FALSE),0)","v":"04102-COQUIMBO"},"105322","80307011","2021-01-18T11:42:56",305,null,305]
[12,"5",2020,{"$f":"IFERROR(VLOOKUP([1]!Tabla_SERIEA_01_5[[#This Row],[IdEstablecimiento]],[2]Establecimientos!$A$1:$E$175,5,FALSE),0)","v":"04102-COQUIMBO"},"105322","80307012","2021-01-18T11:42:56",4,null,4]
[12,"5",2020,{"$f":"IFERROR(VLOOKUP([1]!Tabla_SERIEA_01_5[[#This Row],[IdEstablecimiento]],[2]Establecimientos!$A$1:$E$175,5,FALSE),0)","v":"04102-COQUIMBO"},"105322","80500001","2021-01-18T11:42:56",12,null,12,null,12]
[12,"5",2020,{"$f":"IFERROR(VLOOKUP([1]!Tabla_SERIEA_01_5[[#This Row],[IdEstablecimiento]],[2]Establecimientos!$A$1:$E$175,5,FALSE),0)","v":"04102-COQUIMBO"},"105322","80500008","2021-01-18T11:42:56",1,null,1,null,1]
[12,"5",2020,{"$f":"IFERROR(VLOOKUP([1]!Tabla_SERIEA_01_5[[#This Row],[IdEstablecimiento]],[2]Establecimientos!$A$1:$E$175,5,FALSE),0)","v":"04102-COQUIMBO"},"105322","80500014","2021-01-18T11:42:56",0,{"$nulls":4},78]
[12,"5",2020,{"$f":"IFERROR(VLOOKUP([1]!Tabla_SERIEA_01_5[[#This Row],[IdEstablecimiento]],[2]Establecimientos!$A$1:$E$175,5,FALSE),0)","v":"04102-COQUIMBO"},"105322","80306026","2021-01-18T11:42:56",9,null,9]
[12,"5",2020,{"$f":"IFERROR(VLOOKUP([1]!Tabla_SERIEA_01_5[[#This Row],[IdEstablecimiento]],[2]Establecimientos!$A$1:$E$175,5,FALSE),0)","v":"04102-COQUIMBO"},"105322","80306038","2021-01-18T11:42:56",129,null,129]
[12,"5",2020,{"$f":"IFERROR(VLOOKUP([1]!Tabla_SERIEA_01_5[[#This Row],[IdEstablecimiento]],[2]Establecimientos!$A$1:$E$175,5,FALSE),0)","v":"04102-COQUIMBO"},"105322","80306048","2021-01-18T11:42:56",7,null,7]
[12,"5",2020,{"$f":"IFERROR(VLOOKUP([1]!Tabla_SERIEA_01_5[[#This Row],[IdEstablecimiento]],[2]Establecimientos!$A$1:$E$175,5,FALSE),0)","v":"04102-COQUIMBO"},"105322","80305019","2021-01-18T11:42:56",20,null,20]
[12,"5",2020,{"$f":"IFERROR(VLOOKUP([1]!Tabla_SERIEA_01_5[[#This Row],[IdEstablecimiento]],[2]Establecimientos!$A$1:$E$175,5,FALSE),0)","v":"04102-COQUIMBO"},"105322","18010100","2021-01-18T11:42:56",1568,0,1568]
[12,"5",2020,{"$f":"IFERROR(VLOOKUP([1]!Tabla_SERIEA_01_5[[#This Row],[IdEstablecimiento]],[2]Establecimientos!$A$1:$E$175,5,FALSE),0)","v":"04102-COQUIMBO"},"105322","18010200","2021-01-18T11:42:56",6641,0,6641]
[12,"5",2020,{"$f":"IFERROR(VLOOKUP([1]!Tabla_SERIEA_01_5[[#This Row],[IdEstablecimiento]],[2]Establecimientos!$A$1:$E$175,5,FALSE),0)","v":"04102-COQUIMBO"},"105322","18090100","2021-01-18T11:42:56",965,0,965]
[12,"5",2020,{"$f":"IFERROR(VLOOKUP([1]!Tabla_SERIEA_01_5[[#This Row],[IdEstablecimiento]],[2]Establecimientos!$A$1:$E$175,5,FALSE),0)","v":"04102-COQUIMBO"},"105322","18010500","2021-01-18T11:42:56",20,0,20]
[12,"5",2020,{"$f":"IFERROR(VLOOKUP([1]!Tabla_SERIEA_01_5[[#This Row],[IdEstablecimiento]],[2]Establecimientos!$A$1:$E$175,5,FALSE),0)","v":"04102-COQUIMBO"},"105322","18010601","2021-01-18T11:42:56",391,0,391]
[12,"5",2020,{"$f":"IFERROR(VLOOKUP([1]!Tabla_SERIEA_01_5[[#This Row],[IdEstablecimiento]],[2]Establecimientos!$A$1:$E$175,5,FALSE),0)","v":"04102-COQUIMBO"},"105322","18010800","2021-01-18T11:42:56",5,0,5]
[12,"5",2020,{"$f":"IFERROR(VLOOKUP([1]!Tabla_SERIEA_01_5[[#This Row],[IdEstablecimiento]],[2]Establecimientos!$A$1:$E$175,5,FALSE),0)","v":"04102-COQUIMBO"},"105322","18010900","2021-01-18T11:42:56",2159,0,2159]
[12,"5",2020,{"$f":"IFERROR(VLOOKUP([1]!Tabla_SERIEA_01_5[[#This Row],[IdEstablecimiento]],[2]Establecimientos!$A$1:$E$175,5,FALSE),0)","v":"04102-COQUIMBO"},"105322","18020500","2021-01-18T11:42:56",53,0,53]
[12,"5",2020,{"$f":"IFERROR(VLOOKUP([1]!Tabla_SERIEA_01_5[[#This Row],[IdEstablecimiento]],[2]Establecimientos!$A$1:$E$175,5,FALSE),0)","v":"04102-COQUIMBO"},"105322","18020700","2021-01-18T11:42:56",7,0,7]
[12,"5",2020,{"$f":"IFERROR(VLOOKUP([1]!Tabla_SERIEA_01_5[[#This Row],[IdEstablecimiento]],[2]Establecimientos!$A$1:$E$175,5,FALSE),0)","v":"04102-COQUIMBO"},"105322","18020900","2021-01-18T11:42:56",1,0,1]
[12,"5",2020,{"$f":"IFERROR(VLOOKUP([1]!Tabla_SERIEA_01_5[[#This Row],[IdEstablecimiento]],[2]Establecimientos!$A$1:$E$175,5,FALSE),0)","v":"04102-COQUIMBO"},"105322","18090000","2021-01-18T11:42:56",29,0,29]
[12,"5",2020,{"$f":"IFERROR(VLOOKUP([1]!Tabla_SERIEA_01_5[[#This Row],[IdEstablecimiento]],[2]Establecimientos!$A$1:$E$175,5,FALSE),0)","v":"04102-COQUIMBO"},"105322","18050100","2021-01-18T11:42:56",241,0,241]
[12,"5",2020,{"$f":"IFERROR(VLOOKUP([1]!Tabla_SERIEA_01_5[[#This Row],[IdEstablecimiento]],[2]Establecimientos!$A$1:$E$175,5,FALSE),0)","v":"04102-COQUIMBO"},"105322","18070300","2021-01-18T11:42:56",18,null,3,null,2,10,3]
[12,"5",2020,{"$f":"IFERROR(VLOOKUP([1]!Tabla_SERIEA_01_5[[#This Row],[IdEstablecimiento]],[2]Establecimientos!$A$1:$E$175,5,FALSE),0)","v":"04102-COQUIMBO"},"105322","18090200","2021-01-18T11:42:56",46]
[12,"5",2020,{"$f":"IFERROR(VLOOKUP([1]!Tabla_SERIEA_01_5[[#This Row],[IdEstablecimiento]],[2]Establecimientos!$A$1:$E$175,5,FALSE),0)","v":"04102-COQUIMBO"},"105323","80401151","2021-01-18T11:43:24",23,null,23,23]
[12,"5",2020,{"$f":"IFERROR(VLOOKUP([1]!Tabla_SERIEA_01_5[[#This Row],[IdEstablecimiento]],[2]Establecimientos!$A$1:$E$175,5,FALSE),0)","v":"04102-COQUIMBO"},"105323","80309013","2021-01-18T11:43:24",0,null,null,81]
[12,"5",2020,{"$f":"IFERROR(VLOOKUP([1]!Tabla_SERIEA_01_5[[#This Row],[IdEstablecimiento]],[2]Establecimientos!$A$1:$E$175,5,FALSE),0)","v":"04102-COQUIMBO"},"105323","80309014","2021-01-18T11:43:24",0,null,null,2]
[12,"5",2020,{"$f":"IFERROR(VLOOKUP([1]!Tabla_SERIEA_01_5[[#This Row],[IdEstablecimiento]],[2]Establecimientos!$A$1:$E$175,5,FALSE),0)","v":"04102-COQUIMBO"},"105323","80309022","2021-01-18T11:43:24",0,null,null,240]
[12,"5",2020,{"$f":"IFERROR(VLOOKUP([1]!Tabla_SERIEA_01_5[[#This Row],[IdEstablecimiento]],[2]Establecimientos!$A$1:$E$175,5,FALSE),0)","v":"04102-COQUIMBO"},"105323","80309023","2021-01-18T11:43:24",0,null,null,2]
[12,"5",2020,{"$f":"IFERROR(VLOOKUP([1]!Tabla_SERIEA_01_5[[#This Row],[IdEstablecimiento]],[2]Establecimientos!$A$1:$E$175,5,FALSE),0)","v":"04102-COQUIMBO"},"105323","80309028","2021-01-18T11:43:24",0,null,null,1]
[12,"5",2020,{"$f":"IFERROR(VLOOKUP([1]!Tabla_SERIEA_01_5[[#This Row],[IdEstablecimiento]],[2]Establecimientos!$A$1:$E$175,5,FALSE),0)","v":"04102-COQUIMBO"},"105323","80401008","2021-01-18T11:43:24",1,null,1,1]
[12,"5",2020,{"$f":"IFERROR(VLOOKUP([1]!Tabla_SERIEA_01_5[[#This Row],[IdEstablecimiento]],[2]Establecimientos!$A$1:$E$175,5,FALSE),0)","v":"04102-COQUIMBO"},"105323","80301015","2021-01-18T11:43:24",14,null,14]
[12,"5",2020,{"$f":"IFERROR(VLOOKUP([1]!Tabla_SERIEA_01_5[[#This Row],[IdEstablecimiento]],[2]Establecimientos!$A$1:$E$175,5,FALSE),0)","v":"04102-COQUIMBO"},"105323","80301034","2021-01-18T11:43:24",14,null,14]
[12,"5",2020,{"$f":"IFERROR(VLOOKUP([1]!Tabla_SERIEA_01_5[[#This Row],[IdEstablecimiento]],[2]Establecimientos!$A$1:$E$175,5,FALSE),0)","v":"04102-COQUIMBO"},"105323","80301036","2021-01-18T11:43:24",0,null,null,120]
[12,"5",2020,{"$f":"IFERROR(VLOOKUP([1]!Tabla_SERIEA_01_5[[#This Row],[IdEstablecimiento]],[2]Establecimientos!$A$1:$E$175,5,FALSE),0)","v":"04102-COQUIMBO"},"105323","80301038","2021-01-18T11:43:24",0,null,null,120]
[12,"5",2020,{"$f":"IFERROR(VLOOKUP([1]!Tabla_SERIEA_01_5[[#This Row],[IdEstablecimiento]],[2]Establecimientos!$A$1:$E$175,5,FALSE),0)","v":"04102-COQUIMBO"},"105323","80301041","2021-01-18T11:43:24",0,null,null,124]
[12,"5",2020,{"$f":"IFERROR(VLOOKUP([1]!Tabla_SERIEA_01_5[[#This Row],[IdEstablecimiento]],[2]Establecimientos!$A$1:$E$175,5,FALSE),0)","v":"04102-COQUIMBO"},"105323","80301045","2021-01-18T11:43:24",0,null,null,245]
[12,"5",2020,{"$f":"IFERROR(VLOOKUP([1]!Tabla_SERIEA_01_5[[#This Row],[IdEstablecimiento]],[2]Establecimientos!$A$1:$E$175,5,FALSE),0)","v":"04102-COQUIMBO"},"105323","80306061","2021-01-18T11:43:24",15,null,15]
[12,"5",2020,{"$f":"IFERROR(VLOOKUP([1]!Tabla_SERIEA_01_5[[#This Row],[IdEstablecimiento]],[2]Establecimientos!$A$1:$E$175,5,FALSE),0)","v":"04102-COQUIMBO"},"105323","80308004","2021-01-18T11:43:24",0,null,null,2]
[12,"5",2020,{"$f":"IFERROR(VLOOKUP([1]!Tabla_SERIEA_01_5[[#This Row],[IdEstablecimiento]],[2]Establecimientos!$A$1:$E$175,5,FALSE),0)","v":"04102-COQUIMBO"},"105323","80301059","2021-01-18T11:43:24",0,null,null,12]
[12,"5",2020,{"$f":"IFERROR(VLOOKUP([1]!Tabla_SERIEA_01_5[[#This Row],[IdEstablecimiento]],[2]Establecimientos!$A$1:$E$175,5,FALSE),0)","v":"04102-COQUIMBO"},"105323","80301085","2021-01-18T11:43:24",0,null,null,11]
[12,"5",2020,{"$f":"IFERROR(VLOOKUP([1]!Tabla_SERIEA_01_5[[#This Row],[IdEstablecimiento]],[2]Establecimientos!$A$1:$E$175,5,FALSE),0)","v":"04102-COQUIMBO"},"105323","80302005","2021-01-18T11:43:24",0,null,null,147]
[12,"5",2020,{"$f":"IFERROR(VLOOKUP([1]!Tabla_SERIEA_01_5[[#This Row],[IdEstablecimiento]],[2]Establecimientos!$A$1:$E$175,5,FALSE),0)","v":"04102-COQUIMBO"},"105323","81701001","2021-01-18T11:43:24",40,null,40,null,40]
[12,"5",2020,{"$f":"IFERROR(VLOOKUP([1]!Tabla_SERIEA_01_5[[#This Row],[IdEstablecimiento]],[2]Establecimientos!$A$1:$E$175,5,FALSE),0)","v":"04102-COQUIMBO"},"105323","81701009","2021-01-18T11:43:24",27,null,27,null,27]
[12,"5",2020,{"$f":"IFERROR(VLOOKUP([1]!Tabla_SERIEA_01_5[[#This Row],[IdEstablecimiento]],[2]Establecimientos!$A$1:$E$175,5,FALSE),0)","v":"04102-COQUIMBO"},"105323","81602201","2021-01-18T11:43:24",3,null,3,3]
[12,"5",2020,{"$f":"IFERROR(VLOOKUP([1]!Tabla_SERIEA_01_5[[#This Row],[IdEstablecimiento]],[2]Establecimientos!$A$1:$E$175,5,FALSE),0)","v":"04102-COQUIMBO"},"105323","81602202","2021-01-18T11:43:24",1,null,1,1]
[12,"5",2020,{"$f":"IFERROR(VLOOKUP([1]!Tabla_SERIEA_01_5[[#This Row],[IdEstablecimiento]],[2]Establecimientos!$A$1:$E$175,5,FALSE),0)","v":"04102-COQUIMBO"},"105323","81602203","2021-01-18T11:43:24",10,null,10,10]
[12,"5",2020,{"$f":"IFERROR(VLOOKUP([1]!Tabla_SERIEA_01_5[[#This Row],[IdEstablecimiento]],[2]Establecimientos!$A$1:$E$175,5,FALSE),0)","v":"04102-COQUIMBO"},"105323","81602204","2021-01-18T11:43:24",2,null,2,2]
[12,"5",2020,{"$f":"IFERROR(VLOOKUP([1]!Tabla_SERIEA_01_5[[#This Row],[IdEstablecimiento]],[2]Establecimientos!$A$1:$E$175,5,FALSE),0)","v":"04102-COQUIMBO"},"105323","81602206","2021-01-18T11:43:24",2,null,2,2]
[12,"5",2020,{"$f":"IFERROR(VLOOKUP([1]!Tabla_SERIEA_01_5[[#This Row],[IdEstablecimiento]],[2]Establecimientos!$A$1:$E$175,5,FALSE),0)","v":"04102-COQUIMBO"},"105323","81602217","2021-01-18T11:43:24",1,null,1,1]
[12,"5",2020,{"$f":"IFERROR(VLOOKUP([1]!Tabla_SERIEA_01_5[[#This Row],[IdEstablecimiento]],[2]Establecimientos!$A$1:$E$175,5,FALSE),0)","v":"04102-COQUIMBO"},"105323","81602224","2021-01-18T11:43:24",3,null,3,3]
[12,"5",2020,{"$f":"IFERROR(VLOOKUP([1]!Tabla_SERIEA_01_5[[#This Row],[IdEstablecimiento]],[2]Establecimientos!$A$1:$E$175,5,FALSE),0)","v":"04102-COQUIMBO"},"105323","81602225","2021-01-18T11:43:24",8,null,8,8]
[12,"5",2020,{"$f":"IFERROR(VLOOKUP([1]!Tabla_SERIEA_01_5[[#This Row],[IdEstablecimiento]],[2]Establecimientos!$A$1:$E$175,5,FALSE),0)","v":"04102-COQUIMBO"},"105323","81602231","2021-01-18T11:43:24",1,null,1,1]
[12,"5",2020,{"$f":"IFERROR(VLOOKUP([1]!Tabla_SERIEA_01_5[[#This Row],[IdEstablecimiento]],[2]Establecimientos!$A$1:$E$175,5,FALSE),0)","v":"04102-COQUIMBO"},"105323","80106002","2021-01-18T11:43:24",110,null,110,0,218]
[12,"5",2020,{"$f":"IFERROR(VLOOKUP([1]!Tabla_SERIEA_01_5[[#This Row],[IdEstablecimiento]],[2]Establecimientos!$A$1:$E$175,5,FALSE),0)","v":"04102-COQUIMBO"},"105323","80106006","2021-01-18T11:43:24",2,null,2,0,2]
[12,"5",2020,{"$f":"IFERROR(VLOOKUP([1]!Tabla_SERIEA_01_5[[#This Row],[IdEstablecimiento]],[2]Establecimientos!$A$1:$E$175,5,FALSE),0)","v":"04102-COQUIMBO"},"105323","80106017","2021-01-18T11:43:24",168,null,168,null,212]
[12,"5",2020,{"$f":"IFERROR(VLOOKUP([1]!Tabla_SERIEA_01_5[[#This Row],[IdEstablecimiento]],[2]Establecimientos!$A$1:$E$175,5,FALSE),0)","v":"04102-COQUIMBO"},"105323","80302013","2021-01-18T11:43:24",0,null,null,82]
[12,"5",2020,{"$f":"IFERROR(VLOOKUP([1]!Tabla_SERIEA_01_5[[#This Row],[IdEstablecimiento]],[2]Establecimientos!$A$1:$E$175,5,FALSE),0)","v":"04102-COQUIMBO"},"105323","80302067","2021-01-18T11:43:24",0,null,null,176]
[12,"5",2020,{"$f":"IFERROR(VLOOKUP([1]!Tabla_SERIEA_01_5[[#This Row],[IdEstablecimiento]],[2]Establecimientos!$A$1:$E$175,5,FALSE),0)","v":"04102-COQUIMBO"},"105323","80302068","2021-01-18T11:43:24",0,null,null,174]
[12,"5",2020,{"$f":"IFERROR(VLOOKUP([1]!Tabla_SERIEA_01_5[[#This Row],[IdEstablecimiento]],[2]Establecimientos!$A$1:$E$175,5,FALSE),0)","v":"04102-COQUIMBO"},"105323","80302023","2021-01-18T11:43:24",0,null,null,241]
[12,"5",2020,{"$f":"IFERROR(VLOOKUP([1]!Tabla_SERIEA_01_5[[#This Row],[IdEstablecimiento]],[2]Establecimientos!$A$1:$E$175,5,FALSE),0)","v":"04102-COQUIMBO"},"105323","80302024","2021-01-18T11:43:24",0,null,null,2]
[12,"5",2020,{"$f":"IFERROR(VLOOKUP([1]!Tabla_SERIEA_01_5[[#This Row],[IdEstablecimiento]],[2]Establecimientos!$A$1:$E$175,5,FALSE),0)","v":"04102-COQUIMBO"},"105323","80302032","2021-01-18T11:43:24",0,null,null,132]
[12,"5",2020,{"$f":"IFERROR(VLOOKUP([1]!Tabla_SERIEA_01_5[[#This Row],[IdEstablecimiento]],[2]Establecimientos!$A$1:$E$175,5,FALSE),0)","v":"04102-COQUIMBO"},"105323","80302034","2021-01-18T11:43:24",0,null,null,221]
[12,"5",2020,{"$f":"IFERROR(VLOOKUP([1]!Tabla_SERIEA_01_5[[#This Row],[IdEstablecimiento]],[2]Establecimientos!$A$1:$E$175,5,FALSE),0)","v":"04102-COQUIMBO"},"105323","80302040","2021-01-18T11:43:24",0,null,null,78]
[12,"5",2020,{"$f":"IFERROR(VLOOKUP([1]!Tabla_SERIEA_01_5[[#This Row],[IdEstablecimiento]],[2]Establecimientos!$A$1:$E$175,5,FALSE),0)","v":"04102-COQUIMBO"},"105323","80302047","2021-01-18T11:43:24",0,null,null,276]
[12,"5",2020,{"$f":"IFERROR(VLOOKUP([1]!Tabla_SERIEA_01_5[[#This Row],[IdEstablecimiento]],[2]Establecimientos!$A$1:$E$175,5,FALSE),0)","v":"04102-COQUIMBO"},"105323","80302048","2021-01-18T11:43:24",0,null,null,30]
[12,"5",2020,{"$f":"IFERROR(VLOOKUP([1]!Tabla_SERIEA_01_5[[#This Row],[IdEstablecimiento]],[2]Establecimientos!$A$1:$E$175,5,FALSE),0)","v":"04102-COQUIMBO"},"105323","80302057","2021-01-18T11:43:24",0,null,null,157]
[12,"5",2020,{"$f":"IFERROR(VLOOKUP([1]!Tabla_SERIEA_01_5[[#This Row],[IdEstablecimiento]],[2]Establecimientos!$A$1:$E$175,5,FALSE),0)","v":"04102-COQUIMBO"},"105323","80302060","2021-01-18T11:43:24",0,null,null,19]
[12,"5",2020,{"$f":"IFERROR(VLOOKUP([1]!Tabla_SERIEA_01_5[[#This Row],[IdEstablecimiento]],[2]Establecimientos!$A$1:$E$175,5,FALSE),0)","v":"04102-COQUIMBO"},"105323","80302076","2021-01-18T11:43:24",0,null,null,21]
[12,"5",2020,{"$f":"IFERROR(VLOOKUP([1]!Tabla_SERIEA_01_5[[#This Row],[IdEstablecimiento]],[2]Establecimientos!$A$1:$E$175,5,FALSE),0)","v":"04102-COQUIMBO"},"105323","80302063","2021-01-18T11:43:24",0,null,null,167]
[12,"5",2020,{"$f":"IFERROR(VLOOKUP([1]!Tabla_SERIEA_01_5[[#This Row],[IdEstablecimiento]],[2]Establecimientos!$A$1:$E$175,5,FALSE),0)","v":"04102-COQUIMBO"},"105323","80302064","2021-01-18T11:43:24",0,null,null,175]
[12,"5",2020,{"$f":"IFERROR(VLOOKUP([1]!Tabla_SERIEA_01_5[[#This Row],[IdEstablecimiento]],[2]Establecimientos!$A$1:$E$175,5,FALSE),0)","v":"04102-COQUIMBO"},"105323","80303024","2021-01-18T11:43:24",0,null,null,162]
[12,"5",2020,{"$f":"IFERROR(VLOOKUP([1]!Tabla_SERIEA_01_5[[#This Row],[IdEstablecimiento]],[2]Establecimientos!$A$1:$E$175,5,FALSE),0)","v":"04102-COQUIMBO"},"105323","80303026","2021-01-18T11:43:24",0,null,null,62]
[12,"5",2020,{"$f":"IFERROR(VLOOKUP([1]!Tabla_SERIEA_01_5[[#This Row],[IdEstablecimiento]],[2]Establecimientos!$A$1:$E$175,5,FALSE),0)","v":"04102-COQUIMBO"},"105323","80303027","2021-01-18T11:43:24",0,null,null,13]
[12,"5",2020,{"$f":"IFERROR(VLOOKUP([1]!Tabla_SERIEA_01_5[[#This Row],[IdEstablecimiento]],[2]Establecimientos!$A$1:$E$175,5,FALSE),0)","v":"04102-COQUIMBO"},"105323","80303028","2021-01-18T11:43:24",0,null,null,15]
[12,"5",2020,{"$f":"IFERROR(VLOOKUP([1]!Tabla_SERIEA_01_5[[#This Row],[IdEstablecimiento]],[2]Establecimientos!$A$1:$E$175,5,FALSE),0)","v":"04102-COQUIMBO"},"105323","80306011","2021-01-18T11:43:24",0,null,null,70]
[12,"5",2020,{"$f":"IFERROR(VLOOKUP([1]!Tabla_SERIEA_01_5[[#This Row],[IdEstablecimiento]],[2]Establecimientos!$A$1:$E$175,5,FALSE),0)","v":"04102-COQUIMBO"},"105323","80106010","2021-01-18T11:43:24",3,null,3,3]
[12,"5",2020,{"$f":"IFERROR(VLOOKUP([1]!Tabla_SERIEA_01_5[[#This Row],[IdEstablecimiento]],[2]Establecimientos!$A$1:$E$175,5,FALSE),0)","v":"04102-COQUIMBO"},"105323","80106014","2021-01-18T11:43:24",145,null,145,0,151]
[12,"5",2020,{"$f":"IFERROR(VLOOKUP([1]!Tabla_SERIEA_01_5[[#This Row],[IdEstablecimiento]],[2]Establecimientos!$A$1:$E$175,5,FALSE),0)","v":"04102-COQUIMBO"},"105323","80106015","2021-01-18T11:43:24",6,null,6,0,52]
[12,"5",2020,{"$f":"IFERROR(VLOOKUP([1]!Tabla_SERIEA_01_5[[#This Row],[IdEstablecimiento]],[2]Establecimientos!$A$1:$E$175,5,FALSE),0)","v":"04102-COQUIMBO"},"105323","80106020","2021-01-18T11:43:24",2,null,2,0,2]
[12,"5",2020,{"$f":"IFERROR(VLOOKUP([1]!Tabla_SERIEA_01_5[[#This Row],[IdEstablecimiento]],[2]Establecimientos!$A$1:$E$175,5,FALSE),0)","v":"04102-COQUIMBO"},"105323","80106022","2021-01-18T11:43:24",9,null,9,0,15]
[12,"5",2020,{"$f":"IFERROR(VLOOKUP([1]!Tabla_SERIEA_01_5[[#This Row],[IdEstablecimiento]],[2]Establecimientos!$A$1:$E$175,5,FALSE),0)","v":"04102-COQUIMBO"},"105323","80106023","2021-01-18T11:43:24",50,null,50]
[12,"5",2020,{"$f":"IFERROR(VLOOKUP([1]!Tabla_SERIEA_01_5[[#This Row],[IdEstablecimiento]],[2]Establecimientos!$A$1:$E$175,5,FALSE),0)","v":"04102-COQUIMBO"},"105323","80307011","2021-01-18T11:43:24",391,null,391]
[12,"5",2020,{"$f":"IFERROR(VLOOKUP([1]!Tabla_SERIEA_01_5[[#This Row],[IdEstablecimiento]],[2]Establecimientos!$A$1:$E$175,5,FALSE),0)","v":"04102-COQUIMBO"},"105323","80307012","2021-01-18T11:43:24",3,null,3]
[12,"5",2020,{"$f":"IFERROR(VLOOKUP([1]!Tabla_SERIEA_01_5[[#This Row],[IdEstablecimiento]],[2]Establecimientos!$A$1:$E$175,5,FALSE),0)","v":"04102-COQUIMBO"},"105323","80500011","2021-01-18T11:43:24",31,null,31,0,31]
[12,"5",2020,{"$f":"IFERROR(VLOOKUP([1]!Tabla_SERIEA_01_5[[#This Row],[IdEstablecimiento]],[2]Establecimientos!$A$1:$E$175,5,FALSE),0)","v":"04102-COQUIMBO"},"105323","80306042","2021-01-18T11:43:24",0,null,null,45]
[12,"5",2020,{"$f":"IFERROR(VLOOKUP([1]!Tabla_SERIEA_01_5[[#This Row],[IdEstablecimiento]],[2]Establecimientos!$A$1:$E$175,5,FALSE),0)","v":"04102-COQUIMBO"},"105323","80305019","2021-01-18T11:43:24",0,null,null,6]
[12,"5",2020,{"$f":"IFERROR(VLOOKUP([1]!Tabla_SERIEA_01_5[[#This Row],[IdEstablecimiento]],[2]Establecimientos!$A$1:$E$175,5,FALSE),0)","v":"04102-COQUIMBO"},"105323","18700230","2021-01-18T11:43:24",null,null,87,{"$nulls":3},87]
[12,"5",2020,{"$f":"IFERROR(VLOOKUP([1]!Tabla_SERIEA_01_5[[#This Row],[IdEstablecimiento]],[2]Establecimientos!$A$1:$E$175,5,FALSE),0)","v":"04102-COQUIMBO"},"105323","18010100","2021-01-18T11:43:24",28,0,28]
[12,"5",2020,{"$f":"IFERROR(VLOOKUP([1]!Tabla_SERIEA_01_5[[#This Row],[IdEstablecimiento]],[2]Establecimientos!$A$1:$E$175,5,FALSE),0)","v":"04102-COQUIMBO"},"105323","18010601","2021-01-18T11:43:24",15,0,15]
[12,"5",2020,{"$f":"IFERROR(VLOOKUP([1]!Tabla_SERIEA_01_5[[#This Row],[IdEstablecimiento]],[2]Establecimientos!$A$1:$E$175,5,FALSE),0)","v":"04102-COQUIMBO"},"105323","18011001","2021-01-18T11:43:24",24,0,24]
[12,"5",2020,{"$f":"IFERROR(VLOOKUP([1]!Tabla_SERIEA_01_5[[#This Row],[IdEstablecimiento]],[2]Establecimientos!$A$1:$E$175,5,FALSE),0)","v":"04102-COQUIMBO"},"105323","18020500","2021-01-18T11:43:24",67,0,67]
[12,"5",2020,{"$f":"IFERROR(VLOOKUP([1]!Tabla_SERIEA_01_5[[#This Row],[IdEstablecimiento]],[2]Establecimientos!$A$1:$E$175,5,FALSE),0)","v":"04102-COQUIMBO"},"105323","18030000","2021-01-18T11:43:24",31,0,31]
[12,"5",2020,{"$f":"IFERROR(VLOOKUP([1]!Tabla_SERIEA_01_5[[#This Row],[IdEstablecimiento]],[2]Establecimientos!$A$1:$E$175,5,FALSE),0)","v":"04102-COQUIMBO"},"105323","18040200","2021-01-18T11:43:24",31,1,30]
[12,"5",2020,{"$f":"IFERROR(VLOOKUP([1]!Tabla_SERIEA_01_5[[#This Row],[IdEstablecimiento]],[2]Establecimientos!$A$1:$E$175,5,FALSE),0)","v":"04102-COQUIMBO"},"105323","18090000","2021-01-18T11:43:24",50,0,50]
[12,"5",2020,{"$f":"IFERROR(VLOOKUP([1]!Tabla_SERIEA_01_5[[#This Row],[IdEstablecimiento]],[2]Establecimientos!$A$1:$E$175,5,FALSE),0)","v":"04102-COQUIMBO"},"105323","18050100","2021-01-18T11:43:24",110,0,110]
[12,"5",2020,{"$f":"IFERROR(VLOOKUP([1]!Tabla_SERIEA_01_5[[#This Row],[IdEstablecimiento]],[2]Establecimientos!$A$1:$E$175,5,FALSE),0)","v":"04102-COQUIMBO"},"105323","18050300","2021-01-18T11:43:24",2,0,2]
[12,"5",2020,{"$f":"IFERROR(VLOOKUP([1]!Tabla_SERIEA_01_5[[#This Row],[IdEstablecimiento]],[2]Establecimientos!$A$1:$E$175,5,FALSE),0)","v":"04102-COQUIMBO"},"105323","18400700","2021-01-18T11:43:24",859]
[12,"5",2020,{"$f":"IFERROR(VLOOKUP([1]!Tabla_SERIEA_01_5[[#This Row],[IdEstablecimiento]],[2]Establecimientos!$A$1:$E$175,5,FALSE),0)","v":"04102-COQUIMBO"},"105323","18700100","2021-01-18T11:43:24",1144,58,971,115]
[12,"5",2020,{"$f":"IFERROR(VLOOKUP([1]!Tabla_SERIEA_01_5[[#This Row],[IdEstablecimiento]],[2]Establecimientos!$A$1:$E$175,5,FALSE),0)","v":"04102-COQUIMBO"},"105324","81701001","2021-01-18T11:43:42",13,null,13,null,13]
[12,"5",2020,{"$f":"IFERROR(VLOOKUP([1]!Tabla_SERIEA_01_5[[#This Row],[IdEstablecimiento]],[2]Establecimientos!$A$1:$E$175,5,FALSE),0)","v":"04102-COQUIMBO"},"105324","81701009","2021-01-18T11:43:42",67,null,67,null,67]
[12,"5",2020,{"$f":"IFERROR(VLOOKUP([1]!Tabla_SERIEA_01_5[[#This Row],[IdEstablecimiento]],[2]Establecimientos!$A$1:$E$175,5,FALSE),0)","v":"04102-COQUIMBO"},"105324","80106002","2021-01-18T11:43:42",23,null,23,null,23]
[12,"5",2020,{"$f":"IFERROR(VLOOKUP([1]!Tabla_SERIEA_01_5[[#This Row],[IdEstablecimiento]],[2]Establecimientos!$A$1:$E$175,5,FALSE),0)","v":"04102-COQUIMBO"},"105324","80106017","2021-01-18T11:43:42",42,null,42,null,42]
[12,"5",2020,{"$f":"IFERROR(VLOOKUP([1]!Tabla_SERIEA_01_5[[#This Row],[IdEstablecimiento]],[2]Establecimientos!$A$1:$E$175,5,FALSE),0)","v":"04102-COQUIMBO"},"105324","80106007","2021-01-18T11:43:42",30,null,30,null,30]
[12,"5",2020,{"$f":"IFERROR(VLOOKUP([1]!Tabla_SERIEA_01_5[[#This Row],[IdEstablecimiento]],[2]Establecimientos!$A$1:$E$175,5,FALSE),0)","v":"04102-COQUIMBO"},"105324","80106014","2021-01-18T11:43:42",96,null,96,null,96]
[12,"5",2020,{"$f":"IFERROR(VLOOKUP([1]!Tabla_SERIEA_01_5[[#This Row],[IdEstablecimiento]],[2]Establecimientos!$A$1:$E$175,5,FALSE),0)","v":"04102-COQUIMBO"},"105324","80106015","2021-01-18T11:43:42",3,null,3,null,3]
[12,"5",2020,{"$f":"IFERROR(VLOOKUP([1]!Tabla_SERIEA_01_5[[#This Row],[IdEstablecimiento]],[2]Establecimientos!$A$1:$E$175,5,FALSE),0)","v":"04102-COQUIMBO"},"105324","80106022","2021-01-18T11:43:42",3,null,3,null,3]
[12,"5",2020,{"$f":"IFERROR(VLOOKUP([1]!Tabla_SERIEA_01_5[[#This Row],[IdEstablecimiento]],[2]Establecimientos!$A$1:$E$175,5,FALSE),0)","v":"04102-COQUIMBO"},"105324","80307011","2021-01-18T11:43:42",112,null,112]
[12,"5",2020,{"$f":"IFERROR(VLOOKUP([1]!Tabla_SERIEA_01_5[[#This Row],[IdEstablecimiento]],[2]Establecimientos!$A$1:$E$175,5,FALSE),0)","v":"04102-COQUIMBO"},"105324","80307012","2021-01-18T11:43:42",3,null,3]
[12,"5",2020,{"$f":"IFERROR(VLOOKUP([1]!Tabla_SERIEA_01_5[[#This Row],[IdEstablecimiento]],[2]Establecimientos!$A$1:$E$175,5,FALSE),0)","v":"04102-COQUIMBO"},"105324","80500008","2021-01-18T11:43:42",1,null,1,null,1]
[12,"5",2020,{"$f":"IFERROR(VLOOKUP([1]!Tabla_SERIEA_01_5[[#This Row],[IdEstablecimiento]],[2]Establecimientos!$A$1:$E$175,5,FALSE),0)","v":"04102-COQUIMBO"},"105324","80500011","2021-01-18T11:43:42",2,null,2,null,2]
[12,"5",2020,{"$f":"IFERROR(VLOOKUP([1]!Tabla_SERIEA_01_5[[#This Row],[IdEstablecimiento]],[2]Establecimientos!$A$1:$E$175,5,FALSE),0)","v":"04102-COQUIMBO"},"105324","18020500","2021-01-18T11:43:42",80,0,80]
[12,"5",2020,{"$f":"IFERROR(VLOOKUP([1]!Tabla_SERIEA_01_5[[#This Row],[IdEstablecimiento]],[2]Establecimientos!$A$1:$E$175,5,FALSE),0)","v":"04102-COQUIMBO"},"105324","18050100","2021-01-18T11:43:42",23,0,23]
[12,"5",2020,{"$f":"IFERROR(VLOOKUP([1]!Tabla_SERIEA_01_5[[#This Row],[IdEstablecimiento]],[2]Establecimientos!$A$1:$E$175,5,FALSE),0)","v":"04102-COQUIMBO"},"105324","18070300","2021-01-18T11:43:42",34,2,1,4,4,19,4]
[12,"5",2020,{"$f":"IFERROR(VLOOKUP([1]!Tabla_SERIEA_01_5[[#This Row],[IdEstablecimiento]],[2]Establecimientos!$A$1:$E$175,5,FALSE),0)","v":"04102-COQUIMBO"},"105324","18090200","2021-01-18T11:43:42",14]
[12,"5",2020,{"$f":"IFERROR(VLOOKUP([1]!Tabla_SERIEA_01_5[[#This Row],[IdEstablecimiento]],[2]Establecimientos!$A$1:$E$175,5,FALSE),0)","v":"04102-COQUIMBO"},"105324","18700100","2021-01-18T11:43:42",null,2,15,4]
[12,"5",2020,{"$f":"IFERROR(VLOOKUP([1]!Tabla_SERIEA_01_5[[#This Row],[IdEstablecimiento]],[2]Establecimientos!$A$1:$E$175,5,FALSE),0)","v":"04102-COQUIMBO"},"105325","80401051","2021-01-18T11:44:00",0,null,null,2]
[12,"5",2020,{"$f":"IFERROR(VLOOKUP([1]!Tabla_SERIEA_01_5[[#This Row],[IdEstablecimiento]],[2]Establecimientos!$A$1:$E$175,5,FALSE),0)","v":"04102-COQUIMBO"},"105325","80401060","2021-01-18T11:44:00",0,null,null,5]
[12,"5",2020,{"$f":"IFERROR(VLOOKUP([1]!Tabla_SERIEA_01_5[[#This Row],[IdEstablecimiento]],[2]Establecimientos!$A$1:$E$175,5,FALSE),0)","v":"04102-COQUIMBO"},"105325","80309013","2021-01-18T11:44:00",0,null,null,58]
[12,"5",2020,{"$f":"IFERROR(VLOOKUP([1]!Tabla_SERIEA_01_5[[#This Row],[IdEstablecimiento]],[2]Establecimientos!$A$1:$E$175,5,FALSE),0)","v":"04102-COQUIMBO"},"105325","80309022","2021-01-18T11:44:00",0,null,null,165]
[12,"5",2020,{"$f":"IFERROR(VLOOKUP([1]!Tabla_SERIEA_01_5[[#This Row],[IdEstablecimiento]],[2]Establecimientos!$A$1:$E$175,5,FALSE),0)","v":"04102-COQUIMBO"},"105325","80301014","2021-01-18T11:44:00",0,null,null,2]
[12,"5",2020,{"$f":"IFERROR(VLOOKUP([1]!Tabla_SERIEA_01_5[[#This Row],[IdEstablecimiento]],[2]Establecimientos!$A$1:$E$175,5,FALSE),0)","v":"04102-COQUIMBO"},"105325","80301034","2021-01-18T11:44:00",0,null,null,6]
[12,"5",2020,{"$f":"IFERROR(VLOOKUP([1]!Tabla_SERIEA_01_5[[#This Row],[IdEstablecimiento]],[2]Establecimientos!$A$1:$E$175,5,FALSE),0)","v":"04102-COQUIMBO"},"105325","80301036","2021-01-18T11:44:00",0,null,null,126]
[12,"5",2020,{"$f":"IFERROR(VLOOKUP([1]!Tabla_SERIEA_01_5[[#This Row],[IdEstablecimiento]],[2]Establecimientos!$A$1:$E$175,5,FALSE),0)","v":"04102-COQUIMBO"},"105325","80301041","2021-01-18T11:44:00",0,null,null,77]
[12,"5",2020,{"$f":"IFERROR(VLOOKUP([1]!Tabla_SERIEA_01_5[[#This Row],[IdEstablecimiento]],[2]Establecimientos!$A$1:$E$175,5,FALSE),0)","v":"04102-COQUIMBO"},"105325","80301045","2021-01-18T11:44:00",0,null,null,42]
[12,"5",2020,{"$f":"IFERROR(VLOOKUP([1]!Tabla_SERIEA_01_5[[#This Row],[IdEstablecimiento]],[2]Establecimientos!$A$1:$E$175,5,FALSE),0)","v":"04102-COQUIMBO"},"105325","80404002","2021-01-18T11:44:00",20,null,20]
[12,"5",2020,{"$f":"IFERROR(VLOOKUP([1]!Tabla_SERIEA_01_5[[#This Row],[IdEstablecimiento]],[2]Establecimientos!$A$1:$E$175,5,FALSE),0)","v":"04102-COQUIMBO"},"105325","80306059","2021-01-18T11:44:00",0,null,null,4]
[12,"5",2020,{"$f":"IFERROR(VLOOKUP([1]!Tabla_SERIEA_01_5[[#This Row],[IdEstablecimiento]],[2]Establecimientos!$A$1:$E$175,5,FALSE),0)","v":"04102-COQUIMBO"},"105325","80306061","2021-01-18T11:44:00",0,null,null,7]
[12,"5",2020,{"$f":"IFERROR(VLOOKUP([1]!Tabla_SERIEA_01_5[[#This Row],[IdEstablecimiento]],[2]Establecimientos!$A$1:$E$175,5,FALSE),0)","v":"04102-COQUIMBO"},"105325","80306169","2021-01-18T11:44:00",0,null,null,7]
[12,"5",2020,{"$f":"IFERROR(VLOOKUP([1]!Tabla_SERIEA_01_5[[#This Row],[IdEstablecimiento]],[2]Establecimientos!$A$1:$E$175,5,FALSE),0)","v":"04102-COQUIMBO"},"105325","80301059","2021-01-18T11:44:00",0,null,null,126]
[12,"5",2020,{"$f":"IFERROR(VLOOKUP([1]!Tabla_SERIEA_01_5[[#This Row],[IdEstablecimiento]],[2]Establecimientos!$A$1:$E$175,5,FALSE),0)","v":"04102-COQUIMBO"},"105325","80302005","2021-01-18T11:44:00",0,null,null,8]
[12,"5",2020,{"$f":"IFERROR(VLOOKUP([1]!Tabla_SERIEA_01_5[[#This Row],[IdEstablecimiento]],[2]Establecimientos!$A$1:$E$175,5,FALSE),0)","v":"04102-COQUIMBO"},"105325","81701001","2021-01-18T11:44:00",15,null,15,null,15]
[12,"5",2020,{"$f":"IFERROR(VLOOKUP([1]!Tabla_SERIEA_01_5[[#This Row],[IdEstablecimiento]],[2]Establecimientos!$A$1:$E$175,5,FALSE),0)","v":"04102-COQUIMBO"},"105325","82001015","2021-01-18T11:44:00",7,null,7,null,7]
[12,"5",2020,{"$f":"IFERROR(VLOOKUP([1]!Tabla_SERIEA_01_5[[#This Row],[IdEstablecimiento]],[2]Establecimientos!$A$1:$E$175,5,FALSE),0)","v":"04102-COQUIMBO"},"105325","81602202","2021-01-18T11:44:00",0,{"$nulls":4},12]
[12,"5",2020,{"$f":"IFERROR(VLOOKUP([1]!Tabla_SERIEA_01_5[[#This Row],[IdEstablecimiento]],[2]Establecimientos!$A$1:$E$175,5,FALSE),0)","v":"04102-COQUIMBO"},"105325","81602224","2021-01-18T11:44:00",0,{"$nulls":4},2]
[12,"5",2020,{"$f":"IFERROR(VLOOKUP([1]!Tabla_SERIEA_01_5[[#This Row],[IdEstablecimiento]],[2]Establecimientos!$A$1:$E$175,5,FALSE),0)","v":"04102-COQUIMBO"},"105325","81602231","2021-01-18T11:44:00",0,{"$nulls":4},3]
[12,"5",2020,{"$f":"IFERROR(VLOOKUP([1]!Tabla_SERIEA_01_5[[#This Row],[IdEstablecimiento]],[2]Establecimientos!$A$1:$E$175,5,FALSE),0)","v":"04102-COQUIMBO"},"105325","80106002","2021-01-18T11:44:00",175,null,175,null,175]
[12,"5",2020,{"$f":"IFERROR(VLOOKUP([1]!Tabla_SERIEA_01_5[[#This Row],[IdEstablecimiento]],[2]Establecimientos!$A$1:$E$175,5,FALSE),0)","v":"04102-COQUIMBO"},"105325","80106017","2021-01-18T11:44:00",43,null,43,null,43]
[12,"5",2020,{"$f":"IFERROR(VLOOKUP([1]!Tabla_SERIEA_01_5[[#This Row],[IdEstablecimiento]],[2]Establecimientos!$A$1:$E$175,5,FALSE),0)","v":"04102-COQUIMBO"},"105325","80302013","2021-01-18T11:44:00",0,null,null,26]
[12,"5",2020,{"$f":"IFERROR(VLOOKUP([1]!Tabla_SERIEA_01_5[[#This Row],[IdEstablecimiento]],[2]Establecimientos!$A$1:$E$175,5,FALSE),0)","v":"04102-COQUIMBO"},"105325","80302067","2021-01-18T11:44:00",0,null,null,159]
[12,"5",2020,{"$f":"IFERROR(VLOOKUP([1]!Tabla_SERIEA_01_5[[#This Row],[IdEstablecimiento]],[2]Establecimientos!$A$1:$E$175,5,FALSE),0)","v":"04102-COQUIMBO"},"105325","80302068","2021-01-18T11:44:00",0,null,null,158]
[12,"5",2020,{"$f":"IFERROR(VLOOKUP([1]!Tabla_SERIEA_01_5[[#This Row],[IdEstablecimiento]],[2]Establecimientos!$A$1:$E$175,5,FALSE),0)","v":"04102-COQUIMBO"},"105325","80302023","2021-01-18T11:44:00",0,null,null,129]
[12,"5",2020,{"$f":"IFERROR(VLOOKUP([1]!Tabla_SERIEA_01_5[[#This Row],[IdEstablecimiento]],[2]Establecimientos!$A$1:$E$175,5,FALSE),0)","v":"04102-COQUIMBO"},"105325","80302032","2021-01-18T11:44:00",0,null,null,102]
[12,"5",2020,{"$f":"IFERROR(VLOOKUP([1]!Tabla_SERIEA_01_5[[#This Row],[IdEstablecimiento]],[2]Establecimientos!$A$1:$E$175,5,FALSE),0)","v":"04102-COQUIMBO"},"105325","80302040","2021-01-18T11:44:00",0,null,null,25]
[12,"5",2020,{"$f":"IFERROR(VLOOKUP([1]!Tabla_SERIEA_01_5[[#This Row],[IdEstablecimiento]],[2]Establecimientos!$A$1:$E$175,5,FALSE),0)","v":"04102-COQUIMBO"},"105325","80302047","2021-01-18T11:44:00",0,null,null,192]
[12,"5",2020,{"$f":"IFERROR(VLOOKUP([1]!Tabla_SERIEA_01_5[[#This Row],[IdEstablecimiento]],[2]Establecimientos!$A$1:$E$175,5,FALSE),0)","v":"04102-COQUIMBO"},"105325","80302048","2021-01-18T11:44:00",0,null,null,21]
[12,"5",2020,{"$f":"IFERROR(VLOOKUP([1]!Tabla_SERIEA_01_5[[#This Row],[IdEstablecimiento]],[2]Establecimientos!$A$1:$E$175,5,FALSE),0)","v":"04102-COQUIMBO"},"105325","80302063","2021-01-18T11:44:00",0,null,null,36]
[12,"5",2020,{"$f":"IFERROR(VLOOKUP([1]!Tabla_SERIEA_01_5[[#This Row],[IdEstablecimiento]],[2]Establecimientos!$A$1:$E$175,5,FALSE),0)","v":"04102-COQUIMBO"},"105325","80302064","2021-01-18T11:44:00",0,null,null,159]
[12,"5",2020,{"$f":"IFERROR(VLOOKUP([1]!Tabla_SERIEA_01_5[[#This Row],[IdEstablecimiento]],[2]Establecimientos!$A$1:$E$175,5,FALSE),0)","v":"04102-COQUIMBO"},"105325","80303024","2021-01-18T11:44:00",0,null,null,119]
[12,"5",2020,{"$f":"IFERROR(VLOOKUP([1]!Tabla_SERIEA_01_5[[#This Row],[IdEstablecimiento]],[2]Establecimientos!$A$1:$E$175,5,FALSE),0)","v":"04102-COQUIMBO"},"105325","80303026","2021-01-18T11:44:00",0,null,null,47]
[12,"5",2020,{"$f":"IFERROR(VLOOKUP([1]!Tabla_SERIEA_01_5[[#This Row],[IdEstablecimiento]],[2]Establecimientos!$A$1:$E$175,5,FALSE),0)","v":"04102-COQUIMBO"},"105325","80306002","2021-01-18T11:44:00",0,null,null,5]
[12,"5",2020,{"$f":"IFERROR(VLOOKUP([1]!Tabla_SERIEA_01_5[[#This Row],[IdEstablecimiento]],[2]Establecimientos!$A$1:$E$175,5,FALSE),0)","v":"04102-COQUIMBO"},"105325","80306011","2021-01-18T11:44:00",0,null,null,39]
[12,"5",2020,{"$f":"IFERROR(VLOOKUP([1]!Tabla_SERIEA_01_5[[#This Row],[IdEstablecimiento]],[2]Establecimientos!$A$1:$E$175,5,FALSE),0)","v":"04102-COQUIMBO"},"105325","80106014","2021-01-18T11:44:00",311,null,311,null,311]
[12,"5",2020,{"$f":"IFERROR(VLOOKUP([1]!Tabla_SERIEA_01_5[[#This Row],[IdEstablecimiento]],[2]Establecimientos!$A$1:$E$175,5,FALSE),0)","v":"04102-COQUIMBO"},"105325","80106022","2021-01-18T11:44:00",11,null,11,null,11]
[12,"5",2020,{"$f":"IFERROR(VLOOKUP([1]!Tabla_SERIEA_01_5[[#This Row],[IdEstablecimiento]],[2]Establecimientos!$A$1:$E$175,5,FALSE),0)","v":"04102-COQUIMBO"},"105325","80106023","2021-01-18T11:44:00",3,null,3,null,3]
[12,"5",2020,{"$f":"IFERROR(VLOOKUP([1]!Tabla_SERIEA_01_5[[#This Row],[IdEstablecimiento]],[2]Establecimientos!$A$1:$E$175,5,FALSE),0)","v":"04102-COQUIMBO"},"105325","80307011","2021-01-18T11:44:00",0,null,null,280]
[12,"5",2020,{"$f":"IFERROR(VLOOKUP([1]!Tabla_SERIEA_01_5[[#This Row],[IdEstablecimiento]],[2]Establecimientos!$A$1:$E$175,5,FALSE),0)","v":"04102-COQUIMBO"},"105325","80307012","2021-01-18T11:44:00",0,null,null,3]
[12,"5",2020,{"$f":"IFERROR(VLOOKUP([1]!Tabla_SERIEA_01_5[[#This Row],[IdEstablecimiento]],[2]Establecimientos!$A$1:$E$175,5,FALSE),0)","v":"04102-COQUIMBO"},"105325","80500008","2021-01-18T11:44:00",11,null,11,null,11]
[12,"5",2020,{"$f":"IFERROR(VLOOKUP([1]!Tabla_SERIEA_01_5[[#This Row],[IdEstablecimiento]],[2]Establecimientos!$A$1:$E$175,5,FALSE),0)","v":"04102-COQUIMBO"},"105325","80500009","2021-01-18T11:44:00",11,null,11,null,11]
[12,"5",2020,{"$f":"IFERROR(VLOOKUP([1]!Tabla_SERIEA_01_5[[#This Row],[IdEstablecimiento]],[2]Establecimientos!$A$1:$E$175,5,FALSE),0)","v":"04102-COQUIMBO"},"105325","80306042","2021-01-18T11:44:00",0,null,null,37]
[12,"5",2020,{"$f":"IFERROR(VLOOKUP([1]!Tabla_SERIEA_01_5[[#This Row],[IdEstablecimiento]],[2]Establecimientos!$A$1:$E$175,5,FALSE),0)","v":"04102-COQUIMBO"},"105325","80305019","2021-01-18T11:44:00",0,null,null,5]
[12,"5",2020,{"$f":"IFERROR(VLOOKUP([1]!Tabla_SERIEA_01_5[[#This Row],[IdEstablecimiento]],[2]Establecimientos!$A$1:$E$175,5,FALSE),0)","v":"04102-COQUIMBO"},"105325","18400600","2021-01-18T11:44:00",20,0,20]
[12,"5",2020,{"$f":"IFERROR(VLOOKUP([1]!Tabla_SERIEA_01_5[[#This Row],[IdEstablecimiento]],[2]Establecimientos!$A$1:$E$175,5,FALSE),0)","v":"04102-COQUIMBO"},"105325","18020500","2021-01-18T11:44:00",15,0,15]
[12,"5",2020,{"$f":"IFERROR(VLOOKUP([1]!Tabla_SERIEA_01_5[[#This Row],[IdEstablecimiento]],[2]Establecimientos!$A$1:$E$175,5,FALSE),0)","v":"04102-COQUIMBO"},"105325","18020900","2021-01-18T11:44:00",7,0,7]
[12,"5",2020,{"$f":"IFERROR(VLOOKUP([1]!Tabla_SERIEA_01_5[[#This Row],[IdEstablecimiento]],[2]Establecimientos!$A$1:$E$175,5,FALSE),0)","v":"04102-COQUIMBO"},"105325","18040200","2021-01-18T11:44:00",17,1,16]
[12,"5",2020,{"$f":"IFERROR(VLOOKUP([1]!Tabla_SERIEA_01_5[[#This Row],[IdEstablecimiento]],[2]Establecimientos!$A$1:$E$175,5,FALSE),0)","v":"04102-COQUIMBO"},"105325","18090000","2021-01-18T11:44:00",3,0,3]
[12,"5",2020,{"$f":"IFERROR(VLOOKUP([1]!Tabla_SERIEA_01_5[[#This Row],[IdEstablecimiento]],[2]Establecimientos!$A$1:$E$175,5,FALSE),0)","v":"04102-COQUIMBO"},"105325","18050100","2021-01-18T11:44:00",175,0,175]
[12,"5",2020,{"$f":"IFERROR(VLOOKUP([1]!Tabla_SERIEA_01_5[[#This Row],[IdEstablecimiento]],[2]Establecimientos!$A$1:$E$175,5,FALSE),0)","v":"04102-COQUIMBO"},"105325","18090200","2021-01-18T11:44:00",83,83]
[12,"5",2020,{"$f":"IFERROR(VLOOKUP([1]!Tabla_SERIEA_01_5[[#This Row],[IdEstablecimiento]],[2]Establecimientos!$A$1:$E$175,5,FALSE),0)","v":"04102-COQUIMBO"},"105325","18700100","2021-01-18T11:44:00",593,50,501,42,0]
[12,"5",2020,{"$f":"IFERROR(VLOOKUP([1]!Tabla_SERIEA_01_5[[#This Row],[IdEstablecimiento]],[2]Establecimientos!$A$1:$E$175,5,FALSE),0)","v":"04102-COQUIMBO"},"105326","80309010","2021-01-18T11:44:20",0,null,null,42]
[12,"5",2020,{"$f":"IFERROR(VLOOKUP([1]!Tabla_SERIEA_01_5[[#This Row],[IdEstablecimiento]],[2]Establecimientos!$A$1:$E$175,5,FALSE),0)","v":"04102-COQUIMBO"},"105326","80309023","2021-01-18T11:44:20",0,null,null,67]
[12,"5",2020,{"$f":"IFERROR(VLOOKUP([1]!Tabla_SERIEA_01_5[[#This Row],[IdEstablecimiento]],[2]Establecimientos!$A$1:$E$175,5,FALSE),0)","v":"04102-COQUIMBO"},"105326","80309024","2021-01-18T11:44:20",0,null,null,54]
[12,"5",2020,{"$f":"IFERROR(VLOOKUP([1]!Tabla_SERIEA_01_5[[#This Row],[IdEstablecimiento]],[2]Establecimientos!$A$1:$E$175,5,FALSE),0)","v":"04102-COQUIMBO"},"105326","80301015","2021-01-18T11:44:20",0,null,null,8]
[12,"5",2020,{"$f":"IFERROR(VLOOKUP([1]!Tabla_SERIEA_01_5[[#This Row],[IdEstablecimiento]],[2]Establecimientos!$A$1:$E$175,5,FALSE),0)","v":"04102-COQUIMBO"},"105326","80301034","2021-01-18T11:44:20",0,null,null,8]
[12,"5",2020,{"$f":"IFERROR(VLOOKUP([1]!Tabla_SERIEA_01_5[[#This Row],[IdEstablecimiento]],[2]Establecimientos!$A$1:$E$175,5,FALSE),0)","v":"04102-COQUIMBO"},"105326","80301036","2021-01-18T11:44:20",0,null,null,19]
[12,"5",2020,{"$f":"IFERROR(VLOOKUP([1]!Tabla_SERIEA_01_5[[#This Row],[IdEstablecimiento]],[2]Establecimientos!$A$1:$E$175,5,FALSE),0)","v":"04102-COQUIMBO"},"105326","80301041","2021-01-18T11:44:20",0,null,null,30]
[12,"5",2020,{"$f":"IFERROR(VLOOKUP([1]!Tabla_SERIEA_01_5[[#This Row],[IdEstablecimiento]],[2]Establecimientos!$A$1:$E$175,5,FALSE),0)","v":"04102-COQUIMBO"},"105326","80301045","2021-01-18T11:44:20",0,null,null,50]
[12,"5",2020,{"$f":"IFERROR(VLOOKUP([1]!Tabla_SERIEA_01_5[[#This Row],[IdEstablecimiento]],[2]Establecimientos!$A$1:$E$175,5,FALSE),0)","v":"04102-COQUIMBO"},"105326","80306061","2021-01-18T11:44:20",0,null,null,6]
[12,"5",2020,{"$f":"IFERROR(VLOOKUP([1]!Tabla_SERIEA_01_5[[#This Row],[IdEstablecimiento]],[2]Establecimientos!$A$1:$E$175,5,FALSE),0)","v":"04102-COQUIMBO"},"105326","80302005","2021-01-18T11:44:20",0,null,null,44]
[12,"5",2020,{"$f":"IFERROR(VLOOKUP([1]!Tabla_SERIEA_01_5[[#This Row],[IdEstablecimiento]],[2]Establecimientos!$A$1:$E$175,5,FALSE),0)","v":"04102-COQUIMBO"},"105326","81701001","2021-01-18T11:44:20",11,null,11,null,11]
[12,"5",2020,{"$f":"IFERROR(VLOOKUP([1]!Tabla_SERIEA_01_5[[#This Row],[IdEstablecimiento]],[2]Establecimientos!$A$1:$E$175,5,FALSE),0)","v":"04102-COQUIMBO"},"105326","81701009","2021-01-18T11:44:20",29,null,29,null,29]
[12,"5",2020,{"$f":"IFERROR(VLOOKUP([1]!Tabla_SERIEA_01_5[[#This Row],[IdEstablecimiento]],[2]Establecimientos!$A$1:$E$175,5,FALSE),0)","v":"04102-COQUIMBO"},"105326","81901019","2021-01-18T11:44:20",2,null,2,null,2]
[12,"5",2020,{"$f":"IFERROR(VLOOKUP([1]!Tabla_SERIEA_01_5[[#This Row],[IdEstablecimiento]],[2]Establecimientos!$A$1:$E$175,5,FALSE),0)","v":"04102-COQUIMBO"},"105326","80106002","2021-01-18T11:44:20",95,null,95,null,95]
[12,"5",2020,{"$f":"IFERROR(VLOOKUP([1]!Tabla_SERIEA_01_5[[#This Row],[IdEstablecimiento]],[2]Establecimientos!$A$1:$E$175,5,FALSE),0)","v":"04102-COQUIMBO"},"105326","80106017","2021-01-18T11:44:20",26,null,26,null,26]
[12,"5",2020,{"$f":"IFERROR(VLOOKUP([1]!Tabla_SERIEA_01_5[[#This Row],[IdEstablecimiento]],[2]Establecimientos!$A$1:$E$175,5,FALSE),0)","v":"04102-COQUIMBO"},"105326","80302023","2021-01-18T11:44:20",0,null,null,46]
[12,"5",2020,{"$f":"IFERROR(VLOOKUP([1]!Tabla_SERIEA_01_5[[#This Row],[IdEstablecimiento]],[2]Establecimientos!$A$1:$E$175,5,FALSE),0)","v":"04102-COQUIMBO"},"105326","80302032","2021-01-18T11:44:20",0,null,null,42]
[12,"5",2020,{"$f":"IFERROR(VLOOKUP([1]!Tabla_SERIEA_01_5[[#This Row],[IdEstablecimiento]],[2]Establecimientos!$A$1:$E$175,5,FALSE),0)","v":"04102-COQUIMBO"},"105326","80302034","2021-01-18T11:44:20",0,null,null,52]
[12,"5",2020,{"$f":"IFERROR(VLOOKUP([1]!Tabla_SERIEA_01_5[[#This Row],[IdEstablecimiento]],[2]Establecimientos!$A$1:$E$175,5,FALSE),0)","v":"04102-COQUIMBO"},"105326","80302047","2021-01-18T11:44:20",0,null,null,63]
[12,"5",2020,{"$f":"IFERROR(VLOOKUP([1]!Tabla_SERIEA_01_5[[#This Row],[IdEstablecimiento]],[2]Establecimientos!$A$1:$E$175,5,FALSE),0)","v":"04102-COQUIMBO"},"105326","80302048","2021-01-18T11:44:20",0,null,null,9]
[12,"5",2020,{"$f":"IFERROR(VLOOKUP([1]!Tabla_SERIEA_01_5[[#This Row],[IdEstablecimiento]],[2]Establecimientos!$A$1:$E$175,5,FALSE),0)","v":"04102-COQUIMBO"},"105326","80302057","2021-01-18T11:44:20",0,null,null,1]
[12,"5",2020,{"$f":"IFERROR(VLOOKUP([1]!Tabla_SERIEA_01_5[[#This Row],[IdEstablecimiento]],[2]Establecimientos!$A$1:$E$175,5,FALSE),0)","v":"04303-MONTE PATRIA"},"105326","80303024","2021-01-18T11:44:20",0,null,null,42]
[12,"5",2020,{"$f":"IFERROR(VLOOKUP([1]!Tabla_SERIEA_01_5[[#This Row],[IdEstablecimiento]],[2]Establecimientos!$A$1:$E$175,5,FALSE),0)","v":"04303-MONTE PATRIA"},"105326","80306011","2021-01-18T11:44:20",0,null,null,28]
[12,"5",2020,{"$f":"IFERROR(VLOOKUP([1]!Tabla_SERIEA_01_5[[#This Row],[IdEstablecimiento]],[2]Establecimientos!$A$1:$E$175,5,FALSE),0)","v":"04303-MONTE PATRIA"},"105326","80106014","2021-01-18T11:44:20",111,null,111,null,111]
[12,"5",2020,{"$f":"IFERROR(VLOOKUP([1]!Tabla_SERIEA_01_5[[#This Row],[IdEstablecimiento]],[2]Establecimientos!$A$1:$E$175,5,FALSE),0)","v":"04303-MONTE PATRIA"},"105326","80106015","2021-01-18T11:44:20",3,null,3,null,3]
[12,"5",2020,{"$f":"IFERROR(VLOOKUP([1]!Tabla_SERIEA_01_5[[#This Row],[IdEstablecimiento]],[2]Establecimientos!$A$1:$E$175,5,FALSE),0)","v":"04303-MONTE PATRIA"},"105326","80106022","2021-01-18T11:44:20",2,null,2,null,2]
[12,"5",2020,{"$f":"IFERROR(VLOOKUP([1]!Tabla_SERIEA_01_5[[#This Row],[IdEstablecimiento]],[2]Establecimientos!$A$1:$E$175,5,FALSE),0)","v":"04303-MONTE PATRIA"},"105326","80106023","2021-01-18T11:44:20",67,null,67]
[12,"5",2020,{"$f":"IFERROR(VLOOKUP([1]!Tabla_SERIEA_01_5[[#This Row],[IdEstablecimiento]],[2]Establecimientos!$A$1:$E$175,5,FALSE),0)","v":"04303-MONTE PATRIA"},"105326","80307011","2021-01-18T11:44:20",0,null,null,100]
[12,"5",2020,{"$f":"IFERROR(VLOOKUP([1]!Tabla_SERIEA_01_5[[#This Row],[IdEstablecimiento]],[2]Establecimientos!$A$1:$E$175,5,FALSE),0)","v":"04303-MONTE PATRIA"},"105326","80500011","2021-01-18T11:44:20",12,null,12,null,12]
[12,"5",2020,{"$f":"IFERROR(VLOOKUP([1]!Tabla_SERIEA_01_5[[#This Row],[IdEstablecimiento]],[2]Establecimientos!$A$1:$E$175,5,FALSE),0)","v":"04303-MONTE PATRIA"},"105326","80306042","2021-01-18T11:44:20",0,null,null,10]
[12,"5",2020,{"$f":"IFERROR(VLOOKUP([1]!Tabla_SERIEA_01_5[[#This Row],[IdEstablecimiento]],[2]Establecimientos!$A$1:$E$175,5,FALSE),0)","v":"04303-MONTE PATRIA"},"105326","18020500","2021-01-18T11:44:20",40,0,40]
[12,"5",2020,{"$f":"IFERROR(VLOOKUP([1]!Tabla_SERIEA_01_5[[#This Row],[IdEstablecimiento]],[2]Establecimientos!$A$1:$E$175,5,FALSE),0)","v":"04303-MONTE PATRIA"},"105326","18020700","2021-01-18T11:44:20",2,0,2]
[12,"5",2020,{"$f":"IFERROR(VLOOKUP([1]!Tabla_SERIEA_01_5[[#This Row],[IdEstablecimiento]],[2]Establecimientos!$A$1:$E$175,5,FALSE),0)","v":"04303-MONTE PATRIA"},"105326","18090000","2021-01-18T11:44:20",67,0,67]
[12,"5",2020,{"$f":"IFERROR(VLOOKUP([1]!Tabla_SERIEA_01_5[[#This Row],[IdEstablecimiento]],[2]Establecimientos!$A$1:$E$175,5,FALSE),0)","v":"04303-MONTE PATRIA"},"105326","18050100","2021-01-18T11:44:20",95,0,95]
[12,"5",2020,{"$f":"IFERROR(VLOOKUP([1]!Tabla_SERIEA_01_5[[#This Row],[IdEstablecimiento]],[2]Establecimientos!$A$1:$E$175,5,FALSE),0)","v":"04303-MONTE PATRIA"},"105400","80401051","2021-01-18T11:44:41",0,null,null,1]
[12,"5",2020,{"$f":"IFERROR(VLOOKUP([1]!Tabla_SERIEA_01_5[[#This Row],[IdEstablecimiento]],[2]Establecimientos!$A$1:$E$175,5,FALSE),0)","v":"04303-MONTE PATRIA"},"105400","80401060","2021-01-18T11:44:41",0,null,null,1]
[12,"5",2020,{"$f":"IFERROR(VLOOKUP([1]!Tabla_SERIEA_01_5[[#This Row],[IdEstablecimiento]],[2]Establecimientos!$A$1:$E$175,5,FALSE),0)","v":"04303-MONTE PATRIA"},"105400","80309010","2021-01-18T11:44:41",0,null,null,9]
[12,"5",2020,{"$f":"IFERROR(VLOOKUP([1]!Tabla_SERIEA_01_5[[#This Row],[IdEstablecimiento]],[2]Establecimientos!$A$1:$E$175,5,FALSE),0)","v":"04303-MONTE PATRIA"},"105400","80309013","2021-01-18T11:44:41",0,null,null,3]
[12,"5",2020,{"$f":"IFERROR(VLOOKUP([1]!Tabla_SERIEA_01_5[[#This Row],[IdEstablecimiento]],[2]Establecimientos!$A$1:$E$175,5,FALSE),0)","v":"04303-MONTE PATRIA"},"105400","80309022","2021-01-18T11:44:41",0,null,null,11]
[12,"5",2020,{"$f":"IFERROR(VLOOKUP([1]!Tabla_SERIEA_01_5[[#This Row],[IdEstablecimiento]],[2]Establecimientos!$A$1:$E$175,5,FALSE),0)","v":"04301-OVALLE"},"105400","80301038","2021-01-18T11:44:41",0,null,null,8]
[12,"5",2020,{"$f":"IFERROR(VLOOKUP([1]!Tabla_SERIEA_01_5[[#This Row],[IdEstablecimiento]],[2]Establecimientos!$A$1:$E$175,5,FALSE),0)","v":"04301-OVALLE"},"105400","80301041","2021-01-18T11:44:41",0,null,null,6]
[12,"5",2020,{"$f":"IFERROR(VLOOKUP([1]!Tabla_SERIEA_01_5[[#This Row],[IdEstablecimiento]],[2]Establecimientos!$A$1:$E$175,5,FALSE),0)","v":"04105-PAIHUANO"},"105400","80301045","2021-01-18T11:44:41",0,null,null,5]
[12,"5",2020,{"$f":"IFERROR(VLOOKUP([1]!Tabla_SERIEA_01_5[[#This Row],[IdEstablecimiento]],[2]Establecimientos!$A$1:$E$175,5,FALSE),0)","v":"04105-PAIHUANO"},"105400","80302005","2021-01-18T11:44:41",0,null,null,8]
[12,"5",2020,{"$f":"IFERROR(VLOOKUP([1]!Tabla_SERIEA_01_5[[#This Row],[IdEstablecimiento]],[2]Establecimientos!$A$1:$E$175,5,FALSE),0)","v":"04301-OVALLE"},"105400","80106002","2021-01-18T11:44:41",13,null,13,null,13]
[12,"5",2020,{"$f":"IFERROR(VLOOKUP([1]!Tabla_SERIEA_01_5[[#This Row],[IdEstablecimiento]],[2]Establecimientos!$A$1:$E$175,5,FALSE),0)","v":"04301-OVALLE"},"105400","80302012","2021-01-18T11:44:41",0,null,null,7]
[12,"5",2020,{"$f":"IFERROR(VLOOKUP([1]!Tabla_SERIEA_01_5[[#This Row],[IdEstablecimiento]],[2]Establecimientos!$A$1:$E$175,5,FALSE),0)","v":"04301-OVALLE"},"105400","80302067","2021-01-18T11:44:41",0,null,null,10]
[12,"5",2020,{"$f":"IFERROR(VLOOKUP([1]!Tabla_SERIEA_01_5[[#This Row],[IdEstablecimiento]],[2]Establecimientos!$A$1:$E$175,5,FALSE),0)","v":"04301-OVALLE"},"105400","80302068","2021-01-18T11:44:41",0,null,null,10]
[12,"5",2020,{"$f":"IFERROR(VLOOKUP([1]!Tabla_SERIEA_01_5[[#This Row],[IdEstablecimiento]],[2]Establecimientos!$A$1:$E$175,5,FALSE),0)","v":"04301-OVALLE"},"105400","80302023","2021-01-18T11:44:41",0,null,null,10]
[12,"5",2020,{"$f":"IFERROR(VLOOKUP([1]!Tabla_SERIEA_01_5[[#This Row],[IdEstablecimiento]],[2]Establecimientos!$A$1:$E$175,5,FALSE),0)","v":"04301-OVALLE"},"105400","80302032","2021-01-18T11:44:41",0,null,null,7]
[12,"5",2020,{"$f":"IFERROR(VLOOKUP([1]!Tabla_SERIEA_01_5[[#This Row],[IdEstablecimiento]],[2]Establecimientos!$A$1:$E$175,5,FALSE),0)","v":"04301-OVALLE"},"105400","80302040","2021-01-18T11:44:41",0,null,null,7]
[12,"5",2020,{"$f":"IFERROR(VLOOKUP([1]!Tabla_SERIEA_01_5[[#This Row],[IdEstablecimiento]],[2]Establecimientos!$A$1:$E$175,5,FALSE),0)","v":"04301-OVALLE"},"105400","80302047","2021-01-18T11:44:41",0,null,null,13]
[12,"5",2020,{"$f":"IFERROR(VLOOKUP([1]!Tabla_SERIEA_01_5[[#This Row],[IdEstablecimiento]],[2]Establecimientos!$A$1:$E$175,5,FALSE),0)","v":"04301-OVALLE"},"105400","80302063","2021-01-18T11:44:41",0,null,null,6]
[12,"5",2020,{"$f":"IFERROR(VLOOKUP([1]!Tabla_SERIEA_01_5[[#This Row],[IdEstablecimiento]],[2]Establecimientos!$A$1:$E$175,5,FALSE),0)","v":"04301-OVALLE"},"105400","80302064","2021-01-18T11:44:41",0,null,null,10]
[12,"5",2020,{"$f":"IFERROR(VLOOKUP([1]!Tabla_SERIEA_01_5[[#This Row],[IdEstablecimiento]],[2]Establecimientos!$A$1:$E$175,5,FALSE),0)","v":"04301-OVALLE"},"105400","80303024","2021-01-18T11:44:41",0,null,null,9]
[12,"5",2020,{"$f":"IFERROR(VLOOKUP([1]!Tabla_SERIEA_01_5[[#This Row],[IdEstablecimiento]],[2]Establecimientos!$A$1:$E$175,5,FALSE),0)","v":"04301-OVALLE"},"105400","80303026","2021-01-18T11:44:41",0,null,null,4]
[12,"5",2020,{"$f":"IFERROR(VLOOKUP([1]!Tabla_SERIEA_01_5[[#This Row],[IdEstablecimiento]],[2]Establecimientos!$A$1:$E$175,5,FALSE),0)","v":"04301-OVALLE"},"105400","80306011","2021-01-18T11:44:41",0,null,null,2]
[12,"5",2020,{"$f":"IFERROR(VLOOKUP([1]!Tabla_SERIEA_01_5[[#This Row],[IdEstablecimiento]],[2]Establecimientos!$A$1:$E$175,5,FALSE),0)","v":"04301-OVALLE"},"105400","80307011","2021-01-18T11:44:41",19,null,19]
[12,"5",2020,{"$f":"IFERROR(VLOOKUP([1]!Tabla_SERIEA_01_5[[#This Row],[IdEstablecimiento]],[2]Establecimientos!$A$1:$E$175,5,FALSE),0)","v":"04301-OVALLE"},"105400","80306042","2021-01-18T11:44:41",0,null,null,2]
[12,"5",2020,{"$f":"IFERROR(VLOOKUP([1]!Tabla_SERIEA_01_5[[#This Row],[IdEstablecimiento]],[2]Establecimientos!$A$1:$E$175,5,FALSE),0)","v":"04301-OVALLE"},"105400","18050100","2021-01-18T11:44:41",13,0,13]
[12,"5",2020,{"$f":"IFERROR(VLOOKUP([1]!Tabla_SERIEA_01_5[[#This Row],[IdEstablecimiento]],[2]Establecimientos!$A$1:$E$175,5,FALSE),0)","v":"04301-OVALLE"},"105401","80308030","2021-01-18T11:45:13",0,null,null,8]
[12,"5",2020,{"$f":"IFERROR(VLOOKUP([1]!Tabla_SERIEA_01_5[[#This Row],[IdEstablecimiento]],[2]Establecimientos!$A$1:$E$175,5,FALSE),0)","v":"04301-OVALLE"},"105401","80309012","2021-01-18T11:45:13",0,null,null,6]
[12,"5",2020,{"$f":"IFERROR(VLOOKUP([1]!Tabla_SERIEA_01_5[[#This Row],[IdEstablecimiento]],[2]Establecimientos!$A$1:$E$175,5,FALSE),0)","v":"04301-OVALLE"},"105401","80309022","2021-01-18T11:45:13",0,null,null,9]
[12,"5",2020,{"$f":"IFERROR(VLOOKUP([1]!Tabla_SERIEA_01_5[[#This Row],[IdEstablecimiento]],[2]Establecimientos!$A$1:$E$175,5,FALSE),0)","v":"04301-OVALLE"},"105401","80301036","2021-01-18T11:45:13",0,null,null,2]
[12,"5",2020,{"$f":"IFERROR(VLOOKUP([1]!Tabla_SERIEA_01_5[[#This Row],[IdEstablecimiento]],[2]Establecimientos!$A$1:$E$175,5,FALSE),0)","v":"04301-OVALLE"},"105401","80301038","2021-01-18T11:45:13",0,null,null,2]
[12,"5",2020,{"$f":"IFERROR(VLOOKUP([1]!Tabla_SERIEA_01_5[[#This Row],[IdEstablecimiento]],[2]Establecimientos!$A$1:$E$175,5,FALSE),0)","v":"04301-OVALLE"},"105401","80301045","2021-01-18T11:45:13",0,null,null,5]
[12,"5",2020,{"$f":"IFERROR(VLOOKUP([1]!Tabla_SERIEA_01_5[[#This Row],[IdEstablecimiento]],[2]Establecimientos!$A$1:$E$175,5,FALSE),0)","v":"04301-OVALLE"},"105401","80301086","2021-01-18T11:45:13",0,null,null,4]
[12,"5",2020,{"$f":"IFERROR(VLOOKUP([1]!Tabla_SERIEA_01_5[[#This Row],[IdEstablecimiento]],[2]Establecimientos!$A$1:$E$175,5,FALSE),0)","v":"04301-OVALLE"},"105401","80302005","2021-01-18T11:45:13",0,null,null,10]
[12,"5",2020,{"$f":"IFERROR(VLOOKUP([1]!Tabla_SERIEA_01_5[[#This Row],[IdEstablecimiento]],[2]Establecimientos!$A$1:$E$175,5,FALSE),0)","v":"04301-OVALLE"},"105401","80106002","2021-01-18T11:45:13",32,null,32,null,32]
[12,"5",2020,{"$f":"IFERROR(VLOOKUP([1]!Tabla_SERIEA_01_5[[#This Row],[IdEstablecimiento]],[2]Establecimientos!$A$1:$E$175,5,FALSE),0)","v":"04301-OVALLE"},"105401","80302013","2021-01-18T11:45:13",0,null,null,7]
[12,"5",2020,{"$f":"IFERROR(VLOOKUP([1]!Tabla_SERIEA_01_5[[#This Row],[IdEstablecimiento]],[2]Establecimientos!$A$1:$E$175,5,FALSE),0)","v":"04301-OVALLE"},"105401","80302067","2021-01-18T11:45:13",0,null,null,9]
[12,"5",2020,{"$f":"IFERROR(VLOOKUP([1]!Tabla_SERIEA_01_5[[#This Row],[IdEstablecimiento]],[2]Establecimientos!$A$1:$E$175,5,FALSE),0)","v":"04301-OVALLE"},"105401","80302068","2021-01-18T11:45:13",0,null,null,9]
[12,"5",2020,{"$f":"IFERROR(VLOOKUP([1]!Tabla_SERIEA_01_5[[#This Row],[IdEstablecimiento]],[2]Establecimientos!$A$1:$E$175,5,FALSE),0)","v":"04301-OVALLE"},"105401","80302023","2021-01-18T11:45:13",0,null,null,9]
[12,"5",2020,{"$f":"IFERROR(VLOOKUP([1]!Tabla_SERIEA_01_5[[#This Row],[IdEstablecimiento]],[2]Establecimientos!$A$1:$E$175,5,FALSE),0)","v":"04301-OVALLE"},"105401","80302047","2021-01-18T11:45:13",0,null,null,9]
[12,"5",2020,{"$f":"IFERROR(VLOOKUP([1]!Tabla_SERIEA_01_5[[#This Row],[IdEstablecimiento]],[2]Establecimientos!$A$1:$E$175,5,FALSE),0)","v":"04301-OVALLE"},"105401","80302063","2021-01-18T11:45:13",0,null,null,7]
[12,"5",2020,{"$f":"IFERROR(VLOOKUP([1]!Tabla_SERIEA_01_5[[#This Row],[IdEstablecimiento]],[2]Establecimientos!$A$1:$E$175,5,FALSE),0)","v":"04301-OVALLE"},"105401","80302064","2021-01-18T11:45:13",0,null,null,10]
[12,"5",2020,{"$f":"IFERROR(VLOOKUP([1]!Tabla_SERIEA_01_5[[#This Row],[IdEstablecimiento]],[2]Establecimientos!$A$1:$E$175,5,FALSE),0)","v":"04301-OVALLE"},"105401","80303026","2021-01-18T11:45:13",0,null,null,2]
[12,"5",2020,{"$f":"IFERROR(VLOOKUP([1]!Tabla_SERIEA_01_5[[#This Row],[IdEstablecimiento]],[2]Establecimientos!$A$1:$E$175,5,FALSE),0)","v":"04301-OVALLE"},"105401","80106014","2021-01-18T11:45:13",30,null,30,null,30]
[12,"5",2020,{"$f":"IFERROR(VLOOKUP([1]!Tabla_SERIEA_01_5[[#This Row],[IdEstablecimiento]],[2]Establecimientos!$A$1:$E$175,5,FALSE),0)","v":"04301-OVALLE"},"105401","80307011","2021-01-18T11:45:13",13,null,13]
[12,"5",2020,{"$f":"IFERROR(VLOOKUP([1]!Tabla_SERIEA_01_5[[#This Row],[IdEstablecimiento]],[2]Establecimientos!$A$1:$E$175,5,FALSE),0)","v":"04301-OVALLE"},"105401","80306042","2021-01-18T11:45:13",0,null,null,1]
[12,"5",2020,{"$f":"IFERROR(VLOOKUP([1]!Tabla_SERIEA_01_5[[#This Row],[IdEstablecimiento]],[2]Establecimientos!$A$1:$E$175,5,FALSE),0)","v":"04301-OVALLE"},"105401","18050100","2021-01-18T11:45:13",32,0,32]
[12,"5",2020,{"$f":"IFERROR(VLOOKUP([1]!Tabla_SERIEA_01_5[[#This Row],[IdEstablecimiento]],[2]Establecimientos!$A$1:$E$175,5,FALSE),0)","v":"04301-OVALLE"},"105402","80309013","2021-01-18T11:45:30",0,null,null,3]
[12,"5",2020,{"$f":"IFERROR(VLOOKUP([1]!Tabla_SERIEA_01_5[[#This Row],[IdEstablecimiento]],[2]Establecimientos!$A$1:$E$175,5,FALSE),0)","v":"04301-OVALLE"},"105402","80309022","2021-01-18T11:45:30",0,null,null,10]
[12,"5",2020,{"$f":"IFERROR(VLOOKUP([1]!Tabla_SERIEA_01_5[[#This Row],[IdEstablecimiento]],[2]Establecimientos!$A$1:$E$175,5,FALSE),0)","v":"04301-OVALLE"},"105402","80301034","2021-01-18T11:45:30",0,null,null,2]
[12,"5",2020,{"$f":"IFERROR(VLOOKUP([1]!Tabla_SERIEA_01_5[[#This Row],[IdEstablecimiento]],[2]Establecimientos!$A$1:$E$175,5,FALSE),0)","v":"04301-OVALLE"},"105402","80301036","2021-01-18T11:45:30",0,null,null,6]
[12,"5",2020,{"$f":"IFERROR(VLOOKUP([1]!Tabla_SERIEA_01_5[[#This Row],[IdEstablecimiento]],[2]Establecimientos!$A$1:$E$175,5,FALSE),0)","v":"04301-OVALLE"},"105402","80301038","2021-01-18T11:45:30",0,null,null,6]
[12,"5",2020,{"$f":"IFERROR(VLOOKUP([1]!Tabla_SERIEA_01_5[[#This Row],[IdEstablecimiento]],[2]Establecimientos!$A$1:$E$175,5,FALSE),0)","v":"04301-OVALLE"},"105402","80301041","2021-01-18T11:45:30",0,null,null,6]
[12,"5",2020,{"$f":"IFERROR(VLOOKUP([1]!Tabla_SERIEA_01_5[[#This Row],[IdEstablecimiento]],[2]Establecimientos!$A$1:$E$175,5,FALSE),0)","v":"04301-OVALLE"},"105402","80301045","2021-01-18T11:45:30",0,null,null,3]
[12,"5",2020,{"$f":"IFERROR(VLOOKUP([1]!Tabla_SERIEA_01_5[[#This Row],[IdEstablecimiento]],[2]Establecimientos!$A$1:$E$175,5,FALSE),0)","v":"04301-OVALLE"},"105402","80306061","2021-01-18T11:45:30",0,null,null,1]
[12,"5",2020,{"$f":"IFERROR(VLOOKUP([1]!Tabla_SERIEA_01_5[[#This Row],[IdEstablecimiento]],[2]Establecimientos!$A$1:$E$175,5,FALSE),0)","v":"04301-OVALLE"},"105402","80306169","2021-01-18T11:45:30",0,null,null,1]
[12,"5",2020,{"$f":"IFERROR(VLOOKUP([1]!Tabla_SERIEA_01_5[[#This Row],[IdEstablecimiento]],[2]Establecimientos!$A$1:$E$175,5,FALSE),0)","v":"04301-OVALLE"},"105402","80301086","2021-01-18T11:45:30",0,null,null,3]
[12,"5",2020,{"$f":"IFERROR(VLOOKUP([1]!Tabla_SERIEA_01_5[[#This Row],[IdEstablecimiento]],[2]Establecimientos!$A$1:$E$175,5,FALSE),0)","v":"04301-OVALLE"},"105402","80302005","2021-01-18T11:45:30",0,null,null,9]
[12,"5",2020,{"$f":"IFERROR(VLOOKUP([1]!Tabla_SERIEA_01_5[[#This Row],[IdEstablecimiento]],[2]Establecimientos!$A$1:$E$175,5,FALSE),0)","v":"04301-OVALLE"},"105402","80106002","2021-01-18T11:45:30",22,null,22,null,22]
[12,"5",2020,{"$f":"IFERROR(VLOOKUP([1]!Tabla_SERIEA_01_5[[#This Row],[IdEstablecimiento]],[2]Establecimientos!$A$1:$E$175,5,FALSE),0)","v":"04301-OVALLE"},"105402","80106005","2021-01-18T11:45:30",15,null,15,null,15]
[12,"5",2020,{"$f":"IFERROR(VLOOKUP([1]!Tabla_SERIEA_01_5[[#This Row],[IdEstablecimiento]],[2]Establecimientos!$A$1:$E$175,5,FALSE),0)","v":"04301-OVALLE"},"105402","80302012","2021-01-18T11:45:30",0,null,null,3]
[12,"5",2020,{"$f":"IFERROR(VLOOKUP([1]!Tabla_SERIEA_01_5[[#This Row],[IdEstablecimiento]],[2]Establecimientos!$A$1:$E$175,5,FALSE),0)","v":"04301-OVALLE"},"105402","80302067","2021-01-18T11:45:30",0,null,null,8]
[12,"5",2020,{"$f":"IFERROR(VLOOKUP([1]!Tabla_SERIEA_01_5[[#This Row],[IdEstablecimiento]],[2]Establecimientos!$A$1:$E$175,5,FALSE),0)","v":"04301-OVALLE"},"105402","80302068","2021-01-18T11:45:30",0,null,null,8]
[12,"5",2020,{"$f":"IFERROR(VLOOKUP([1]!Tabla_SERIEA_01_5[[#This Row],[IdEstablecimiento]],[2]Establecimientos!$A$1:$E$175,5,FALSE),0)","v":"04301-OVALLE"},"105402","80302023","2021-01-18T11:45:30",0,null,null,9]
[12,"5",2020,{"$f":"IFERROR(VLOOKUP([1]!Tabla_SERIEA_01_5[[#This Row],[IdEstablecimiento]],[2]Establecimientos!$A$1:$E$175,5,FALSE),0)","v":"04301-OVALLE"},"105402","80302040","2021-01-18T11:45:30",0,null,null,4]
[12,"5",2020,{"$f":"IFERROR(VLOOKUP([1]!Tabla_SERIEA_01_5[[#This Row],[IdEstablecimiento]],[2]Establecimientos!$A$1:$E$175,5,FALSE),0)","v":"04301-OVALLE"},"105402","80302047","2021-01-18T11:45:30",0,null,null,11]
[12,"5",2020,{"$f":"IFERROR(VLOOKUP([1]!Tabla_SERIEA_01_5[[#This Row],[IdEstablecimiento]],[2]Establecimientos!$A$1:$E$175,5,FALSE),0)","v":"04301-OVALLE"},"105402","80302063","2021-01-18T11:45:30",0,null,null,4]
[12,"5",2020,{"$f":"IFERROR(VLOOKUP([1]!Tabla_SERIEA_01_5[[#This Row],[IdEstablecimiento]],[2]Establecimientos!$A$1:$E$175,5,FALSE),0)","v":"04301-OVALLE"},"105402","80302064","2021-01-18T11:45:30",0,null,null,8]
[12,"5",2020,{"$f":"IFERROR(VLOOKUP([1]!Tabla_SERIEA_01_5[[#This Row],[IdEstablecimiento]],[2]Establecimientos!$A$1:$E$175,5,FALSE),0)","v":"04301-OVALLE"},"105402","80303024","2021-01-18T11:45:30",0,null,null,7]
[12,"5",2020,{"$f":"IFERROR(VLOOKUP([1]!Tabla_SERIEA_01_5[[#This Row],[IdEstablecimiento]],[2]Establecimientos!$A$1:$E$175,5,FALSE),0)","v":"04301-OVALLE"},"105402","80106014","2021-01-18T11:45:30",19,null,19,null,19]
[12,"5",2020,{"$f":"IFERROR(VLOOKUP([1]!Tabla_SERIEA_01_5[[#This Row],[IdEstablecimiento]],[2]Establecimientos!$A$1:$E$175,5,FALSE),0)","v":"04301-OVALLE"},"105402","80307011","2021-01-18T11:45:30",20,null,20]
[12,"5",2020,{"$f":"IFERROR(VLOOKUP([1]!Tabla_SERIEA_01_5[[#This Row],[IdEstablecimiento]],[2]Establecimientos!$A$1:$E$175,5,FALSE),0)","v":"04301-OVALLE"},"105402","80306042","2021-01-18T11:45:30",0,null,null,3]
[12,"5",2020,{"$f":"IFERROR(VLOOKUP([1]!Tabla_SERIEA_01_5[[#This Row],[IdEstablecimiento]],[2]Establecimientos!$A$1:$E$175,5,FALSE),0)","v":"04301-OVALLE"},"105402","18050100","2021-01-18T11:45:30",22,0,22]
[12,"5",2020,{"$f":"IFERROR(VLOOKUP([1]!Tabla_SERIEA_01_5[[#This Row],[IdEstablecimiento]],[2]Establecimientos!$A$1:$E$175,5,FALSE),0)","v":"04301-OVALLE"},"105402","18050200","2021-01-18T11:45:30",15,0,15]
[12,"5",2020,{"$f":"IFERROR(VLOOKUP([1]!Tabla_SERIEA_01_5[[#This Row],[IdEstablecimiento]],[2]Establecimientos!$A$1:$E$175,5,FALSE),0)","v":"04301-OVALLE"},"105409","18070300","2021-01-18T11:48:21",9,{"$nulls":4},4,5]
[12,"5",2020,{"$f":"IFERROR(VLOOKUP([1]!Tabla_SERIEA_01_5[[#This Row],[IdEstablecimiento]],[2]Establecimientos!$A$1:$E$175,5,FALSE),0)","v":"04301-OVALLE"},"105410","81701001","2021-01-18T11:48:39",6,null,6,null,6]
[12,"5",2020,{"$f":"IFERROR(VLOOKUP([1]!Tabla_SERIEA_01_5[[#This Row],[IdEstablecimiento]],[2]Establecimientos!$A$1:$E$175,5,FALSE),0)","v":"04301-OVALLE"},"105410","81602222","2021-01-18T11:48:39",2,null,2,null,2]
[12,"5",2020,{"$f":"IFERROR(VLOOKUP([1]!Tabla_SERIEA_01_5[[#This Row],[IdEstablecimiento]],[2]Establecimientos!$A$1:$E$175,5,FALSE),0)","v":"04301-OVALLE"},"105410","80106002","2021-01-18T11:48:39",18,null,18,null,18]
[12,"5",2020,{"$f":"IFERROR(VLOOKUP([1]!Tabla_SERIEA_01_5[[#This Row],[IdEstablecimiento]],[2]Establecimientos!$A$1:$E$175,5,FALSE),0)","v":"04301-OVALLE"},"105410","80106014","2021-01-18T11:48:39",34,null,34,null,34]
[12,"5",2020,{"$f":"IFERROR(VLOOKUP([1]!Tabla_SERIEA_01_5[[#This Row],[IdEstablecimiento]],[2]Establecimientos!$A$1:$E$175,5,FALSE),0)","v":"04304-PUNITAQUI"},"105410","80106015","2021-01-18T11:48:39",13,null,13,null,13]
[12,"5",2020,{"$f":"IFERROR(VLOOKUP([1]!Tabla_SERIEA_01_5[[#This Row],[IdEstablecimiento]],[2]Establecimientos!$A$1:$E$175,5,FALSE),0)","v":"04304-PUNITAQUI"},"105410","80106020","2021-01-18T11:48:39",2,null,2,null,2]
[12,"5",2020,{"$f":"IFERROR(VLOOKUP([1]!Tabla_SERIEA_01_5[[#This Row],[IdEstablecimiento]],[2]Establecimientos!$A$1:$E$175,5,FALSE),0)","v":"04304-PUNITAQUI"},"105410","80106022","2021-01-18T11:48:39",2,null,2,null,2]
[12,"5",2020,{"$f":"IFERROR(VLOOKUP([1]!Tabla_SERIEA_01_5[[#This Row],[IdEstablecimiento]],[2]Establecimientos!$A$1:$E$175,5,FALSE),0)","v":"04304-PUNITAQUI"},"105410","80500011","2021-01-18T11:48:39",37,null,37,null,37]
[12,"5",2020,{"$f":"IFERROR(VLOOKUP([1]!Tabla_SERIEA_01_5[[#This Row],[IdEstablecimiento]],[2]Establecimientos!$A$1:$E$175,5,FALSE),0)","v":"04304-PUNITAQUI"},"105410","18020500","2021-01-18T11:48:39",6,0,6]
[12,"5",2020,{"$f":"IFERROR(VLOOKUP([1]!Tabla_SERIEA_01_5[[#This Row],[IdEstablecimiento]],[2]Establecimientos!$A$1:$E$175,5,FALSE),0)","v":"04304-PUNITAQUI"},"105410","18030000","2021-01-18T11:48:39",2,0,2]
[12,"5",2020,{"$f":"IFERROR(VLOOKUP([1]!Tabla_SERIEA_01_5[[#This Row],[IdEstablecimiento]],[2]Establecimientos!$A$1:$E$175,5,FALSE),0)","v":"04304-PUNITAQUI"},"105410","18050100","2021-01-18T11:48:39",18,0,18]
[12,"5",2020,{"$f":"IFERROR(VLOOKUP([1]!Tabla_SERIEA_01_5[[#This Row],[IdEstablecimiento]],[2]Establecimientos!$A$1:$E$175,5,FALSE),0)","v":"04104-LA HIGUERA"},"105411","80309013","2021-01-18T11:48:57",5,null,5,5]
[12,"5",2020,{"$f":"IFERROR(VLOOKUP([1]!Tabla_SERIEA_01_5[[#This Row],[IdEstablecimiento]],[2]Establecimientos!$A$1:$E$175,5,FALSE),0)","v":"04104-LA HIGUERA"},"105411","80309022","2021-01-18T11:48:57",4,null,4,4]
[12,"5",2020,{"$f":"IFERROR(VLOOKUP([1]!Tabla_SERIEA_01_5[[#This Row],[IdEstablecimiento]],[2]Establecimientos!$A$1:$E$175,5,FALSE),0)","v":"04301-OVALLE"},"105411","80301041","2021-01-18T11:48:57",1,null,1,1]
[12,"5",2020,{"$f":"IFERROR(VLOOKUP([1]!Tabla_SERIEA_01_5[[#This Row],[IdEstablecimiento]],[2]Establecimientos!$A$1:$E$175,5,FALSE),0)","v":"04301-OVALLE"},"105411","80301045","2021-01-18T11:48:57",1,null,1,1]
[12,"5",2020,{"$f":"IFERROR(VLOOKUP([1]!Tabla_SERIEA_01_5[[#This Row],[IdEstablecimiento]],[2]Establecimientos!$A$1:$E$175,5,FALSE),0)","v":"04301-OVALLE"},"105411","80301085","2021-01-18T11:48:57",2,null,2,2]
[12,"5",2020,{"$f":"IFERROR(VLOOKUP([1]!Tabla_SERIEA_01_5[[#This Row],[IdEstablecimiento]],[2]Establecimientos!$A$1:$E$175,5,FALSE),0)","v":"04301-OVALLE"},"105411","80302005","2021-01-18T11:48:57",3,null,3,3]
[12,"5",2020,{"$f":"IFERROR(VLOOKUP([1]!Tabla_SERIEA_01_5[[#This Row],[IdEstablecimiento]],[2]Establecimientos!$A$1:$E$175,5,FALSE),0)","v":"04301-OVALLE"},"105411","81701001","2021-01-18T11:48:57",1,null,1,null,1]
[12,"5",2020,{"$f":"IFERROR(VLOOKUP([1]!Tabla_SERIEA_01_5[[#This Row],[IdEstablecimiento]],[2]Establecimientos!$A$1:$E$175,5,FALSE),0)","v":"04301-OVALLE"},"105411","81701009","2021-01-18T11:48:57",1,null,1,null,1]
[12,"5",2020,{"$f":"IFERROR(VLOOKUP([1]!Tabla_SERIEA_01_5[[#This Row],[IdEstablecimiento]],[2]Establecimientos!$A$1:$E$175,5,FALSE),0)","v":"04301-OVALLE"},"105411","80106002","2021-01-18T11:48:57",6,null,6,null,6]
[12,"5",2020,{"$f":"IFERROR(VLOOKUP([1]!Tabla_SERIEA_01_5[[#This Row],[IdEstablecimiento]],[2]Establecimientos!$A$1:$E$175,5,FALSE),0)","v":"04301-OVALLE"},"105411","80302023","2021-01-18T11:48:57",4,null,4,4]
[12,"5",2020,{"$f":"IFERROR(VLOOKUP([1]!Tabla_SERIEA_01_5[[#This Row],[IdEstablecimiento]],[2]Establecimientos!$A$1:$E$175,5,FALSE),0)","v":"04102-COQUIMBO"},"105411","80302032","2021-01-18T11:48:57",3,null,3,3]
[12,"5",2020,{"$f":"IFERROR(VLOOKUP([1]!Tabla_SERIEA_01_5[[#This Row],[IdEstablecimiento]],[2]Establecimientos!$A$1:$E$175,5,FALSE),0)","v":"04102-COQUIMBO"},"105411","80302034","2021-01-18T11:48:57",3,null,3,3]
[12,"5",2020,{"$f":"IFERROR(VLOOKUP([1]!Tabla_SERIEA_01_5[[#This Row],[IdEstablecimiento]],[2]Establecimientos!$A$1:$E$175,5,FALSE),0)","v":"04102-COQUIMBO"},"105411","80302047","2021-01-18T11:48:57",4,null,4,4]
[12,"5",2020,{"$f":"IFERROR(VLOOKUP([1]!Tabla_SERIEA_01_5[[#This Row],[IdEstablecimiento]],[2]Establecimientos!$A$1:$E$175,5,FALSE),0)","v":"04102-COQUIMBO"},"105411","80302057","2021-01-18T11:48:57",1,null,1,1]
[12,"5",2020,{"$f":"IFERROR(VLOOKUP([1]!Tabla_SERIEA_01_5[[#This Row],[IdEstablecimiento]],[2]Establecimientos!$A$1:$E$175,5,FALSE),0)","v":"04102-COQUIMBO"},"105411","80302076","2021-01-18T11:48:57",1,null,1,1]
[12,"5",2020,{"$f":"IFERROR(VLOOKUP([1]!Tabla_SERIEA_01_5[[#This Row],[IdEstablecimiento]],[2]Establecimientos!$A$1:$E$175,5,FALSE),0)","v":"04102-COQUIMBO"},"105411","80303024","2021-01-18T11:48:57",1,null,1,1]
[12,"5",2020,{"$f":"IFERROR(VLOOKUP([1]!Tabla_SERIEA_01_5[[#This Row],[IdEstablecimiento]],[2]Establecimientos!$A$1:$E$175,5,FALSE),0)","v":"04102-COQUIMBO"},"105411","80303026","2021-01-18T11:48:57",1,null,1,1]
[12,"5",2020,{"$f":"IFERROR(VLOOKUP([1]!Tabla_SERIEA_01_5[[#This Row],[IdEstablecimiento]],[2]Establecimientos!$A$1:$E$175,5,FALSE),0)","v":"04102-COQUIMBO"},"105411","80106014","2021-01-18T11:48:57",44,null,44,null,44]
[12,"5",2020,{"$f":"IFERROR(VLOOKUP([1]!Tabla_SERIEA_01_5[[#This Row],[IdEstablecimiento]],[2]Establecimientos!$A$1:$E$175,5,FALSE),0)","v":"04102-COQUIMBO"},"105411","80106015","2021-01-18T11:48:57",5,null,5,null,5]
[12,"5",2020,{"$f":"IFERROR(VLOOKUP([1]!Tabla_SERIEA_01_5[[#This Row],[IdEstablecimiento]],[2]Establecimientos!$A$1:$E$175,5,FALSE),0)","v":"04102-COQUIMBO"},"105411","80106020","2021-01-18T11:48:57",1,null,1,null,1]
[12,"5",2020,{"$f":"IFERROR(VLOOKUP([1]!Tabla_SERIEA_01_5[[#This Row],[IdEstablecimiento]],[2]Establecimientos!$A$1:$E$175,5,FALSE),0)","v":"04102-COQUIMBO"},"105411","80307011","2021-01-18T11:48:57",8,null,8,8]
[12,"5",2020,{"$f":"IFERROR(VLOOKUP([1]!Tabla_SERIEA_01_5[[#This Row],[IdEstablecimiento]],[2]Establecimientos!$A$1:$E$175,5,FALSE),0)","v":"04102-COQUIMBO"},"105411","80500011","2021-01-18T11:48:57",1,null,1,null,1]
[12,"5",2020,{"$f":"IFERROR(VLOOKUP([1]!Tabla_SERIEA_01_5[[#This Row],[IdEstablecimiento]],[2]Establecimientos!$A$1:$E$175,5,FALSE),0)","v":"04102-COQUIMBO"},"105411","18010100","2021-01-18T11:48:57",4,0,4]
[12,"5",2020,{"$f":"IFERROR(VLOOKUP([1]!Tabla_SERIEA_01_5[[#This Row],[IdEstablecimiento]],[2]Establecimientos!$A$1:$E$175,5,FALSE),0)","v":"04102-COQUIMBO"},"105411","18010200","2021-01-18T11:48:57",19,0,19]
[12,"5",2020,{"$f":"IFERROR(VLOOKUP([1]!Tabla_SERIEA_01_5[[#This Row],[IdEstablecimiento]],[2]Establecimientos!$A$1:$E$175,5,FALSE),0)","v":"04102-COQUIMBO"},"105411","18090100","2021-01-18T11:48:57",2,0,2]
[12,"5",2020,{"$f":"IFERROR(VLOOKUP([1]!Tabla_SERIEA_01_5[[#This Row],[IdEstablecimiento]],[2]Establecimientos!$A$1:$E$175,5,FALSE),0)","v":"04102-COQUIMBO"},"105411","18010900","2021-01-18T11:48:57",9,0,9]
[12,"5",2020,{"$f":"IFERROR(VLOOKUP([1]!Tabla_SERIEA_01_5[[#This Row],[IdEstablecimiento]],[2]Establecimientos!$A$1:$E$175,5,FALSE),0)","v":"04102-COQUIMBO"},"105411","18020500","2021-01-18T11:48:57",2,0,2]
[12,"5",2020,{"$f":"IFERROR(VLOOKUP([1]!Tabla_SERIEA_01_5[[#This Row],[IdEstablecimiento]],[2]Establecimientos!$A$1:$E$175,5,FALSE),0)","v":"04102-COQUIMBO"},"105411","18050100","2021-01-18T11:48:57",6,0,6]
[12,"5",2020,{"$f":"IFERROR(VLOOKUP([1]!Tabla_SERIEA_01_5[[#This Row],[IdEstablecimiento]],[2]Establecimientos!$A$1:$E$175,5,FALSE),0)","v":"04102-COQUIMBO"},"105411","18070300","2021-01-18T11:48:57",6,{"$nulls":4},1,5]
[12,"5",2020,{"$f":"IFERROR(VLOOKUP([1]!Tabla_SERIEA_01_5[[#This Row],[IdEstablecimiento]],[2]Establecimientos!$A$1:$E$175,5,FALSE),0)","v":"04102-COQUIMBO"},"105414","80309014","2021-01-18T11:49:38",2,null,2]
[12,"5",2020,{"$f":"IFERROR(VLOOKUP([1]!Tabla_SERIEA_01_5[[#This Row],[IdEstablecimiento]],[2]Establecimientos!$A$1:$E$175,5,FALSE),0)","v":"04102-COQUIMBO"},"105414","80309023","2021-01-18T11:49:38",5,null,5]
[12,"5",2020,{"$f":"IFERROR(VLOOKUP([1]!Tabla_SERIEA_01_5[[#This Row],[IdEstablecimiento]],[2]Establecimientos!$A$1:$E$175,5,FALSE),0)","v":"04102-COQUIMBO"},"105414","80301041","2021-01-18T11:49:38",3,null,3]
[12,"5",2020,{"$f":"IFERROR(VLOOKUP([1]!Tabla_SERIEA_01_5[[#This Row],[IdEstablecimiento]],[2]Establecimientos!$A$1:$E$175,5,FALSE),0)","v":"04102-COQUIMBO"},"105414","80106002","2021-01-18T11:49:38",0,{"$nulls":3},10]
[12,"5",2020,{"$f":"IFERROR(VLOOKUP([1]!Tabla_SERIEA_01_5[[#This Row],[IdEstablecimiento]],[2]Establecimientos!$A$1:$E$175,5,FALSE),0)","v":"04102-COQUIMBO"},"105414","80302034","2021-01-18T11:49:38",7,null,7]
[12,"5",2020,{"$f":"IFERROR(VLOOKUP([1]!Tabla_SERIEA_01_5[[#This Row],[IdEstablecimiento]],[2]Establecimientos!$A$1:$E$175,5,FALSE),0)","v":"04102-COQUIMBO"},"105414","80302076","2021-01-18T11:49:38",1,null,1]
[12,"5",2020,{"$f":"IFERROR(VLOOKUP([1]!Tabla_SERIEA_01_5[[#This Row],[IdEstablecimiento]],[2]Establecimientos!$A$1:$E$175,5,FALSE),0)","v":"04102-COQUIMBO"},"105414","80106013","2021-01-18T11:49:38",0,{"$nulls":3},3]
[12,"5",2020,{"$f":"IFERROR(VLOOKUP([1]!Tabla_SERIEA_01_5[[#This Row],[IdEstablecimiento]],[2]Establecimientos!$A$1:$E$175,5,FALSE),0)","v":"04102-COQUIMBO"},"105414","80106015","2021-01-18T11:49:38",0,{"$nulls":3},40]
[12,"5",2020,{"$f":"IFERROR(VLOOKUP([1]!Tabla_SERIEA_01_5[[#This Row],[IdEstablecimiento]],[2]Establecimientos!$A$1:$E$175,5,FALSE),0)","v":"04102-COQUIMBO"},"105414","80307011","2021-01-18T11:49:38",12,null,12]
[12,"5",2020,{"$f":"IFERROR(VLOOKUP([1]!Tabla_SERIEA_01_5[[#This Row],[IdEstablecimiento]],[2]Establecimientos!$A$1:$E$175,5,FALSE),0)","v":"04102-COQUIMBO"},"105414","80500008","2021-01-18T11:49:38",1,null,1,null,1]
[12,"5",2020,{"$f":"IFERROR(VLOOKUP([1]!Tabla_SERIEA_01_5[[#This Row],[IdEstablecimiento]],[2]Establecimientos!$A$1:$E$175,5,FALSE),0)","v":"04102-COQUIMBO"},"105414","80500011","2021-01-18T11:49:38",0,{"$nulls":3},8]
[12,"5",2020,{"$f":"IFERROR(VLOOKUP([1]!Tabla_SERIEA_01_5[[#This Row],[IdEstablecimiento]],[2]Establecimientos!$A$1:$E$175,5,FALSE),0)","v":"04102-COQUIMBO"},"105414","18010100","2021-01-18T11:49:38",3,0,3]
[12,"5",2020,{"$f":"IFERROR(VLOOKUP([1]!Tabla_SERIEA_01_5[[#This Row],[IdEstablecimiento]],[2]Establecimientos!$A$1:$E$175,5,FALSE),0)","v":"04102-COQUIMBO"},"105414","18010200","2021-01-18T11:49:38",8,0,8]
[12,"5",2020,{"$f":"IFERROR(VLOOKUP([1]!Tabla_SERIEA_01_5[[#This Row],[IdEstablecimiento]],[2]Establecimientos!$A$1:$E$175,5,FALSE),0)","v":"04102-COQUIMBO"},"105414","18010900","2021-01-18T11:49:38",7,0,7]
[12,"5",2020,{"$f":"IFERROR(VLOOKUP([1]!Tabla_SERIEA_01_5[[#This Row],[IdEstablecimiento]],[2]Establecimientos!$A$1:$E$175,5,FALSE),0)","v":"04102-COQUIMBO"},"105414","18070300","2021-01-18T11:49:38",11,null,1,1,1,6,2]
[12,"5",2020,{"$f":"IFERROR(VLOOKUP([1]!Tabla_SERIEA_01_5[[#This Row],[IdEstablecimiento]],[2]Establecimientos!$A$1:$E$175,5,FALSE),0)","v":"04102-COQUIMBO"},"105414","18400900","2021-01-18T11:49:38",2,null,2]
[12,"5",2020,{"$f":"IFERROR(VLOOKUP([1]!Tabla_SERIEA_01_5[[#This Row],[IdEstablecimiento]],[2]Establecimientos!$A$1:$E$175,5,FALSE),0)","v":"04102-COQUIMBO"},"105414","18090200","2021-01-18T11:49:38",8]
[12,"5",2020,{"$f":"IFERROR(VLOOKUP([1]!Tabla_SERIEA_01_5[[#This Row],[IdEstablecimiento]],[2]Establecimientos!$A$1:$E$175,5,FALSE),0)","v":"04102-COQUIMBO"},"105415","81701009","2021-01-18T11:49:55",15,null,15,null,15]
[12,"5",2020,{"$f":"IFERROR(VLOOKUP([1]!Tabla_SERIEA_01_5[[#This Row],[IdEstablecimiento]],[2]Establecimientos!$A$1:$E$175,5,FALSE),0)","v":"04102-COQUIMBO"},"105415","80106002","2021-01-18T11:49:55",64,null,64,null,64]
[12,"5",2020,{"$f":"IFERROR(VLOOKUP([1]!Tabla_SERIEA_01_5[[#This Row],[IdEstablecimiento]],[2]Establecimientos!$A$1:$E$175,5,FALSE),0)","v":"04102-COQUIMBO"},"105415","80106017","2021-01-18T11:49:55",19,null,19,null,19]
[12,"5",2020,{"$f":"IFERROR(VLOOKUP([1]!Tabla_SERIEA_01_5[[#This Row],[IdEstablecimiento]],[2]Establecimientos!$A$1:$E$175,5,FALSE),0)","v":"04102-COQUIMBO"},"105415","80106014","2021-01-18T11:49:55",29,null,29,null,29]
[12,"5",2020,{"$f":"IFERROR(VLOOKUP([1]!Tabla_SERIEA_01_5[[#This Row],[IdEstablecimiento]],[2]Establecimientos!$A$1:$E$175,5,FALSE),0)","v":"04102-COQUIMBO"},"105415","80106015","2021-01-18T11:49:55",4,null,4,null,4]
[12,"5",2020,{"$f":"IFERROR(VLOOKUP([1]!Tabla_SERIEA_01_5[[#This Row],[IdEstablecimiento]],[2]Establecimientos!$A$1:$E$175,5,FALSE),0)","v":"04102-COQUIMBO"},"105415","80500011","2021-01-18T11:49:55",7,null,7,null,7]
[12,"5",2020,{"$f":"IFERROR(VLOOKUP([1]!Tabla_SERIEA_01_5[[#This Row],[IdEstablecimiento]],[2]Establecimientos!$A$1:$E$175,5,FALSE),0)","v":"04102-COQUIMBO"},"105415","18020500","2021-01-18T11:49:55",15,0,15]
[12,"5",2020,{"$f":"IFERROR(VLOOKUP([1]!Tabla_SERIEA_01_5[[#This Row],[IdEstablecimiento]],[2]Establecimientos!$A$1:$E$175,5,FALSE),0)","v":"04102-COQUIMBO"},"105415","18050100","2021-01-18T11:49:55",64,0,64]
[12,"5",2020,{"$f":"IFERROR(VLOOKUP([1]!Tabla_SERIEA_01_5[[#This Row],[IdEstablecimiento]],[2]Establecimientos!$A$1:$E$175,5,FALSE),0)","v":"04102-COQUIMBO"},"105416","80106002","2021-01-18T11:50:14",8,null,8,null,8]
[12,"5",2020,{"$f":"IFERROR(VLOOKUP([1]!Tabla_SERIEA_01_5[[#This Row],[IdEstablecimiento]],[2]Establecimientos!$A$1:$E$175,5,FALSE),0)","v":"04102-COQUIMBO"},"105416","80106017","2021-01-18T11:50:14",21,null,21,null,21]
[12,"5",2020,{"$f":"IFERROR(VLOOKUP([1]!Tabla_SERIEA_01_5[[#This Row],[IdEstablecimiento]],[2]Establecimientos!$A$1:$E$175,5,FALSE),0)","v":"04102-COQUIMBO"},"105416","80106014","2021-01-18T11:50:14",24,null,24,24]
[12,"5",2020,{"$f":"IFERROR(VLOOKUP([1]!Tabla_SERIEA_01_5[[#This Row],[IdEstablecimiento]],[2]Establecimientos!$A$1:$E$175,5,FALSE),0)","v":"04102-COQUIMBO"},"105416","80106015","2021-01-18T11:50:14",2,null,2,2]
[12,"5",2020,{"$f":"IFERROR(VLOOKUP([1]!Tabla_SERIEA_01_5[[#This Row],[IdEstablecimiento]],[2]Establecimientos!$A$1:$E$175,5,FALSE),0)","v":"04102-COQUIMBO"},"105416","18050100","2021-01-18T11:50:14",8,0,8]
[12,"5",2020,{"$f":"IFERROR(VLOOKUP([1]!Tabla_SERIEA_01_5[[#This Row],[IdEstablecimiento]],[2]Establecimientos!$A$1:$E$175,5,FALSE),0)","v":"04102-COQUIMBO"},"105416","18070300","2021-01-18T11:50:14",4,{"$nulls":4},2,2]
[12,"5",2020,{"$f":"IFERROR(VLOOKUP([1]!Tabla_SERIEA_01_5[[#This Row],[IdEstablecimiento]],[2]Establecimientos!$A$1:$E$175,5,FALSE),0)","v":"04102-COQUIMBO"},"105417","80106002","2021-01-18T13:36:07",4,null,4,null,4]
[12,"5",2020,{"$f":"IFERROR(VLOOKUP([1]!Tabla_SERIEA_01_5[[#This Row],[IdEstablecimiento]],[2]Establecimientos!$A$1:$E$175,5,FALSE),0)","v":"04102-COQUIMBO"},"105417","80106017","2021-01-18T13:36:07",12,null,12,null,12]
[12,"5",2020,{"$f":"IFERROR(VLOOKUP([1]!Tabla_SERIEA_01_5[[#This Row],[IdEstablecimiento]],[2]Establecimientos!$A$1:$E$175,5,FALSE),0)","v":"04102-COQUIMBO"},"105417","80106014","2021-01-18T13:36:07",14,null,14,null,14]
[12,"5",2020,{"$f":"IFERROR(VLOOKUP([1]!Tabla_SERIEA_01_5[[#This Row],[IdEstablecimiento]],[2]Establecimientos!$A$1:$E$175,5,FALSE),0)","v":"04102-COQUIMBO"},"105417","18050100","2021-01-18T13:36:07",4,0,4]
[12,"5",2020,{"$f":"IFERROR(VLOOKUP([1]!Tabla_SERIEA_01_5[[#This Row],[IdEstablecimiento]],[2]Establecimientos!$A$1:$E$175,5,FALSE),0)","v":"04102-COQUIMBO"},"105417","18070300","2021-01-18T13:36:07",1,1]
[12,"5",2020,{"$f":"IFERROR(VLOOKUP([1]!Tabla_SERIEA_01_5[[#This Row],[IdEstablecimiento]],[2]Establecimientos!$A$1:$E$175,5,FALSE),0)","v":"04102-COQUIMBO"},"105419","81701009","2021-01-18T13:36:27",8,null,8,null,8]
[12,"5",2020,{"$f":"IFERROR(VLOOKUP([1]!Tabla_SERIEA_01_5[[#This Row],[IdEstablecimiento]],[2]Establecimientos!$A$1:$E$175,5,FALSE),0)","v":"04102-COQUIMBO"},"105419","80106002","2021-01-18T13:36:27",11,null,11,null,11]
[12,"5",2020,{"$f":"IFERROR(VLOOKUP([1]!Tabla_SERIEA_01_5[[#This Row],[IdEstablecimiento]],[2]Establecimientos!$A$1:$E$175,5,FALSE),0)","v":"04102-COQUIMBO"},"105419","80106014","2021-01-18T13:36:27",25,null,25,null,25]
[12,"5",2020,{"$f":"IFERROR(VLOOKUP([1]!Tabla_SERIEA_01_5[[#This Row],[IdEstablecimiento]],[2]Establecimientos!$A$1:$E$175,5,FALSE),0)","v":"04102-COQUIMBO"},"105419","80106015","2021-01-18T13:36:27",1,null,1,null,1]
[12,"5",2020,{"$f":"IFERROR(VLOOKUP([1]!Tabla_SERIEA_01_5[[#This Row],[IdEstablecimiento]],[2]Establecimientos!$A$1:$E$175,5,FALSE),0)","v":"04102-COQUIMBO"},"105422","80106002","2021-01-18T11:51:31",4,null,4,null,4]
[12,"5",2020,{"$f":"IFERROR(VLOOKUP([1]!Tabla_SERIEA_01_5[[#This Row],[IdEstablecimiento]],[2]Establecimientos!$A$1:$E$175,5,FALSE),0)","v":"04102-COQUIMBO"},"105422","80106014","2021-01-18T11:51:31",17,null,17,null,17]
[12,"5",2020,{"$f":"IFERROR(VLOOKUP([1]!Tabla_SERIEA_01_5[[#This Row],[IdEstablecimiento]],[2]Establecimientos!$A$1:$E$175,5,FALSE),0)","v":"04102-COQUIMBO"},"105422","80106015","2021-01-18T11:51:31",1,null,1,null,1]
[12,"5",2020,{"$f":"IFERROR(VLOOKUP([1]!Tabla_SERIEA_01_5[[#This Row],[IdEstablecimiento]],[2]Establecimientos!$A$1:$E$175,5,FALSE),0)","v":"04102-COQUIMBO"},"105422","18050100","2021-01-18T11:51:31",4,0,4]
[12,"5",2020,{"$f":"IFERROR(VLOOKUP([1]!Tabla_SERIEA_01_5[[#This Row],[IdEstablecimiento]],[2]Establecimientos!$A$1:$E$175,5,FALSE),0)","v":"04102-COQUIMBO"},"105419","18020500","2021-01-18T13:36:27",8,0,8]
[12,"5",2020,{"$f":"IFERROR(VLOOKUP([1]!Tabla_SERIEA_01_5[[#This Row],[IdEstablecimiento]],[2]Establecimientos!$A$1:$E$175,5,FALSE),0)","v":"04102-COQUIMBO"},"105419","18050100","2021-01-18T13:36:27",11,0,11]
[12,"5",2020,{"$f":"IFERROR(VLOOKUP([1]!Tabla_SERIEA_01_5[[#This Row],[IdEstablecimiento]],[2]Establecimientos!$A$1:$E$175,5,FALSE),0)","v":"04102-COQUIMBO"},"105425","81701001","2021-01-18T13:37:31",1,null,1,null,1]
[12,"5",2020,{"$f":"IFERROR(VLOOKUP([1]!Tabla_SERIEA_01_5[[#This Row],[IdEstablecimiento]],[2]Establecimientos!$A$1:$E$175,5,FALSE),0)","v":"04102-COQUIMBO"},"105425","81701009","2021-01-18T13:37:31",8,null,8,null,8]
[12,"5",2020,{"$f":"IFERROR(VLOOKUP([1]!Tabla_SERIEA_01_5[[#This Row],[IdEstablecimiento]],[2]Establecimientos!$A$1:$E$175,5,FALSE),0)","v":"04102-COQUIMBO"},"105435","81707030","2021-01-18T13:38:58",6,null,6,null,6]
[12,"5",2020,{"$f":"IFERROR(VLOOKUP([1]!Tabla_SERIEA_01_5[[#This Row],[IdEstablecimiento]],[2]Establecimientos!$A$1:$E$175,5,FALSE),0)","v":"04102-COQUIMBO"},"105435","81602222","2021-01-18T13:38:58",2,null,2,null,2]
[12,"5",2020,{"$f":"IFERROR(VLOOKUP([1]!Tabla_SERIEA_01_5[[#This Row],[IdEstablecimiento]],[2]Establecimientos!$A$1:$E$175,5,FALSE),0)","v":"04102-COQUIMBO"},"105435","80106002","2021-01-18T13:38:58",16,null,16,null,16]
[12,"5",2020,{"$f":"IFERROR(VLOOKUP([1]!Tabla_SERIEA_01_5[[#This Row],[IdEstablecimiento]],[2]Establecimientos!$A$1:$E$175,5,FALSE),0)","v":"04102-COQUIMBO"},"105435","80106017","2021-01-18T13:38:58",1,null,1,null,1]
[12,"5",2020,{"$f":"IFERROR(VLOOKUP([1]!Tabla_SERIEA_01_5[[#This Row],[IdEstablecimiento]],[2]Establecimientos!$A$1:$E$175,5,FALSE),0)","v":"04102-COQUIMBO"},"105435","80106014","2021-01-18T13:38:58",40,null,40,null,40]
[12,"5",2020,{"$f":"IFERROR(VLOOKUP([1]!Tabla_SERIEA_01_5[[#This Row],[IdEstablecimiento]],[2]Establecimientos!$A$1:$E$175,5,FALSE),0)","v":"04102-COQUIMBO"},"105435","80106015","2021-01-18T13:38:58",3,null,3,null,3]
[12,"5",2020,{"$f":"IFERROR(VLOOKUP([1]!Tabla_SERIEA_01_5[[#This Row],[IdEstablecimiento]],[2]Establecimientos!$A$1:$E$175,5,FALSE),0)","v":"04102-COQUIMBO"},"105435","80307011","2021-01-18T13:38:58",24,null,24]
[12,"5",2020,{"$f":"IFERROR(VLOOKUP([1]!Tabla_SERIEA_01_5[[#This Row],[IdEstablecimiento]],[2]Establecimientos!$A$1:$E$175,5,FALSE),0)","v":"04102-COQUIMBO"},"105435","80500008","2021-01-18T13:38:58",1,null,1,null,1]
[12,"5",2020,{"$f":"IFERROR(VLOOKUP([1]!Tabla_SERIEA_01_5[[#This Row],[IdEstablecimiento]],[2]Establecimientos!$A$1:$E$175,5,FALSE),0)","v":"04101-LA SERENA"},"105425","80106002","2021-01-18T13:37:31",12,null,12,null,12]
[12,"5",2020,{"$f":"IFERROR(VLOOKUP([1]!Tabla_SERIEA_01_5[[#This Row],[IdEstablecimiento]],[2]Establecimientos!$A$1:$E$175,5,FALSE),0)","v":"04101-LA SERENA"},"105425","80106017","2021-01-18T13:37:31",15,null,15,null,15]
[12,"5",2020,{"$f":"IFERROR(VLOOKUP([1]!Tabla_SERIEA_01_5[[#This Row],[IdEstablecimiento]],[2]Establecimientos!$A$1:$E$175,5,FALSE),0)","v":"04101-LA SERENA"},"105427","81701009","2021-01-18T13:38:16",18,null,18,null,18]
[12,"5",2020,{"$f":"IFERROR(VLOOKUP([1]!Tabla_SERIEA_01_5[[#This Row],[IdEstablecimiento]],[2]Establecimientos!$A$1:$E$175,5,FALSE),0)","v":"04101-LA SERENA"},"105427","80106002","2021-01-18T13:38:16",3,null,3,null,3]
[12,"5",2020,{"$f":"IFERROR(VLOOKUP([1]!Tabla_SERIEA_01_5[[#This Row],[IdEstablecimiento]],[2]Establecimientos!$A$1:$E$175,5,FALSE),0)","v":"04101-LA SERENA"},"105427","80106008","2021-01-18T13:38:16",1,null,1,null,1]
[12,"5",2020,{"$f":"IFERROR(VLOOKUP([1]!Tabla_SERIEA_01_5[[#This Row],[IdEstablecimiento]],[2]Establecimientos!$A$1:$E$175,5,FALSE),0)","v":"04101-LA SERENA"},"105427","80106014","2021-01-18T13:38:16",12,null,12,null,12]
[12,"5",2020,{"$f":"IFERROR(VLOOKUP([1]!Tabla_SERIEA_01_5[[#This Row],[IdEstablecimiento]],[2]Establecimientos!$A$1:$E$175,5,FALSE),0)","v":"04101-LA SERENA"},"105427","80106015","2021-01-18T13:38:16",2,null,2,null,2]
[12,"5",2020,{"$f":"IFERROR(VLOOKUP([1]!Tabla_SERIEA_01_5[[#This Row],[IdEstablecimiento]],[2]Establecimientos!$A$1:$E$175,5,FALSE),0)","v":"04101-LA SERENA"},"105427","80307011","2021-01-18T13:38:16",16,null,16]
[12,"5",2020,{"$f":"IFERROR(VLOOKUP([1]!Tabla_SERIEA_01_5[[#This Row],[IdEstablecimiento]],[2]Establecimientos!$A$1:$E$175,5,FALSE),0)","v":"04101-LA SERENA"},"105427","80500011","2021-01-18T13:38:16",6,null,6,null,6]
[12,"5",2020,{"$f":"IFERROR(VLOOKUP([1]!Tabla_SERIEA_01_5[[#This Row],[IdEstablecimiento]],[2]Establecimientos!$A$1:$E$175,5,FALSE),0)","v":"04101-LA SERENA"},"105427","18020500","2021-01-18T13:38:16",18,0,18]
[12,"5",2020,{"$f":"IFERROR(VLOOKUP([1]!Tabla_SERIEA_01_5[[#This Row],[IdEstablecimiento]],[2]Establecimientos!$A$1:$E$175,5,FALSE),0)","v":"04101-LA SERENA"},"105427","18050100","2021-01-18T13:38:16",3,0,3]
[12,"5",2020,{"$f":"IFERROR(VLOOKUP([1]!Tabla_SERIEA_01_5[[#This Row],[IdEstablecimiento]],[2]Establecimientos!$A$1:$E$175,5,FALSE),0)","v":"04101-LA SERENA"},"105428","81701009","2021-01-18T13:38:36",37,null,37,null,37]
[12,"5",2020,{"$f":"IFERROR(VLOOKUP([1]!Tabla_SERIEA_01_5[[#This Row],[IdEstablecimiento]],[2]Establecimientos!$A$1:$E$175,5,FALSE),0)","v":"04101-LA SERENA"},"105428","80106002","2021-01-18T13:38:36",11,null,11,null,11]
[12,"5",2020,{"$f":"IFERROR(VLOOKUP([1]!Tabla_SERIEA_01_5[[#This Row],[IdEstablecimiento]],[2]Establecimientos!$A$1:$E$175,5,FALSE),0)","v":"04101-LA SERENA"},"105428","80106014","2021-01-18T13:38:36",35,null,35,null,35]
[12,"5",2020,{"$f":"IFERROR(VLOOKUP([1]!Tabla_SERIEA_01_5[[#This Row],[IdEstablecimiento]],[2]Establecimientos!$A$1:$E$175,5,FALSE),0)","v":"04101-LA SERENA"},"105428","80106015","2021-01-18T13:38:36",2,null,2,null,2]
[12,"5",2020,{"$f":"IFERROR(VLOOKUP([1]!Tabla_SERIEA_01_5[[#This Row],[IdEstablecimiento]],[2]Establecimientos!$A$1:$E$175,5,FALSE),0)","v":"04101-LA SERENA"},"105428","80307011","2021-01-18T13:38:36",30,null,30,0]
[12,"5",2020,{"$f":"IFERROR(VLOOKUP([1]!Tabla_SERIEA_01_5[[#This Row],[IdEstablecimiento]],[2]Establecimientos!$A$1:$E$175,5,FALSE),0)","v":"04101-LA SERENA"},"105428","80500011","2021-01-18T13:38:36",13,null,13,null,13]
[12,"5",2020,{"$f":"IFERROR(VLOOKUP([1]!Tabla_SERIEA_01_5[[#This Row],[IdEstablecimiento]],[2]Establecimientos!$A$1:$E$175,5,FALSE),0)","v":"04101-LA SERENA"},"105428","18020500","2021-01-18T13:38:36",37,0,37]
[12,"5",2020,{"$f":"IFERROR(VLOOKUP([1]!Tabla_SERIEA_01_5[[#This Row],[IdEstablecimiento]],[2]Establecimientos!$A$1:$E$175,5,FALSE),0)","v":"04101-LA SERENA"},"105428","18050100","2021-01-18T13:38:36",11,0,11]
[12,"5",2020,{"$f":"IFERROR(VLOOKUP([1]!Tabla_SERIEA_01_5[[#This Row],[IdEstablecimiento]],[2]Establecimientos!$A$1:$E$175,5,FALSE),0)","v":"04101-LA SERENA"},"105428","18700100","2021-01-18T13:38:36",26,0,25,1,0]
[12,"5",2020,{"$f":"IFERROR(VLOOKUP([1]!Tabla_SERIEA_01_5[[#This Row],[IdEstablecimiento]],[2]Establecimientos!$A$1:$E$175,5,FALSE),0)","v":"04101-LA SERENA"},"105430","81701009","2021-01-18T13:39:33",6,null,6,null,6]
[12,"5",2020,{"$f":"IFERROR(VLOOKUP([1]!Tabla_SERIEA_01_5[[#This Row],[IdEstablecimiento]],[2]Establecimientos!$A$1:$E$175,5,FALSE),0)","v":"04101-LA SERENA"},"105430","80106002","2021-01-18T13:39:33",6,null,6,null,6]
[12,"5",2020,{"$f":"IFERROR(VLOOKUP([1]!Tabla_SERIEA_01_5[[#This Row],[IdEstablecimiento]],[2]Establecimientos!$A$1:$E$175,5,FALSE),0)","v":"04101-LA SERENA"},"105430","80106017","2021-01-18T13:39:33",49,null,49,null,49]
[12,"5",2020,{"$f":"IFERROR(VLOOKUP([1]!Tabla_SERIEA_01_5[[#This Row],[IdEstablecimiento]],[2]Establecimientos!$A$1:$E$175,5,FALSE),0)","v":"04101-LA SERENA"},"105430","80106008","2021-01-18T13:39:33",1,null,1,null,1]
[12,"5",2020,{"$f":"IFERROR(VLOOKUP([1]!Tabla_SERIEA_01_5[[#This Row],[IdEstablecimiento]],[2]Establecimientos!$A$1:$E$175,5,FALSE),0)","v":"04101-LA SERENA"},"105433","80106014","2021-01-18T13:40:31",7,null,7,null,7]
[12,"5",2020,{"$f":"IFERROR(VLOOKUP([1]!Tabla_SERIEA_01_5[[#This Row],[IdEstablecimiento]],[2]Establecimientos!$A$1:$E$175,5,FALSE),0)","v":"04101-LA SERENA"},"105434","80106002","2021-01-18T13:40:50",27,null,27,null,27]
[12,"5",2020,{"$f":"IFERROR(VLOOKUP([1]!Tabla_SERIEA_01_5[[#This Row],[IdEstablecimiento]],[2]Establecimientos!$A$1:$E$175,5,FALSE),0)","v":"04101-LA SERENA"},"105434","80106014","2021-01-18T13:40:50",28,null,28,null,28]
[12,"5",2020,{"$f":"IFERROR(VLOOKUP([1]!Tabla_SERIEA_01_5[[#This Row],[IdEstablecimiento]],[2]Establecimientos!$A$1:$E$175,5,FALSE),0)","v":"04101-LA SERENA"},"105434","80106023","2021-01-18T13:40:50",17,null,17,null,17]
[12,"5",2020,{"$f":"IFERROR(VLOOKUP([1]!Tabla_SERIEA_01_5[[#This Row],[IdEstablecimiento]],[2]Establecimientos!$A$1:$E$175,5,FALSE),0)","v":"04101-LA SERENA"},"105434","80500011","2021-01-18T13:40:50",66,null,66,null,66]
[12,"5",2020,{"$f":"IFERROR(VLOOKUP([1]!Tabla_SERIEA_01_5[[#This Row],[IdEstablecimiento]],[2]Establecimientos!$A$1:$E$175,5,FALSE),0)","v":"04101-LA SERENA"},"105434","18090000","2021-01-18T13:40:50",17,0,17]
[12,"5",2020,{"$f":"IFERROR(VLOOKUP([1]!Tabla_SERIEA_01_5[[#This Row],[IdEstablecimiento]],[2]Establecimientos!$A$1:$E$175,5,FALSE),0)","v":"04101-LA SERENA"},"105434","18050100","2021-01-18T13:40:50",27,0,27]
[12,"5",2020,{"$f":"IFERROR(VLOOKUP([1]!Tabla_SERIEA_01_5[[#This Row],[IdEstablecimiento]],[2]Establecimientos!$A$1:$E$175,5,FALSE),0)","v":"04101-LA SERENA"},"105434","18400900","2021-01-18T13:40:50",2,null,2]
[12,"5",2020,{"$f":"IFERROR(VLOOKUP([1]!Tabla_SERIEA_01_5[[#This Row],[IdEstablecimiento]],[2]Establecimientos!$A$1:$E$175,5,FALSE),0)","v":"04101-LA SERENA"},"105430","80106013","2021-01-18T13:39:33",2,null,2,null,2]
[12,"5",2020,{"$f":"IFERROR(VLOOKUP([1]!Tabla_SERIEA_01_5[[#This Row],[IdEstablecimiento]],[2]Establecimientos!$A$1:$E$175,5,FALSE),0)","v":"04101-LA SERENA"},"105431","81701001","2021-01-18T13:39:52",4,null,4,null,4]
[12,"5",2020,{"$f":"IFERROR(VLOOKUP([1]!Tabla_SERIEA_01_5[[#This Row],[IdEstablecimiento]],[2]Establecimientos!$A$1:$E$175,5,FALSE),0)","v":"04101-LA SERENA"},"105431","81701009","2021-01-18T13:39:52",1,null,1,null,1]
[12,"5",2020,{"$f":"IFERROR(VLOOKUP([1]!Tabla_SERIEA_01_5[[#This Row],[IdEstablecimiento]],[2]Establecimientos!$A$1:$E$175,5,FALSE),0)","v":"04101-LA SERENA"},"105431","80106002","2021-01-18T13:39:52",5,null,5,null,5]
[12,"5",2020,{"$f":"IFERROR(VLOOKUP([1]!Tabla_SERIEA_01_5[[#This Row],[IdEstablecimiento]],[2]Establecimientos!$A$1:$E$175,5,FALSE),0)","v":"04101-LA SERENA"},"105431","80106017","2021-01-18T13:39:52",3,null,3,null,3]
[12,"5",2020,{"$f":"IFERROR(VLOOKUP([1]!Tabla_SERIEA_01_5[[#This Row],[IdEstablecimiento]],[2]Establecimientos!$A$1:$E$175,5,FALSE),0)","v":"04101-LA SERENA"},"105431","80106007","2021-01-18T13:39:52",1,null,1,null,1]
[12,"5",2020,{"$f":"IFERROR(VLOOKUP([1]!Tabla_SERIEA_01_5[[#This Row],[IdEstablecimiento]],[2]Establecimientos!$A$1:$E$175,5,FALSE),0)","v":"04101-LA SERENA"},"105431","80106008","2021-01-18T13:39:52",1,null,1,null,1]
[12,"5",2020,{"$f":"IFERROR(VLOOKUP([1]!Tabla_SERIEA_01_5[[#This Row],[IdEstablecimiento]],[2]Establecimientos!$A$1:$E$175,5,FALSE),0)","v":"04101-LA SERENA"},"105431","80106013","2021-01-18T13:39:52",2,null,2,null,2]
[12,"5",2020,{"$f":"IFERROR(VLOOKUP([1]!Tabla_SERIEA_01_5[[#This Row],[IdEstablecimiento]],[2]Establecimientos!$A$1:$E$175,5,FALSE),0)","v":"04101-LA SERENA"},"105436","81701009","2021-01-18T13:41:09",10,null,10,null,10]
[12,"5",2020,{"$f":"IFERROR(VLOOKUP([1]!Tabla_SERIEA_01_5[[#This Row],[IdEstablecimiento]],[2]Establecimientos!$A$1:$E$175,5,FALSE),0)","v":"04101-LA SERENA"},"105436","80106002","2021-01-18T13:41:09",3,null,3,null,3]
[12,"5",2020,{"$f":"IFERROR(VLOOKUP([1]!Tabla_SERIEA_01_5[[#This Row],[IdEstablecimiento]],[2]Establecimientos!$A$1:$E$175,5,FALSE),0)","v":"04101-LA SERENA"},"105436","80106014","2021-01-18T13:41:09",11,null,11,null,11]
[12,"5",2020,{"$f":"IFERROR(VLOOKUP([1]!Tabla_SERIEA_01_5[[#This Row],[IdEstablecimiento]],[2]Establecimientos!$A$1:$E$175,5,FALSE),0)","v":"04101-LA SERENA"},"105436","80106015","2021-01-18T13:41:09",1,null,1,null,1]
[12,"5",2020,{"$f":"IFERROR(VLOOKUP([1]!Tabla_SERIEA_01_5[[#This Row],[IdEstablecimiento]],[2]Establecimientos!$A$1:$E$175,5,FALSE),0)","v":"04101-LA SERENA"},"105436","80307011","2021-01-18T13:41:09",16,null,16]
[12,"5",2020,{"$f":"IFERROR(VLOOKUP([1]!Tabla_SERIEA_01_5[[#This Row],[IdEstablecimiento]],[2]Establecimientos!$A$1:$E$175,5,FALSE),0)","v":"04101-LA SERENA"},"105436","80500011","2021-01-18T13:41:09",15,null,15,null,15]
[12,"5",2020,{"$f":"IFERROR(VLOOKUP([1]!Tabla_SERIEA_01_5[[#This Row],[IdEstablecimiento]],[2]Establecimientos!$A$1:$E$175,5,FALSE),0)","v":"04101-LA SERENA"},"105436","18020500","2021-01-18T13:41:09",10,0,10]
[12,"5",2020,{"$f":"IFERROR(VLOOKUP([1]!Tabla_SERIEA_01_5[[#This Row],[IdEstablecimiento]],[2]Establecimientos!$A$1:$E$175,5,FALSE),0)","v":"04101-LA SERENA"},"105436","18050100","2021-01-18T13:41:09",3,0,3]
[12,"5",2020,{"$f":"IFERROR(VLOOKUP([1]!Tabla_SERIEA_01_5[[#This Row],[IdEstablecimiento]],[2]Establecimientos!$A$1:$E$175,5,FALSE),0)","v":"04101-LA SERENA"},"105432","81701009","2021-01-18T13:40:12",10,null,10,null,10]
[12,"5",2020,{"$f":"IFERROR(VLOOKUP([1]!Tabla_SERIEA_01_5[[#This Row],[IdEstablecimiento]],[2]Establecimientos!$A$1:$E$175,5,FALSE),0)","v":"04101-LA SERENA"},"105432","81602222","2021-01-18T13:40:12",2,null,2,null,2]
[12,"5",2020,{"$f":"IFERROR(VLOOKUP([1]!Tabla_SERIEA_01_5[[#This Row],[IdEstablecimiento]],[2]Establecimientos!$A$1:$E$175,5,FALSE),0)","v":"04101-LA SERENA"},"105432","80106002","2021-01-18T13:40:12",52,null,52,null,52]
[12,"5",2020,{"$f":"IFERROR(VLOOKUP([1]!Tabla_SERIEA_01_5[[#This Row],[IdEstablecimiento]],[2]Establecimientos!$A$1:$E$175,5,FALSE),0)","v":"04101-LA SERENA"},"105432","80106017","2021-01-18T13:40:12",12,null,12,null,12]
[12,"5",2020,{"$f":"IFERROR(VLOOKUP([1]!Tabla_SERIEA_01_5[[#This Row],[IdEstablecimiento]],[2]Establecimientos!$A$1:$E$175,5,FALSE),0)","v":"04101-LA SERENA"},"105432","80106014","2021-01-18T13:40:12",63,null,63,null,63]
[12,"5",2020,{"$f":"IFERROR(VLOOKUP([1]!Tabla_SERIEA_01_5[[#This Row],[IdEstablecimiento]],[2]Establecimientos!$A$1:$E$175,5,FALSE),0)","v":"04101-LA SERENA"},"105432","80106015","2021-01-18T13:40:12",32,null,32,null,32]
[12,"5",2020,{"$f":"IFERROR(VLOOKUP([1]!Tabla_SERIEA_01_5[[#This Row],[IdEstablecimiento]],[2]Establecimientos!$A$1:$E$175,5,FALSE),0)","v":"04101-LA SERENA"},"105432","80106023","2021-01-18T13:40:12",8,null,8,null,8]
[12,"5",2020,{"$f":"IFERROR(VLOOKUP([1]!Tabla_SERIEA_01_5[[#This Row],[IdEstablecimiento]],[2]Establecimientos!$A$1:$E$175,5,FALSE),0)","v":"04101-LA SERENA"},"105432","80307011","2021-01-18T13:40:12",20,null,20]
[12,"5",2020,{"$f":"IFERROR(VLOOKUP([1]!Tabla_SERIEA_01_5[[#This Row],[IdEstablecimiento]],[2]Establecimientos!$A$1:$E$175,5,FALSE),0)","v":"04101-LA SERENA"},"105425","80106014","2021-01-18T13:37:31",9,null,9,null,9]
[12,"5",2020,{"$f":"IFERROR(VLOOKUP([1]!Tabla_SERIEA_01_5[[#This Row],[IdEstablecimiento]],[2]Establecimientos!$A$1:$E$175,5,FALSE),0)","v":"04101-LA SERENA"},"105425","80106015","2021-01-18T13:37:31",1,null,1,null,1]
[12,"5",2020,{"$f":"IFERROR(VLOOKUP([1]!Tabla_SERIEA_01_5[[#This Row],[IdEstablecimiento]],[2]Establecimientos!$A$1:$E$175,5,FALSE),0)","v":"04101-LA SERENA"},"105432","80500011","2021-01-18T13:40:12",3,null,3,null,3]
[12,"5",2020,{"$f":"IFERROR(VLOOKUP([1]!Tabla_SERIEA_01_5[[#This Row],[IdEstablecimiento]],[2]Establecimientos!$A$1:$E$175,5,FALSE),0)","v":"04101-LA SERENA"},"105432","18020500","2021-01-18T13:40:12",10,0,10]
[12,"5",2020,{"$f":"IFERROR(VLOOKUP([1]!Tabla_SERIEA_01_5[[#This Row],[IdEstablecimiento]],[2]Establecimientos!$A$1:$E$175,5,FALSE),0)","v":"04101-LA SERENA"},"105432","18030000","2021-01-18T13:40:12",2,0,2]
[12,"5",2020,{"$f":"IFERROR(VLOOKUP([1]!Tabla_SERIEA_01_5[[#This Row],[IdEstablecimiento]],[2]Establecimientos!$A$1:$E$175,5,FALSE),0)","v":"04101-LA SERENA"},"105432","18040200","2021-01-18T13:40:12",2,2,0]
[12,"5",2020,{"$f":"IFERROR(VLOOKUP([1]!Tabla_SERIEA_01_5[[#This Row],[IdEstablecimiento]],[2]Establecimientos!$A$1:$E$175,5,FALSE),0)","v":"04101-LA SERENA"},"105432","18090000","2021-01-18T13:40:12",8,0,8]
[12,"5",2020,{"$f":"IFERROR(VLOOKUP([1]!Tabla_SERIEA_01_5[[#This Row],[IdEstablecimiento]],[2]Establecimientos!$A$1:$E$175,5,FALSE),0)","v":"04101-LA SERENA"},"105432","18050100","2021-01-18T13:40:12",52,0,52]
[12,"5",2020,{"$f":"IFERROR(VLOOKUP([1]!Tabla_SERIEA_01_5[[#This Row],[IdEstablecimiento]],[2]Establecimientos!$A$1:$E$175,5,FALSE),0)","v":"04101-LA SERENA"},"105425","80106023","2021-01-18T13:37:31",10,null,10,null,10,10]
[12,"5",2020,{"$f":"IFERROR(VLOOKUP([1]!Tabla_SERIEA_01_5[[#This Row],[IdEstablecimiento]],[2]Establecimientos!$A$1:$E$175,5,FALSE),0)","v":"04101-LA SERENA"},"105425","80307011","2021-01-18T13:37:31",9,null,9]
[12,"5",2020,{"$f":"IFERROR(VLOOKUP([1]!Tabla_SERIEA_01_5[[#This Row],[IdEstablecimiento]],[2]Establecimientos!$A$1:$E$175,5,FALSE),0)","v":"04101-LA SERENA"},"105425","80307012","2021-01-18T13:37:31",1,null,1]
[12,"5",2020,{"$f":"IFERROR(VLOOKUP([1]!Tabla_SERIEA_01_5[[#This Row],[IdEstablecimiento]],[2]Establecimientos!$A$1:$E$175,5,FALSE),0)","v":"04101-LA SERENA"},"105425","18020500","2021-01-18T13:37:31",9,0,9]
[12,"5",2020,{"$f":"IFERROR(VLOOKUP([1]!Tabla_SERIEA_01_5[[#This Row],[IdEstablecimiento]],[2]Establecimientos!$A$1:$E$175,5,FALSE),0)","v":"04101-LA SERENA"},"105425","18090000","2021-01-18T13:37:31",10,0,10]
[12,"5",2020,{"$f":"IFERROR(VLOOKUP([1]!Tabla_SERIEA_01_5[[#This Row],[IdEstablecimiento]],[2]Establecimientos!$A$1:$E$175,5,FALSE),0)","v":"04101-LA SERENA"},"105425","18050100","2021-01-18T13:37:31",12,0,12]
[12,"5",2020,{"$f":"IFERROR(VLOOKUP([1]!Tabla_SERIEA_01_5[[#This Row],[IdEstablecimiento]],[2]Establecimientos!$A$1:$E$175,5,FALSE),0)","v":"04101-LA SERENA"},"105435","81701001","2021-01-18T13:38:58",17,null,17,null,17]
[12,"5",2020,{"$f":"IFERROR(VLOOKUP([1]!Tabla_SERIEA_01_5[[#This Row],[IdEstablecimiento]],[2]Establecimientos!$A$1:$E$175,5,FALSE),0)","v":"04101-LA SERENA"},"105435","81701009","2021-01-18T13:38:58",30,null,30,null,30]
[12,"5",2020,{"$f":"IFERROR(VLOOKUP([1]!Tabla_SERIEA_01_5[[#This Row],[IdEstablecimiento]],[2]Establecimientos!$A$1:$E$175,5,FALSE),0)","v":"04101-LA SERENA"},"105435","80500011","2021-01-18T13:38:58",12,null,12,null,12]
[12,"5",2020,{"$f":"IFERROR(VLOOKUP([1]!Tabla_SERIEA_01_5[[#This Row],[IdEstablecimiento]],[2]Establecimientos!$A$1:$E$175,5,FALSE),0)","v":"04101-LA SERENA"},"105435","18020300","2021-01-18T13:38:58",6,0,6]
[12,"5",2020,{"$f":"IFERROR(VLOOKUP([1]!Tabla_SERIEA_01_5[[#This Row],[IdEstablecimiento]],[2]Establecimientos!$A$1:$E$175,5,FALSE),0)","v":"04101-LA SERENA"},"105435","18020500","2021-01-18T13:38:58",47,0,47]
[12,"5",2020,{"$f":"IFERROR(VLOOKUP([1]!Tabla_SERIEA_01_5[[#This Row],[IdEstablecimiento]],[2]Establecimientos!$A$1:$E$175,5,FALSE),0)","v":"04101-LA SERENA"},"105435","18030000","2021-01-18T13:38:58",2,0,2]
[12,"5",2020,{"$f":"IFERROR(VLOOKUP([1]!Tabla_SERIEA_01_5[[#This Row],[IdEstablecimiento]],[2]Establecimientos!$A$1:$E$175,5,FALSE),0)","v":"04101-LA SERENA"},"105435","18040200","2021-01-18T13:38:58",2,null,2]
[12,"5",2020,{"$f":"IFERROR(VLOOKUP([1]!Tabla_SERIEA_01_5[[#This Row],[IdEstablecimiento]],[2]Establecimientos!$A$1:$E$175,5,FALSE),0)","v":"04101-LA SERENA"},"105435","18050100","2021-01-18T13:38:58",16,0,16]
[12,"5",2020,{"$f":"IFERROR(VLOOKUP([1]!Tabla_SERIEA_01_5[[#This Row],[IdEstablecimiento]],[2]Establecimientos!$A$1:$E$175,5,FALSE),0)","v":"04101-LA SERENA"},"105430","80106014","2021-01-18T13:39:33",35,null,35,null,35]
[12,"5",2020,{"$f":"IFERROR(VLOOKUP([1]!Tabla_SERIEA_01_5[[#This Row],[IdEstablecimiento]],[2]Establecimientos!$A$1:$E$175,5,FALSE),0)","v":"04101-LA SERENA"},"105430","80106015","2021-01-18T13:39:33",2,null,2,null,2]
[12,"5",2020,{"$f":"IFERROR(VLOOKUP([1]!Tabla_SERIEA_01_5[[#This Row],[IdEstablecimiento]],[2]Establecimientos!$A$1:$E$175,5,FALSE),0)","v":"04101-LA SERENA"},"105430","80106023","2021-01-18T13:39:33",3,null,3,null,3]
[12,"5",2020,{"$f":"IFERROR(VLOOKUP([1]!Tabla_SERIEA_01_5[[#This Row],[IdEstablecimiento]],[2]Establecimientos!$A$1:$E$175,5,FALSE),0)","v":"04101-LA SERENA"},"105430","80307011","2021-01-18T13:39:33",12,null,12]
[12,"5",2020,{"$f":"IFERROR(VLOOKUP([1]!Tabla_SERIEA_01_5[[#This Row],[IdEstablecimiento]],[2]Establecimientos!$A$1:$E$175,5,FALSE),0)","v":"04101-LA SERENA"},"105430","80500011","2021-01-18T13:39:33",7,null,7,null,7]
[12,"5",2020,{"$f":"IFERROR(VLOOKUP([1]!Tabla_SERIEA_01_5[[#This Row],[IdEstablecimiento]],[2]Establecimientos!$A$1:$E$175,5,FALSE),0)","v":"04101-LA SERENA"},"105430","18020500","2021-01-18T13:39:33",6,0,6]
[12,"5",2020,{"$f":"IFERROR(VLOOKUP([1]!Tabla_SERIEA_01_5[[#This Row],[IdEstablecimiento]],[2]Establecimientos!$A$1:$E$175,5,FALSE),0)","v":"04101-LA SERENA"},"105430","18090000","2021-01-18T13:39:33",3,0,3]
[12,"5",2020,{"$f":"IFERROR(VLOOKUP([1]!Tabla_SERIEA_01_5[[#This Row],[IdEstablecimiento]],[2]Establecimientos!$A$1:$E$175,5,FALSE),0)","v":"04101-LA SERENA"},"105430","18050100","2021-01-18T13:39:33",6,0,6]
[12,"5",2020,{"$f":"IFERROR(VLOOKUP([1]!Tabla_SERIEA_01_5[[#This Row],[IdEstablecimiento]],[2]Establecimientos!$A$1:$E$175,5,FALSE),0)","v":"04101-LA SERENA"},"105431","80106014","2021-01-18T13:39:52",20,null,20,null,20]
[12,"5",2020,{"$f":"IFERROR(VLOOKUP([1]!Tabla_SERIEA_01_5[[#This Row],[IdEstablecimiento]],[2]Establecimientos!$A$1:$E$175,5,FALSE),0)","v":"04101-LA SERENA"},"105431","80106015","2021-01-18T13:39:52",6,null,6,null,6]
[12,"5",2020,{"$f":"IFERROR(VLOOKUP([1]!Tabla_SERIEA_01_5[[#This Row],[IdEstablecimiento]],[2]Establecimientos!$A$1:$E$175,5,FALSE),0)","v":"04101-LA SERENA"},"105431","80106020","2021-01-18T13:39:52",2,null,2,null,2]
[12,"5",2020,{"$f":"IFERROR(VLOOKUP([1]!Tabla_SERIEA_01_5[[#This Row],[IdEstablecimiento]],[2]Establecimientos!$A$1:$E$175,5,FALSE),0)","v":"04101-LA SERENA"},"105431","80106022","2021-01-18T13:39:52",1,null,1,null,1]
[12,"5",2020,{"$f":"IFERROR(VLOOKUP([1]!Tabla_SERIEA_01_5[[#This Row],[IdEstablecimiento]],[2]Establecimientos!$A$1:$E$175,5,FALSE),0)","v":"04101-LA SERENA"},"105431","80307011","2021-01-18T13:39:52",11,null,11]
[12,"5",2020,{"$f":"IFERROR(VLOOKUP([1]!Tabla_SERIEA_01_5[[#This Row],[IdEstablecimiento]],[2]Establecimientos!$A$1:$E$175,5,FALSE),0)","v":"04101-LA SERENA"},"105431","80500011","2021-01-18T13:39:52",7,null,7,null,7]
[12,"5",2020,{"$f":"IFERROR(VLOOKUP([1]!Tabla_SERIEA_01_5[[#This Row],[IdEstablecimiento]],[2]Establecimientos!$A$1:$E$175,5,FALSE),0)","v":"04101-LA SERENA"},"105431","18020500","2021-01-18T13:39:52",5,0,5]
[12,"5",2020,{"$f":"IFERROR(VLOOKUP([1]!Tabla_SERIEA_01_5[[#This Row],[IdEstablecimiento]],[2]Establecimientos!$A$1:$E$175,5,FALSE),0)","v":"04101-LA SERENA"},"105431","18050100","2021-01-18T13:39:52",5,0,5]
[12,"5",2020,{"$f":"IFERROR(VLOOKUP([1]!Tabla_SERIEA_01_5[[#This Row],[IdEstablecimiento]],[2]Establecimientos!$A$1:$E$175,5,FALSE),0)","v":"04101-LA SERENA"},"105433","80106007","2021-01-18T13:40:31",1,null,1,null,1]
[12,"5",2020,{"$f":"IFERROR(VLOOKUP([1]!Tabla_SERIEA_01_5[[#This Row],[IdEstablecimiento]],[2]Establecimientos!$A$1:$E$175,5,FALSE),0)","v":"04101-LA SERENA"},"105433","80106013","2021-01-18T13:40:31",1,null,1,null,1]
[12,"5",2020,{"$f":"IFERROR(VLOOKUP([1]!Tabla_SERIEA_01_5[[#This Row],[IdEstablecimiento]],[2]Establecimientos!$A$1:$E$175,5,FALSE),0)","v":"04101-LA SERENA"},"105437","80106014","2021-01-18T13:41:29",12,null,12,null,12]
[12,"5",2020,{"$f":"IFERROR(VLOOKUP([1]!Tabla_SERIEA_01_5[[#This Row],[IdEstablecimiento]],[2]Establecimientos!$A$1:$E$175,5,FALSE),0)","v":"04101-LA SERENA"},"105439","80106002","2021-01-18T13:41:49",6,null,6,null,6]
[12,"5",2020,{"$f":"IFERROR(VLOOKUP([1]!Tabla_SERIEA_01_5[[#This Row],[IdEstablecimiento]],[2]Establecimientos!$A$1:$E$175,5,FALSE),0)","v":"04101-LA SERENA"},"105439","80106005","2021-01-18T13:41:49",1,null,1,null,1]
[12,"5",2020,{"$f":"IFERROR(VLOOKUP([1]!Tabla_SERIEA_01_5[[#This Row],[IdEstablecimiento]],[2]Establecimientos!$A$1:$E$175,5,FALSE),0)","v":"04101-LA SERENA"},"105439","80106017","2021-01-18T13:41:49",14,null,14,null,14]
[12,"5",2020,{"$f":"IFERROR(VLOOKUP([1]!Tabla_SERIEA_01_5[[#This Row],[IdEstablecimiento]],[2]Establecimientos!$A$1:$E$175,5,FALSE),0)","v":"04101-LA SERENA"},"105439","80106007","2021-01-18T13:41:49",2,null,2,null,2]
[12,"5",2020,{"$f":"IFERROR(VLOOKUP([1]!Tabla_SERIEA_01_5[[#This Row],[IdEstablecimiento]],[2]Establecimientos!$A$1:$E$175,5,FALSE),0)","v":"04101-LA SERENA"},"105439","80106014","2021-01-18T13:41:49",2,null,2,null,2]
[12,"5",2020,{"$f":"IFERROR(VLOOKUP([1]!Tabla_SERIEA_01_5[[#This Row],[IdEstablecimiento]],[2]Establecimientos!$A$1:$E$175,5,FALSE),0)","v":"04101-LA SERENA"},"105439","80106015","2021-01-18T13:41:49",20,null,20,null,7]
[12,"5",2020,{"$f":"IFERROR(VLOOKUP([1]!Tabla_SERIEA_01_5[[#This Row],[IdEstablecimiento]],[2]Establecimientos!$A$1:$E$175,5,FALSE),0)","v":"04101-LA SERENA"},"105439","18050100","2021-01-18T13:41:49",6,0,6]
[12,"5",2020,{"$f":"IFERROR(VLOOKUP([1]!Tabla_SERIEA_01_5[[#This Row],[IdEstablecimiento]],[2]Establecimientos!$A$1:$E$175,5,FALSE),0)","v":"04101-LA SERENA"},"105439","18050200","2021-01-18T13:41:49",1,0,1]
[12,"5",2020,{"$f":"IFERROR(VLOOKUP([1]!Tabla_SERIEA_01_5[[#This Row],[IdEstablecimiento]],[2]Establecimientos!$A$1:$E$175,5,FALSE),0)","v":"04101-LA SERENA"},"105441","80301041","2021-01-18T13:42:27",16,null,16,16]
[12,"5",2020,{"$f":"IFERROR(VLOOKUP([1]!Tabla_SERIEA_01_5[[#This Row],[IdEstablecimiento]],[2]Establecimientos!$A$1:$E$175,5,FALSE),0)","v":"04101-LA SERENA"},"105441","80106002","2021-01-18T13:42:27",12,null,12,null,12]
[12,"5",2020,{"$f":"IFERROR(VLOOKUP([1]!Tabla_SERIEA_01_5[[#This Row],[IdEstablecimiento]],[2]Establecimientos!$A$1:$E$175,5,FALSE),0)","v":"04101-LA SERENA"},"105441","80106017","2021-01-18T13:42:27",18,null,18,null,18]
[12,"5",2020,{"$f":"IFERROR(VLOOKUP([1]!Tabla_SERIEA_01_5[[#This Row],[IdEstablecimiento]],[2]Establecimientos!$A$1:$E$175,5,FALSE),0)","v":"04101-LA SERENA"},"105441","80106014","2021-01-18T13:42:27",46,null,46,null,46]
[12,"5",2020,{"$f":"IFERROR(VLOOKUP([1]!Tabla_SERIEA_01_5[[#This Row],[IdEstablecimiento]],[2]Establecimientos!$A$1:$E$175,5,FALSE),0)","v":"04101-LA SERENA"},"105441","80307011","2021-01-18T13:42:27",17,null,17]
[12,"5",2020,{"$f":"IFERROR(VLOOKUP([1]!Tabla_SERIEA_01_5[[#This Row],[IdEstablecimiento]],[2]Establecimientos!$A$1:$E$175,5,FALSE),0)","v":"04101-LA SERENA"},"105441","80500001","2021-01-18T13:42:27",2,null,2,null,2]
[12,"5",2020,{"$f":"IFERROR(VLOOKUP([1]!Tabla_SERIEA_01_5[[#This Row],[IdEstablecimiento]],[2]Establecimientos!$A$1:$E$175,5,FALSE),0)","v":"04101-LA SERENA"},"105441","18010100","2021-01-18T13:42:27",16,0,16]
[12,"5",2020,{"$f":"IFERROR(VLOOKUP([1]!Tabla_SERIEA_01_5[[#This Row],[IdEstablecimiento]],[2]Establecimientos!$A$1:$E$175,5,FALSE),0)","v":"04101-LA SERENA"},"105441","18050100","2021-01-18T13:42:27",12,0,12]
[12,"5",2020,{"$f":"IFERROR(VLOOKUP([1]!Tabla_SERIEA_01_5[[#This Row],[IdEstablecimiento]],[2]Establecimientos!$A$1:$E$175,5,FALSE),0)","v":"04101-LA SERENA"},"105441","18400900","2021-01-18T13:42:27",3,null,3]
[12,"5",2020,{"$f":"IFERROR(VLOOKUP([1]!Tabla_SERIEA_01_5[[#This Row],[IdEstablecimiento]],[2]Establecimientos!$A$1:$E$175,5,FALSE),0)","v":"04101-LA SERENA"},"105442","80106002","2021-01-18T13:42:47",2,null,2,null,2]
[12,"5",2020,{"$f":"IFERROR(VLOOKUP([1]!Tabla_SERIEA_01_5[[#This Row],[IdEstablecimiento]],[2]Establecimientos!$A$1:$E$175,5,FALSE),0)","v":"04101-LA SERENA"},"105442","80106008","2021-01-18T13:42:47",1,null,1,null,1]
[12,"5",2020,{"$f":"IFERROR(VLOOKUP([1]!Tabla_SERIEA_01_5[[#This Row],[IdEstablecimiento]],[2]Establecimientos!$A$1:$E$175,5,FALSE),0)","v":"04101-LA SERENA"},"105442","80106014","2021-01-18T13:42:47",36,null,36,null,36]
[12,"5",2020,{"$f":"IFERROR(VLOOKUP([1]!Tabla_SERIEA_01_5[[#This Row],[IdEstablecimiento]],[2]Establecimientos!$A$1:$E$175,5,FALSE),0)","v":"04101-LA SERENA"},"105442","80106015","2021-01-18T13:42:47",2,null,2,null,2]
[12,"5",2020,{"$f":"IFERROR(VLOOKUP([1]!Tabla_SERIEA_01_5[[#This Row],[IdEstablecimiento]],[2]Establecimientos!$A$1:$E$175,5,FALSE),0)","v":"04101-LA SERENA"},"105442","80307011","2021-01-18T13:42:47",5,null,5]
[12,"5",2020,{"$f":"IFERROR(VLOOKUP([1]!Tabla_SERIEA_01_5[[#This Row],[IdEstablecimiento]],[2]Establecimientos!$A$1:$E$175,5,FALSE),0)","v":"04101-LA SERENA"},"105442","80500011","2021-01-18T13:42:47",3,null,3,null,3]
[12,"5",2020,{"$f":"IFERROR(VLOOKUP([1]!Tabla_SERIEA_01_5[[#This Row],[IdEstablecimiento]],[2]Establecimientos!$A$1:$E$175,5,FALSE),0)","v":"04101-LA SERENA"},"105442","18050100","2021-01-18T13:42:47",2,0,2]
[12,"5",2020,{"$f":"IFERROR(VLOOKUP([1]!Tabla_SERIEA_01_5[[#This Row],[IdEstablecimiento]],[2]Establecimientos!$A$1:$E$175,5,FALSE),0)","v":"04101-LA SERENA"},"105443","80309010","2021-01-18T13:43:08",0,null,null,11]
[12,"5",2020,{"$f":"IFERROR(VLOOKUP([1]!Tabla_SERIEA_01_5[[#This Row],[IdEstablecimiento]],[2]Establecimientos!$A$1:$E$175,5,FALSE),0)","v":"04101-LA SERENA"},"105443","80309022","2021-01-18T13:43:08",0,null,null,11]
[12,"5",2020,{"$f":"IFERROR(VLOOKUP([1]!Tabla_SERIEA_01_5[[#This Row],[IdEstablecimiento]],[2]Establecimientos!$A$1:$E$175,5,FALSE),0)","v":"04101-LA SERENA"},"105443","80301041","2021-01-18T13:43:08",0,null,null,4]
[12,"5",2020,{"$f":"IFERROR(VLOOKUP([1]!Tabla_SERIEA_01_5[[#This Row],[IdEstablecimiento]],[2]Establecimientos!$A$1:$E$175,5,FALSE),0)","v":"04101-LA SERENA"},"105443","80301045","2021-01-18T13:43:08",0,null,null,13]
[12,"5",2020,{"$f":"IFERROR(VLOOKUP([1]!Tabla_SERIEA_01_5[[#This Row],[IdEstablecimiento]],[2]Establecimientos!$A$1:$E$175,5,FALSE),0)","v":"04101-LA SERENA"},"105443","80306061","2021-01-18T13:43:08",0,null,null,4]
[12,"5",2020,{"$f":"IFERROR(VLOOKUP([1]!Tabla_SERIEA_01_5[[#This Row],[IdEstablecimiento]],[2]Establecimientos!$A$1:$E$175,5,FALSE),0)","v":"04101-LA SERENA"},"105443","80306169","2021-01-18T13:43:08",0,null,null,1]
[12,"5",2020,{"$f":"IFERROR(VLOOKUP([1]!Tabla_SERIEA_01_5[[#This Row],[IdEstablecimiento]],[2]Establecimientos!$A$1:$E$175,5,FALSE),0)","v":"04101-LA SERENA"},"105443","80302032","2021-01-18T13:43:08",0,null,null,3]
[12,"5",2020,{"$f":"IFERROR(VLOOKUP([1]!Tabla_SERIEA_01_5[[#This Row],[IdEstablecimiento]],[2]Establecimientos!$A$1:$E$175,5,FALSE),0)","v":"04101-LA SERENA"},"105443","80302034","2021-01-18T13:43:08",0,null,null,13]
[12,"5",2020,{"$f":"IFERROR(VLOOKUP([1]!Tabla_SERIEA_01_5[[#This Row],[IdEstablecimiento]],[2]Establecimientos!$A$1:$E$175,5,FALSE),0)","v":"04101-LA SERENA"},"105443","80302047","2021-01-18T13:43:08",0,null,null,12]
[12,"5",2020,{"$f":"IFERROR(VLOOKUP([1]!Tabla_SERIEA_01_5[[#This Row],[IdEstablecimiento]],[2]Establecimientos!$A$1:$E$175,5,FALSE),0)","v":"04101-LA SERENA"},"105443","80302057","2021-01-18T13:43:08",0,null,null,10]
[12,"5",2020,{"$f":"IFERROR(VLOOKUP([1]!Tabla_SERIEA_01_5[[#This Row],[IdEstablecimiento]],[2]Establecimientos!$A$1:$E$175,5,FALSE),0)","v":"04101-LA SERENA"},"105443","80302076","2021-01-18T13:43:08",0,null,null,1]
[12,"5",2020,{"$f":"IFERROR(VLOOKUP([1]!Tabla_SERIEA_01_5[[#This Row],[IdEstablecimiento]],[2]Establecimientos!$A$1:$E$175,5,FALSE),0)","v":"04101-LA SERENA"},"105443","80303024","2021-01-18T13:43:08",0,null,null,13]
[12,"5",2020,{"$f":"IFERROR(VLOOKUP([1]!Tabla_SERIEA_01_5[[#This Row],[IdEstablecimiento]],[2]Establecimientos!$A$1:$E$175,5,FALSE),0)","v":"04101-LA SERENA"},"105443","80306011","2021-01-18T13:43:08",0,null,null,10]
[12,"5",2020,{"$f":"IFERROR(VLOOKUP([1]!Tabla_SERIEA_01_5[[#This Row],[IdEstablecimiento]],[2]Establecimientos!$A$1:$E$175,5,FALSE),0)","v":"04101-LA SERENA"},"105443","80307011","2021-01-18T13:43:08",0,null,null,19]
[12,"5",2020,{"$f":"IFERROR(VLOOKUP([1]!Tabla_SERIEA_01_5[[#This Row],[IdEstablecimiento]],[2]Establecimientos!$A$1:$E$175,5,FALSE),0)","v":"04101-LA SERENA"},"105443","18700100","2021-01-18T13:43:08",8,0,6,2]
[12,"5",2020,{"$f":"IFERROR(VLOOKUP([1]!Tabla_SERIEA_01_5[[#This Row],[IdEstablecimiento]],[2]Establecimientos!$A$1:$E$175,5,FALSE),0)","v":"04101-LA SERENA"},"105444","80309010","2021-01-18T13:43:28",0,null,null,1]
[12,"5",2020,{"$f":"IFERROR(VLOOKUP([1]!Tabla_SERIEA_01_5[[#This Row],[IdEstablecimiento]],[2]Establecimientos!$A$1:$E$175,5,FALSE),0)","v":"04101-LA SERENA"},"105444","80309022","2021-01-18T13:43:28",0,null,null,3]
[12,"5",2020,{"$f":"IFERROR(VLOOKUP([1]!Tabla_SERIEA_01_5[[#This Row],[IdEstablecimiento]],[2]Establecimientos!$A$1:$E$175,5,FALSE),0)","v":"04101-LA SERENA"},"105444","80301045","2021-01-18T13:43:28",0,null,null,1]
[12,"5",2020,{"$f":"IFERROR(VLOOKUP([1]!Tabla_SERIEA_01_5[[#This Row],[IdEstablecimiento]],[2]Establecimientos!$A$1:$E$175,5,FALSE),0)","v":"04101-LA SERENA"},"105444","80106002","2021-01-18T13:43:28",3,null,3,null,3]
[12,"5",2020,{"$f":"IFERROR(VLOOKUP([1]!Tabla_SERIEA_01_5[[#This Row],[IdEstablecimiento]],[2]Establecimientos!$A$1:$E$175,5,FALSE),0)","v":"04101-LA SERENA"},"105444","80302023","2021-01-18T13:43:28",0,null,null,1]
[12,"5",2020,{"$f":"IFERROR(VLOOKUP([1]!Tabla_SERIEA_01_5[[#This Row],[IdEstablecimiento]],[2]Establecimientos!$A$1:$E$175,5,FALSE),0)","v":"04101-LA SERENA"},"105444","80302034","2021-01-18T13:43:28",0,null,null,1]
[12,"5",2020,{"$f":"IFERROR(VLOOKUP([1]!Tabla_SERIEA_01_5[[#This Row],[IdEstablecimiento]],[2]Establecimientos!$A$1:$E$175,5,FALSE),0)","v":"04101-LA SERENA"},"105444","80302047","2021-01-18T13:43:28",0,null,null,1]
[12,"5",2020,{"$f":"IFERROR(VLOOKUP([1]!Tabla_SERIEA_01_5[[#This Row],[IdEstablecimiento]],[2]Establecimientos!$A$1:$E$175,5,FALSE),0)","v":"04101-LA SERENA"},"105444","80302057","2021-01-18T13:43:28",0,null,null,1]
[12,"5",2020,{"$f":"IFERROR(VLOOKUP([1]!Tabla_SERIEA_01_5[[#This Row],[IdEstablecimiento]],[2]Establecimientos!$A$1:$E$175,5,FALSE),0)","v":"04101-LA SERENA"},"105444","80303024","2021-01-18T13:43:28",0,null,null,1]
[12,"5",2020,{"$f":"IFERROR(VLOOKUP([1]!Tabla_SERIEA_01_5[[#This Row],[IdEstablecimiento]],[2]Establecimientos!$A$1:$E$175,5,FALSE),0)","v":"04101-LA SERENA"},"105444","80306011","2021-01-18T13:43:28",0,null,null,3]
[12,"5",2020,{"$f":"IFERROR(VLOOKUP([1]!Tabla_SERIEA_01_5[[#This Row],[IdEstablecimiento]],[2]Establecimientos!$A$1:$E$175,5,FALSE),0)","v":"04101-LA SERENA"},"105444","80106014","2021-01-18T13:43:28",18,null,18,null,18]
[12,"5",2020,{"$f":"IFERROR(VLOOKUP([1]!Tabla_SERIEA_01_5[[#This Row],[IdEstablecimiento]],[2]Establecimientos!$A$1:$E$175,5,FALSE),0)","v":"04101-LA SERENA"},"105444","80307011","2021-01-18T13:43:28",0,null,null,2]
[12,"5",2020,{"$f":"IFERROR(VLOOKUP([1]!Tabla_SERIEA_01_5[[#This Row],[IdEstablecimiento]],[2]Establecimientos!$A$1:$E$175,5,FALSE),0)","v":"04101-LA SERENA"},"105444","18050100","2021-01-18T13:43:28",3,0,3]
[12,"5",2020,{"$f":"IFERROR(VLOOKUP([1]!Tabla_SERIEA_01_5[[#This Row],[IdEstablecimiento]],[2]Establecimientos!$A$1:$E$175,5,FALSE),0)","v":"04101-LA SERENA"},"105444","18700100","2021-01-18T13:43:28",11,2,9,0]
[12,"5",2020,{"$f":"IFERROR(VLOOKUP([1]!Tabla_SERIEA_01_5[[#This Row],[IdEstablecimiento]],[2]Establecimientos!$A$1:$E$175,5,FALSE),0)","v":"04101-LA SERENA"},"105445","80309010","2021-01-18T13:43:48",0,null,null,6]
[12,"5",2020,{"$f":"IFERROR(VLOOKUP([1]!Tabla_SERIEA_01_5[[#This Row],[IdEstablecimiento]],[2]Establecimientos!$A$1:$E$175,5,FALSE),0)","v":"04101-LA SERENA"},"105445","80309022","2021-01-18T13:43:48",0,null,null,6]
[12,"5",2020,{"$f":"IFERROR(VLOOKUP([1]!Tabla_SERIEA_01_5[[#This Row],[IdEstablecimiento]],[2]Establecimientos!$A$1:$E$175,5,FALSE),0)","v":"04101-LA SERENA"},"105445","80301036","2021-01-18T13:43:48",0,null,null,3]
[12,"5",2020,{"$f":"IFERROR(VLOOKUP([1]!Tabla_SERIEA_01_5[[#This Row],[IdEstablecimiento]],[2]Establecimientos!$A$1:$E$175,5,FALSE),0)","v":"04101-LA SERENA"},"105445","80301041","2021-01-18T13:43:48",0,null,null,2]
[12,"5",2020,{"$f":"IFERROR(VLOOKUP([1]!Tabla_SERIEA_01_5[[#This Row],[IdEstablecimiento]],[2]Establecimientos!$A$1:$E$175,5,FALSE),0)","v":"04101-LA SERENA"},"105445","80301045","2021-01-18T13:43:48",0,null,null,4]
[12,"5",2020,{"$f":"IFERROR(VLOOKUP([1]!Tabla_SERIEA_01_5[[#This Row],[IdEstablecimiento]],[2]Establecimientos!$A$1:$E$175,5,FALSE),0)","v":"04101-LA SERENA"},"105445","80306169","2021-01-18T13:43:48",0,null,null,2]
[12,"5",2020,{"$f":"IFERROR(VLOOKUP([1]!Tabla_SERIEA_01_5[[#This Row],[IdEstablecimiento]],[2]Establecimientos!$A$1:$E$175,5,FALSE),0)","v":"04101-LA SERENA"},"105445","81701001","2021-01-18T13:43:48",12,null,12,null,12]
[12,"5",2020,{"$f":"IFERROR(VLOOKUP([1]!Tabla_SERIEA_01_5[[#This Row],[IdEstablecimiento]],[2]Establecimientos!$A$1:$E$175,5,FALSE),0)","v":"04101-LA SERENA"},"105445","81701009","2021-01-18T13:43:48",9,null,9,null,9]
[12,"5",2020,{"$f":"IFERROR(VLOOKUP([1]!Tabla_SERIEA_01_5[[#This Row],[IdEstablecimiento]],[2]Establecimientos!$A$1:$E$175,5,FALSE),0)","v":"04101-LA SERENA"},"105445","80106002","2021-01-18T13:43:48",18,null,18,null,18]
[12,"5",2020,{"$f":"IFERROR(VLOOKUP([1]!Tabla_SERIEA_01_5[[#This Row],[IdEstablecimiento]],[2]Establecimientos!$A$1:$E$175,5,FALSE),0)","v":"04101-LA SERENA"},"105445","80302023","2021-01-18T13:43:48",0,null,null,2]
[12,"5",2020,{"$f":"IFERROR(VLOOKUP([1]!Tabla_SERIEA_01_5[[#This Row],[IdEstablecimiento]],[2]Establecimientos!$A$1:$E$175,5,FALSE),0)","v":"04101-LA SERENA"},"105445","80302034","2021-01-18T13:43:48",0,null,null,6]
[12,"5",2020,{"$f":"IFERROR(VLOOKUP([1]!Tabla_SERIEA_01_5[[#This Row],[IdEstablecimiento]],[2]Establecimientos!$A$1:$E$175,5,FALSE),0)","v":"04101-LA SERENA"},"105445","80302047","2021-01-18T13:43:48",0,null,null,6]
[12,"5",2020,{"$f":"IFERROR(VLOOKUP([1]!Tabla_SERIEA_01_5[[#This Row],[IdEstablecimiento]],[2]Establecimientos!$A$1:$E$175,5,FALSE),0)","v":"04101-LA SERENA"},"105445","80302057","2021-01-18T13:43:48",0,null,null,6]
[12,"5",2020,{"$f":"IFERROR(VLOOKUP([1]!Tabla_SERIEA_01_5[[#This Row],[IdEstablecimiento]],[2]Establecimientos!$A$1:$E$175,5,FALSE),0)","v":"04101-LA SERENA"},"105445","80303024","2021-01-18T13:43:48",0,null,null,6]
[12,"5",2020,{"$f":"IFERROR(VLOOKUP([1]!Tabla_SERIEA_01_5[[#This Row],[IdEstablecimiento]],[2]Establecimientos!$A$1:$E$175,5,FALSE),0)","v":"04101-LA SERENA"},"105445","80106014","2021-01-18T13:43:48",72,null,72,null,72]
[12,"5",2020,{"$f":"IFERROR(VLOOKUP([1]!Tabla_SERIEA_01_5[[#This Row],[IdEstablecimiento]],[2]Establecimientos!$A$1:$E$175,5,FALSE),0)","v":"04101-LA SERENA"},"105445","80106015","2021-01-18T13:43:48",6,null,6,null,6]
[12,"5",2020,{"$f":"IFERROR(VLOOKUP([1]!Tabla_SERIEA_01_5[[#This Row],[IdEstablecimiento]],[2]Establecimientos!$A$1:$E$175,5,FALSE),0)","v":"04101-LA SERENA"},"105445","80307011","2021-01-18T13:43:48",0,null,null,7]
[12,"5",2020,{"$f":"IFERROR(VLOOKUP([1]!Tabla_SERIEA_01_5[[#This Row],[IdEstablecimiento]],[2]Establecimientos!$A$1:$E$175,5,FALSE),0)","v":"04101-LA SERENA"},"105445","18020500","2021-01-18T13:43:48",21,0,21]
[12,"5",2020,{"$f":"IFERROR(VLOOKUP([1]!Tabla_SERIEA_01_5[[#This Row],[IdEstablecimiento]],[2]Establecimientos!$A$1:$E$175,5,FALSE),0)","v":"04101-LA SERENA"},"105445","18050100","2021-01-18T13:43:48",18,0,18]
[12,"5",2020,{"$f":"IFERROR(VLOOKUP([1]!Tabla_SERIEA_01_5[[#This Row],[IdEstablecimiento]],[2]Establecimientos!$A$1:$E$175,5,FALSE),0)","v":"04101-LA SERENA"},"105445","18700100","2021-01-18T13:43:48",14,2,12,0]
[12,"5",2020,{"$f":"IFERROR(VLOOKUP([1]!Tabla_SERIEA_01_5[[#This Row],[IdEstablecimiento]],[2]Establecimientos!$A$1:$E$175,5,FALSE),0)","v":"04101-LA SERENA"},"105446","80309010","2021-01-18T13:44:06",0,null,null,4]
[12,"5",2020,{"$f":"IFERROR(VLOOKUP([1]!Tabla_SERIEA_01_5[[#This Row],[IdEstablecimiento]],[2]Establecimientos!$A$1:$E$175,5,FALSE),0)","v":"04101-LA SERENA"},"105446","80309022","2021-01-18T13:44:06",0,null,null,4]
[12,"5",2020,{"$f":"IFERROR(VLOOKUP([1]!Tabla_SERIEA_01_5[[#This Row],[IdEstablecimiento]],[2]Establecimientos!$A$1:$E$175,5,FALSE),0)","v":"04101-LA SERENA"},"105446","80301045","2021-01-18T13:44:06",0,null,null,4]
[12,"5",2020,{"$f":"IFERROR(VLOOKUP([1]!Tabla_SERIEA_01_5[[#This Row],[IdEstablecimiento]],[2]Establecimientos!$A$1:$E$175,5,FALSE),0)","v":"04101-LA SERENA"},"105446","81701009","2021-01-18T13:44:06",1,null,1,null,1]
[12,"5",2020,{"$f":"IFERROR(VLOOKUP([1]!Tabla_SERIEA_01_5[[#This Row],[IdEstablecimiento]],[2]Establecimientos!$A$1:$E$175,5,FALSE),0)","v":"04101-LA SERENA"},"105446","80106002","2021-01-18T13:44:06",4,null,4,null,4]
[12,"5",2020,{"$f":"IFERROR(VLOOKUP([1]!Tabla_SERIEA_01_5[[#This Row],[IdEstablecimiento]],[2]Establecimientos!$A$1:$E$175,5,FALSE),0)","v":"04101-LA SERENA"},"105446","80302034","2021-01-18T13:44:06",0,null,null,4]
[12,"5",2020,{"$f":"IFERROR(VLOOKUP([1]!Tabla_SERIEA_01_5[[#This Row],[IdEstablecimiento]],[2]Establecimientos!$A$1:$E$175,5,FALSE),0)","v":"04101-LA SERENA"},"105446","80302047","2021-01-18T13:44:06",0,null,null,4]
[12,"5",2020,{"$f":"IFERROR(VLOOKUP([1]!Tabla_SERIEA_01_5[[#This Row],[IdEstablecimiento]],[2]Establecimientos!$A$1:$E$175,5,FALSE),0)","v":"04101-LA SERENA"},"105446","80302057","2021-01-18T13:44:06",0,null,null,4]
[12,"5",2020,{"$f":"IFERROR(VLOOKUP([1]!Tabla_SERIEA_01_5[[#This Row],[IdEstablecimiento]],[2]Establecimientos!$A$1:$E$175,5,FALSE),0)","v":"04101-LA SERENA"},"105446","80303024","2021-01-18T13:44:06",0,null,null,1]
[12,"5",2020,{"$f":"IFERROR(VLOOKUP([1]!Tabla_SERIEA_01_5[[#This Row],[IdEstablecimiento]],[2]Establecimientos!$A$1:$E$175,5,FALSE),0)","v":"04101-LA SERENA"},"105446","80106013","2021-01-18T13:44:06",2,null,2,null,2]
[12,"5",2020,{"$f":"IFERROR(VLOOKUP([1]!Tabla_SERIEA_01_5[[#This Row],[IdEstablecimiento]],[2]Establecimientos!$A$1:$E$175,5,FALSE),0)","v":"04101-LA SERENA"},"105446","80106014","2021-01-18T13:44:06",12,null,12,null,12]
[12,"5",2020,{"$f":"IFERROR(VLOOKUP([1]!Tabla_SERIEA_01_5[[#This Row],[IdEstablecimiento]],[2]Establecimientos!$A$1:$E$175,5,FALSE),0)","v":"04101-LA SERENA"},"105446","80106023","2021-01-18T13:44:06",1,null,1,null,1]
[12,"5",2020,{"$f":"IFERROR(VLOOKUP([1]!Tabla_SERIEA_01_5[[#This Row],[IdEstablecimiento]],[2]Establecimientos!$A$1:$E$175,5,FALSE),0)","v":"04101-LA SERENA"},"105446","80307011","2021-01-18T13:44:06",0,null,null,4]
[12,"5",2020,{"$f":"IFERROR(VLOOKUP([1]!Tabla_SERIEA_01_5[[#This Row],[IdEstablecimiento]],[2]Establecimientos!$A$1:$E$175,5,FALSE),0)","v":"04101-LA SERENA"},"105446","18020500","2021-01-18T13:44:06",1,0,1]
[12,"5",2020,{"$f":"IFERROR(VLOOKUP([1]!Tabla_SERIEA_01_5[[#This Row],[IdEstablecimiento]],[2]Establecimientos!$A$1:$E$175,5,FALSE),0)","v":"04101-LA SERENA"},"105446","18090000","2021-01-18T13:44:06",1,0,1]
[12,"5",2020,{"$f":"IFERROR(VLOOKUP([1]!Tabla_SERIEA_01_5[[#This Row],[IdEstablecimiento]],[2]Establecimientos!$A$1:$E$175,5,FALSE),0)","v":"04101-LA SERENA"},"105446","18050100","2021-01-18T13:44:06",4,0,4]
[12,"5",2020,{"$f":"IFERROR(VLOOKUP([1]!Tabla_SERIEA_01_5[[#This Row],[IdEstablecimiento]],[2]Establecimientos!$A$1:$E$175,5,FALSE),0)","v":"04101-LA SERENA"},"105447","80309010","2021-01-18T13:44:27",0,null,null,6]
[12,"5",2020,{"$f":"IFERROR(VLOOKUP([1]!Tabla_SERIEA_01_5[[#This Row],[IdEstablecimiento]],[2]Establecimientos!$A$1:$E$175,5,FALSE),0)","v":"04101-LA SERENA"},"105447","80309013","2021-01-18T13:44:27",0,null,null,2]
[12,"5",2020,{"$f":"IFERROR(VLOOKUP([1]!Tabla_SERIEA_01_5[[#This Row],[IdEstablecimiento]],[2]Establecimientos!$A$1:$E$175,5,FALSE),0)","v":"04101-LA SERENA"},"105447","80309022","2021-01-18T13:44:27",0,null,null,3]
[12,"5",2020,{"$f":"IFERROR(VLOOKUP([1]!Tabla_SERIEA_01_5[[#This Row],[IdEstablecimiento]],[2]Establecimientos!$A$1:$E$175,5,FALSE),0)","v":"04101-LA SERENA"},"105447","80301041","2021-01-18T13:44:27",0,null,null,3]
[12,"5",2020,{"$f":"IFERROR(VLOOKUP([1]!Tabla_SERIEA_01_5[[#This Row],[IdEstablecimiento]],[2]Establecimientos!$A$1:$E$175,5,FALSE),0)","v":"04101-LA SERENA"},"105447","80301045","2021-01-18T13:44:27",0,null,null,6]
[12,"5",2020,{"$f":"IFERROR(VLOOKUP([1]!Tabla_SERIEA_01_5[[#This Row],[IdEstablecimiento]],[2]Establecimientos!$A$1:$E$175,5,FALSE),0)","v":"04101-LA SERENA"},"105447","80306169","2021-01-18T13:44:27",0,null,null,2]
[12,"5",2020,{"$f":"IFERROR(VLOOKUP([1]!Tabla_SERIEA_01_5[[#This Row],[IdEstablecimiento]],[2]Establecimientos!$A$1:$E$175,5,FALSE),0)","v":"04101-LA SERENA"},"105447","80106002","2021-01-18T13:44:27",9,null,9,null,9]
[12,"5",2020,{"$f":"IFERROR(VLOOKUP([1]!Tabla_SERIEA_01_5[[#This Row],[IdEstablecimiento]],[2]Establecimientos!$A$1:$E$175,5,FALSE),0)","v":"04101-LA SERENA"},"105447","80302034","2021-01-18T13:44:27",0,null,null,6]
[12,"5",2020,{"$f":"IFERROR(VLOOKUP([1]!Tabla_SERIEA_01_5[[#This Row],[IdEstablecimiento]],[2]Establecimientos!$A$1:$E$175,5,FALSE),0)","v":"04101-LA SERENA"},"105447","80302047","2021-01-18T13:44:27",0,null,null,6]
[12,"5",2020,{"$f":"IFERROR(VLOOKUP([1]!Tabla_SERIEA_01_5[[#This Row],[IdEstablecimiento]],[2]Establecimientos!$A$1:$E$175,5,FALSE),0)","v":"04101-LA SERENA"},"105447","80302057","2021-01-18T13:44:27",0,null,null,2]
[12,"5",2020,{"$f":"IFERROR(VLOOKUP([1]!Tabla_SERIEA_01_5[[#This Row],[IdEstablecimiento]],[2]Establecimientos!$A$1:$E$175,5,FALSE),0)","v":"04101-LA SERENA"},"105447","80303024","2021-01-18T13:44:27",0,null,null,7]
[12,"5",2020,{"$f":"IFERROR(VLOOKUP([1]!Tabla_SERIEA_01_5[[#This Row],[IdEstablecimiento]],[2]Establecimientos!$A$1:$E$175,5,FALSE),0)","v":"04101-LA SERENA"},"105447","80106014","2021-01-18T13:44:27",16,null,16,null,16]
[12,"5",2020,{"$f":"IFERROR(VLOOKUP([1]!Tabla_SERIEA_01_5[[#This Row],[IdEstablecimiento]],[2]Establecimientos!$A$1:$E$175,5,FALSE),0)","v":"04101-LA SERENA"},"105447","80307011","2021-01-18T13:44:27",0,null,null,11]
[12,"5",2020,{"$f":"IFERROR(VLOOKUP([1]!Tabla_SERIEA_01_5[[#This Row],[IdEstablecimiento]],[2]Establecimientos!$A$1:$E$175,5,FALSE),0)","v":"04101-LA SERENA"},"105447","18050100","2021-01-18T13:44:27",9,0,9]
[12,"5",2020,{"$f":"IFERROR(VLOOKUP([1]!Tabla_SERIEA_01_5[[#This Row],[IdEstablecimiento]],[2]Establecimientos!$A$1:$E$175,5,FALSE),0)","v":"04101-LA SERENA"},"105447","18700100","2021-01-18T13:44:27",13,2,11,0]
[12,"5",2020,{"$f":"IFERROR(VLOOKUP([1]!Tabla_SERIEA_01_5[[#This Row],[IdEstablecimiento]],[2]Establecimientos!$A$1:$E$175,5,FALSE),0)","v":"04101-LA SERENA"},"105448","80309010","2021-01-18T13:44:47",0,null,null,12]
[12,"5",2020,{"$f":"IFERROR(VLOOKUP([1]!Tabla_SERIEA_01_5[[#This Row],[IdEstablecimiento]],[2]Establecimientos!$A$1:$E$175,5,FALSE),0)","v":"04101-LA SERENA"},"105448","80309022","2021-01-18T13:44:47",0,null,null,14]
[12,"5",2020,{"$f":"IFERROR(VLOOKUP([1]!Tabla_SERIEA_01_5[[#This Row],[IdEstablecimiento]],[2]Establecimientos!$A$1:$E$175,5,FALSE),0)","v":"04101-LA SERENA"},"105448","80301036","2021-01-18T13:44:47",0,null,null,8]
[12,"5",2020,{"$f":"IFERROR(VLOOKUP([1]!Tabla_SERIEA_01_5[[#This Row],[IdEstablecimiento]],[2]Establecimientos!$A$1:$E$175,5,FALSE),0)","v":"04101-LA SERENA"},"105448","80301045","2021-01-18T13:44:47",0,null,null,5]
[12,"5",2020,{"$f":"IFERROR(VLOOKUP([1]!Tabla_SERIEA_01_5[[#This Row],[IdEstablecimiento]],[2]Establecimientos!$A$1:$E$175,5,FALSE),0)","v":"04101-LA SERENA"},"105448","81701001","2021-01-18T13:44:47",4,null,4,null,4]
[12,"5",2020,{"$f":"IFERROR(VLOOKUP([1]!Tabla_SERIEA_01_5[[#This Row],[IdEstablecimiento]],[2]Establecimientos!$A$1:$E$175,5,FALSE),0)","v":"04101-LA SERENA"},"105448","81701009","2021-01-18T13:44:47",7,null,7,null,7]
[12,"5",2020,{"$f":"IFERROR(VLOOKUP([1]!Tabla_SERIEA_01_5[[#This Row],[IdEstablecimiento]],[2]Establecimientos!$A$1:$E$175,5,FALSE),0)","v":"04101-LA SERENA"},"105448","80106002","2021-01-18T13:44:47",8,null,8,null,8]
[12,"5",2020,{"$f":"IFERROR(VLOOKUP([1]!Tabla_SERIEA_01_5[[#This Row],[IdEstablecimiento]],[2]Establecimientos!$A$1:$E$175,5,FALSE),0)","v":"04101-LA SERENA"},"105448","80106017","2021-01-18T13:44:47",12,null,12,null,12]
[12,"5",2020,{"$f":"IFERROR(VLOOKUP([1]!Tabla_SERIEA_01_5[[#This Row],[IdEstablecimiento]],[2]Establecimientos!$A$1:$E$175,5,FALSE),0)","v":"04101-LA SERENA"},"105448","80302034","2021-01-18T13:44:47",0,null,null,12]
[12,"5",2020,{"$f":"IFERROR(VLOOKUP([1]!Tabla_SERIEA_01_5[[#This Row],[IdEstablecimiento]],[2]Establecimientos!$A$1:$E$175,5,FALSE),0)","v":"04101-LA SERENA"},"105448","80302047","2021-01-18T13:44:47",0,null,null,12]
[12,"5",2020,{"$f":"IFERROR(VLOOKUP([1]!Tabla_SERIEA_01_5[[#This Row],[IdEstablecimiento]],[2]Establecimientos!$A$1:$E$175,5,FALSE),0)","v":"04101-LA SERENA"},"105448","80302057","2021-01-18T13:44:47",0,null,null,12]
[12,"5",2020,{"$f":"IFERROR(VLOOKUP([1]!Tabla_SERIEA_01_5[[#This Row],[IdEstablecimiento]],[2]Establecimientos!$A$1:$E$175,5,FALSE),0)","v":"04101-LA SERENA"},"105448","80303024","2021-01-18T13:44:47",0,null,null,6]
[12,"5",2020,{"$f":"IFERROR(VLOOKUP([1]!Tabla_SERIEA_01_5[[#This Row],[IdEstablecimiento]],[2]Establecimientos!$A$1:$E$175,5,FALSE),0)","v":"04101-LA SERENA"},"105448","80306011","2021-01-18T13:44:47",0,null,null,2]
[12,"5",2020,{"$f":"IFERROR(VLOOKUP([1]!Tabla_SERIEA_01_5[[#This Row],[IdEstablecimiento]],[2]Establecimientos!$A$1:$E$175,5,FALSE),0)","v":"04101-LA SERENA"},"105448","80106014","2021-01-18T13:44:47",68,null,68,null,68]
[12,"5",2020,{"$f":"IFERROR(VLOOKUP([1]!Tabla_SERIEA_01_5[[#This Row],[IdEstablecimiento]],[2]Establecimientos!$A$1:$E$175,5,FALSE),0)","v":"04101-LA SERENA"},"105448","80106023","2021-01-18T13:44:47",10,null,10,null,10]
[12,"5",2020,{"$f":"IFERROR(VLOOKUP([1]!Tabla_SERIEA_01_5[[#This Row],[IdEstablecimiento]],[2]Establecimientos!$A$1:$E$175,5,FALSE),0)","v":"04101-LA SERENA"},"105448","80307011","2021-01-18T13:44:47",0,null,null,16]
[12,"5",2020,{"$f":"IFERROR(VLOOKUP([1]!Tabla_SERIEA_01_5[[#This Row],[IdEstablecimiento]],[2]Establecimientos!$A$1:$E$175,5,FALSE),0)","v":"04101-LA SERENA"},"105448","18020500","2021-01-18T13:44:47",11,0,11]
[12,"5",2020,{"$f":"IFERROR(VLOOKUP([1]!Tabla_SERIEA_01_5[[#This Row],[IdEstablecimiento]],[2]Establecimientos!$A$1:$E$175,5,FALSE),0)","v":"04101-LA SERENA"},"105448","18090000","2021-01-18T13:44:47",10,0,10]
[12,"5",2020,{"$f":"IFERROR(VLOOKUP([1]!Tabla_SERIEA_01_5[[#This Row],[IdEstablecimiento]],[2]Establecimientos!$A$1:$E$175,5,FALSE),0)","v":"04101-LA SERENA"},"105448","18050100","2021-01-18T13:44:47",8,0,8]
[12,"5",2020,{"$f":"IFERROR(VLOOKUP([1]!Tabla_SERIEA_01_5[[#This Row],[IdEstablecimiento]],[2]Establecimientos!$A$1:$E$175,5,FALSE),0)","v":"04101-LA SERENA"},"105448","18090200","2021-01-18T13:44:47",2]
[12,"5",2020,{"$f":"IFERROR(VLOOKUP([1]!Tabla_SERIEA_01_5[[#This Row],[IdEstablecimiento]],[2]Establecimientos!$A$1:$E$175,5,FALSE),0)","v":"04101-LA SERENA"},"105448","18700100","2021-01-18T13:44:47",4,0,4,0]
[12,"5",2020,{"$f":"IFERROR(VLOOKUP([1]!Tabla_SERIEA_01_5[[#This Row],[IdEstablecimiento]],[2]Establecimientos!$A$1:$E$175,5,FALSE),0)","v":"04101-LA SERENA"},"105449","80309010","2021-01-18T13:45:06",0,null,null,8]
[12,"5",2020,{"$f":"IFERROR(VLOOKUP([1]!Tabla_SERIEA_01_5[[#This Row],[IdEstablecimiento]],[2]Establecimientos!$A$1:$E$175,5,FALSE),0)","v":"04101-LA SERENA"},"105449","80309022","2021-01-18T13:45:06",0,null,null,8]
[12,"5",2020,{"$f":"IFERROR(VLOOKUP([1]!Tabla_SERIEA_01_5[[#This Row],[IdEstablecimiento]],[2]Establecimientos!$A$1:$E$175,5,FALSE),0)","v":"04101-LA SERENA"},"105449","80301041","2021-01-18T13:45:06",0,null,null,1]
[12,"5",2020,{"$f":"IFERROR(VLOOKUP([1]!Tabla_SERIEA_01_5[[#This Row],[IdEstablecimiento]],[2]Establecimientos!$A$1:$E$175,5,FALSE),0)","v":"04101-LA SERENA"},"105449","80301045","2021-01-18T13:45:06",0,null,null,7]
[12,"5",2020,{"$f":"IFERROR(VLOOKUP([1]!Tabla_SERIEA_01_5[[#This Row],[IdEstablecimiento]],[2]Establecimientos!$A$1:$E$175,5,FALSE),0)","v":"04101-LA SERENA"},"105449","80106002","2021-01-18T13:45:06",3,null,3,null,3]
[12,"5",2020,{"$f":"IFERROR(VLOOKUP([1]!Tabla_SERIEA_01_5[[#This Row],[IdEstablecimiento]],[2]Establecimientos!$A$1:$E$175,5,FALSE),0)","v":"04101-LA SERENA"},"105449","80302034","2021-01-18T13:45:06",0,null,null,8]
[12,"5",2020,{"$f":"IFERROR(VLOOKUP([1]!Tabla_SERIEA_01_5[[#This Row],[IdEstablecimiento]],[2]Establecimientos!$A$1:$E$175,5,FALSE),0)","v":"04101-LA SERENA"},"105449","80302047","2021-01-18T13:45:06",0,null,null,8]
[12,"5",2020,{"$f":"IFERROR(VLOOKUP([1]!Tabla_SERIEA_01_5[[#This Row],[IdEstablecimiento]],[2]Establecimientos!$A$1:$E$175,5,FALSE),0)","v":"04101-LA SERENA"},"105449","80302057","2021-01-18T13:45:06",0,null,null,8]
[12,"5",2020,{"$f":"IFERROR(VLOOKUP([1]!Tabla_SERIEA_01_5[[#This Row],[IdEstablecimiento]],[2]Establecimientos!$A$1:$E$175,5,FALSE),0)","v":"04101-LA SERENA"},"105449","80303024","2021-01-18T13:45:06",0,null,null,2]
[12,"5",2020,{"$f":"IFERROR(VLOOKUP([1]!Tabla_SERIEA_01_5[[#This Row],[IdEstablecimiento]],[2]Establecimientos!$A$1:$E$175,5,FALSE),0)","v":"04101-LA SERENA"},"105449","80306011","2021-01-18T13:45:06",0,null,null,2]
[12,"5",2020,{"$f":"IFERROR(VLOOKUP([1]!Tabla_SERIEA_01_5[[#This Row],[IdEstablecimiento]],[2]Establecimientos!$A$1:$E$175,5,FALSE),0)","v":"04101-LA SERENA"},"105449","80106010","2021-01-18T13:45:06",2,null,2,null,2]
[12,"5",2020,{"$f":"IFERROR(VLOOKUP([1]!Tabla_SERIEA_01_5[[#This Row],[IdEstablecimiento]],[2]Establecimientos!$A$1:$E$175,5,FALSE),0)","v":"04101-LA SERENA"},"105449","80106014","2021-01-18T13:45:06",12,null,12,null,12]
[12,"5",2020,{"$f":"IFERROR(VLOOKUP([1]!Tabla_SERIEA_01_5[[#This Row],[IdEstablecimiento]],[2]Establecimientos!$A$1:$E$175,5,FALSE),0)","v":"04101-LA SERENA"},"105449","80307011","2021-01-18T13:45:06",0,null,null,8]
[12,"5",2020,{"$f":"IFERROR(VLOOKUP([1]!Tabla_SERIEA_01_5[[#This Row],[IdEstablecimiento]],[2]Establecimientos!$A$1:$E$175,5,FALSE),0)","v":"04101-LA SERENA"},"105449","18050100","2021-01-18T13:45:06",3,0,3]
[12,"5",2020,{"$f":"IFERROR(VLOOKUP([1]!Tabla_SERIEA_01_5[[#This Row],[IdEstablecimiento]],[2]Establecimientos!$A$1:$E$175,5,FALSE),0)","v":"04101-LA SERENA"},"105450","81701009","2021-01-18T13:45:28",22,null,22,null,22]
[12,"5",2020,{"$f":"IFERROR(VLOOKUP([1]!Tabla_SERIEA_01_5[[#This Row],[IdEstablecimiento]],[2]Establecimientos!$A$1:$E$175,5,FALSE),0)","v":"04101-LA SERENA"},"105450","81602221","2021-01-18T13:45:28",2,null,2,null,2]
[12,"5",2020,{"$f":"IFERROR(VLOOKUP([1]!Tabla_SERIEA_01_5[[#This Row],[IdEstablecimiento]],[2]Establecimientos!$A$1:$E$175,5,FALSE),0)","v":"04101-LA SERENA"},"105450","80106002","2021-01-18T13:45:28",13,null,13,null,13]
[12,"5",2020,{"$f":"IFERROR(VLOOKUP([1]!Tabla_SERIEA_01_5[[#This Row],[IdEstablecimiento]],[2]Establecimientos!$A$1:$E$175,5,FALSE),0)","v":"04101-LA SERENA"},"105450","80106005","2021-01-18T13:45:28",14,null,14,null,14]
[12,"5",2020,{"$f":"IFERROR(VLOOKUP([1]!Tabla_SERIEA_01_5[[#This Row],[IdEstablecimiento]],[2]Establecimientos!$A$1:$E$175,5,FALSE),0)","v":"04101-LA SERENA"},"105450","80106006","2021-01-18T13:45:28",2,null,2,null,2]
[12,"5",2020,{"$f":"IFERROR(VLOOKUP([1]!Tabla_SERIEA_01_5[[#This Row],[IdEstablecimiento]],[2]Establecimientos!$A$1:$E$175,5,FALSE),0)","v":"04101-LA SERENA"},"105450","80106017","2021-01-18T13:45:28",3,null,3,null,3]
[12,"5",2020,{"$f":"IFERROR(VLOOKUP([1]!Tabla_SERIEA_01_5[[#This Row],[IdEstablecimiento]],[2]Establecimientos!$A$1:$E$175,5,FALSE),0)","v":"04101-LA SERENA"},"105450","80106014","2021-01-18T13:45:28",100,null,100,null,100]
[12,"5",2020,{"$f":"IFERROR(VLOOKUP([1]!Tabla_SERIEA_01_5[[#This Row],[IdEstablecimiento]],[2]Establecimientos!$A$1:$E$175,5,FALSE),0)","v":"04101-LA SERENA"},"105450","80106015","2021-01-18T13:45:28",20,null,20,null,20]
[12,"5",2020,{"$f":"IFERROR(VLOOKUP([1]!Tabla_SERIEA_01_5[[#This Row],[IdEstablecimiento]],[2]Establecimientos!$A$1:$E$175,5,FALSE),0)","v":"04101-LA SERENA"},"105450","80106022","2021-01-18T13:45:28",1,null,1,null,1]
[12,"5",2020,{"$f":"IFERROR(VLOOKUP([1]!Tabla_SERIEA_01_5[[#This Row],[IdEstablecimiento]],[2]Establecimientos!$A$1:$E$175,5,FALSE),0)","v":"04101-LA SERENA"},"105450","80106023","2021-01-18T13:45:28",1,null,1,null,1]
[12,"5",2020,{"$f":"IFERROR(VLOOKUP([1]!Tabla_SERIEA_01_5[[#This Row],[IdEstablecimiento]],[2]Establecimientos!$A$1:$E$175,5,FALSE),0)","v":"04101-LA SERENA"},"105450","80500011","2021-01-18T13:45:28",22,null,22,null,22]
[12,"5",2020,{"$f":"IFERROR(VLOOKUP([1]!Tabla_SERIEA_01_5[[#This Row],[IdEstablecimiento]],[2]Establecimientos!$A$1:$E$175,5,FALSE),0)","v":"04101-LA SERENA"},"105450","18020500","2021-01-18T13:45:28",22,0,22]
[12,"5",2020,{"$f":"IFERROR(VLOOKUP([1]!Tabla_SERIEA_01_5[[#This Row],[IdEstablecimiento]],[2]Establecimientos!$A$1:$E$175,5,FALSE),0)","v":"04101-LA SERENA"},"105450","18030000","2021-01-18T13:45:28",2,0,2]
[12,"5",2020,{"$f":"IFERROR(VLOOKUP([1]!Tabla_SERIEA_01_5[[#This Row],[IdEstablecimiento]],[2]Establecimientos!$A$1:$E$175,5,FALSE),0)","v":"04101-LA SERENA"},"105450","18040200","2021-01-18T13:45:28",2,null,2]
[12,"5",2020,{"$f":"IFERROR(VLOOKUP([1]!Tabla_SERIEA_01_5[[#This Row],[IdEstablecimiento]],[2]Establecimientos!$A$1:$E$175,5,FALSE),0)","v":"04101-LA SERENA"},"105450","18090000","2021-01-18T13:45:28",1,0,1]
[12,"5",2020,{"$f":"IFERROR(VLOOKUP([1]!Tabla_SERIEA_01_5[[#This Row],[IdEstablecimiento]],[2]Establecimientos!$A$1:$E$175,5,FALSE),0)","v":"04101-LA SERENA"},"105450","18050100","2021-01-18T13:45:28",13,0,13]
[12,"5",2020,{"$f":"IFERROR(VLOOKUP([1]!Tabla_SERIEA_01_5[[#This Row],[IdEstablecimiento]],[2]Establecimientos!$A$1:$E$175,5,FALSE),0)","v":"04101-LA SERENA"},"105450","18050200","2021-01-18T13:45:28",14,0,14]
[12,"5",2020,{"$f":"IFERROR(VLOOKUP([1]!Tabla_SERIEA_01_5[[#This Row],[IdEstablecimiento]],[2]Establecimientos!$A$1:$E$175,5,FALSE),0)","v":"04101-LA SERENA"},"105450","18050300","2021-01-18T13:45:28",2,0,2]
[12,"5",2020,{"$f":"IFERROR(VLOOKUP([1]!Tabla_SERIEA_01_5[[#This Row],[IdEstablecimiento]],[2]Establecimientos!$A$1:$E$175,5,FALSE),0)","v":"04101-LA SERENA"},"105451","81701009","2021-01-18T13:45:49",4,null,4,null,4]
[12,"5",2020,{"$f":"IFERROR(VLOOKUP([1]!Tabla_SERIEA_01_5[[#This Row],[IdEstablecimiento]],[2]Establecimientos!$A$1:$E$175,5,FALSE),0)","v":"04101-LA SERENA"},"105451","80106002","2021-01-18T13:45:49",7,null,7,null,7]
[12,"5",2020,{"$f":"IFERROR(VLOOKUP([1]!Tabla_SERIEA_01_5[[#This Row],[IdEstablecimiento]],[2]Establecimientos!$A$1:$E$175,5,FALSE),0)","v":"04101-LA SERENA"},"105451","80106014","2021-01-18T13:45:49",18,null,18,null,18]
[12,"5",2020,{"$f":"IFERROR(VLOOKUP([1]!Tabla_SERIEA_01_5[[#This Row],[IdEstablecimiento]],[2]Establecimientos!$A$1:$E$175,5,FALSE),0)","v":"04101-LA SERENA"},"105451","80500011","2021-01-18T13:45:49",2,null,2,null,2]
[12,"5",2020,{"$f":"IFERROR(VLOOKUP([1]!Tabla_SERIEA_01_5[[#This Row],[IdEstablecimiento]],[2]Establecimientos!$A$1:$E$175,5,FALSE),0)","v":"04101-LA SERENA"},"105451","18020500","2021-01-18T13:45:49",4,0,4]
[12,"5",2020,{"$f":"IFERROR(VLOOKUP([1]!Tabla_SERIEA_01_5[[#This Row],[IdEstablecimiento]],[2]Establecimientos!$A$1:$E$175,5,FALSE),0)","v":"04101-LA SERENA"},"105451","18050100","2021-01-18T13:45:49",7,0,7]
[12,"5",2020,{"$f":"IFERROR(VLOOKUP([1]!Tabla_SERIEA_01_5[[#This Row],[IdEstablecimiento]],[2]Establecimientos!$A$1:$E$175,5,FALSE),0)","v":"04101-LA SERENA"},"105452","81701001","2021-01-18T13:46:07",6,null,6]
[12,"5",2020,{"$f":"IFERROR(VLOOKUP([1]!Tabla_SERIEA_01_5[[#This Row],[IdEstablecimiento]],[2]Establecimientos!$A$1:$E$175,5,FALSE),0)","v":"04101-LA SERENA"},"105452","81602222","2021-01-18T13:46:07",2,null,2]
[12,"5",2020,{"$f":"IFERROR(VLOOKUP([1]!Tabla_SERIEA_01_5[[#This Row],[IdEstablecimiento]],[2]Establecimientos!$A$1:$E$175,5,FALSE),0)","v":"04101-LA SERENA"},"105452","80106002","2021-01-18T13:46:07",36,null,36]
[12,"5",2020,{"$f":"IFERROR(VLOOKUP([1]!Tabla_SERIEA_01_5[[#This Row],[IdEstablecimiento]],[2]Establecimientos!$A$1:$E$175,5,FALSE),0)","v":"04101-LA SERENA"},"105452","80106007","2021-01-18T13:46:07",1,null,1]
[12,"5",2020,{"$f":"IFERROR(VLOOKUP([1]!Tabla_SERIEA_01_5[[#This Row],[IdEstablecimiento]],[2]Establecimientos!$A$1:$E$175,5,FALSE),0)","v":"04101-LA SERENA"},"105452","80106008","2021-01-18T13:46:07",1,null,1]
[12,"5",2020,{"$f":"IFERROR(VLOOKUP([1]!Tabla_SERIEA_01_5[[#This Row],[IdEstablecimiento]],[2]Establecimientos!$A$1:$E$175,5,FALSE),0)","v":"04101-LA SERENA"},"105452","80106010","2021-01-18T13:46:07",4,null,4]
[12,"5",2020,{"$f":"IFERROR(VLOOKUP([1]!Tabla_SERIEA_01_5[[#This Row],[IdEstablecimiento]],[2]Establecimientos!$A$1:$E$175,5,FALSE),0)","v":"04101-LA SERENA"},"105452","80106015","2021-01-18T13:46:07",7,null,7]
[12,"5",2020,{"$f":"IFERROR(VLOOKUP([1]!Tabla_SERIEA_01_5[[#This Row],[IdEstablecimiento]],[2]Establecimientos!$A$1:$E$175,5,FALSE),0)","v":"04101-LA SERENA"},"105452","80106022","2021-01-18T13:46:07",9,null,9]
[12,"5",2020,{"$f":"IFERROR(VLOOKUP([1]!Tabla_SERIEA_01_5[[#This Row],[IdEstablecimiento]],[2]Establecimientos!$A$1:$E$175,5,FALSE),0)","v":"04101-LA SERENA"},"105452","80106023","2021-01-18T13:46:07",7,null,7]
[12,"5",2020,{"$f":"IFERROR(VLOOKUP([1]!Tabla_SERIEA_01_5[[#This Row],[IdEstablecimiento]],[2]Establecimientos!$A$1:$E$175,5,FALSE),0)","v":"04101-LA SERENA"},"105452","80500011","2021-01-18T13:46:07",141,null,141]
[12,"5",2020,{"$f":"IFERROR(VLOOKUP([1]!Tabla_SERIEA_01_5[[#This Row],[IdEstablecimiento]],[2]Establecimientos!$A$1:$E$175,5,FALSE),0)","v":"04101-LA SERENA"},"105452","18020500","2021-01-18T13:46:07",6,0,6]
[12,"5",2020,{"$f":"IFERROR(VLOOKUP([1]!Tabla_SERIEA_01_5[[#This Row],[IdEstablecimiento]],[2]Establecimientos!$A$1:$E$175,5,FALSE),0)","v":"04101-LA SERENA"},"105452","18030000","2021-01-18T13:46:07",2,0,2]
[12,"5",2020,{"$f":"IFERROR(VLOOKUP([1]!Tabla_SERIEA_01_5[[#This Row],[IdEstablecimiento]],[2]Establecimientos!$A$1:$E$175,5,FALSE),0)","v":"04101-LA SERENA"},"105452","18040200","2021-01-18T13:46:07",2,null,2]
[12,"5",2020,{"$f":"IFERROR(VLOOKUP([1]!Tabla_SERIEA_01_5[[#This Row],[IdEstablecimiento]],[2]Establecimientos!$A$1:$E$175,5,FALSE),0)","v":"04101-LA SERENA"},"105452","18090000","2021-01-18T13:46:07",7,0,7]
[12,"5",2020,{"$f":"IFERROR(VLOOKUP([1]!Tabla_SERIEA_01_5[[#This Row],[IdEstablecimiento]],[2]Establecimientos!$A$1:$E$175,5,FALSE),0)","v":"04101-LA SERENA"},"105452","18050100","2021-01-18T13:46:07",36,0,36]
[12,"5",2020,{"$f":"IFERROR(VLOOKUP([1]!Tabla_SERIEA_01_5[[#This Row],[IdEstablecimiento]],[2]Establecimientos!$A$1:$E$175,5,FALSE),0)","v":"04101-LA SERENA"},"105453","81701001","2021-01-18T13:47:59",7,null,7]
[12,"5",2020,{"$f":"IFERROR(VLOOKUP([1]!Tabla_SERIEA_01_5[[#This Row],[IdEstablecimiento]],[2]Establecimientos!$A$1:$E$175,5,FALSE),0)","v":"04101-LA SERENA"},"105453","81602222","2021-01-18T13:47:59",6,null,6]
[12,"5",2020,{"$f":"IFERROR(VLOOKUP([1]!Tabla_SERIEA_01_5[[#This Row],[IdEstablecimiento]],[2]Establecimientos!$A$1:$E$175,5,FALSE),0)","v":"04101-LA SERENA"},"105453","81602231","2021-01-18T13:47:59",1,null,1]
[12,"5",2020,{"$f":"IFERROR(VLOOKUP([1]!Tabla_SERIEA_01_5[[#This Row],[IdEstablecimiento]],[2]Establecimientos!$A$1:$E$175,5,FALSE),0)","v":"04101-LA SERENA"},"105453","80106002","2021-01-18T13:47:59",73,null,73]
[12,"5",2020,{"$f":"IFERROR(VLOOKUP([1]!Tabla_SERIEA_01_5[[#This Row],[IdEstablecimiento]],[2]Establecimientos!$A$1:$E$175,5,FALSE),0)","v":"04101-LA SERENA"},"105453","80106008","2021-01-18T13:47:59",1,null,1]
[12,"5",2020,{"$f":"IFERROR(VLOOKUP([1]!Tabla_SERIEA_01_5[[#This Row],[IdEstablecimiento]],[2]Establecimientos!$A$1:$E$175,5,FALSE),0)","v":"04101-LA SERENA"},"105453","80106010","2021-01-18T13:47:59",1,null,1]
[12,"5",2020,{"$f":"IFERROR(VLOOKUP([1]!Tabla_SERIEA_01_5[[#This Row],[IdEstablecimiento]],[2]Establecimientos!$A$1:$E$175,5,FALSE),0)","v":"04101-LA SERENA"},"105453","80106023","2021-01-18T13:47:59",15,null,15]
[12,"5",2020,{"$f":"IFERROR(VLOOKUP([1]!Tabla_SERIEA_01_5[[#This Row],[IdEstablecimiento]],[2]Establecimientos!$A$1:$E$175,5,FALSE),0)","v":"04101-LA SERENA"},"105453","80500011","2021-01-18T13:47:59",45,null,45]
[12,"5",2020,{"$f":"IFERROR(VLOOKUP([1]!Tabla_SERIEA_01_5[[#This Row],[IdEstablecimiento]],[2]Establecimientos!$A$1:$E$175,5,FALSE),0)","v":"04101-LA SERENA"},"105453","18020500","2021-01-18T13:47:59",7,0,7]
[12,"5",2020,{"$f":"IFERROR(VLOOKUP([1]!Tabla_SERIEA_01_5[[#This Row],[IdEstablecimiento]],[2]Establecimientos!$A$1:$E$175,5,FALSE),0)","v":"04101-LA SERENA"},"105453","18030000","2021-01-18T13:47:59",7,0,7]
[12,"5",2020,{"$f":"IFERROR(VLOOKUP([1]!Tabla_SERIEA_01_5[[#This Row],[IdEstablecimiento]],[2]Establecimientos!$A$1:$E$175,5,FALSE),0)","v":"04101-LA SERENA"},"105453","18040200","2021-01-18T13:47:59",7,null,7]
[12,"5",2020,{"$f":"IFERROR(VLOOKUP([1]!Tabla_SERIEA_01_5[[#This Row],[IdEstablecimiento]],[2]Establecimientos!$A$1:$E$175,5,FALSE),0)","v":"04101-LA SERENA"},"105453","18090000","2021-01-18T13:47:59",15,0,15]
[12,"5",2020,{"$f":"IFERROR(VLOOKUP([1]!Tabla_SERIEA_01_5[[#This Row],[IdEstablecimiento]],[2]Establecimientos!$A$1:$E$175,5,FALSE),0)","v":"04101-LA SERENA"},"105453","18050100","2021-01-18T13:47:59",73,0,73]
[12,"5",2020,{"$f":"IFERROR(VLOOKUP([1]!Tabla_SERIEA_01_5[[#This Row],[IdEstablecimiento]],[2]Establecimientos!$A$1:$E$175,5,FALSE),0)","v":"04302-COMBARBALÁ"},"105454","80106010","2021-01-18T13:48:20",2,null,2]
[12,"5",2020,{"$f":"IFERROR(VLOOKUP([1]!Tabla_SERIEA_01_5[[#This Row],[IdEstablecimiento]],[2]Establecimientos!$A$1:$E$175,5,FALSE),0)","v":"04302-COMBARBALÁ"},"105454","80106022","2021-01-18T13:48:20",2,null,2]
[12,"5",2020,{"$f":"IFERROR(VLOOKUP([1]!Tabla_SERIEA_01_5[[#This Row],[IdEstablecimiento]],[2]Establecimientos!$A$1:$E$175,5,FALSE),0)","v":"04302-COMBARBALÁ"},"105454","80106023","2021-01-18T13:48:20",1,null,1]
[12,"5",2020,{"$f":"IFERROR(VLOOKUP([1]!Tabla_SERIEA_01_5[[#This Row],[IdEstablecimiento]],[2]Establecimientos!$A$1:$E$175,5,FALSE),0)","v":"04302-COMBARBALÁ"},"105454","80500011","2021-01-18T13:48:20",4,null,4]
[12,"5",2020,{"$f":"IFERROR(VLOOKUP([1]!Tabla_SERIEA_01_5[[#This Row],[IdEstablecimiento]],[2]Establecimientos!$A$1:$E$175,5,FALSE),0)","v":"04302-COMBARBALÁ"},"105454","18090000","2021-01-18T13:48:20",1,0,1]
[12,"5",2020,{"$f":"IFERROR(VLOOKUP([1]!Tabla_SERIEA_01_5[[#This Row],[IdEstablecimiento]],[2]Establecimientos!$A$1:$E$175,5,FALSE),0)","v":"04302-COMBARBALÁ"},"105456","81701001","2021-01-18T13:49:02",3,null,3]
[12,"5",2020,{"$f":"IFERROR(VLOOKUP([1]!Tabla_SERIEA_01_5[[#This Row],[IdEstablecimiento]],[2]Establecimientos!$A$1:$E$175,5,FALSE),0)","v":"04302-COMBARBALÁ"},"105456","80106002","2021-01-18T13:49:02",19,null,19]
[12,"5",2020,{"$f":"IFERROR(VLOOKUP([1]!Tabla_SERIEA_01_5[[#This Row],[IdEstablecimiento]],[2]Establecimientos!$A$1:$E$175,5,FALSE),0)","v":"04302-COMBARBALÁ"},"105456","80106007","2021-01-18T13:49:02",1,null,1]
[12,"5",2020,{"$f":"IFERROR(VLOOKUP([1]!Tabla_SERIEA_01_5[[#This Row],[IdEstablecimiento]],[2]Establecimientos!$A$1:$E$175,5,FALSE),0)","v":"04302-COMBARBALÁ"},"105456","80106010","2021-01-18T13:49:02",3,null,3]
[12,"5",2020,{"$f":"IFERROR(VLOOKUP([1]!Tabla_SERIEA_01_5[[#This Row],[IdEstablecimiento]],[2]Establecimientos!$A$1:$E$175,5,FALSE),0)","v":"04302-COMBARBALÁ"},"105456","80106023","2021-01-18T13:49:02",14,null,14]
[12,"5",2020,{"$f":"IFERROR(VLOOKUP([1]!Tabla_SERIEA_01_5[[#This Row],[IdEstablecimiento]],[2]Establecimientos!$A$1:$E$175,5,FALSE),0)","v":"04302-COMBARBALÁ"},"105456","80500011","2021-01-18T13:49:02",8,null,8]
[12,"5",2020,{"$f":"IFERROR(VLOOKUP([1]!Tabla_SERIEA_01_5[[#This Row],[IdEstablecimiento]],[2]Establecimientos!$A$1:$E$175,5,FALSE),0)","v":"04302-COMBARBALÁ"},"105456","18020500","2021-01-18T13:49:02",3,0,3]
[12,"5",2020,{"$f":"IFERROR(VLOOKUP([1]!Tabla_SERIEA_01_5[[#This Row],[IdEstablecimiento]],[2]Establecimientos!$A$1:$E$175,5,FALSE),0)","v":"04302-COMBARBALÁ"},"105456","18090000","2021-01-18T13:49:02",14,0,14]
[12,"5",2020,{"$f":"IFERROR(VLOOKUP([1]!Tabla_SERIEA_01_5[[#This Row],[IdEstablecimiento]],[2]Establecimientos!$A$1:$E$175,5,FALSE),0)","v":"04302-COMBARBALÁ"},"105456","18050100","2021-01-18T13:49:02",19,0,19]
[12,"5",2020,{"$f":"IFERROR(VLOOKUP([1]!Tabla_SERIEA_01_5[[#This Row],[IdEstablecimiento]],[2]Establecimientos!$A$1:$E$175,5,FALSE),0)","v":"04302-COMBARBALÁ"},"105457","81701001","2021-01-18T13:49:24",4,null,4]
[12,"5",2020,{"$f":"IFERROR(VLOOKUP([1]!Tabla_SERIEA_01_5[[#This Row],[IdEstablecimiento]],[2]Establecimientos!$A$1:$E$175,5,FALSE),0)","v":"04302-COMBARBALÁ"},"105457","80106002","2021-01-18T13:49:24",13,null,13]
[12,"5",2020,{"$f":"IFERROR(VLOOKUP([1]!Tabla_SERIEA_01_5[[#This Row],[IdEstablecimiento]],[2]Establecimientos!$A$1:$E$175,5,FALSE),0)","v":"04302-COMBARBALÁ"},"105457","80106022","2021-01-18T13:49:24",2,null,2]
[12,"5",2020,{"$f":"IFERROR(VLOOKUP([1]!Tabla_SERIEA_01_5[[#This Row],[IdEstablecimiento]],[2]Establecimientos!$A$1:$E$175,5,FALSE),0)","v":"04302-COMBARBALÁ"},"105457","80106023","2021-01-18T13:49:24",7,null,7]
[12,"5",2020,{"$f":"IFERROR(VLOOKUP([1]!Tabla_SERIEA_01_5[[#This Row],[IdEstablecimiento]],[2]Establecimientos!$A$1:$E$175,5,FALSE),0)","v":"04302-COMBARBALÁ"},"105457","80500011","2021-01-18T13:49:24",5,null,5]
[12,"5",2020,{"$f":"IFERROR(VLOOKUP([1]!Tabla_SERIEA_01_5[[#This Row],[IdEstablecimiento]],[2]Establecimientos!$A$1:$E$175,5,FALSE),0)","v":"04302-COMBARBALÁ"},"105457","18020500","2021-01-18T13:49:24",4,0,4]
[12,"5",2020,{"$f":"IFERROR(VLOOKUP([1]!Tabla_SERIEA_01_5[[#This Row],[IdEstablecimiento]],[2]Establecimientos!$A$1:$E$175,5,FALSE),0)","v":"04302-COMBARBALÁ"},"105457","18090000","2021-01-18T13:49:24",7,0,7]
[12,"5",2020,{"$f":"IFERROR(VLOOKUP([1]!Tabla_SERIEA_01_5[[#This Row],[IdEstablecimiento]],[2]Establecimientos!$A$1:$E$175,5,FALSE),0)","v":"04302-COMBARBALÁ"},"105457","18050100","2021-01-18T13:49:24",13,0,13]
[12,"5",2020,{"$f":"IFERROR(VLOOKUP([1]!Tabla_SERIEA_01_5[[#This Row],[IdEstablecimiento]],[2]Establecimientos!$A$1:$E$175,5,FALSE),0)","v":"04302-COMBARBALÁ"},"105457","18700100","2021-01-18T13:49:24",10,null,10]
[12,"5",2020,{"$f":"IFERROR(VLOOKUP([1]!Tabla_SERIEA_01_5[[#This Row],[IdEstablecimiento]],[2]Establecimientos!$A$1:$E$175,5,FALSE),0)","v":"04302-COMBARBALÁ"},"105458","81701001","2021-01-18T13:50:01",8,null,8]
[12,"5",2020,{"$f":"IFERROR(VLOOKUP([1]!Tabla_SERIEA_01_5[[#This Row],[IdEstablecimiento]],[2]Establecimientos!$A$1:$E$175,5,FALSE),0)","v":"04302-COMBARBALÁ"},"105458","81602222","2021-01-18T13:50:01",1,null,1]
[12,"5",2020,{"$f":"IFERROR(VLOOKUP([1]!Tabla_SERIEA_01_5[[#This Row],[IdEstablecimiento]],[2]Establecimientos!$A$1:$E$175,5,FALSE),0)","v":"04302-COMBARBALÁ"},"105458","81602231","2021-01-18T13:50:01",1,null,1]
[12,"5",2020,{"$f":"IFERROR(VLOOKUP([1]!Tabla_SERIEA_01_5[[#This Row],[IdEstablecimiento]],[2]Establecimientos!$A$1:$E$175,5,FALSE),0)","v":"04302-COMBARBALÁ"},"105458","80106002","2021-01-18T13:50:01",51,null,51]
[12,"5",2020,{"$f":"IFERROR(VLOOKUP([1]!Tabla_SERIEA_01_5[[#This Row],[IdEstablecimiento]],[2]Establecimientos!$A$1:$E$175,5,FALSE),0)","v":"04302-COMBARBALÁ"},"105458","80106008","2021-01-18T13:50:01",5,null,5]
[12,"5",2020,{"$f":"IFERROR(VLOOKUP([1]!Tabla_SERIEA_01_5[[#This Row],[IdEstablecimiento]],[2]Establecimientos!$A$1:$E$175,5,FALSE),0)","v":"04302-COMBARBALÁ"},"105458","80106010","2021-01-18T13:50:01",9,null,9]
[12,"5",2020,{"$f":"IFERROR(VLOOKUP([1]!Tabla_SERIEA_01_5[[#This Row],[IdEstablecimiento]],[2]Establecimientos!$A$1:$E$175,5,FALSE),0)","v":"04302-COMBARBALÁ"},"105458","80106015","2021-01-18T13:50:01",3,null,3]
[12,"5",2020,{"$f":"IFERROR(VLOOKUP([1]!Tabla_SERIEA_01_5[[#This Row],[IdEstablecimiento]],[2]Establecimientos!$A$1:$E$175,5,FALSE),0)","v":"04302-COMBARBALÁ"},"105458","80106022","2021-01-18T13:50:01",3,null,3]
[12,"5",2020,{"$f":"IFERROR(VLOOKUP([1]!Tabla_SERIEA_01_5[[#This Row],[IdEstablecimiento]],[2]Establecimientos!$A$1:$E$175,5,FALSE),0)","v":"04302-COMBARBALÁ"},"105458","80106023","2021-01-18T13:50:01",39,null,39]
[12,"5",2020,{"$f":"IFERROR(VLOOKUP([1]!Tabla_SERIEA_01_5[[#This Row],[IdEstablecimiento]],[2]Establecimientos!$A$1:$E$175,5,FALSE),0)","v":"04302-COMBARBALÁ"},"105458","80500011","2021-01-18T13:50:01",38,null,38]
[12,"5",2020,{"$f":"IFERROR(VLOOKUP([1]!Tabla_SERIEA_01_5[[#This Row],[IdEstablecimiento]],[2]Establecimientos!$A$1:$E$175,5,FALSE),0)","v":"04302-COMBARBALÁ"},"105458","18700230","2021-01-18T13:50:01",44,null,44,null,44,null,44]
[12,"5",2020,{"$f":"IFERROR(VLOOKUP([1]!Tabla_SERIEA_01_5[[#This Row],[IdEstablecimiento]],[2]Establecimientos!$A$1:$E$175,5,FALSE),0)","v":"04302-COMBARBALÁ"},"105458","18020500","2021-01-18T13:50:01",8,0,8]
[12,"5",2020,{"$f":"IFERROR(VLOOKUP([1]!Tabla_SERIEA_01_5[[#This Row],[IdEstablecimiento]],[2]Establecimientos!$A$1:$E$175,5,FALSE),0)","v":"04302-COMBARBALÁ"},"105458","18030000","2021-01-18T13:50:01",2,0,2]
[12,"5",2020,{"$f":"IFERROR(VLOOKUP([1]!Tabla_SERIEA_01_5[[#This Row],[IdEstablecimiento]],[2]Establecimientos!$A$1:$E$175,5,FALSE),0)","v":"04302-COMBARBALÁ"},"105458","18040200","2021-01-18T13:50:01",2,null,2]
[12,"5",2020,{"$f":"IFERROR(VLOOKUP([1]!Tabla_SERIEA_01_5[[#This Row],[IdEstablecimiento]],[2]Establecimientos!$A$1:$E$175,5,FALSE),0)","v":"04302-COMBARBALÁ"},"105458","18090000","2021-01-18T13:50:01",39,0,39]
[12,"5",2020,{"$f":"IFERROR(VLOOKUP([1]!Tabla_SERIEA_01_5[[#This Row],[IdEstablecimiento]],[2]Establecimientos!$A$1:$E$175,5,FALSE),0)","v":"04302-COMBARBALÁ"},"105458","18050100","2021-01-18T13:50:01",51,0,51]
[12,"5",2020,{"$f":"IFERROR(VLOOKUP([1]!Tabla_SERIEA_01_5[[#This Row],[IdEstablecimiento]],[2]Establecimientos!$A$1:$E$175,5,FALSE),0)","v":"04302-COMBARBALÁ"},"105458","18700100","2021-01-18T13:50:01",109,1,99,9]
[12,"5",2020,{"$f":"IFERROR(VLOOKUP([1]!Tabla_SERIEA_01_5[[#This Row],[IdEstablecimiento]],[2]Establecimientos!$A$1:$E$175,5,FALSE),0)","v":"04302-COMBARBALÁ"},"105459","80106002","2021-01-18T13:50:21",3,null,3,null,3]
[12,"5",2020,{"$f":"IFERROR(VLOOKUP([1]!Tabla_SERIEA_01_5[[#This Row],[IdEstablecimiento]],[2]Establecimientos!$A$1:$E$175,5,FALSE),0)","v":"04302-COMBARBALÁ"},"105459","80106006","2021-01-18T13:50:21",1,null,1,null,1]
[12,"5",2020,{"$f":"IFERROR(VLOOKUP([1]!Tabla_SERIEA_01_5[[#This Row],[IdEstablecimiento]],[2]Establecimientos!$A$1:$E$175,5,FALSE),0)","v":"04302-COMBARBALÁ"},"105459","80106014","2021-01-18T13:50:21",14,null,14,null,14]
[12,"5",2020,{"$f":"IFERROR(VLOOKUP([1]!Tabla_SERIEA_01_5[[#This Row],[IdEstablecimiento]],[2]Establecimientos!$A$1:$E$175,5,FALSE),0)","v":"04302-COMBARBALÁ"},"105459","80106015","2021-01-18T13:50:21",1,null,1,null,1]
[12,"5",2020,{"$f":"IFERROR(VLOOKUP([1]!Tabla_SERIEA_01_5[[#This Row],[IdEstablecimiento]],[2]Establecimientos!$A$1:$E$175,5,FALSE),0)","v":"04302-COMBARBALÁ"},"105459","18050100","2021-01-18T13:50:21",3,0,3]
[12,"5",2020,{"$f":"IFERROR(VLOOKUP([1]!Tabla_SERIEA_01_5[[#This Row],[IdEstablecimiento]],[2]Establecimientos!$A$1:$E$175,5,FALSE),0)","v":"04302-COMBARBALÁ"},"105459","18050300","2021-01-18T13:50:21",1,0,1]
[12,"5",2020,{"$f":"IFERROR(VLOOKUP([1]!Tabla_SERIEA_01_5[[#This Row],[IdEstablecimiento]],[2]Establecimientos!$A$1:$E$175,5,FALSE),0)","v":"04302-COMBARBALÁ"},"105459","18400900","2021-01-18T13:50:21",1,null,1]
[12,"5",2020,{"$f":"IFERROR(VLOOKUP([1]!Tabla_SERIEA_01_5[[#This Row],[IdEstablecimiento]],[2]Establecimientos!$A$1:$E$175,5,FALSE),0)","v":"04302-COMBARBALÁ"},"105460","80106002","2021-01-18T13:50:43",7,null,7,null,7]
[12,"5",2020,{"$f":"IFERROR(VLOOKUP([1]!Tabla_SERIEA_01_5[[#This Row],[IdEstablecimiento]],[2]Establecimientos!$A$1:$E$175,5,FALSE),0)","v":"04302-COMBARBALÁ"},"105460","80106013","2021-01-18T13:50:43",2,null,2,null,2]
[12,"5",2020,{"$f":"IFERROR(VLOOKUP([1]!Tabla_SERIEA_01_5[[#This Row],[IdEstablecimiento]],[2]Establecimientos!$A$1:$E$175,5,FALSE),0)","v":"04302-COMBARBALÁ"},"105460","80106014","2021-01-18T13:50:43",48,null,48,null,48]
[12,"5",2020,{"$f":"IFERROR(VLOOKUP([1]!Tabla_SERIEA_01_5[[#This Row],[IdEstablecimiento]],[2]Establecimientos!$A$1:$E$175,5,FALSE),0)","v":"04302-COMBARBALÁ"},"105460","18050100","2021-01-18T13:50:43",7,0,7]
[12,"5",2020,{"$f":"IFERROR(VLOOKUP([1]!Tabla_SERIEA_01_5[[#This Row],[IdEstablecimiento]],[2]Establecimientos!$A$1:$E$175,5,FALSE),0)","v":"04302-COMBARBALÁ"},"105460","18700110","2021-01-18T13:50:43",6,null,6,null,6,null,6]
[12,"5",2020,{"$f":"IFERROR(VLOOKUP([1]!Tabla_SERIEA_01_5[[#This Row],[IdEstablecimiento]],[2]Establecimientos!$A$1:$E$175,5,FALSE),0)","v":"04302-COMBARBALÁ"},"105461","81901019","2021-01-18T13:51:05",1,null,1,null,1]
[12,"5",2020,{"$f":"IFERROR(VLOOKUP([1]!Tabla_SERIEA_01_5[[#This Row],[IdEstablecimiento]],[2]Establecimientos!$A$1:$E$175,5,FALSE),0)","v":"04302-COMBARBALÁ"},"105461","80106002","2021-01-18T13:51:05",28,null,28,null,28]
[12,"5",2020,{"$f":"IFERROR(VLOOKUP([1]!Tabla_SERIEA_01_5[[#This Row],[IdEstablecimiento]],[2]Establecimientos!$A$1:$E$175,5,FALSE),0)","v":"04302-COMBARBALÁ"},"105461","80106014","2021-01-18T13:51:05",3,null,3,null,3]
[12,"5",2020,{"$f":"IFERROR(VLOOKUP([1]!Tabla_SERIEA_01_5[[#This Row],[IdEstablecimiento]],[2]Establecimientos!$A$1:$E$175,5,FALSE),0)","v":"04302-COMBARBALÁ"},"105461","18020700","2021-01-18T13:51:05",1,0,1]
[12,"5",2020,{"$f":"IFERROR(VLOOKUP([1]!Tabla_SERIEA_01_5[[#This Row],[IdEstablecimiento]],[2]Establecimientos!$A$1:$E$175,5,FALSE),0)","v":"04302-COMBARBALÁ"},"105461","18050100","2021-01-18T13:51:05",28,0,28]
[12,"5",2020,{"$f":"IFERROR(VLOOKUP([1]!Tabla_SERIEA_01_5[[#This Row],[IdEstablecimiento]],[2]Establecimientos!$A$1:$E$175,5,FALSE),0)","v":"04302-COMBARBALÁ"},"105462","80301041","2021-01-18T13:51:38",9,null,9,9]
[12,"5",2020,{"$f":"IFERROR(VLOOKUP([1]!Tabla_SERIEA_01_5[[#This Row],[IdEstablecimiento]],[2]Establecimientos!$A$1:$E$175,5,FALSE),0)","v":"04302-COMBARBALÁ"},"105462","81901019","2021-01-18T13:51:38",1,null,1,null,1]
[12,"5",2020,{"$f":"IFERROR(VLOOKUP([1]!Tabla_SERIEA_01_5[[#This Row],[IdEstablecimiento]],[2]Establecimientos!$A$1:$E$175,5,FALSE),0)","v":"04302-COMBARBALÁ"},"105462","80106002","2021-01-18T13:51:38",15,null,15,null,15]
[12,"5",2020,{"$f":"IFERROR(VLOOKUP([1]!Tabla_SERIEA_01_5[[#This Row],[IdEstablecimiento]],[2]Establecimientos!$A$1:$E$175,5,FALSE),0)","v":"04302-COMBARBALÁ"},"105462","80106017","2021-01-18T13:51:38",2,null,2,null,2]
[12,"5",2020,{"$f":"IFERROR(VLOOKUP([1]!Tabla_SERIEA_01_5[[#This Row],[IdEstablecimiento]],[2]Establecimientos!$A$1:$E$175,5,FALSE),0)","v":"04302-COMBARBALÁ"},"105462","80106013","2021-01-18T13:51:38",2,null,2,null,2]
[12,"5",2020,{"$f":"IFERROR(VLOOKUP([1]!Tabla_SERIEA_01_5[[#This Row],[IdEstablecimiento]],[2]Establecimientos!$A$1:$E$175,5,FALSE),0)","v":"04302-COMBARBALÁ"},"105462","80106014","2021-01-18T13:51:38",18,null,18,null,18]
[12,"5",2020,{"$f":"IFERROR(VLOOKUP([1]!Tabla_SERIEA_01_5[[#This Row],[IdEstablecimiento]],[2]Establecimientos!$A$1:$E$175,5,FALSE),0)","v":"04302-COMBARBALÁ"},"105462","80106015","2021-01-18T13:51:38",1,null,1,null,1]
[12,"5",2020,{"$f":"IFERROR(VLOOKUP([1]!Tabla_SERIEA_01_5[[#This Row],[IdEstablecimiento]],[2]Establecimientos!$A$1:$E$175,5,FALSE),0)","v":"04302-COMBARBALÁ"},"105462","80307011","2021-01-18T13:51:38",9,null,9]
[12,"5",2020,{"$f":"IFERROR(VLOOKUP([1]!Tabla_SERIEA_01_5[[#This Row],[IdEstablecimiento]],[2]Establecimientos!$A$1:$E$175,5,FALSE),0)","v":"04302-COMBARBALÁ"},"105462","18010100","2021-01-18T13:51:38",9,0,9]
[12,"5",2020,{"$f":"IFERROR(VLOOKUP([1]!Tabla_SERIEA_01_5[[#This Row],[IdEstablecimiento]],[2]Establecimientos!$A$1:$E$175,5,FALSE),0)","v":"04302-COMBARBALÁ"},"105462","18020700","2021-01-18T13:51:38",1,0,1]
[12,"5",2020,{"$f":"IFERROR(VLOOKUP([1]!Tabla_SERIEA_01_5[[#This Row],[IdEstablecimiento]],[2]Establecimientos!$A$1:$E$175,5,FALSE),0)","v":"04302-COMBARBALÁ"},"105462","18050100","2021-01-18T13:51:38",15,0,15]
[12,"5",2020,{"$f":"IFERROR(VLOOKUP([1]!Tabla_SERIEA_01_5[[#This Row],[IdEstablecimiento]],[2]Establecimientos!$A$1:$E$175,5,FALSE),0)","v":"04302-COMBARBALÁ"},"105463","81701001","2021-01-18T13:52:01",3,null,3,null,3]
[12,"5",2020,{"$f":"IFERROR(VLOOKUP([1]!Tabla_SERIEA_01_5[[#This Row],[IdEstablecimiento]],[2]Establecimientos!$A$1:$E$175,5,FALSE),0)","v":"04302-COMBARBALÁ"},"105463","81901019","2021-01-18T13:52:01",1,null,1,null,1]
[12,"5",2020,{"$f":"IFERROR(VLOOKUP([1]!Tabla_SERIEA_01_5[[#This Row],[IdEstablecimiento]],[2]Establecimientos!$A$1:$E$175,5,FALSE),0)","v":"04302-COMBARBALÁ"},"105463","80106002","2021-01-18T13:52:01",35,null,35,null,35]
[12,"5",2020,{"$f":"IFERROR(VLOOKUP([1]!Tabla_SERIEA_01_5[[#This Row],[IdEstablecimiento]],[2]Establecimientos!$A$1:$E$175,5,FALSE),0)","v":"04302-COMBARBALÁ"},"105463","80106007","2021-01-18T13:52:01",1,null,1,null,1]
[12,"5",2020,{"$f":"IFERROR(VLOOKUP([1]!Tabla_SERIEA_01_5[[#This Row],[IdEstablecimiento]],[2]Establecimientos!$A$1:$E$175,5,FALSE),0)","v":"04302-COMBARBALÁ"},"105463","80106015","2021-01-18T13:52:01",75,null,75,null,75]
[12,"5",2020,{"$f":"IFERROR(VLOOKUP([1]!Tabla_SERIEA_01_5[[#This Row],[IdEstablecimiento]],[2]Establecimientos!$A$1:$E$175,5,FALSE),0)","v":"04302-COMBARBALÁ"},"105463","80500011","2021-01-18T13:52:01",10,null,10,null,10]
[12,"5",2020,{"$f":"IFERROR(VLOOKUP([1]!Tabla_SERIEA_01_5[[#This Row],[IdEstablecimiento]],[2]Establecimientos!$A$1:$E$175,5,FALSE),0)","v":"04302-COMBARBALÁ"},"105463","18020500","2021-01-18T13:52:01",3,0,3]
[12,"5",2020,{"$f":"IFERROR(VLOOKUP([1]!Tabla_SERIEA_01_5[[#This Row],[IdEstablecimiento]],[2]Establecimientos!$A$1:$E$175,5,FALSE),0)","v":"04302-COMBARBALÁ"},"105463","18020700","2021-01-18T13:52:01",1,0,1]
[12,"5",2020,{"$f":"IFERROR(VLOOKUP([1]!Tabla_SERIEA_01_5[[#This Row],[IdEstablecimiento]],[2]Establecimientos!$A$1:$E$175,5,FALSE),0)","v":"04302-COMBARBALÁ"},"105463","18050100","2021-01-18T13:52:01",35,0,35]
[12,"5",2020,{"$f":"IFERROR(VLOOKUP([1]!Tabla_SERIEA_01_5[[#This Row],[IdEstablecimiento]],[2]Establecimientos!$A$1:$E$175,5,FALSE),0)","v":"04302-COMBARBALÁ"},"105463","18400900","2021-01-18T13:52:01",3,1,2]
[12,"5",2020,{"$f":"IFERROR(VLOOKUP([1]!Tabla_SERIEA_01_5[[#This Row],[IdEstablecimiento]],[2]Establecimientos!$A$1:$E$175,5,FALSE),0)","v":"04302-COMBARBALÁ"},"105464","80301041","2021-01-18T13:52:50",4,null,4,4]
[12,"5",2020,{"$f":"IFERROR(VLOOKUP([1]!Tabla_SERIEA_01_5[[#This Row],[IdEstablecimiento]],[2]Establecimientos!$A$1:$E$175,5,FALSE),0)","v":"04302-COMBARBALÁ"},"105464","80106002","2021-01-18T13:52:50",18,null,18,null,18]
[12,"5",2020,{"$f":"IFERROR(VLOOKUP([1]!Tabla_SERIEA_01_5[[#This Row],[IdEstablecimiento]],[2]Establecimientos!$A$1:$E$175,5,FALSE),0)","v":"04302-COMBARBALÁ"},"105464","80106014","2021-01-18T13:52:50",58,null,58,null,58]
[12,"5",2020,{"$f":"IFERROR(VLOOKUP([1]!Tabla_SERIEA_01_5[[#This Row],[IdEstablecimiento]],[2]Establecimientos!$A$1:$E$175,5,FALSE),0)","v":"04302-COMBARBALÁ"},"105464","80106023","2021-01-18T13:52:50",5,null,5,null,5]
[12,"5",2020,{"$f":"IFERROR(VLOOKUP([1]!Tabla_SERIEA_01_5[[#This Row],[IdEstablecimiento]],[2]Establecimientos!$A$1:$E$175,5,FALSE),0)","v":"04302-COMBARBALÁ"},"105464","80307011","2021-01-18T13:52:50",4,null,4]
[12,"5",2020,{"$f":"IFERROR(VLOOKUP([1]!Tabla_SERIEA_01_5[[#This Row],[IdEstablecimiento]],[2]Establecimientos!$A$1:$E$175,5,FALSE),0)","v":"04302-COMBARBALÁ"},"105464","80500011","2021-01-18T13:52:50",14,null,14,null,14]
[12,"5",2020,{"$f":"IFERROR(VLOOKUP([1]!Tabla_SERIEA_01_5[[#This Row],[IdEstablecimiento]],[2]Establecimientos!$A$1:$E$175,5,FALSE),0)","v":"04302-COMBARBALÁ"},"105464","18010100","2021-01-18T13:52:50",4,0,4]
[12,"5",2020,{"$f":"IFERROR(VLOOKUP([1]!Tabla_SERIEA_01_5[[#This Row],[IdEstablecimiento]],[2]Establecimientos!$A$1:$E$175,5,FALSE),0)","v":"04302-COMBARBALÁ"},"105464","18090000","2021-01-18T13:52:50",5,0,5]
[12,"5",2020,{"$f":"IFERROR(VLOOKUP([1]!Tabla_SERIEA_01_5[[#This Row],[IdEstablecimiento]],[2]Establecimientos!$A$1:$E$175,5,FALSE),0)","v":"04302-COMBARBALÁ"},"105464","18050100","2021-01-18T13:52:50",18,0,18]
[12,"5",2020,{"$f":"IFERROR(VLOOKUP([1]!Tabla_SERIEA_01_5[[#This Row],[IdEstablecimiento]],[2]Establecimientos!$A$1:$E$175,5,FALSE),0)","v":"04302-COMBARBALÁ"},"105465","80106002","2021-01-18T13:53:11",2,null,2,null,2]
[12,"5",2020,{"$f":"IFERROR(VLOOKUP([1]!Tabla_SERIEA_01_5[[#This Row],[IdEstablecimiento]],[2]Establecimientos!$A$1:$E$175,5,FALSE),0)","v":"04302-COMBARBALÁ"},"105465","80106014","2021-01-18T13:53:11",6,null,6,null,6]
[12,"5",2020,{"$f":"IFERROR(VLOOKUP([1]!Tabla_SERIEA_01_5[[#This Row],[IdEstablecimiento]],[2]Establecimientos!$A$1:$E$175,5,FALSE),0)","v":"04302-COMBARBALÁ"},"105465","18050100","2021-01-18T13:53:11",2,0,2]
[12,"5",2020,{"$f":"IFERROR(VLOOKUP([1]!Tabla_SERIEA_01_5[[#This Row],[IdEstablecimiento]],[2]Establecimientos!$A$1:$E$175,5,FALSE),0)","v":"04302-COMBARBALÁ"},"105465","18400900","2021-01-18T13:53:11",3,1,2]
[12,"5",2020,{"$f":"IFERROR(VLOOKUP([1]!Tabla_SERIEA_01_5[[#This Row],[IdEstablecimiento]],[2]Establecimientos!$A$1:$E$175,5,FALSE),0)","v":"04302-COMBARBALÁ"},"105467","80309013","2021-01-18T13:54:14",0,null,null,23]
[12,"5",2020,{"$f":"IFERROR(VLOOKUP([1]!Tabla_SERIEA_01_5[[#This Row],[IdEstablecimiento]],[2]Establecimientos!$A$1:$E$175,5,FALSE),0)","v":"04302-COMBARBALÁ"},"105467","80309022","2021-01-18T13:54:14",0,null,null,2]
[12,"5",2020,{"$f":"IFERROR(VLOOKUP([1]!Tabla_SERIEA_01_5[[#This Row],[IdEstablecimiento]],[2]Establecimientos!$A$1:$E$175,5,FALSE),0)","v":"04302-COMBARBALÁ"},"105467","80309024","2021-01-18T13:54:14",0,null,null,26]
[12,"5",2020,{"$f":"IFERROR(VLOOKUP([1]!Tabla_SERIEA_01_5[[#This Row],[IdEstablecimiento]],[2]Establecimientos!$A$1:$E$175,5,FALSE),0)","v":"04302-COMBARBALÁ"},"105467","80301034","2021-01-18T13:54:14",0,null,null,10]
[12,"5",2020,{"$f":"IFERROR(VLOOKUP([1]!Tabla_SERIEA_01_5[[#This Row],[IdEstablecimiento]],[2]Establecimientos!$A$1:$E$175,5,FALSE),0)","v":"04302-COMBARBALÁ"},"105467","80301036","2021-01-18T13:54:14",0,null,null,2]
[12,"5",2020,{"$f":"IFERROR(VLOOKUP([1]!Tabla_SERIEA_01_5[[#This Row],[IdEstablecimiento]],[2]Establecimientos!$A$1:$E$175,5,FALSE),0)","v":"04302-COMBARBALÁ"},"105467","80301041","2021-01-18T13:54:14",0,null,null,19]
[12,"5",2020,{"$f":"IFERROR(VLOOKUP([1]!Tabla_SERIEA_01_5[[#This Row],[IdEstablecimiento]],[2]Establecimientos!$A$1:$E$175,5,FALSE),0)","v":"04302-COMBARBALÁ"},"105467","80301045","2021-01-18T13:54:14",0,null,null,24]
[12,"5",2020,{"$f":"IFERROR(VLOOKUP([1]!Tabla_SERIEA_01_5[[#This Row],[IdEstablecimiento]],[2]Establecimientos!$A$1:$E$175,5,FALSE),0)","v":"04302-COMBARBALÁ"},"105467","80306061","2021-01-18T13:54:14",0,null,null,2]
[12,"5",2020,{"$f":"IFERROR(VLOOKUP([1]!Tabla_SERIEA_01_5[[#This Row],[IdEstablecimiento]],[2]Establecimientos!$A$1:$E$175,5,FALSE),0)","v":"04302-COMBARBALÁ"},"105467","80301083","2021-01-18T13:54:14",0,null,null,3]
[12,"5",2020,{"$f":"IFERROR(VLOOKUP([1]!Tabla_SERIEA_01_5[[#This Row],[IdEstablecimiento]],[2]Establecimientos!$A$1:$E$175,5,FALSE),0)","v":"04302-COMBARBALÁ"},"105467","80301085","2021-01-18T13:54:14",0,null,null,3]
[12,"5",2020,{"$f":"IFERROR(VLOOKUP([1]!Tabla_SERIEA_01_5[[#This Row],[IdEstablecimiento]],[2]Establecimientos!$A$1:$E$175,5,FALSE),0)","v":"04302-COMBARBALÁ"},"105467","80302005","2021-01-18T13:54:14",0,null,null,8]
[12,"5",2020,{"$f":"IFERROR(VLOOKUP([1]!Tabla_SERIEA_01_5[[#This Row],[IdEstablecimiento]],[2]Establecimientos!$A$1:$E$175,5,FALSE),0)","v":"04302-COMBARBALÁ"},"105467","81701009","2021-01-18T13:54:14",17,null,17,null,17]
[12,"5",2020,{"$f":"IFERROR(VLOOKUP([1]!Tabla_SERIEA_01_5[[#This Row],[IdEstablecimiento]],[2]Establecimientos!$A$1:$E$175,5,FALSE),0)","v":"04302-COMBARBALÁ"},"105467","81602225","2021-01-18T13:54:14",1,null,1,null,1]
[12,"5",2020,{"$f":"IFERROR(VLOOKUP([1]!Tabla_SERIEA_01_5[[#This Row],[IdEstablecimiento]],[2]Establecimientos!$A$1:$E$175,5,FALSE),0)","v":"04302-COMBARBALÁ"},"105467","80106002","2021-01-18T13:54:14",36,null,36,null,36]
[12,"5",2020,{"$f":"IFERROR(VLOOKUP([1]!Tabla_SERIEA_01_5[[#This Row],[IdEstablecimiento]],[2]Establecimientos!$A$1:$E$175,5,FALSE),0)","v":"04302-COMBARBALÁ"},"105467","80302023","2021-01-18T13:54:14",0,null,null,16]
[12,"5",2020,{"$f":"IFERROR(VLOOKUP([1]!Tabla_SERIEA_01_5[[#This Row],[IdEstablecimiento]],[2]Establecimientos!$A$1:$E$175,5,FALSE),0)","v":"04302-COMBARBALÁ"},"105467","80302032","2021-01-18T13:54:14",0,null,null,15]
[12,"5",2020,{"$f":"IFERROR(VLOOKUP([1]!Tabla_SERIEA_01_5[[#This Row],[IdEstablecimiento]],[2]Establecimientos!$A$1:$E$175,5,FALSE),0)","v":"04302-COMBARBALÁ"},"105467","80302034","2021-01-18T13:54:14",0,null,null,23]
[12,"5",2020,{"$f":"IFERROR(VLOOKUP([1]!Tabla_SERIEA_01_5[[#This Row],[IdEstablecimiento]],[2]Establecimientos!$A$1:$E$175,5,FALSE),0)","v":"04302-COMBARBALÁ"},"105467","80302047","2021-01-18T13:54:14",0,null,null,22]
[12,"5",2020,{"$f":"IFERROR(VLOOKUP([1]!Tabla_SERIEA_01_5[[#This Row],[IdEstablecimiento]],[2]Establecimientos!$A$1:$E$175,5,FALSE),0)","v":"04302-COMBARBALÁ"},"105467","80302048","2021-01-18T13:54:14",0,null,null,6]
[12,"5",2020,{"$f":"IFERROR(VLOOKUP([1]!Tabla_SERIEA_01_5[[#This Row],[IdEstablecimiento]],[2]Establecimientos!$A$1:$E$175,5,FALSE),0)","v":"04302-COMBARBALÁ"},"105467","80302057","2021-01-18T13:54:14",0,null,null,16]
[12,"5",2020,{"$f":"IFERROR(VLOOKUP([1]!Tabla_SERIEA_01_5[[#This Row],[IdEstablecimiento]],[2]Establecimientos!$A$1:$E$175,5,FALSE),0)","v":"04302-COMBARBALÁ"},"105467","80302076","2021-01-18T13:54:14",0,null,null,20]
[12,"5",2020,{"$f":"IFERROR(VLOOKUP([1]!Tabla_SERIEA_01_5[[#This Row],[IdEstablecimiento]],[2]Establecimientos!$A$1:$E$175,5,FALSE),0)","v":"04302-COMBARBALÁ"},"105467","80303024","2021-01-18T13:54:14",0,null,null,8]
[12,"5",2020,{"$f":"IFERROR(VLOOKUP([1]!Tabla_SERIEA_01_5[[#This Row],[IdEstablecimiento]],[2]Establecimientos!$A$1:$E$175,5,FALSE),0)","v":"04302-COMBARBALÁ"},"105467","80303026","2021-01-18T13:54:14",0,null,null,8]
[12,"5",2020,{"$f":"IFERROR(VLOOKUP([1]!Tabla_SERIEA_01_5[[#This Row],[IdEstablecimiento]],[2]Establecimientos!$A$1:$E$175,5,FALSE),0)","v":"04302-COMBARBALÁ"},"105467","80306011","2021-01-18T13:54:14",0,null,null,6]
[12,"5",2020,{"$f":"IFERROR(VLOOKUP([1]!Tabla_SERIEA_01_5[[#This Row],[IdEstablecimiento]],[2]Establecimientos!$A$1:$E$175,5,FALSE),0)","v":"04302-COMBARBALÁ"},"105467","80106010","2021-01-18T13:54:14",3,null,3,null,3]
[12,"5",2020,{"$f":"IFERROR(VLOOKUP([1]!Tabla_SERIEA_01_5[[#This Row],[IdEstablecimiento]],[2]Establecimientos!$A$1:$E$175,5,FALSE),0)","v":"04302-COMBARBALÁ"},"105467","80106014","2021-01-18T13:54:14",58,null,58,null,58]
[12,"5",2020,{"$f":"IFERROR(VLOOKUP([1]!Tabla_SERIEA_01_5[[#This Row],[IdEstablecimiento]],[2]Establecimientos!$A$1:$E$175,5,FALSE),0)","v":"04302-COMBARBALÁ"},"105467","80106023","2021-01-18T13:54:14",20,null,20,null,20]
[12,"5",2020,{"$f":"IFERROR(VLOOKUP([1]!Tabla_SERIEA_01_5[[#This Row],[IdEstablecimiento]],[2]Establecimientos!$A$1:$E$175,5,FALSE),0)","v":"04302-COMBARBALÁ"},"105467","80307011","2021-01-18T13:54:14",0,null,null,47]
[12,"5",2020,{"$f":"IFERROR(VLOOKUP([1]!Tabla_SERIEA_01_5[[#This Row],[IdEstablecimiento]],[2]Establecimientos!$A$1:$E$175,5,FALSE),0)","v":"04302-COMBARBALÁ"},"105467","80500011","2021-01-18T13:54:14",15,null,15,null,15]
[12,"5",2020,{"$f":"IFERROR(VLOOKUP([1]!Tabla_SERIEA_01_5[[#This Row],[IdEstablecimiento]],[2]Establecimientos!$A$1:$E$175,5,FALSE),0)","v":"04302-COMBARBALÁ"},"105467","80306042","2021-01-18T13:54:14",0,null,null,4]
[12,"5",2020,{"$f":"IFERROR(VLOOKUP([1]!Tabla_SERIEA_01_5[[#This Row],[IdEstablecimiento]],[2]Establecimientos!$A$1:$E$175,5,FALSE),0)","v":"04302-COMBARBALÁ"},"105467","18020500","2021-01-18T13:54:14",17,0,17]
[12,"5",2020,{"$f":"IFERROR(VLOOKUP([1]!Tabla_SERIEA_01_5[[#This Row],[IdEstablecimiento]],[2]Establecimientos!$A$1:$E$175,5,FALSE),0)","v":"04302-COMBARBALÁ"},"105467","18030000","2021-01-18T13:54:14",1,0,1]
[12,"5",2020,{"$f":"IFERROR(VLOOKUP([1]!Tabla_SERIEA_01_5[[#This Row],[IdEstablecimiento]],[2]Establecimientos!$A$1:$E$175,5,FALSE),0)","v":"04302-COMBARBALÁ"},"105467","18040200","2021-01-18T13:54:14",1,null,1]
[12,"5",2020,{"$f":"IFERROR(VLOOKUP([1]!Tabla_SERIEA_01_5[[#This Row],[IdEstablecimiento]],[2]Establecimientos!$A$1:$E$175,5,FALSE),0)","v":"04302-COMBARBALÁ"},"105467","18090000","2021-01-18T13:54:14",20,0,20]
[12,"5",2020,{"$f":"IFERROR(VLOOKUP([1]!Tabla_SERIEA_01_5[[#This Row],[IdEstablecimiento]],[2]Establecimientos!$A$1:$E$175,5,FALSE),0)","v":"04302-COMBARBALÁ"},"105467","18050100","2021-01-18T13:54:14",36,0,36]
[12,"5",2020,{"$f":"IFERROR(VLOOKUP([1]!Tabla_SERIEA_01_5[[#This Row],[IdEstablecimiento]],[2]Establecimientos!$A$1:$E$175,5,FALSE),0)","v":"04302-COMBARBALÁ"},"105468","80308012","2021-01-18T13:55:11",0,null,null,1]
[12,"5",2020,{"$f":"IFERROR(VLOOKUP([1]!Tabla_SERIEA_01_5[[#This Row],[IdEstablecimiento]],[2]Establecimientos!$A$1:$E$175,5,FALSE),0)","v":"04302-COMBARBALÁ"},"105468","80309013","2021-01-18T13:55:11",0,null,null,12]
[12,"5",2020,{"$f":"IFERROR(VLOOKUP([1]!Tabla_SERIEA_01_5[[#This Row],[IdEstablecimiento]],[2]Establecimientos!$A$1:$E$175,5,FALSE),0)","v":"04302-COMBARBALÁ"},"105468","80309022","2021-01-18T13:55:11",0,null,null,5]
[12,"5",2020,{"$f":"IFERROR(VLOOKUP([1]!Tabla_SERIEA_01_5[[#This Row],[IdEstablecimiento]],[2]Establecimientos!$A$1:$E$175,5,FALSE),0)","v":"04302-COMBARBALÁ"},"105468","80301034","2021-01-18T13:55:11",0,null,null,1]
[12,"5",2020,{"$f":"IFERROR(VLOOKUP([1]!Tabla_SERIEA_01_5[[#This Row],[IdEstablecimiento]],[2]Establecimientos!$A$1:$E$175,5,FALSE),0)","v":"04302-COMBARBALÁ"},"105468","80301041","2021-01-18T13:55:11",0,null,null,8]
[12,"5",2020,{"$f":"IFERROR(VLOOKUP([1]!Tabla_SERIEA_01_5[[#This Row],[IdEstablecimiento]],[2]Establecimientos!$A$1:$E$175,5,FALSE),0)","v":"04302-COMBARBALÁ"},"105468","80301045","2021-01-18T13:55:11",0,null,null,16]
[12,"5",2020,{"$f":"IFERROR(VLOOKUP([1]!Tabla_SERIEA_01_5[[#This Row],[IdEstablecimiento]],[2]Establecimientos!$A$1:$E$175,5,FALSE),0)","v":"04302-COMBARBALÁ"},"105468","81301025","2021-01-18T13:55:11",1,null,1,null,1]
[12,"5",2020,{"$f":"IFERROR(VLOOKUP([1]!Tabla_SERIEA_01_5[[#This Row],[IdEstablecimiento]],[2]Establecimientos!$A$1:$E$175,5,FALSE),0)","v":"04302-COMBARBALÁ"},"105468","80306059","2021-01-18T13:55:11",0,null,null,1]
[12,"5",2020,{"$f":"IFERROR(VLOOKUP([1]!Tabla_SERIEA_01_5[[#This Row],[IdEstablecimiento]],[2]Establecimientos!$A$1:$E$175,5,FALSE),0)","v":"04302-COMBARBALÁ"},"105468","80308004","2021-01-18T13:55:11",0,null,null,1]
[12,"5",2020,{"$f":"IFERROR(VLOOKUP([1]!Tabla_SERIEA_01_5[[#This Row],[IdEstablecimiento]],[2]Establecimientos!$A$1:$E$175,5,FALSE),0)","v":"04302-COMBARBALÁ"},"105468","80301085","2021-01-18T13:55:11",0,null,null,1]
[12,"5",2020,{"$f":"IFERROR(VLOOKUP([1]!Tabla_SERIEA_01_5[[#This Row],[IdEstablecimiento]],[2]Establecimientos!$A$1:$E$175,5,FALSE),0)","v":"04302-COMBARBALÁ"},"105468","80302005","2021-01-18T13:55:11",0,null,null,2]
[12,"5",2020,{"$f":"IFERROR(VLOOKUP([1]!Tabla_SERIEA_01_5[[#This Row],[IdEstablecimiento]],[2]Establecimientos!$A$1:$E$175,5,FALSE),0)","v":"04302-COMBARBALÁ"},"105468","81701001","2021-01-18T13:55:11",6,null,6,null,6]
[12,"5",2020,{"$f":"IFERROR(VLOOKUP([1]!Tabla_SERIEA_01_5[[#This Row],[IdEstablecimiento]],[2]Establecimientos!$A$1:$E$175,5,FALSE),0)","v":"04302-COMBARBALÁ"},"105468","81701009","2021-01-18T13:55:11",38,null,38,null,38]
[12,"5",2020,{"$f":"IFERROR(VLOOKUP([1]!Tabla_SERIEA_01_5[[#This Row],[IdEstablecimiento]],[2]Establecimientos!$A$1:$E$175,5,FALSE),0)","v":"04302-COMBARBALÁ"},"105468","81602222","2021-01-18T13:55:11",1,null,1,null,1]
[12,"5",2020,{"$f":"IFERROR(VLOOKUP([1]!Tabla_SERIEA_01_5[[#This Row],[IdEstablecimiento]],[2]Establecimientos!$A$1:$E$175,5,FALSE),0)","v":"04302-COMBARBALÁ"},"105468","80106002","2021-01-18T13:55:11",43,null,43,null,43]
[12,"5",2020,{"$f":"IFERROR(VLOOKUP([1]!Tabla_SERIEA_01_5[[#This Row],[IdEstablecimiento]],[2]Establecimientos!$A$1:$E$175,5,FALSE),0)","v":"04302-COMBARBALÁ"},"105468","80302067","2021-01-18T13:55:11",0,null,null,2]
[12,"5",2020,{"$f":"IFERROR(VLOOKUP([1]!Tabla_SERIEA_01_5[[#This Row],[IdEstablecimiento]],[2]Establecimientos!$A$1:$E$175,5,FALSE),0)","v":"04302-COMBARBALÁ"},"105468","80302023","2021-01-18T13:55:11",0,null,null,13]
[12,"5",2020,{"$f":"IFERROR(VLOOKUP([1]!Tabla_SERIEA_01_5[[#This Row],[IdEstablecimiento]],[2]Establecimientos!$A$1:$E$175,5,FALSE),0)","v":"04302-COMBARBALÁ"},"105468","80302032","2021-01-18T13:55:11",0,null,null,4]
[12,"5",2020,{"$f":"IFERROR(VLOOKUP([1]!Tabla_SERIEA_01_5[[#This Row],[IdEstablecimiento]],[2]Establecimientos!$A$1:$E$175,5,FALSE),0)","v":"04302-COMBARBALÁ"},"105468","80302034","2021-01-18T13:55:11",0,null,null,20]
[12,"5",2020,{"$f":"IFERROR(VLOOKUP([1]!Tabla_SERIEA_01_5[[#This Row],[IdEstablecimiento]],[2]Establecimientos!$A$1:$E$175,5,FALSE),0)","v":"04302-COMBARBALÁ"},"105468","80302047","2021-01-18T13:55:11",0,null,null,17]
[12,"5",2020,{"$f":"IFERROR(VLOOKUP([1]!Tabla_SERIEA_01_5[[#This Row],[IdEstablecimiento]],[2]Establecimientos!$A$1:$E$175,5,FALSE),0)","v":"04302-COMBARBALÁ"},"105468","80302048","2021-01-18T13:55:11",0,null,null,2]
[12,"5",2020,{"$f":"IFERROR(VLOOKUP([1]!Tabla_SERIEA_01_5[[#This Row],[IdEstablecimiento]],[2]Establecimientos!$A$1:$E$175,5,FALSE),0)","v":"04302-COMBARBALÁ"},"105468","80302076","2021-01-18T13:55:11",0,null,null,8]
[12,"5",2020,{"$f":"IFERROR(VLOOKUP([1]!Tabla_SERIEA_01_5[[#This Row],[IdEstablecimiento]],[2]Establecimientos!$A$1:$E$175,5,FALSE),0)","v":"04302-COMBARBALÁ"},"105468","80303024","2021-01-18T13:55:11",0,null,null,6]
[12,"5",2020,{"$f":"IFERROR(VLOOKUP([1]!Tabla_SERIEA_01_5[[#This Row],[IdEstablecimiento]],[2]Establecimientos!$A$1:$E$175,5,FALSE),0)","v":"04302-COMBARBALÁ"},"105468","80303026","2021-01-18T13:55:11",0,null,null,1]
[12,"5",2020,{"$f":"IFERROR(VLOOKUP([1]!Tabla_SERIEA_01_5[[#This Row],[IdEstablecimiento]],[2]Establecimientos!$A$1:$E$175,5,FALSE),0)","v":"04302-COMBARBALÁ"},"105468","80306011","2021-01-18T13:55:11",0,null,null,4]
[12,"5",2020,{"$f":"IFERROR(VLOOKUP([1]!Tabla_SERIEA_01_5[[#This Row],[IdEstablecimiento]],[2]Establecimientos!$A$1:$E$175,5,FALSE),0)","v":"04302-COMBARBALÁ"},"105468","80106014","2021-01-18T13:55:11",58,null,58,null,58]
[12,"5",2020,{"$f":"IFERROR(VLOOKUP([1]!Tabla_SERIEA_01_5[[#This Row],[IdEstablecimiento]],[2]Establecimientos!$A$1:$E$175,5,FALSE),0)","v":"04302-COMBARBALÁ"},"105468","80106023","2021-01-18T13:55:11",22,null,22,null,22]
[12,"5",2020,{"$f":"IFERROR(VLOOKUP([1]!Tabla_SERIEA_01_5[[#This Row],[IdEstablecimiento]],[2]Establecimientos!$A$1:$E$175,5,FALSE),0)","v":"04302-COMBARBALÁ"},"105468","80307011","2021-01-18T13:55:11",0,null,null,48]
[12,"5",2020,{"$f":"IFERROR(VLOOKUP([1]!Tabla_SERIEA_01_5[[#This Row],[IdEstablecimiento]],[2]Establecimientos!$A$1:$E$175,5,FALSE),0)","v":"04302-COMBARBALÁ"},"105468","80500011","2021-01-18T13:55:11",39,null,39,null,39]
[12,"5",2020,{"$f":"IFERROR(VLOOKUP([1]!Tabla_SERIEA_01_5[[#This Row],[IdEstablecimiento]],[2]Establecimientos!$A$1:$E$175,5,FALSE),0)","v":"04302-COMBARBALÁ"},"105468","80306042","2021-01-18T13:55:11",0,null,null,5]
[12,"5",2020,{"$f":"IFERROR(VLOOKUP([1]!Tabla_SERIEA_01_5[[#This Row],[IdEstablecimiento]],[2]Establecimientos!$A$1:$E$175,5,FALSE),0)","v":"04302-COMBARBALÁ"},"105468","18020200","2021-01-18T13:55:11",1,0,1]
[12,"5",2020,{"$f":"IFERROR(VLOOKUP([1]!Tabla_SERIEA_01_5[[#This Row],[IdEstablecimiento]],[2]Establecimientos!$A$1:$E$175,5,FALSE),0)","v":"04302-COMBARBALÁ"},"105468","18020500","2021-01-18T13:55:11",44,0,44]
[12,"5",2020,{"$f":"IFERROR(VLOOKUP([1]!Tabla_SERIEA_01_5[[#This Row],[IdEstablecimiento]],[2]Establecimientos!$A$1:$E$175,5,FALSE),0)","v":"04302-COMBARBALÁ"},"105468","18030000","2021-01-18T13:55:11",1,0,1]
[12,"5",2020,{"$f":"IFERROR(VLOOKUP([1]!Tabla_SERIEA_01_5[[#This Row],[IdEstablecimiento]],[2]Establecimientos!$A$1:$E$175,5,FALSE),0)","v":"04302-COMBARBALÁ"},"105468","18040200","2021-01-18T13:55:11",1,null,1]
[12,"5",2020,{"$f":"IFERROR(VLOOKUP([1]!Tabla_SERIEA_01_5[[#This Row],[IdEstablecimiento]],[2]Establecimientos!$A$1:$E$175,5,FALSE),0)","v":"04302-COMBARBALÁ"},"105468","18090000","2021-01-18T13:55:11",22,0,22]
[12,"5",2020,{"$f":"IFERROR(VLOOKUP([1]!Tabla_SERIEA_01_5[[#This Row],[IdEstablecimiento]],[2]Establecimientos!$A$1:$E$175,5,FALSE),0)","v":"04302-COMBARBALÁ"},"105468","18050100","2021-01-18T13:55:11",43,0,43]
[12,"5",2020,{"$f":"IFERROR(VLOOKUP([1]!Tabla_SERIEA_01_5[[#This Row],[IdEstablecimiento]],[2]Establecimientos!$A$1:$E$175,5,FALSE),0)","v":"04302-COMBARBALÁ"},"105469","80309013","2021-01-18T13:55:51",0,null,null,7]
[12,"5",2020,{"$f":"IFERROR(VLOOKUP([1]!Tabla_SERIEA_01_5[[#This Row],[IdEstablecimiento]],[2]Establecimientos!$A$1:$E$175,5,FALSE),0)","v":"04302-COMBARBALÁ"},"105469","80309022","2021-01-18T13:55:51",0,null,null,15]
[12,"5",2020,{"$f":"IFERROR(VLOOKUP([1]!Tabla_SERIEA_01_5[[#This Row],[IdEstablecimiento]],[2]Establecimientos!$A$1:$E$175,5,FALSE),0)","v":"04302-COMBARBALÁ"},"105469","80301036","2021-01-18T13:55:51",0,null,null,5]
[12,"5",2020,{"$f":"IFERROR(VLOOKUP([1]!Tabla_SERIEA_01_5[[#This Row],[IdEstablecimiento]],[2]Establecimientos!$A$1:$E$175,5,FALSE),0)","v":"105101-HOSPITAL COQUIMBO"},"105469","80301038","2021-01-18T13:55:51",0,null,null,5]
[12,"5",2020,{"$f":"IFERROR(VLOOKUP([1]!Tabla_SERIEA_01_5[[#This Row],[IdEstablecimiento]],[2]Establecimientos!$A$1:$E$175,5,FALSE),0)","v":"105101-HOSPITAL COQUIMBO"},"105469","80301041","2021-01-18T13:55:51",0,null,null,7]
[12,"5",2020,{"$f":"IFERROR(VLOOKUP([1]!Tabla_SERIEA_01_5[[#This Row],[IdEstablecimiento]],[2]Establecimientos!$A$1:$E$175,5,FALSE),0)","v":"105101-HOSPITAL COQUIMBO"},"105469","80301045","2021-01-18T13:55:51",0,null,null,14]
[12,"5",2020,{"$f":"IFERROR(VLOOKUP([1]!Tabla_SERIEA_01_5[[#This Row],[IdEstablecimiento]],[2]Establecimientos!$A$1:$E$175,5,FALSE),0)","v":"105101-HOSPITAL COQUIMBO"},"105469","80306061","2021-01-18T13:55:51",0,null,null,1]
[12,"5",2020,{"$f":"IFERROR(VLOOKUP([1]!Tabla_SERIEA_01_5[[#This Row],[IdEstablecimiento]],[2]Establecimientos!$A$1:$E$175,5,FALSE),0)","v":"105101-HOSPITAL COQUIMBO"},"105469","80302005","2021-01-18T13:55:51",0,null,null,9]
[12,"5",2020,{"$f":"IFERROR(VLOOKUP([1]!Tabla_SERIEA_01_5[[#This Row],[IdEstablecimiento]],[2]Establecimientos!$A$1:$E$175,5,FALSE),0)","v":"105101-HOSPITAL COQUIMBO"},"105469","81701001","2021-01-18T13:55:51",9,null,9,null,9]
[12,"5",2020,{"$f":"IFERROR(VLOOKUP([1]!Tabla_SERIEA_01_5[[#This Row],[IdEstablecimiento]],[2]Establecimientos!$A$1:$E$175,5,FALSE),0)","v":"105101-HOSPITAL COQUIMBO"},"105469","81701009","2021-01-18T13:55:51",24,null,24,null,24]
[12,"5",2020,{"$f":"IFERROR(VLOOKUP([1]!Tabla_SERIEA_01_5[[#This Row],[IdEstablecimiento]],[2]Establecimientos!$A$1:$E$175,5,FALSE),0)","v":"105101-HOSPITAL COQUIMBO"},"105469","81602221","2021-01-18T13:55:51",6,null,6,null,6]
[12,"5",2020,{"$f":"IFERROR(VLOOKUP([1]!Tabla_SERIEA_01_5[[#This Row],[IdEstablecimiento]],[2]Establecimientos!$A$1:$E$175,5,FALSE),0)","v":"105101-HOSPITAL COQUIMBO"},"105469","80106002","2021-01-18T13:55:51",86,null,86,null,86]
[12,"5",2020,{"$f":"IFERROR(VLOOKUP([1]!Tabla_SERIEA_01_5[[#This Row],[IdEstablecimiento]],[2]Establecimientos!$A$1:$E$175,5,FALSE),0)","v":"105101-HOSPITAL COQUIMBO"},"105469","80106017","2021-01-18T13:55:51",24,null,24,null,24]
[12,"5",2020,{"$f":"IFERROR(VLOOKUP([1]!Tabla_SERIEA_01_5[[#This Row],[IdEstablecimiento]],[2]Establecimientos!$A$1:$E$175,5,FALSE),0)","v":"105101-HOSPITAL COQUIMBO"},"105469","80302067","2021-01-18T13:55:51",0,null,null,4]
[12,"5",2020,{"$f":"IFERROR(VLOOKUP([1]!Tabla_SERIEA_01_5[[#This Row],[IdEstablecimiento]],[2]Establecimientos!$A$1:$E$175,5,FALSE),0)","v":"105101-HOSPITAL COQUIMBO"},"105469","80302023","2021-01-18T13:55:51",0,null,null,13]
[12,"5",2020,{"$f":"IFERROR(VLOOKUP([1]!Tabla_SERIEA_01_5[[#This Row],[IdEstablecimiento]],[2]Establecimientos!$A$1:$E$175,5,FALSE),0)","v":"105101-HOSPITAL COQUIMBO"},"105469","80302032","2021-01-18T13:55:51",0,null,null,5]
[12,"5",2020,{"$f":"IFERROR(VLOOKUP([1]!Tabla_SERIEA_01_5[[#This Row],[IdEstablecimiento]],[2]Establecimientos!$A$1:$E$175,5,FALSE),0)","v":"105101-HOSPITAL COQUIMBO"},"105469","80302034","2021-01-18T13:55:51",0,null,null,14]
[12,"5",2020,{"$f":"IFERROR(VLOOKUP([1]!Tabla_SERIEA_01_5[[#This Row],[IdEstablecimiento]],[2]Establecimientos!$A$1:$E$175,5,FALSE),0)","v":"105101-HOSPITAL COQUIMBO"},"105469","80302047","2021-01-18T13:55:51",0,null,null,13]
[12,"5",2020,{"$f":"IFERROR(VLOOKUP([1]!Tabla_SERIEA_01_5[[#This Row],[IdEstablecimiento]],[2]Establecimientos!$A$1:$E$175,5,FALSE),0)","v":"105101-HOSPITAL COQUIMBO"},"105469","80302057","2021-01-18T13:55:51",0,null,null,4]
[12,"5",2020,{"$f":"IFERROR(VLOOKUP([1]!Tabla_SERIEA_01_5[[#This Row],[IdEstablecimiento]],[2]Establecimientos!$A$1:$E$175,5,FALSE),0)","v":"105101-HOSPITAL COQUIMBO"},"105469","80302076","2021-01-18T13:55:51",0,null,null,8]
[12,"5",2020,{"$f":"IFERROR(VLOOKUP([1]!Tabla_SERIEA_01_5[[#This Row],[IdEstablecimiento]],[2]Establecimientos!$A$1:$E$175,5,FALSE),0)","v":"105101-HOSPITAL COQUIMBO"},"105469","80303024","2021-01-18T13:55:51",0,null,null,7]
[12,"5",2020,{"$f":"IFERROR(VLOOKUP([1]!Tabla_SERIEA_01_5[[#This Row],[IdEstablecimiento]],[2]Establecimientos!$A$1:$E$175,5,FALSE),0)","v":"105101-HOSPITAL COQUIMBO"},"105469","80306011","2021-01-18T13:55:51",0,null,null,10]
[12,"5",2020,{"$f":"IFERROR(VLOOKUP([1]!Tabla_SERIEA_01_5[[#This Row],[IdEstablecimiento]],[2]Establecimientos!$A$1:$E$175,5,FALSE),0)","v":"04302-COMBARBALÁ"},"105469","80106007","2021-01-18T13:55:51",1,null,1,null,1]
[12,"5",2020,{"$f":"IFERROR(VLOOKUP([1]!Tabla_SERIEA_01_5[[#This Row],[IdEstablecimiento]],[2]Establecimientos!$A$1:$E$175,5,FALSE),0)","v":"04302-COMBARBALÁ"},"105469","80106013","2021-01-18T13:55:51",1,null,1,null,1]
[12,"5",2020,{"$f":"IFERROR(VLOOKUP([1]!Tabla_SERIEA_01_5[[#This Row],[IdEstablecimiento]],[2]Establecimientos!$A$1:$E$175,5,FALSE),0)","v":"04302-COMBARBALÁ"},"105469","80106014","2021-01-18T13:55:51",69,null,69,null,69]
[12,"5",2020,{"$f":"IFERROR(VLOOKUP([1]!Tabla_SERIEA_01_5[[#This Row],[IdEstablecimiento]],[2]Establecimientos!$A$1:$E$175,5,FALSE),0)","v":"105101-HOSPITAL COQUIMBO"},"105469","80106015","2021-01-18T13:55:51",1,null,1,null,1]
[12,"5",2020,{"$f":"IFERROR(VLOOKUP([1]!Tabla_SERIEA_01_5[[#This Row],[IdEstablecimiento]],[2]Establecimientos!$A$1:$E$175,5,FALSE),0)","v":"105101-HOSPITAL COQUIMBO"},"105469","80106023","2021-01-18T13:55:51",14,null,14,null,14]
[12,"5",2020,{"$f":"IFERROR(VLOOKUP([1]!Tabla_SERIEA_01_5[[#This Row],[IdEstablecimiento]],[2]Establecimientos!$A$1:$E$175,5,FALSE),0)","v":"105101-HOSPITAL COQUIMBO"},"105469","80307011","2021-01-18T13:55:51",0,null,null,28]
[12,"5",2020,{"$f":"IFERROR(VLOOKUP([1]!Tabla_SERIEA_01_5[[#This Row],[IdEstablecimiento]],[2]Establecimientos!$A$1:$E$175,5,FALSE),0)","v":"105101-HOSPITAL COQUIMBO"},"105469","80500011","2021-01-18T13:55:51",18,null,18,null,18]
[12,"5",2020,{"$f":"IFERROR(VLOOKUP([1]!Tabla_SERIEA_01_5[[#This Row],[IdEstablecimiento]],[2]Establecimientos!$A$1:$E$175,5,FALSE),0)","v":"105101-HOSPITAL COQUIMBO"},"105469","80306042","2021-01-18T13:55:51",0,null,null,5]
[12,"5",2020,{"$f":"IFERROR(VLOOKUP([1]!Tabla_SERIEA_01_5[[#This Row],[IdEstablecimiento]],[2]Establecimientos!$A$1:$E$175,5,FALSE),0)","v":"04302-COMBARBALÁ"},"105469","18020500","2021-01-18T13:55:51",33,0,33]
[12,"5",2020,{"$f":"IFERROR(VLOOKUP([1]!Tabla_SERIEA_01_5[[#This Row],[IdEstablecimiento]],[2]Establecimientos!$A$1:$E$175,5,FALSE),0)","v":"04302-COMBARBALÁ"},"105469","18030000","2021-01-18T13:55:51",6,0,6]
[12,"5",2020,{"$f":"IFERROR(VLOOKUP([1]!Tabla_SERIEA_01_5[[#This Row],[IdEstablecimiento]],[2]Establecimientos!$A$1:$E$175,5,FALSE),0)","v":"04302-COMBARBALÁ"},"105469","18040200","2021-01-18T13:55:51",6,6]
[12,"5",2020,{"$f":"IFERROR(VLOOKUP([1]!Tabla_SERIEA_01_5[[#This Row],[IdEstablecimiento]],[2]Establecimientos!$A$1:$E$175,5,FALSE),0)","v":"04302-COMBARBALÁ"},"105469","18090000","2021-01-18T13:55:51",14,0,14]
[12,"5",2020,{"$f":"IFERROR(VLOOKUP([1]!Tabla_SERIEA_01_5[[#This Row],[IdEstablecimiento]],[2]Establecimientos!$A$1:$E$175,5,FALSE),0)","v":"04302-COMBARBALÁ"},"105469","18050100","2021-01-18T13:55:51",86,0,86]
[12,"5",2020,{"$f":"IFERROR(VLOOKUP([1]!Tabla_SERIEA_01_5[[#This Row],[IdEstablecimiento]],[2]Establecimientos!$A$1:$E$175,5,FALSE),0)","v":"04302-COMBARBALÁ"},"105470","80106023","2021-01-18T13:56:30",10,null,10,null,10]
[12,"5",2020,{"$f":"IFERROR(VLOOKUP([1]!Tabla_SERIEA_01_5[[#This Row],[IdEstablecimiento]],[2]Establecimientos!$A$1:$E$175,5,FALSE),0)","v":"04302-COMBARBALÁ"},"105470","18090000","2021-01-18T13:56:30",10,0,10]
[12,"5",2020,{"$f":"IFERROR(VLOOKUP([1]!Tabla_SERIEA_01_5[[#This Row],[IdEstablecimiento]],[2]Establecimientos!$A$1:$E$175,5,FALSE),0)","v":"04302-COMBARBALÁ"},"105471","80309013","2021-01-18T13:57:04",0,null,null,6]
[12,"5",2020,{"$f":"IFERROR(VLOOKUP([1]!Tabla_SERIEA_01_5[[#This Row],[IdEstablecimiento]],[2]Establecimientos!$A$1:$E$175,5,FALSE),0)","v":"04302-COMBARBALÁ"},"105471","80309022","2021-01-18T13:57:04",0,null,null,6]
[12,"5",2020,{"$f":"IFERROR(VLOOKUP([1]!Tabla_SERIEA_01_5[[#This Row],[IdEstablecimiento]],[2]Establecimientos!$A$1:$E$175,5,FALSE),0)","v":"04302-COMBARBALÁ"},"105471","80301045","2021-01-18T13:57:04",0,null,null,12]
[12,"5",2020,{"$f":"IFERROR(VLOOKUP([1]!Tabla_SERIEA_01_5[[#This Row],[IdEstablecimiento]],[2]Establecimientos!$A$1:$E$175,5,FALSE),0)","v":"04302-COMBARBALÁ"},"105471","80301059","2021-01-18T13:57:04",0,null,null,2]
[12,"5",2020,{"$f":"IFERROR(VLOOKUP([1]!Tabla_SERIEA_01_5[[#This Row],[IdEstablecimiento]],[2]Establecimientos!$A$1:$E$175,5,FALSE),0)","v":"04302-COMBARBALÁ"},"105471","80301085","2021-01-18T13:57:04",0,null,null,2]
[12,"5",2020,{"$f":"IFERROR(VLOOKUP([1]!Tabla_SERIEA_01_5[[#This Row],[IdEstablecimiento]],[2]Establecimientos!$A$1:$E$175,5,FALSE),0)","v":"04302-COMBARBALÁ"},"105471","80302005","2021-01-18T13:57:04",0,null,null,2]
[12,"5",2020,{"$f":"IFERROR(VLOOKUP([1]!Tabla_SERIEA_01_5[[#This Row],[IdEstablecimiento]],[2]Establecimientos!$A$1:$E$175,5,FALSE),0)","v":"04302-COMBARBALÁ"},"105471","81602221","2021-01-18T13:57:04",1,null,1,null,1]
[12,"5",2020,{"$f":"IFERROR(VLOOKUP([1]!Tabla_SERIEA_01_5[[#This Row],[IdEstablecimiento]],[2]Establecimientos!$A$1:$E$175,5,FALSE),0)","v":"04302-COMBARBALÁ"},"105471","80106002","2021-01-18T13:57:04",61,null,61,null,61]
[12,"5",2020,{"$f":"IFERROR(VLOOKUP([1]!Tabla_SERIEA_01_5[[#This Row],[IdEstablecimiento]],[2]Establecimientos!$A$1:$E$175,5,FALSE),0)","v":"04302-COMBARBALÁ"},"105471","80106017","2021-01-18T13:57:04",6,null,6,null,6]
[12,"5",2020,{"$f":"IFERROR(VLOOKUP([1]!Tabla_SERIEA_01_5[[#This Row],[IdEstablecimiento]],[2]Establecimientos!$A$1:$E$175,5,FALSE),0)","v":"04302-COMBARBALÁ"},"105471","80302023","2021-01-18T13:57:04",0,null,null,10]
[12,"5",2020,{"$f":"IFERROR(VLOOKUP([1]!Tabla_SERIEA_01_5[[#This Row],[IdEstablecimiento]],[2]Establecimientos!$A$1:$E$175,5,FALSE),0)","v":"04302-COMBARBALÁ"},"105471","80302032","2021-01-18T13:57:04",0,null,null,8]
[12,"5",2020,{"$f":"IFERROR(VLOOKUP([1]!Tabla_SERIEA_01_5[[#This Row],[IdEstablecimiento]],[2]Establecimientos!$A$1:$E$175,5,FALSE),0)","v":"04302-COMBARBALÁ"},"105471","80302034","2021-01-18T13:57:04",0,null,null,12]
[12,"5",2020,{"$f":"IFERROR(VLOOKUP([1]!Tabla_SERIEA_01_5[[#This Row],[IdEstablecimiento]],[2]Establecimientos!$A$1:$E$175,5,FALSE),0)","v":"04302-COMBARBALÁ"},"105471","80302047","2021-01-18T13:57:04",0,null,null,12]
[12,"5",2020,{"$f":"IFERROR(VLOOKUP([1]!Tabla_SERIEA_01_5[[#This Row],[IdEstablecimiento]],[2]Establecimientos!$A$1:$E$175,5,FALSE),0)","v":"04302-COMBARBALÁ"},"105471","80302048","2021-01-18T13:57:04",0,null,null,2]
[12,"5",2020,{"$f":"IFERROR(VLOOKUP([1]!Tabla_SERIEA_01_5[[#This Row],[IdEstablecimiento]],[2]Establecimientos!$A$1:$E$175,5,FALSE),0)","v":"04302-COMBARBALÁ"},"105471","80302076","2021-01-18T13:57:04",0,null,null,1]
[12,"5",2020,{"$f":"IFERROR(VLOOKUP([1]!Tabla_SERIEA_01_5[[#This Row],[IdEstablecimiento]],[2]Establecimientos!$A$1:$E$175,5,FALSE),0)","v":"04302-COMBARBALÁ"},"105471","80303024","2021-01-18T13:57:04",0,null,null,5]
[12,"5",2020,{"$f":"IFERROR(VLOOKUP([1]!Tabla_SERIEA_01_5[[#This Row],[IdEstablecimiento]],[2]Establecimientos!$A$1:$E$175,5,FALSE),0)","v":"04302-COMBARBALÁ"},"105471","80303026","2021-01-18T13:57:04",0,null,null,1]
[12,"5",2020,{"$f":"IFERROR(VLOOKUP([1]!Tabla_SERIEA_01_5[[#This Row],[IdEstablecimiento]],[2]Establecimientos!$A$1:$E$175,5,FALSE),0)","v":"04302-COMBARBALÁ"},"105471","80306011","2021-01-18T13:57:04",0,null,null,1]
[12,"5",2020,{"$f":"IFERROR(VLOOKUP([1]!Tabla_SERIEA_01_5[[#This Row],[IdEstablecimiento]],[2]Establecimientos!$A$1:$E$175,5,FALSE),0)","v":"04302-COMBARBALÁ"},"105471","80106014","2021-01-18T13:57:04",83,null,83,null,83]
[12,"5",2020,{"$f":"IFERROR(VLOOKUP([1]!Tabla_SERIEA_01_5[[#This Row],[IdEstablecimiento]],[2]Establecimientos!$A$1:$E$175,5,FALSE),0)","v":"04302-COMBARBALÁ"},"105471","80106023","2021-01-18T13:57:04",5,null,5,null,5]
[12,"5",2020,{"$f":"IFERROR(VLOOKUP([1]!Tabla_SERIEA_01_5[[#This Row],[IdEstablecimiento]],[2]Establecimientos!$A$1:$E$175,5,FALSE),0)","v":"04302-COMBARBALÁ"},"105471","80307011","2021-01-18T13:57:04",0,null,null,17]
[12,"5",2020,{"$f":"IFERROR(VLOOKUP([1]!Tabla_SERIEA_01_5[[#This Row],[IdEstablecimiento]],[2]Establecimientos!$A$1:$E$175,5,FALSE),0)","v":"04302-COMBARBALÁ"},"105471","80500011","2021-01-18T13:57:04",44,null,44,null,44]
[12,"5",2020,{"$f":"IFERROR(VLOOKUP([1]!Tabla_SERIEA_01_5[[#This Row],[IdEstablecimiento]],[2]Establecimientos!$A$1:$E$175,5,FALSE),0)","v":"04302-COMBARBALÁ"},"105471","80306038","2021-01-18T13:57:04",0,null,null,2]
[12,"5",2020,{"$f":"IFERROR(VLOOKUP([1]!Tabla_SERIEA_01_5[[#This Row],[IdEstablecimiento]],[2]Establecimientos!$A$1:$E$175,5,FALSE),0)","v":"04302-COMBARBALÁ"},"105471","18030000","2021-01-18T13:57:04",1,0,1]
[12,"5",2020,{"$f":"IFERROR(VLOOKUP([1]!Tabla_SERIEA_01_5[[#This Row],[IdEstablecimiento]],[2]Establecimientos!$A$1:$E$175,5,FALSE),0)","v":"04302-COMBARBALÁ"},"105471","18040200","2021-01-18T13:57:04",1,null,1]
[12,"5",2020,{"$f":"IFERROR(VLOOKUP([1]!Tabla_SERIEA_01_5[[#This Row],[IdEstablecimiento]],[2]Establecimientos!$A$1:$E$175,5,FALSE),0)","v":"04302-COMBARBALÁ"},"105471","18090000","2021-01-18T13:57:04",5,0,5]
[12,"5",2020,{"$f":"IFERROR(VLOOKUP([1]!Tabla_SERIEA_01_5[[#This Row],[IdEstablecimiento]],[2]Establecimientos!$A$1:$E$175,5,FALSE),0)","v":"04302-COMBARBALÁ"},"105471","18050100","2021-01-18T13:57:04",61,0,61]
[12,"5",2020,{"$f":"IFERROR(VLOOKUP([1]!Tabla_SERIEA_01_5[[#This Row],[IdEstablecimiento]],[2]Establecimientos!$A$1:$E$175,5,FALSE),0)","v":"04302-COMBARBALÁ"},"105473","80309013","2021-01-18T13:58:29",0,null,null,11]
[12,"5",2020,{"$f":"IFERROR(VLOOKUP([1]!Tabla_SERIEA_01_5[[#This Row],[IdEstablecimiento]],[2]Establecimientos!$A$1:$E$175,5,FALSE),0)","v":"04302-COMBARBALÁ"},"105473","80309022","2021-01-18T13:58:29",0,null,null,5]
[12,"5",2020,{"$f":"IFERROR(VLOOKUP([1]!Tabla_SERIEA_01_5[[#This Row],[IdEstablecimiento]],[2]Establecimientos!$A$1:$E$175,5,FALSE),0)","v":"04302-COMBARBALÁ"},"105473","80309024","2021-01-18T13:58:29",0,null,null,1]
[12,"5",2020,{"$f":"IFERROR(VLOOKUP([1]!Tabla_SERIEA_01_5[[#This Row],[IdEstablecimiento]],[2]Establecimientos!$A$1:$E$175,5,FALSE),0)","v":"04302-COMBARBALÁ"},"105473","80301041","2021-01-18T13:58:29",0,null,null,7]
[12,"5",2020,{"$f":"IFERROR(VLOOKUP([1]!Tabla_SERIEA_01_5[[#This Row],[IdEstablecimiento]],[2]Establecimientos!$A$1:$E$175,5,FALSE),0)","v":"04302-COMBARBALÁ"},"105473","80301045","2021-01-18T13:58:29",0,null,null,8]
[12,"5",2020,{"$f":"IFERROR(VLOOKUP([1]!Tabla_SERIEA_01_5[[#This Row],[IdEstablecimiento]],[2]Establecimientos!$A$1:$E$175,5,FALSE),0)","v":"04302-COMBARBALÁ"},"105473","80302005","2021-01-18T13:58:29",0,null,null,2]
[12,"5",2020,{"$f":"IFERROR(VLOOKUP([1]!Tabla_SERIEA_01_5[[#This Row],[IdEstablecimiento]],[2]Establecimientos!$A$1:$E$175,5,FALSE),0)","v":"04302-COMBARBALÁ"},"105473","81701001","2021-01-18T13:58:29",24,null,24,null,24]
[12,"5",2020,{"$f":"IFERROR(VLOOKUP([1]!Tabla_SERIEA_01_5[[#This Row],[IdEstablecimiento]],[2]Establecimientos!$A$1:$E$175,5,FALSE),0)","v":"04302-COMBARBALÁ"},"105473","81701009","2021-01-18T13:58:29",60,null,60,null,60]
[12,"5",2020,{"$f":"IFERROR(VLOOKUP([1]!Tabla_SERIEA_01_5[[#This Row],[IdEstablecimiento]],[2]Establecimientos!$A$1:$E$175,5,FALSE),0)","v":"04302-COMBARBALÁ"},"105473","81602222","2021-01-18T13:58:29",5,null,5,null,5]
[12,"5",2020,{"$f":"IFERROR(VLOOKUP([1]!Tabla_SERIEA_01_5[[#This Row],[IdEstablecimiento]],[2]Establecimientos!$A$1:$E$175,5,FALSE),0)","v":"04302-COMBARBALÁ"},"105473","80106002","2021-01-18T13:58:29",29,null,29,null,29]
[12,"5",2020,{"$f":"IFERROR(VLOOKUP([1]!Tabla_SERIEA_01_5[[#This Row],[IdEstablecimiento]],[2]Establecimientos!$A$1:$E$175,5,FALSE),0)","v":"04302-COMBARBALÁ"},"105473","80106017","2021-01-18T13:58:29",2,null,2,null,2]
[12,"5",2020,{"$f":"IFERROR(VLOOKUP([1]!Tabla_SERIEA_01_5[[#This Row],[IdEstablecimiento]],[2]Establecimientos!$A$1:$E$175,5,FALSE),0)","v":"04302-COMBARBALÁ"},"105473","80302023","2021-01-18T13:58:29",0,null,null,8]
[12,"5",2020,{"$f":"IFERROR(VLOOKUP([1]!Tabla_SERIEA_01_5[[#This Row],[IdEstablecimiento]],[2]Establecimientos!$A$1:$E$175,5,FALSE),0)","v":"04302-COMBARBALÁ"},"105473","80302032","2021-01-18T13:58:29",0,null,null,3]
[12,"5",2020,{"$f":"IFERROR(VLOOKUP([1]!Tabla_SERIEA_01_5[[#This Row],[IdEstablecimiento]],[2]Establecimientos!$A$1:$E$175,5,FALSE),0)","v":"04302-COMBARBALÁ"},"105473","80302034","2021-01-18T13:58:29",0,null,null,12]
[12,"5",2020,{"$f":"IFERROR(VLOOKUP([1]!Tabla_SERIEA_01_5[[#This Row],[IdEstablecimiento]],[2]Establecimientos!$A$1:$E$175,5,FALSE),0)","v":"04302-COMBARBALÁ"},"105473","80302047","2021-01-18T13:58:29",0,null,null,7]
[12,"5",2020,{"$f":"IFERROR(VLOOKUP([1]!Tabla_SERIEA_01_5[[#This Row],[IdEstablecimiento]],[2]Establecimientos!$A$1:$E$175,5,FALSE),0)","v":"04302-COMBARBALÁ"},"105473","80302048","2021-01-18T13:58:29",0,null,null,1]
[12,"5",2020,{"$f":"IFERROR(VLOOKUP([1]!Tabla_SERIEA_01_5[[#This Row],[IdEstablecimiento]],[2]Establecimientos!$A$1:$E$175,5,FALSE),0)","v":"04302-COMBARBALÁ"},"105473","80302057","2021-01-18T13:58:29",0,null,null,1]
[12,"5",2020,{"$f":"IFERROR(VLOOKUP([1]!Tabla_SERIEA_01_5[[#This Row],[IdEstablecimiento]],[2]Establecimientos!$A$1:$E$175,5,FALSE),0)","v":"04302-COMBARBALÁ"},"105473","80302076","2021-01-18T13:58:29",0,null,null,4]
[12,"5",2020,{"$f":"IFERROR(VLOOKUP([1]!Tabla_SERIEA_01_5[[#This Row],[IdEstablecimiento]],[2]Establecimientos!$A$1:$E$175,5,FALSE),0)","v":"04302-COMBARBALÁ"},"105473","80303024","2021-01-18T13:58:29",0,null,null,11]
[12,"5",2020,{"$f":"IFERROR(VLOOKUP([1]!Tabla_SERIEA_01_5[[#This Row],[IdEstablecimiento]],[2]Establecimientos!$A$1:$E$175,5,FALSE),0)","v":"04302-COMBARBALÁ"},"105473","80306011","2021-01-18T13:58:29",0,null,null,1]
[12,"5",2020,{"$f":"IFERROR(VLOOKUP([1]!Tabla_SERIEA_01_5[[#This Row],[IdEstablecimiento]],[2]Establecimientos!$A$1:$E$175,5,FALSE),0)","v":"04302-COMBARBALÁ"},"105473","80106014","2021-01-18T13:58:29",115,null,115,null,115]
[12,"5",2020,{"$f":"IFERROR(VLOOKUP([1]!Tabla_SERIEA_01_5[[#This Row],[IdEstablecimiento]],[2]Establecimientos!$A$1:$E$175,5,FALSE),0)","v":"04302-COMBARBALÁ"},"105473","80106015","2021-01-18T13:58:29",2,null,2,null,2]
[12,"5",2020,{"$f":"IFERROR(VLOOKUP([1]!Tabla_SERIEA_01_5[[#This Row],[IdEstablecimiento]],[2]Establecimientos!$A$1:$E$175,5,FALSE),0)","v":"04302-COMBARBALÁ"},"105473","80106022","2021-01-18T13:58:29",2,null,2,null,2]
[12,"5",2020,{"$f":"IFERROR(VLOOKUP([1]!Tabla_SERIEA_01_5[[#This Row],[IdEstablecimiento]],[2]Establecimientos!$A$1:$E$175,5,FALSE),0)","v":"04302-COMBARBALÁ"},"105473","80106023","2021-01-18T13:58:29",21,null,21,null,21]
[12,"5",2020,{"$f":"IFERROR(VLOOKUP([1]!Tabla_SERIEA_01_5[[#This Row],[IdEstablecimiento]],[2]Establecimientos!$A$1:$E$175,5,FALSE),0)","v":"04302-COMBARBALÁ"},"105473","80307011","2021-01-18T13:58:29",0,null,null,12]
[12,"5",2020,{"$f":"IFERROR(VLOOKUP([1]!Tabla_SERIEA_01_5[[#This Row],[IdEstablecimiento]],[2]Establecimientos!$A$1:$E$175,5,FALSE),0)","v":"04302-COMBARBALÁ"},"105473","80500011","2021-01-18T13:58:29",20,null,20,null,20]
[12,"5",2020,{"$f":"IFERROR(VLOOKUP([1]!Tabla_SERIEA_01_5[[#This Row],[IdEstablecimiento]],[2]Establecimientos!$A$1:$E$175,5,FALSE),0)","v":"04302-COMBARBALÁ"},"105473","80306042","2021-01-18T13:58:29",0,null,null,4]
[12,"5",2020,{"$f":"IFERROR(VLOOKUP([1]!Tabla_SERIEA_01_5[[#This Row],[IdEstablecimiento]],[2]Establecimientos!$A$1:$E$175,5,FALSE),0)","v":"105101-HOSPITAL COQUIMBO"},"105473","18020500","2021-01-18T13:58:29",84,0,84]
[12,"5",2020,{"$f":"IFERROR(VLOOKUP([1]!Tabla_SERIEA_01_5[[#This Row],[IdEstablecimiento]],[2]Establecimientos!$A$1:$E$175,5,FALSE),0)","v":"105101-HOSPITAL COQUIMBO"},"105473","18030000","2021-01-18T13:58:29",5,0,5]
[12,"5",2020,{"$f":"IFERROR(VLOOKUP([1]!Tabla_SERIEA_01_5[[#This Row],[IdEstablecimiento]],[2]Establecimientos!$A$1:$E$175,5,FALSE),0)","v":"105101-HOSPITAL COQUIMBO"},"105473","18040200","2021-01-18T13:58:29",5,null,5]
[12,"5",2020,{"$f":"IFERROR(VLOOKUP([1]!Tabla_SERIEA_01_5[[#This Row],[IdEstablecimiento]],[2]Establecimientos!$A$1:$E$175,5,FALSE),0)","v":"105101-HOSPITAL COQUIMBO"},"105473","18090000","2021-01-18T13:58:29",21,0,21]
[12,"5",2020,{"$f":"IFERROR(VLOOKUP([1]!Tabla_SERIEA_01_5[[#This Row],[IdEstablecimiento]],[2]Establecimientos!$A$1:$E$175,5,FALSE),0)","v":"105101-HOSPITAL COQUIMBO"},"105473","18050100","2021-01-18T13:58:29",29,0,29]
[12,"5",2020,{"$f":"IFERROR(VLOOKUP([1]!Tabla_SERIEA_01_5[[#This Row],[IdEstablecimiento]],[2]Establecimientos!$A$1:$E$175,5,FALSE),0)","v":"105101-HOSPITAL COQUIMBO"},"105474","80309013","2021-01-18T13:59:01",0,null,null,1]
[12,"5",2020,{"$f":"IFERROR(VLOOKUP([1]!Tabla_SERIEA_01_5[[#This Row],[IdEstablecimiento]],[2]Establecimientos!$A$1:$E$175,5,FALSE),0)","v":"105101-HOSPITAL COQUIMBO"},"105474","80309024","2021-01-18T13:59:01",0,null,null,1]
[12,"5",2020,{"$f":"IFERROR(VLOOKUP([1]!Tabla_SERIEA_01_5[[#This Row],[IdEstablecimiento]],[2]Establecimientos!$A$1:$E$175,5,FALSE),0)","v":"105101-HOSPITAL COQUIMBO"},"105474","80301045","2021-01-18T13:59:01",0,null,null,2]
[12,"5",2020,{"$f":"IFERROR(VLOOKUP([1]!Tabla_SERIEA_01_5[[#This Row],[IdEstablecimiento]],[2]Establecimientos!$A$1:$E$175,5,FALSE),0)","v":"105101-HOSPITAL COQUIMBO"},"105474","80302005","2021-01-18T13:59:01",0,null,null,1]
[12,"5",2020,{"$f":"IFERROR(VLOOKUP([1]!Tabla_SERIEA_01_5[[#This Row],[IdEstablecimiento]],[2]Establecimientos!$A$1:$E$175,5,FALSE),0)","v":"105101-HOSPITAL COQUIMBO"},"105474","81701009","2021-01-18T13:59:01",7,null,7,null,7]
[12,"5",2020,{"$f":"IFERROR(VLOOKUP([1]!Tabla_SERIEA_01_5[[#This Row],[IdEstablecimiento]],[2]Establecimientos!$A$1:$E$175,5,FALSE),0)","v":"105101-HOSPITAL COQUIMBO"},"105474","80106002","2021-01-18T13:59:01",4,null,4,null,4]
[12,"5",2020,{"$f":"IFERROR(VLOOKUP([1]!Tabla_SERIEA_01_5[[#This Row],[IdEstablecimiento]],[2]Establecimientos!$A$1:$E$175,5,FALSE),0)","v":"04204-SALAMANCA"},"105474","80302023","2021-01-18T13:59:01",0,null,null,2]
[12,"5",2020,{"$f":"IFERROR(VLOOKUP([1]!Tabla_SERIEA_01_5[[#This Row],[IdEstablecimiento]],[2]Establecimientos!$A$1:$E$175,5,FALSE),0)","v":"04204-SALAMANCA"},"105474","80302032","2021-01-18T13:59:01",0,null,null,1]
[12,"5",2020,{"$f":"IFERROR(VLOOKUP([1]!Tabla_SERIEA_01_5[[#This Row],[IdEstablecimiento]],[2]Establecimientos!$A$1:$E$175,5,FALSE),0)","v":"04204-SALAMANCA"},"105474","80302034","2021-01-18T13:59:01",0,null,null,2]
[12,"5",2020,{"$f":"IFERROR(VLOOKUP([1]!Tabla_SERIEA_01_5[[#This Row],[IdEstablecimiento]],[2]Establecimientos!$A$1:$E$175,5,FALSE),0)","v":"04204-SALAMANCA"},"105474","80302047","2021-01-18T13:59:01",0,null,null,2]
[12,"5",2020,{"$f":"IFERROR(VLOOKUP([1]!Tabla_SERIEA_01_5[[#This Row],[IdEstablecimiento]],[2]Establecimientos!$A$1:$E$175,5,FALSE),0)","v":"04102-COQUIMBO"},"105474","80302057","2021-01-18T13:59:01",0,null,null,1]
[12,"5",2020,{"$f":"IFERROR(VLOOKUP([1]!Tabla_SERIEA_01_5[[#This Row],[IdEstablecimiento]],[2]Establecimientos!$A$1:$E$175,5,FALSE),0)","v":"105101-HOSPITAL COQUIMBO"},"105474","80302076","2021-01-18T13:59:01",0,null,null,2]
[12,"5",2020,{"$f":"IFERROR(VLOOKUP([1]!Tabla_SERIEA_01_5[[#This Row],[IdEstablecimiento]],[2]Establecimientos!$A$1:$E$175,5,FALSE),0)","v":"105101-HOSPITAL COQUIMBO"},"105474","80303024","2021-01-18T13:59:01",0,null,null,2]
[12,"5",2020,{"$f":"IFERROR(VLOOKUP([1]!Tabla_SERIEA_01_5[[#This Row],[IdEstablecimiento]],[2]Establecimientos!$A$1:$E$175,5,FALSE),0)","v":"105101-HOSPITAL COQUIMBO"},"105474","80303026","2021-01-18T13:59:01",0,null,null,1]
[12,"5",2020,{"$f":"IFERROR(VLOOKUP([1]!Tabla_SERIEA_01_5[[#This Row],[IdEstablecimiento]],[2]Establecimientos!$A$1:$E$175,5,FALSE),0)","v":"105100-HOSPITAL LA SERENA"},"105474","80106013","2021-01-18T13:59:01",1,null,1,null,1]
[12,"5",2020,{"$f":"IFERROR(VLOOKUP([1]!Tabla_SERIEA_01_5[[#This Row],[IdEstablecimiento]],[2]Establecimientos!$A$1:$E$175,5,FALSE),0)","v":"105100-HOSPITAL LA SERENA"},"105474","80106014","2021-01-18T13:59:01",12,null,12,null,12]
[12,"5",2020,{"$f":"IFERROR(VLOOKUP([1]!Tabla_SERIEA_01_5[[#This Row],[IdEstablecimiento]],[2]Establecimientos!$A$1:$E$175,5,FALSE),0)","v":"04203-LOS VILOS"},"105474","80106023","2021-01-18T13:59:01",8,null,8,null,8]
[12,"5",2020,{"$f":"IFERROR(VLOOKUP([1]!Tabla_SERIEA_01_5[[#This Row],[IdEstablecimiento]],[2]Establecimientos!$A$1:$E$175,5,FALSE),0)","v":"04203-LOS VILOS"},"105474","80307011","2021-01-18T13:59:01",0,null,null,2]
[12,"5",2020,{"$f":"IFERROR(VLOOKUP([1]!Tabla_SERIEA_01_5[[#This Row],[IdEstablecimiento]],[2]Establecimientos!$A$1:$E$175,5,FALSE),0)","v":"04203-LOS VILOS"},"105474","80500011","2021-01-18T13:59:01",3,null,3,null,3]
[12,"5",2020,{"$f":"IFERROR(VLOOKUP([1]!Tabla_SERIEA_01_5[[#This Row],[IdEstablecimiento]],[2]Establecimientos!$A$1:$E$175,5,FALSE),0)","v":"04203-LOS VILOS"},"105474","18020500","2021-01-18T13:59:01",7,0,7]
[12,"5",2020,{"$f":"IFERROR(VLOOKUP([1]!Tabla_SERIEA_01_5[[#This Row],[IdEstablecimiento]],[2]Establecimientos!$A$1:$E$175,5,FALSE),0)","v":"04203-LOS VILOS"},"105474","18090000","2021-01-18T13:59:01",8,0,8]
[12,"5",2020,{"$f":"IFERROR(VLOOKUP([1]!Tabla_SERIEA_01_5[[#This Row],[IdEstablecimiento]],[2]Establecimientos!$A$1:$E$175,5,FALSE),0)","v":"04203-LOS VILOS"},"105474","18050100","2021-01-18T13:59:01",4,0,4]
[12,"5",2020,{"$f":"IFERROR(VLOOKUP([1]!Tabla_SERIEA_01_5[[#This Row],[IdEstablecimiento]],[2]Establecimientos!$A$1:$E$175,5,FALSE),0)","v":"04101-LA SERENA"},"105476","81602221","2021-01-18T14:00:19",2,null,2,null,2]
[12,"5",2020,{"$f":"IFERROR(VLOOKUP([1]!Tabla_SERIEA_01_5[[#This Row],[IdEstablecimiento]],[2]Establecimientos!$A$1:$E$175,5,FALSE),0)","v":"04101-LA SERENA"},"105476","80106002","2021-01-18T14:00:19",7,null,7,null,7]
[12,"5",2020,{"$f":"IFERROR(VLOOKUP([1]!Tabla_SERIEA_01_5[[#This Row],[IdEstablecimiento]],[2]Establecimientos!$A$1:$E$175,5,FALSE),0)","v":"04101-LA SERENA"},"105476","80106017","2021-01-18T14:00:19",12,null,12,null,12]
[12,"5",2020,{"$f":"IFERROR(VLOOKUP([1]!Tabla_SERIEA_01_5[[#This Row],[IdEstablecimiento]],[2]Establecimientos!$A$1:$E$175,5,FALSE),0)","v":"04101-LA SERENA"},"105476","80106014","2021-01-18T14:00:19",28,null,28,null,28]
[12,"5",2020,{"$f":"IFERROR(VLOOKUP([1]!Tabla_SERIEA_01_5[[#This Row],[IdEstablecimiento]],[2]Establecimientos!$A$1:$E$175,5,FALSE),0)","v":"04102-COQUIMBO"},"105476","80106015","2021-01-18T14:00:19",4,null,4,null,4]
[12,"5",2020,{"$f":"IFERROR(VLOOKUP([1]!Tabla_SERIEA_01_5[[#This Row],[IdEstablecimiento]],[2]Establecimientos!$A$1:$E$175,5,FALSE),0)","v":"04102-COQUIMBO"},"105476","80106020","2021-01-18T14:00:19",1,null,1,null,1]
[12,"5",2020,{"$f":"IFERROR(VLOOKUP([1]!Tabla_SERIEA_01_5[[#This Row],[IdEstablecimiento]],[2]Establecimientos!$A$1:$E$175,5,FALSE),0)","v":"04102-COQUIMBO"},"105476","80307011","2021-01-18T14:00:19",19,null,19]
[12,"5",2020,{"$f":"IFERROR(VLOOKUP([1]!Tabla_SERIEA_01_5[[#This Row],[IdEstablecimiento]],[2]Establecimientos!$A$1:$E$175,5,FALSE),0)","v":"04301-OVALLE"},"105476","80500011","2021-01-18T14:00:19",5,null,5,null,5]
[12,"5",2020,{"$f":"IFERROR(VLOOKUP([1]!Tabla_SERIEA_01_5[[#This Row],[IdEstablecimiento]],[2]Establecimientos!$A$1:$E$175,5,FALSE),0)","v":"04301-OVALLE"},"105476","18030000","2021-01-18T14:00:19",2,0,2]
[12,"5",2020,{"$f":"IFERROR(VLOOKUP([1]!Tabla_SERIEA_01_5[[#This Row],[IdEstablecimiento]],[2]Establecimientos!$A$1:$E$175,5,FALSE),0)","v":"04301-OVALLE"},"105476","18040200","2021-01-18T14:00:19",2,null,2]
[12,"5",2020,{"$f":"IFERROR(VLOOKUP([1]!Tabla_SERIEA_01_5[[#This Row],[IdEstablecimiento]],[2]Establecimientos!$A$1:$E$175,5,FALSE),0)","v":"04301-OVALLE"},"105476","18050100","2021-01-18T14:00:19",7,0,7]
[12,"5",2020,{"$f":"IFERROR(VLOOKUP([1]!Tabla_SERIEA_01_5[[#This Row],[IdEstablecimiento]],[2]Establecimientos!$A$1:$E$175,5,FALSE),0)","v":"04301-OVALLE"},"105476","18400700","2021-01-18T14:00:19",71]
[12,"5",2020,{"$f":"IFERROR(VLOOKUP([1]!Tabla_SERIEA_01_5[[#This Row],[IdEstablecimiento]],[2]Establecimientos!$A$1:$E$175,5,FALSE),0)","v":"04301-OVALLE"},"105477","81701001","2021-01-18T14:01:16",6,null,6,null,6]
[12,"5",2020,{"$f":"IFERROR(VLOOKUP([1]!Tabla_SERIEA_01_5[[#This Row],[IdEstablecimiento]],[2]Establecimientos!$A$1:$E$175,5,FALSE),0)","v":"04102-COQUIMBO"},"105477","81701009","2021-01-18T14:01:16",6,null,6,null,6]
[12,"5",2020,{"$f":"IFERROR(VLOOKUP([1]!Tabla_SERIEA_01_5[[#This Row],[IdEstablecimiento]],[2]Establecimientos!$A$1:$E$175,5,FALSE),0)","v":"04301-OVALLE"},"105477","81707030","2021-01-18T14:01:16",2,null,2,null,2]
[12,"5",2020,{"$f":"IFERROR(VLOOKUP([1]!Tabla_SERIEA_01_5[[#This Row],[IdEstablecimiento]],[2]Establecimientos!$A$1:$E$175,5,FALSE),0)","v":"105100-HOSPITAL LA SERENA"},"105477","81901022","2021-01-18T14:01:16",2,null,2,null,2]
[12,"5",2020,{"$f":"IFERROR(VLOOKUP([1]!Tabla_SERIEA_01_5[[#This Row],[IdEstablecimiento]],[2]Establecimientos!$A$1:$E$175,5,FALSE),0)","v":"105100-HOSPITAL LA SERENA"},"105477","81602221","2021-01-18T14:01:16",7,null,7,null,7]
[12,"5",2020,{"$f":"IFERROR(VLOOKUP([1]!Tabla_SERIEA_01_5[[#This Row],[IdEstablecimiento]],[2]Establecimientos!$A$1:$E$175,5,FALSE),0)","v":"105107-HOSPITAL VICUÑA"},"105477","81602231","2021-01-18T14:01:16",3,null,3,null,3]
[12,"5",2020,{"$f":"IFERROR(VLOOKUP([1]!Tabla_SERIEA_01_5[[#This Row],[IdEstablecimiento]],[2]Establecimientos!$A$1:$E$175,5,FALSE),0)","v":"04303-MONTE PATRIA"},"105477","80106002","2021-01-18T14:01:16",81,null,81,null,81]
[12,"5",2020,{"$f":"IFERROR(VLOOKUP([1]!Tabla_SERIEA_01_5[[#This Row],[IdEstablecimiento]],[2]Establecimientos!$A$1:$E$175,5,FALSE),0)","v":"04303-MONTE PATRIA"},"105477","80106013","2021-01-18T14:01:16",4,null,4,null,4]
[12,"5",2020,{"$f":"IFERROR(VLOOKUP([1]!Tabla_SERIEA_01_5[[#This Row],[IdEstablecimiento]],[2]Establecimientos!$A$1:$E$175,5,FALSE),0)","v":"04303-MONTE PATRIA"},"105477","80106014","2021-01-18T14:01:16",206,null,206,null,206]
[12,"5",2020,{"$f":"IFERROR(VLOOKUP([1]!Tabla_SERIEA_01_5[[#This Row],[IdEstablecimiento]],[2]Establecimientos!$A$1:$E$175,5,FALSE),0)","v":"04302-COMBARBALÁ"},"105477","80106015","2021-01-18T14:01:16",26,null,26,null,26]
[12,"5",2020,{"$f":"IFERROR(VLOOKUP([1]!Tabla_SERIEA_01_5[[#This Row],[IdEstablecimiento]],[2]Establecimientos!$A$1:$E$175,5,FALSE),0)","v":"04302-COMBARBALÁ"},"105477","80106020","2021-01-18T14:01:16",3,null,3,null,3]
[12,"5",2020,{"$f":"IFERROR(VLOOKUP([1]!Tabla_SERIEA_01_5[[#This Row],[IdEstablecimiento]],[2]Establecimientos!$A$1:$E$175,5,FALSE),0)","v":"04302-COMBARBALÁ"},"105477","80106022","2021-01-18T14:01:16",3,null,3,null,3]
[12,"5",2020,{"$f":"IFERROR(VLOOKUP([1]!Tabla_SERIEA_01_5[[#This Row],[IdEstablecimiento]],[2]Establecimientos!$A$1:$E$175,5,FALSE),0)","v":"04302-COMBARBALÁ"},"105477","80307011","2021-01-18T14:01:16",37,null,37]
[12,"5",2020,{"$f":"IFERROR(VLOOKUP([1]!Tabla_SERIEA_01_5[[#This Row],[IdEstablecimiento]],[2]Establecimientos!$A$1:$E$175,5,FALSE),0)","v":"04302-COMBARBALÁ"},"105477","80500011","2021-01-18T14:01:16",13,null,13,null,13]
[12,"5",2020,{"$f":"IFERROR(VLOOKUP([1]!Tabla_SERIEA_01_5[[#This Row],[IdEstablecimiento]],[2]Establecimientos!$A$1:$E$175,5,FALSE),0)","v":"04302-COMBARBALÁ"},"105477","18020300","2021-01-18T14:01:16",2,0,2]
[12,"5",2020,{"$f":"IFERROR(VLOOKUP([1]!Tabla_SERIEA_01_5[[#This Row],[IdEstablecimiento]],[2]Establecimientos!$A$1:$E$175,5,FALSE),0)","v":"04302-COMBARBALÁ"},"105477","18020500","2021-01-18T14:01:16",12,0,12]
[12,"5",2020,{"$f":"IFERROR(VLOOKUP([1]!Tabla_SERIEA_01_5[[#This Row],[IdEstablecimiento]],[2]Establecimientos!$A$1:$E$175,5,FALSE),0)","v":"04302-COMBARBALÁ"},"105477","18020700","2021-01-18T14:01:16",2,0,2]
[12,"5",2020,{"$f":"IFERROR(VLOOKUP([1]!Tabla_SERIEA_01_5[[#This Row],[IdEstablecimiento]],[2]Establecimientos!$A$1:$E$175,5,FALSE),0)","v":"04302-COMBARBALÁ"},"105477","18030000","2021-01-18T14:01:16",10,0,10]
[12,"5",2020,{"$f":"IFERROR(VLOOKUP([1]!Tabla_SERIEA_01_5[[#This Row],[IdEstablecimiento]],[2]Establecimientos!$A$1:$E$175,5,FALSE),0)","v":"04302-COMBARBALÁ"},"105477","18040200","2021-01-18T14:01:16",10,2,8]
[12,"5",2020,{"$f":"IFERROR(VLOOKUP([1]!Tabla_SERIEA_01_5[[#This Row],[IdEstablecimiento]],[2]Establecimientos!$A$1:$E$175,5,FALSE),0)","v":"04302-COMBARBALÁ"},"105477","18050100","2021-01-18T14:01:16",81,0,81]
[12,"5",2020,{"$f":"IFERROR(VLOOKUP([1]!Tabla_SERIEA_01_5[[#This Row],[IdEstablecimiento]],[2]Establecimientos!$A$1:$E$175,5,FALSE),0)","v":"04302-COMBARBALÁ"},"105477","18400700","2021-01-18T14:01:16",633]
[12,"5",2020,{"$f":"IFERROR(VLOOKUP([1]!Tabla_SERIEA_01_5[[#This Row],[IdEstablecimiento]],[2]Establecimientos!$A$1:$E$175,5,FALSE),0)","v":"04302-COMBARBALÁ"},"105480","80309013","2021-01-18T14:04:44",0,null,null,31]
[12,"5",2020,{"$f":"IFERROR(VLOOKUP([1]!Tabla_SERIEA_01_5[[#This Row],[IdEstablecimiento]],[2]Establecimientos!$A$1:$E$175,5,FALSE),0)","v":"04302-COMBARBALÁ"},"105480","80309022","2021-01-18T14:04:44",0,null,null,42]
[12,"5",2020,{"$f":"IFERROR(VLOOKUP([1]!Tabla_SERIEA_01_5[[#This Row],[IdEstablecimiento]],[2]Establecimientos!$A$1:$E$175,5,FALSE),0)","v":"04302-COMBARBALÁ"},"105480","80301036","2021-01-18T14:04:44",0,null,null,1]
[12,"5",2020,{"$f":"IFERROR(VLOOKUP([1]!Tabla_SERIEA_01_5[[#This Row],[IdEstablecimiento]],[2]Establecimientos!$A$1:$E$175,5,FALSE),0)","v":"04302-COMBARBALÁ"},"105480","80301041","2021-01-18T14:04:44",0,null,null,28]
[12,"5",2020,{"$f":"IFERROR(VLOOKUP([1]!Tabla_SERIEA_01_5[[#This Row],[IdEstablecimiento]],[2]Establecimientos!$A$1:$E$175,5,FALSE),0)","v":"04302-COMBARBALÁ"},"105480","80301045","2021-01-18T14:04:44",0,null,null,44]
[12,"5",2020,{"$f":"IFERROR(VLOOKUP([1]!Tabla_SERIEA_01_5[[#This Row],[IdEstablecimiento]],[2]Establecimientos!$A$1:$E$175,5,FALSE),0)","v":"04305-RIO HURTADO"},"105480","80301059","2021-01-18T14:04:44",0,null,null,12]
[12,"5",2020,{"$f":"IFERROR(VLOOKUP([1]!Tabla_SERIEA_01_5[[#This Row],[IdEstablecimiento]],[2]Establecimientos!$A$1:$E$175,5,FALSE),0)","v":"04305-RIO HURTADO"},"105480","80301085","2021-01-18T14:04:44",0,null,null,12]
[12,"5",2020,{"$f":"IFERROR(VLOOKUP([1]!Tabla_SERIEA_01_5[[#This Row],[IdEstablecimiento]],[2]Establecimientos!$A$1:$E$175,5,FALSE),0)","v":"04305-RIO HURTADO"},"105480","80301086","2021-01-18T14:04:44",0,null,null,2]
[12,"5",2020,{"$f":"IFERROR(VLOOKUP([1]!Tabla_SERIEA_01_5[[#This Row],[IdEstablecimiento]],[2]Establecimientos!$A$1:$E$175,5,FALSE),0)","v":"04305-RIO HURTADO"},"105480","80302005","2021-01-18T14:04:44",0,null,null,13]
[12,"5",2020,{"$f":"IFERROR(VLOOKUP([1]!Tabla_SERIEA_01_5[[#This Row],[IdEstablecimiento]],[2]Establecimientos!$A$1:$E$175,5,FALSE),0)","v":"04305-RIO HURTADO"},"105480","81701009","2021-01-18T14:04:44",2,null,2,null,2]
[12,"5",2020,{"$f":"IFERROR(VLOOKUP([1]!Tabla_SERIEA_01_5[[#This Row],[IdEstablecimiento]],[2]Establecimientos!$A$1:$E$175,5,FALSE),0)","v":"04305-RIO HURTADO"},"105480","80106002","2021-01-18T14:04:44",21,null,21,null,21]
[12,"5",2020,{"$f":"IFERROR(VLOOKUP([1]!Tabla_SERIEA_01_5[[#This Row],[IdEstablecimiento]],[2]Establecimientos!$A$1:$E$175,5,FALSE),0)","v":"04305-RIO HURTADO"},"105480","80302067","2021-01-18T14:04:44",0,null,null,1]
[12,"5",2020,{"$f":"IFERROR(VLOOKUP([1]!Tabla_SERIEA_01_5[[#This Row],[IdEstablecimiento]],[2]Establecimientos!$A$1:$E$175,5,FALSE),0)","v":"04305-RIO HURTADO"},"105480","80302023","2021-01-18T14:04:44",0,null,null,52]
[12,"5",2020,{"$f":"IFERROR(VLOOKUP([1]!Tabla_SERIEA_01_5[[#This Row],[IdEstablecimiento]],[2]Establecimientos!$A$1:$E$175,5,FALSE),0)","v":"04305-RIO HURTADO"},"105480","80302032","2021-01-18T14:04:44",0,null,null,30]
[12,"5",2020,{"$f":"IFERROR(VLOOKUP([1]!Tabla_SERIEA_01_5[[#This Row],[IdEstablecimiento]],[2]Establecimientos!$A$1:$E$175,5,FALSE),0)","v":"04305-RIO HURTADO"},"105480","80302034","2021-01-18T14:04:44",0,null,null,55]
[12,"5",2020,{"$f":"IFERROR(VLOOKUP([1]!Tabla_SERIEA_01_5[[#This Row],[IdEstablecimiento]],[2]Establecimientos!$A$1:$E$175,5,FALSE),0)","v":"04305-RIO HURTADO"},"105480","80302047","2021-01-18T14:04:44",0,null,null,52]
[12,"5",2020,{"$f":"IFERROR(VLOOKUP([1]!Tabla_SERIEA_01_5[[#This Row],[IdEstablecimiento]],[2]Establecimientos!$A$1:$E$175,5,FALSE),0)","v":"04305-RIO HURTADO"},"105480","80302057","2021-01-18T14:04:44",0,null,null,42]
[12,"5",2020,{"$f":"IFERROR(VLOOKUP([1]!Tabla_SERIEA_01_5[[#This Row],[IdEstablecimiento]],[2]Establecimientos!$A$1:$E$175,5,FALSE),0)","v":"04305-RIO HURTADO"},"105480","80302075","2021-01-18T14:04:44",0,null,null,1]
[12,"5",2020,{"$f":"IFERROR(VLOOKUP([1]!Tabla_SERIEA_01_5[[#This Row],[IdEstablecimiento]],[2]Establecimientos!$A$1:$E$175,5,FALSE),0)","v":"04305-RIO HURTADO"},"105480","80302060","2021-01-18T14:04:44",0,null,null,3]
[12,"5",2020,{"$f":"IFERROR(VLOOKUP([1]!Tabla_SERIEA_01_5[[#This Row],[IdEstablecimiento]],[2]Establecimientos!$A$1:$E$175,5,FALSE),0)","v":"04305-RIO HURTADO"},"105480","80302076","2021-01-18T14:04:44",0,null,null,25]
[12,"5",2020,{"$f":"IFERROR(VLOOKUP([1]!Tabla_SERIEA_01_5[[#This Row],[IdEstablecimiento]],[2]Establecimientos!$A$1:$E$175,5,FALSE),0)","v":"04305-RIO HURTADO"},"105480","80302064","2021-01-18T14:04:44",0,null,null,1]
[12,"5",2020,{"$f":"IFERROR(VLOOKUP([1]!Tabla_SERIEA_01_5[[#This Row],[IdEstablecimiento]],[2]Establecimientos!$A$1:$E$175,5,FALSE),0)","v":"04305-RIO HURTADO"},"105480","80303024","2021-01-18T14:04:44",0,null,null,30]
[12,"5",2020,{"$f":"IFERROR(VLOOKUP([1]!Tabla_SERIEA_01_5[[#This Row],[IdEstablecimiento]],[2]Establecimientos!$A$1:$E$175,5,FALSE),0)","v":"04305-RIO HURTADO"},"105480","80303026","2021-01-18T14:04:44",0,null,null,17]
[12,"5",2020,{"$f":"IFERROR(VLOOKUP([1]!Tabla_SERIEA_01_5[[#This Row],[IdEstablecimiento]],[2]Establecimientos!$A$1:$E$175,5,FALSE),0)","v":"04305-RIO HURTADO"},"105480","80303028","2021-01-18T14:04:44",0,null,null,2]
[12,"5",2020,{"$f":"IFERROR(VLOOKUP([1]!Tabla_SERIEA_01_5[[#This Row],[IdEstablecimiento]],[2]Establecimientos!$A$1:$E$175,5,FALSE),0)","v":"04305-RIO HURTADO"},"105480","80306011","2021-01-18T14:04:44",0,null,null,11]
[12,"5",2020,{"$f":"IFERROR(VLOOKUP([1]!Tabla_SERIEA_01_5[[#This Row],[IdEstablecimiento]],[2]Establecimientos!$A$1:$E$175,5,FALSE),0)","v":"04305-RIO HURTADO"},"105480","80106014","2021-01-18T14:04:44",39,null,39,null,39]
[12,"5",2020,{"$f":"IFERROR(VLOOKUP([1]!Tabla_SERIEA_01_5[[#This Row],[IdEstablecimiento]],[2]Establecimientos!$A$1:$E$175,5,FALSE),0)","v":"04305-RIO HURTADO"},"105480","80106022","2021-01-18T14:04:44",2,null,2,null,2]
[12,"5",2020,{"$f":"IFERROR(VLOOKUP([1]!Tabla_SERIEA_01_5[[#This Row],[IdEstablecimiento]],[2]Establecimientos!$A$1:$E$175,5,FALSE),0)","v":"04305-RIO HURTADO"},"105480","80307011","2021-01-18T14:04:44",11,null,11]
[12,"5",2020,{"$f":"IFERROR(VLOOKUP([1]!Tabla_SERIEA_01_5[[#This Row],[IdEstablecimiento]],[2]Establecimientos!$A$1:$E$175,5,FALSE),0)","v":"04305-RIO HURTADO"},"105480","80307012","2021-01-18T14:04:44",1,null,1]
[12,"5",2020,{"$f":"IFERROR(VLOOKUP([1]!Tabla_SERIEA_01_5[[#This Row],[IdEstablecimiento]],[2]Establecimientos!$A$1:$E$175,5,FALSE),0)","v":"04305-RIO HURTADO"},"105480","80500014","2021-01-18T14:04:44",3,null,3,null,3,3]
[12,"5",2020,{"$f":"IFERROR(VLOOKUP([1]!Tabla_SERIEA_01_5[[#This Row],[IdEstablecimiento]],[2]Establecimientos!$A$1:$E$175,5,FALSE),0)","v":"04301-OVALLE"},"105480","80305070","2021-01-18T14:04:44",0,null,null,5]
[12,"5",2020,{"$f":"IFERROR(VLOOKUP([1]!Tabla_SERIEA_01_5[[#This Row],[IdEstablecimiento]],[2]Establecimientos!$A$1:$E$175,5,FALSE),0)","v":"04301-OVALLE"},"105480","80305019","2021-01-18T14:04:44",0,null,null,5]
[12,"5",2020,{"$f":"IFERROR(VLOOKUP([1]!Tabla_SERIEA_01_5[[#This Row],[IdEstablecimiento]],[2]Establecimientos!$A$1:$E$175,5,FALSE),0)","v":"04301-OVALLE"},"105480","80305030","2021-01-18T14:04:44",0,null,null,4]
[12,"5",2020,{"$f":"IFERROR(VLOOKUP([1]!Tabla_SERIEA_01_5[[#This Row],[IdEstablecimiento]],[2]Establecimientos!$A$1:$E$175,5,FALSE),0)","v":"04301-OVALLE"},"105480","18020500","2021-01-18T14:04:44",2,0,2]
[12,"5",2020,{"$f":"IFERROR(VLOOKUP([1]!Tabla_SERIEA_01_5[[#This Row],[IdEstablecimiento]],[2]Establecimientos!$A$1:$E$175,5,FALSE),0)","v":"04101-LA SERENA"},"105480","18050100","2021-01-18T14:04:44",21,0,21]
[12,"5",2020,{"$f":"IFERROR(VLOOKUP([1]!Tabla_SERIEA_01_5[[#This Row],[IdEstablecimiento]],[2]Establecimientos!$A$1:$E$175,5,FALSE),0)","v":"04101-LA SERENA"},"105480","18700100","2021-01-18T14:04:44",30,6,16,8]
[12,"5",2020,{"$f":"IFERROR(VLOOKUP([1]!Tabla_SERIEA_01_5[[#This Row],[IdEstablecimiento]],[2]Establecimientos!$A$1:$E$175,5,FALSE),0)","v":"04101-LA SERENA"},"105480","18700110","2021-01-18T14:04:44",1,null,1,null,1,null,1]
[12,"5",2020,{"$f":"IFERROR(VLOOKUP([1]!Tabla_SERIEA_01_5[[#This Row],[IdEstablecimiento]],[2]Establecimientos!$A$1:$E$175,5,FALSE),0)","v":"04101-LA SERENA"},"105481","80309013","2021-01-18T14:05:06",0,null,null,4]
[12,"5",2020,{"$f":"IFERROR(VLOOKUP([1]!Tabla_SERIEA_01_5[[#This Row],[IdEstablecimiento]],[2]Establecimientos!$A$1:$E$175,5,FALSE),0)","v":"04101-LA SERENA"},"105481","80309022","2021-01-18T14:05:06",0,null,null,7]
[12,"5",2020,{"$f":"IFERROR(VLOOKUP([1]!Tabla_SERIEA_01_5[[#This Row],[IdEstablecimiento]],[2]Establecimientos!$A$1:$E$175,5,FALSE),0)","v":"04303-MONTE PATRIA"},"105481","80301045","2021-01-18T14:05:06",0,null,null,9]
[12,"5",2020,{"$f":"IFERROR(VLOOKUP([1]!Tabla_SERIEA_01_5[[#This Row],[IdEstablecimiento]],[2]Establecimientos!$A$1:$E$175,5,FALSE),0)","v":"04303-MONTE PATRIA"},"105481","80302005","2021-01-18T14:05:06",0,null,null,2]
[12,"5",2020,{"$f":"IFERROR(VLOOKUP([1]!Tabla_SERIEA_01_5[[#This Row],[IdEstablecimiento]],[2]Establecimientos!$A$1:$E$175,5,FALSE),0)","v":"04303-MONTE PATRIA"},"105481","80106002","2021-01-18T14:05:06",15,null,15,null,15]
[12,"5",2020,{"$f":"IFERROR(VLOOKUP([1]!Tabla_SERIEA_01_5[[#This Row],[IdEstablecimiento]],[2]Establecimientos!$A$1:$E$175,5,FALSE),0)","v":"04303-MONTE PATRIA"},"105481","80302023","2021-01-18T14:05:06",0,null,null,9]
[12,"5",2020,{"$f":"IFERROR(VLOOKUP([1]!Tabla_SERIEA_01_5[[#This Row],[IdEstablecimiento]],[2]Establecimientos!$A$1:$E$175,5,FALSE),0)","v":"04303-MONTE PATRIA"},"105481","80302032","2021-01-18T14:05:06",0,null,null,1]
[12,"5",2020,{"$f":"IFERROR(VLOOKUP([1]!Tabla_SERIEA_01_5[[#This Row],[IdEstablecimiento]],[2]Establecimientos!$A$1:$E$175,5,FALSE),0)","v":"04303-MONTE PATRIA"},"105481","80302034","2021-01-18T14:05:06",0,null,null,10]
[12,"5",2020,{"$f":"IFERROR(VLOOKUP([1]!Tabla_SERIEA_01_5[[#This Row],[IdEstablecimiento]],[2]Establecimientos!$A$1:$E$175,5,FALSE),0)","v":"04303-MONTE PATRIA"},"105481","80302047","2021-01-18T14:05:06",0,null,null,12]
[12,"5",2020,{"$f":"IFERROR(VLOOKUP([1]!Tabla_SERIEA_01_5[[#This Row],[IdEstablecimiento]],[2]Establecimientos!$A$1:$E$175,5,FALSE),0)","v":"04303-MONTE PATRIA"},"105481","80302075","2021-01-18T14:05:06",0,null,null,1]
[12,"5",2020,{"$f":"IFERROR(VLOOKUP([1]!Tabla_SERIEA_01_5[[#This Row],[IdEstablecimiento]],[2]Establecimientos!$A$1:$E$175,5,FALSE),0)","v":"04303-MONTE PATRIA"},"105481","80302076","2021-01-18T14:05:06",0,null,null,2]
[12,"5",2020,{"$f":"IFERROR(VLOOKUP([1]!Tabla_SERIEA_01_5[[#This Row],[IdEstablecimiento]],[2]Establecimientos!$A$1:$E$175,5,FALSE),0)","v":"04303-MONTE PATRIA"},"105481","80303024","2021-01-18T14:05:06",0,null,null,6]
[12,"5",2020,{"$f":"IFERROR(VLOOKUP([1]!Tabla_SERIEA_01_5[[#This Row],[IdEstablecimiento]],[2]Establecimientos!$A$1:$E$175,5,FALSE),0)","v":"04303-MONTE PATRIA"},"105481","80303026","2021-01-18T14:05:06",0,null,null,2]
[12,"5",2020,{"$f":"IFERROR(VLOOKUP([1]!Tabla_SERIEA_01_5[[#This Row],[IdEstablecimiento]],[2]Establecimientos!$A$1:$E$175,5,FALSE),0)","v":"04303-MONTE PATRIA"},"105481","80306011","2021-01-18T14:05:06",0,null,null,1]
[12,"5",2020,{"$f":"IFERROR(VLOOKUP([1]!Tabla_SERIEA_01_5[[#This Row],[IdEstablecimiento]],[2]Establecimientos!$A$1:$E$175,5,FALSE),0)","v":"04303-MONTE PATRIA"},"105481","80307011","2021-01-18T14:05:06",10,null,10]
[12,"5",2020,{"$f":"IFERROR(VLOOKUP([1]!Tabla_SERIEA_01_5[[#This Row],[IdEstablecimiento]],[2]Establecimientos!$A$1:$E$175,5,FALSE),0)","v":"04303-MONTE PATRIA"},"105481","18050100","2021-01-18T14:05:06",15,0,15]
[12,"5",2020,{"$f":"IFERROR(VLOOKUP([1]!Tabla_SERIEA_01_5[[#This Row],[IdEstablecimiento]],[2]Establecimientos!$A$1:$E$175,5,FALSE),0)","v":"04303-MONTE PATRIA"},"105482","81701009","2021-01-18T14:05:33",19,null,19,null,19]
[12,"5",2020,{"$f":"IFERROR(VLOOKUP([1]!Tabla_SERIEA_01_5[[#This Row],[IdEstablecimiento]],[2]Establecimientos!$A$1:$E$175,5,FALSE),0)","v":"04303-MONTE PATRIA"},"105482","80106002","2021-01-18T14:05:33",16,null,16,null,16]
[12,"5",2020,{"$f":"IFERROR(VLOOKUP([1]!Tabla_SERIEA_01_5[[#This Row],[IdEstablecimiento]],[2]Establecimientos!$A$1:$E$175,5,FALSE),0)","v":"04303-MONTE PATRIA"},"105482","80106005","2021-01-18T14:05:33",18,null,18,null,18]
[12,"5",2020,{"$f":"IFERROR(VLOOKUP([1]!Tabla_SERIEA_01_5[[#This Row],[IdEstablecimiento]],[2]Establecimientos!$A$1:$E$175,5,FALSE),0)","v":"04303-MONTE PATRIA"},"105482","80106007","2021-01-18T14:05:33",1,null,1,null,1]
[12,"5",2020,{"$f":"IFERROR(VLOOKUP([1]!Tabla_SERIEA_01_5[[#This Row],[IdEstablecimiento]],[2]Establecimientos!$A$1:$E$175,5,FALSE),0)","v":"04303-MONTE PATRIA"},"105482","80106013","2021-01-18T14:05:33",1,null,1,null,1]
[12,"5",2020,{"$f":"IFERROR(VLOOKUP([1]!Tabla_SERIEA_01_5[[#This Row],[IdEstablecimiento]],[2]Establecimientos!$A$1:$E$175,5,FALSE),0)","v":"04303-MONTE PATRIA"},"105482","80106014","2021-01-18T14:05:33",91,null,91,null,91]
[12,"5",2020,{"$f":"IFERROR(VLOOKUP([1]!Tabla_SERIEA_01_5[[#This Row],[IdEstablecimiento]],[2]Establecimientos!$A$1:$E$175,5,FALSE),0)","v":"04303-MONTE PATRIA"},"105482","80106015","2021-01-18T14:05:33",8,null,8,null,8]
[12,"5",2020,{"$f":"IFERROR(VLOOKUP([1]!Tabla_SERIEA_01_5[[#This Row],[IdEstablecimiento]],[2]Establecimientos!$A$1:$E$175,5,FALSE),0)","v":"04303-MONTE PATRIA"},"105482","80500011","2021-01-18T14:05:33",9,null,9,null,9]
[12,"5",2020,{"$f":"IFERROR(VLOOKUP([1]!Tabla_SERIEA_01_5[[#This Row],[IdEstablecimiento]],[2]Establecimientos!$A$1:$E$175,5,FALSE),0)","v":"04303-MONTE PATRIA"},"105482","18020500","2021-01-18T14:05:33",19,0,19]
[12,"5",2020,{"$f":"IFERROR(VLOOKUP([1]!Tabla_SERIEA_01_5[[#This Row],[IdEstablecimiento]],[2]Establecimientos!$A$1:$E$175,5,FALSE),0)","v":"04303-MONTE PATRIA"},"105482","18050100","2021-01-18T14:05:33",16,0,16]
[12,"5",2020,{"$f":"IFERROR(VLOOKUP([1]!Tabla_SERIEA_01_5[[#This Row],[IdEstablecimiento]],[2]Establecimientos!$A$1:$E$175,5,FALSE),0)","v":"04303-MONTE PATRIA"},"105482","18050200","2021-01-18T14:05:33",18,0,18]
[12,"5",2020,{"$f":"IFERROR(VLOOKUP([1]!Tabla_SERIEA_01_5[[#This Row],[IdEstablecimiento]],[2]Establecimientos!$A$1:$E$175,5,FALSE),0)","v":"04303-MONTE PATRIA"},"105485","80309010","2021-01-18T14:08:33",0,null,null,11]
[12,"5",2020,{"$f":"IFERROR(VLOOKUP([1]!Tabla_SERIEA_01_5[[#This Row],[IdEstablecimiento]],[2]Establecimientos!$A$1:$E$175,5,FALSE),0)","v":"04303-MONTE PATRIA"},"105485","80309022","2021-01-18T14:08:33",0,null,null,10]
[12,"5",2020,{"$f":"IFERROR(VLOOKUP([1]!Tabla_SERIEA_01_5[[#This Row],[IdEstablecimiento]],[2]Establecimientos!$A$1:$E$175,5,FALSE),0)","v":"04303-MONTE PATRIA"},"105485","80301045","2021-01-18T14:08:33",0,null,null,11]
[12,"5",2020,{"$f":"IFERROR(VLOOKUP([1]!Tabla_SERIEA_01_5[[#This Row],[IdEstablecimiento]],[2]Establecimientos!$A$1:$E$175,5,FALSE),0)","v":"04303-MONTE PATRIA"},"105485","81701001","2021-01-18T14:08:33",8,null,8,null,8]
[12,"5",2020,{"$f":"IFERROR(VLOOKUP([1]!Tabla_SERIEA_01_5[[#This Row],[IdEstablecimiento]],[2]Establecimientos!$A$1:$E$175,5,FALSE),0)","v":"04303-MONTE PATRIA"},"105485","81701009","2021-01-18T14:08:33",26,null,26,null,26]
[12,"5",2020,{"$f":"IFERROR(VLOOKUP([1]!Tabla_SERIEA_01_5[[#This Row],[IdEstablecimiento]],[2]Establecimientos!$A$1:$E$175,5,FALSE),0)","v":"04303-MONTE PATRIA"},"105485","80106002","2021-01-18T14:08:33",22,null,22,null,22]
[12,"5",2020,{"$f":"IFERROR(VLOOKUP([1]!Tabla_SERIEA_01_5[[#This Row],[IdEstablecimiento]],[2]Establecimientos!$A$1:$E$175,5,FALSE),0)","v":"04303-MONTE PATRIA"},"105485","80106017","2021-01-18T14:08:33",1,null,1,null,1]
[12,"5",2020,{"$f":"IFERROR(VLOOKUP([1]!Tabla_SERIEA_01_5[[#This Row],[IdEstablecimiento]],[2]Establecimientos!$A$1:$E$175,5,FALSE),0)","v":"04303-MONTE PATRIA"},"105485","80302034","2021-01-18T14:08:33",0,null,null,11]
[12,"5",2020,{"$f":"IFERROR(VLOOKUP([1]!Tabla_SERIEA_01_5[[#This Row],[IdEstablecimiento]],[2]Establecimientos!$A$1:$E$175,5,FALSE),0)","v":"04303-MONTE PATRIA"},"105485","80302047","2021-01-18T14:08:33",0,null,null,11]
[12,"5",2020,{"$f":"IFERROR(VLOOKUP([1]!Tabla_SERIEA_01_5[[#This Row],[IdEstablecimiento]],[2]Establecimientos!$A$1:$E$175,5,FALSE),0)","v":"04301-OVALLE"},"105485","80302057","2021-01-18T14:08:33",0,null,null,11]
[12,"5",2020,{"$f":"IFERROR(VLOOKUP([1]!Tabla_SERIEA_01_5[[#This Row],[IdEstablecimiento]],[2]Establecimientos!$A$1:$E$175,5,FALSE),0)","v":"04301-OVALLE"},"105485","80303024","2021-01-18T14:08:33",0,null,null,1]
[12,"5",2020,{"$f":"IFERROR(VLOOKUP([1]!Tabla_SERIEA_01_5[[#This Row],[IdEstablecimiento]],[2]Establecimientos!$A$1:$E$175,5,FALSE),0)","v":"04101-LA SERENA"},"105485","80306011","2021-01-18T14:08:33",0,null,null,1]
[12,"5",2020,{"$f":"IFERROR(VLOOKUP([1]!Tabla_SERIEA_01_5[[#This Row],[IdEstablecimiento]],[2]Establecimientos!$A$1:$E$175,5,FALSE),0)","v":"04104-LA HIGUERA"},"105485","80106014","2021-01-18T14:08:33",55,null,55,null,55]
[12,"5",2020,{"$f":"IFERROR(VLOOKUP([1]!Tabla_SERIEA_01_5[[#This Row],[IdEstablecimiento]],[2]Establecimientos!$A$1:$E$175,5,FALSE),0)","v":"04104-LA HIGUERA"},"105485","80106015","2021-01-18T14:08:33",1,null,1,null,1]
[12,"5",2020,{"$f":"IFERROR(VLOOKUP([1]!Tabla_SERIEA_01_5[[#This Row],[IdEstablecimiento]],[2]Establecimientos!$A$1:$E$175,5,FALSE),0)","v":"04104-LA HIGUERA"},"105485","80307011","2021-01-18T14:08:33",0,null,null,11]
[12,"5",2020,{"$f":"IFERROR(VLOOKUP([1]!Tabla_SERIEA_01_5[[#This Row],[IdEstablecimiento]],[2]Establecimientos!$A$1:$E$175,5,FALSE),0)","v":"04104-LA HIGUERA"},"105485","18020500","2021-01-18T14:08:33",34,0,34]
[12,"5",2020,{"$f":"IFERROR(VLOOKUP([1]!Tabla_SERIEA_01_5[[#This Row],[IdEstablecimiento]],[2]Establecimientos!$A$1:$E$175,5,FALSE),0)","v":"04104-LA HIGUERA"},"105485","18050100","2021-01-18T14:08:33",22,0,22]
[12,"5",2020,{"$f":"IFERROR(VLOOKUP([1]!Tabla_SERIEA_01_5[[#This Row],[IdEstablecimiento]],[2]Establecimientos!$A$1:$E$175,5,FALSE),0)","v":"04104-LA HIGUERA"},"105485","18700100","2021-01-18T14:08:33",15,1,14,0]
[12,"5",2020,{"$f":"IFERROR(VLOOKUP([1]!Tabla_SERIEA_01_5[[#This Row],[IdEstablecimiento]],[2]Establecimientos!$A$1:$E$175,5,FALSE),0)","v":"04104-LA HIGUERA"},"105486","80309010","2021-01-18T14:08:54",0,null,null,1]
[12,"5",2020,{"$f":"IFERROR(VLOOKUP([1]!Tabla_SERIEA_01_5[[#This Row],[IdEstablecimiento]],[2]Establecimientos!$A$1:$E$175,5,FALSE),0)","v":"04204-SALAMANCA"},"105486","80309022","2021-01-18T14:08:54",0,null,null,1]
[12,"5",2020,{"$f":"IFERROR(VLOOKUP([1]!Tabla_SERIEA_01_5[[#This Row],[IdEstablecimiento]],[2]Establecimientos!$A$1:$E$175,5,FALSE),0)","v":"105100-HOSPITAL LA SERENA"},"105486","80301041","2021-01-18T14:08:54",0,null,null,10]
[12,"5",2020,{"$f":"IFERROR(VLOOKUP([1]!Tabla_SERIEA_01_5[[#This Row],[IdEstablecimiento]],[2]Establecimientos!$A$1:$E$175,5,FALSE),0)","v":"04102-COQUIMBO"},"105486","80301045","2021-01-18T14:08:54",0,null,null,1]
[12,"5",2020,{"$f":"IFERROR(VLOOKUP([1]!Tabla_SERIEA_01_5[[#This Row],[IdEstablecimiento]],[2]Establecimientos!$A$1:$E$175,5,FALSE),0)","v":"04102-COQUIMBO"},"105486","81701001","2021-01-18T14:08:54",2,null,2,null,2]
[12,"5",2020,{"$f":"IFERROR(VLOOKUP([1]!Tabla_SERIEA_01_5[[#This Row],[IdEstablecimiento]],[2]Establecimientos!$A$1:$E$175,5,FALSE),0)","v":"04102-COQUIMBO"},"105486","81701009","2021-01-18T14:08:54",12,null,12,null,12]
[12,"5",2020,{"$f":"IFERROR(VLOOKUP([1]!Tabla_SERIEA_01_5[[#This Row],[IdEstablecimiento]],[2]Establecimientos!$A$1:$E$175,5,FALSE),0)","v":"04102-COQUIMBO"},"105486","81602222","2021-01-18T14:08:54",1,null,1,null,1]
[12,"5",2020,{"$f":"IFERROR(VLOOKUP([1]!Tabla_SERIEA_01_5[[#This Row],[IdEstablecimiento]],[2]Establecimientos!$A$1:$E$175,5,FALSE),0)","v":"04102-COQUIMBO"},"105486","80106002","2021-01-18T14:08:54",14,null,14,null,14]
[12,"5",2020,{"$f":"IFERROR(VLOOKUP([1]!Tabla_SERIEA_01_5[[#This Row],[IdEstablecimiento]],[2]Establecimientos!$A$1:$E$175,5,FALSE),0)","v":"04102-COQUIMBO"},"105486","80302034","2021-01-18T14:08:54",0,null,null,1]
[12,"5",2020,{"$f":"IFERROR(VLOOKUP([1]!Tabla_SERIEA_01_5[[#This Row],[IdEstablecimiento]],[2]Establecimientos!$A$1:$E$175,5,FALSE),0)","v":"04102-COQUIMBO"},"105486","80302047","2021-01-18T14:08:54",0,null,null,1]
[12,"5",2020,{"$f":"IFERROR(VLOOKUP([1]!Tabla_SERIEA_01_5[[#This Row],[IdEstablecimiento]],[2]Establecimientos!$A$1:$E$175,5,FALSE),0)","v":"04102-COQUIMBO"},"105486","80302057","2021-01-18T14:08:54",0,null,null,1]
[12,"5",2020,{"$f":"IFERROR(VLOOKUP([1]!Tabla_SERIEA_01_5[[#This Row],[IdEstablecimiento]],[2]Establecimientos!$A$1:$E$175,5,FALSE),0)","v":"04102-COQUIMBO"},"105486","80303024","2021-01-18T14:08:54",0,null,null,1]
[12,"5",2020,{"$f":"IFERROR(VLOOKUP([1]!Tabla_SERIEA_01_5[[#This Row],[IdEstablecimiento]],[2]Establecimientos!$A$1:$E$175,5,FALSE),0)","v":"04102-COQUIMBO"},"105486","80106014","2021-01-18T14:08:54",25,null,25,null,25]
[12,"5",2020,{"$f":"IFERROR(VLOOKUP([1]!Tabla_SERIEA_01_5[[#This Row],[IdEstablecimiento]],[2]Establecimientos!$A$1:$E$175,5,FALSE),0)","v":"04102-COQUIMBO"},"105486","80106023","2021-01-18T14:08:54",5,null,5,null,5]
[12,"5",2020,{"$f":"IFERROR(VLOOKUP([1]!Tabla_SERIEA_01_5[[#This Row],[IdEstablecimiento]],[2]Establecimientos!$A$1:$E$175,5,FALSE),0)","v":"04102-COQUIMBO"},"105486","80307011","2021-01-18T14:08:54",0,null,null,11]
[12,"5",2020,{"$f":"IFERROR(VLOOKUP([1]!Tabla_SERIEA_01_5[[#This Row],[IdEstablecimiento]],[2]Establecimientos!$A$1:$E$175,5,FALSE),0)","v":"04102-COQUIMBO"},"105486","80500011","2021-01-18T14:08:54",15,null,15,null,15]
[12,"5",2020,{"$f":"IFERROR(VLOOKUP([1]!Tabla_SERIEA_01_5[[#This Row],[IdEstablecimiento]],[2]Establecimientos!$A$1:$E$175,5,FALSE),0)","v":"04102-COQUIMBO"},"105486","18020500","2021-01-18T14:08:54",14,0,14]
[12,"5",2020,{"$f":"IFERROR(VLOOKUP([1]!Tabla_SERIEA_01_5[[#This Row],[IdEstablecimiento]],[2]Establecimientos!$A$1:$E$175,5,FALSE),0)","v":"04102-COQUIMBO"},"105486","18030000","2021-01-18T14:08:54",1,0,1]
[12,"5",2020,{"$f":"IFERROR(VLOOKUP([1]!Tabla_SERIEA_01_5[[#This Row],[IdEstablecimiento]],[2]Establecimientos!$A$1:$E$175,5,FALSE),0)","v":"04102-COQUIMBO"},"105486","18040200","2021-01-18T14:08:54",1,null,1]
[12,"5",2020,{"$f":"IFERROR(VLOOKUP([1]!Tabla_SERIEA_01_5[[#This Row],[IdEstablecimiento]],[2]Establecimientos!$A$1:$E$175,5,FALSE),0)","v":"04102-COQUIMBO"},"105486","18090000","2021-01-18T14:08:54",5,0,5]
[12,"5",2020,{"$f":"IFERROR(VLOOKUP([1]!Tabla_SERIEA_01_5[[#This Row],[IdEstablecimiento]],[2]Establecimientos!$A$1:$E$175,5,FALSE),0)","v":"04102-COQUIMBO"},"105486","18050100","2021-01-18T14:08:54",14,0,14]
[12,"5",2020,{"$f":"IFERROR(VLOOKUP([1]!Tabla_SERIEA_01_5[[#This Row],[IdEstablecimiento]],[2]Establecimientos!$A$1:$E$175,5,FALSE),0)","v":"04102-COQUIMBO"},"105487","80309010","2021-01-18T14:09:28",0,null,null,47]
[12,"5",2020,{"$f":"IFERROR(VLOOKUP([1]!Tabla_SERIEA_01_5[[#This Row],[IdEstablecimiento]],[2]Establecimientos!$A$1:$E$175,5,FALSE),0)","v":"04102-COQUIMBO"},"105487","80309022","2021-01-18T14:09:28",0,null,null,42]
[12,"5",2020,{"$f":"IFERROR(VLOOKUP([1]!Tabla_SERIEA_01_5[[#This Row],[IdEstablecimiento]],[2]Establecimientos!$A$1:$E$175,5,FALSE),0)","v":"04102-COQUIMBO"},"105487","80301036","2021-01-18T14:09:28",0,null,null,12]
[12,"5",2020,{"$f":"IFERROR(VLOOKUP([1]!Tabla_SERIEA_01_5[[#This Row],[IdEstablecimiento]],[2]Establecimientos!$A$1:$E$175,5,FALSE),0)","v":"04102-COQUIMBO"},"105487","80301041","2021-01-18T14:09:28",0,null,null,2]
[12,"5",2020,{"$f":"IFERROR(VLOOKUP([1]!Tabla_SERIEA_01_5[[#This Row],[IdEstablecimiento]],[2]Establecimientos!$A$1:$E$175,5,FALSE),0)","v":"04102-COQUIMBO"},"105487","80301045","2021-01-18T14:09:28",0,null,null,36]
[12,"5",2020,{"$f":"IFERROR(VLOOKUP([1]!Tabla_SERIEA_01_5[[#This Row],[IdEstablecimiento]],[2]Establecimientos!$A$1:$E$175,5,FALSE),0)","v":"04102-COQUIMBO"},"105487","80306061","2021-01-18T14:09:28",0,null,null,4]
[12,"5",2020,{"$f":"IFERROR(VLOOKUP([1]!Tabla_SERIEA_01_5[[#This Row],[IdEstablecimiento]],[2]Establecimientos!$A$1:$E$175,5,FALSE),0)","v":"04102-COQUIMBO"},"105487","81701001","2021-01-18T14:09:28",3,null,3,null,3]
[12,"5",2020,{"$f":"IFERROR(VLOOKUP([1]!Tabla_SERIEA_01_5[[#This Row],[IdEstablecimiento]],[2]Establecimientos!$A$1:$E$175,5,FALSE),0)","v":"04102-COQUIMBO"},"105487","81701009","2021-01-18T14:09:28",48,null,48,null,48]
[12,"5",2020,{"$f":"IFERROR(VLOOKUP([1]!Tabla_SERIEA_01_5[[#This Row],[IdEstablecimiento]],[2]Establecimientos!$A$1:$E$175,5,FALSE),0)","v":"04102-COQUIMBO"},"105487","81602225","2021-01-18T14:09:28",1,null,1]
[12,"5",2020,{"$f":"IFERROR(VLOOKUP([1]!Tabla_SERIEA_01_5[[#This Row],[IdEstablecimiento]],[2]Establecimientos!$A$1:$E$175,5,FALSE),0)","v":"04102-COQUIMBO"},"105487","81602231","2021-01-18T14:09:28",1,null,1]
[12,"5",2020,{"$f":"IFERROR(VLOOKUP([1]!Tabla_SERIEA_01_5[[#This Row],[IdEstablecimiento]],[2]Establecimientos!$A$1:$E$175,5,FALSE),0)","v":"04102-COQUIMBO"},"105487","80106002","2021-01-18T14:09:28",101,null,101,null,101]
[12,"5",2020,{"$f":"IFERROR(VLOOKUP([1]!Tabla_SERIEA_01_5[[#This Row],[IdEstablecimiento]],[2]Establecimientos!$A$1:$E$175,5,FALSE),0)","v":"04102-COQUIMBO"},"105487","80106017","2021-01-18T14:09:28",18,null,18,null,18]
[12,"5",2020,{"$f":"IFERROR(VLOOKUP([1]!Tabla_SERIEA_01_5[[#This Row],[IdEstablecimiento]],[2]Establecimientos!$A$1:$E$175,5,FALSE),0)","v":"04102-COQUIMBO"},"105487","80302023","2021-01-18T14:09:28",0,null,null,1]
[12,"5",2020,{"$f":"IFERROR(VLOOKUP([1]!Tabla_SERIEA_01_5[[#This Row],[IdEstablecimiento]],[2]Establecimientos!$A$1:$E$175,5,FALSE),0)","v":"04102-COQUIMBO"},"105487","80302032","2021-01-18T14:09:28",0,null,null,2]
[12,"5",2020,{"$f":"IFERROR(VLOOKUP([1]!Tabla_SERIEA_01_5[[#This Row],[IdEstablecimiento]],[2]Establecimientos!$A$1:$E$175,5,FALSE),0)","v":"04102-COQUIMBO"},"105487","80302034","2021-01-18T14:09:28",0,null,null,47]
[12,"5",2020,{"$f":"IFERROR(VLOOKUP([1]!Tabla_SERIEA_01_5[[#This Row],[IdEstablecimiento]],[2]Establecimientos!$A$1:$E$175,5,FALSE),0)","v":"04102-COQUIMBO"},"105487","80302047","2021-01-18T14:09:28",0,null,null,49]
[12,"5",2020,{"$f":"IFERROR(VLOOKUP([1]!Tabla_SERIEA_01_5[[#This Row],[IdEstablecimiento]],[2]Establecimientos!$A$1:$E$175,5,FALSE),0)","v":"04102-COQUIMBO"},"105487","80302057","2021-01-18T14:09:28",0,null,null,40]
[12,"5",2020,{"$f":"IFERROR(VLOOKUP([1]!Tabla_SERIEA_01_5[[#This Row],[IdEstablecimiento]],[2]Establecimientos!$A$1:$E$175,5,FALSE),0)","v":"04102-COQUIMBO"},"105487","80302076","2021-01-18T14:09:28",0,null,null,3]
[12,"5",2020,{"$f":"IFERROR(VLOOKUP([1]!Tabla_SERIEA_01_5[[#This Row],[IdEstablecimiento]],[2]Establecimientos!$A$1:$E$175,5,FALSE),0)","v":"04102-COQUIMBO"},"105487","80303024","2021-01-18T14:09:28",0,null,null,31]
[12,"5",2020,{"$f":"IFERROR(VLOOKUP([1]!Tabla_SERIEA_01_5[[#This Row],[IdEstablecimiento]],[2]Establecimientos!$A$1:$E$175,5,FALSE),0)","v":"04102-COQUIMBO"},"105487","80306011","2021-01-18T14:09:28",0,null,null,7]
[12,"5",2020,{"$f":"IFERROR(VLOOKUP([1]!Tabla_SERIEA_01_5[[#This Row],[IdEstablecimiento]],[2]Establecimientos!$A$1:$E$175,5,FALSE),0)","v":"04102-COQUIMBO"},"105487","80106010","2021-01-18T14:09:28",1,null,1,null,1]
[12,"5",2020,{"$f":"IFERROR(VLOOKUP([1]!Tabla_SERIEA_01_5[[#This Row],[IdEstablecimiento]],[2]Establecimientos!$A$1:$E$175,5,FALSE),0)","v":"04102-COQUIMBO"},"105487","80106013","2021-01-18T14:09:28",1,null,1,null,1]
[12,"5",2020,{"$f":"IFERROR(VLOOKUP([1]!Tabla_SERIEA_01_5[[#This Row],[IdEstablecimiento]],[2]Establecimientos!$A$1:$E$175,5,FALSE),0)","v":"04102-COQUIMBO"},"105487","80106014","2021-01-18T14:09:28",190,null,190,null,190]
[12,"5",2020,{"$f":"IFERROR(VLOOKUP([1]!Tabla_SERIEA_01_5[[#This Row],[IdEstablecimiento]],[2]Establecimientos!$A$1:$E$175,5,FALSE),0)","v":"04102-COQUIMBO"},"105487","80106015","2021-01-18T14:09:28",23,null,23,null,23]
[12,"5",2020,{"$f":"IFERROR(VLOOKUP([1]!Tabla_SERIEA_01_5[[#This Row],[IdEstablecimiento]],[2]Establecimientos!$A$1:$E$175,5,FALSE),0)","v":"04102-COQUIMBO"},"105487","80106020","2021-01-18T14:09:28",2,null,2,null,2]
[12,"5",2020,{"$f":"IFERROR(VLOOKUP([1]!Tabla_SERIEA_01_5[[#This Row],[IdEstablecimiento]],[2]Establecimientos!$A$1:$E$175,5,FALSE),0)","v":"04102-COQUIMBO"},"105487","80106023","2021-01-18T14:09:28",18,null,18,null,18]
[12,"5",2020,{"$f":"IFERROR(VLOOKUP([1]!Tabla_SERIEA_01_5[[#This Row],[IdEstablecimiento]],[2]Establecimientos!$A$1:$E$175,5,FALSE),0)","v":"04102-COQUIMBO"},"105487","80307011","2021-01-18T14:09:28",0,null,null,76]
[12,"5",2020,{"$f":"IFERROR(VLOOKUP([1]!Tabla_SERIEA_01_5[[#This Row],[IdEstablecimiento]],[2]Establecimientos!$A$1:$E$175,5,FALSE),0)","v":"04102-COQUIMBO"},"105487","80500011","2021-01-18T14:09:28",6,null,6]
[12,"5",2020,{"$f":"IFERROR(VLOOKUP([1]!Tabla_SERIEA_01_5[[#This Row],[IdEstablecimiento]],[2]Establecimientos!$A$1:$E$175,5,FALSE),0)","v":"04102-COQUIMBO"},"105487","80306042","2021-01-18T14:09:28",0,null,null,5]
[12,"5",2020,{"$f":"IFERROR(VLOOKUP([1]!Tabla_SERIEA_01_5[[#This Row],[IdEstablecimiento]],[2]Establecimientos!$A$1:$E$175,5,FALSE),0)","v":"04102-COQUIMBO"},"105487","18020500","2021-01-18T14:09:28",51,0,51]
[12,"5",2020,{"$f":"IFERROR(VLOOKUP([1]!Tabla_SERIEA_01_5[[#This Row],[IdEstablecimiento]],[2]Establecimientos!$A$1:$E$175,5,FALSE),0)","v":"04102-COQUIMBO"},"105487","18030000","2021-01-18T14:09:28",2,0,2]
[12,"5",2020,{"$f":"IFERROR(VLOOKUP([1]!Tabla_SERIEA_01_5[[#This Row],[IdEstablecimiento]],[2]Establecimientos!$A$1:$E$175,5,FALSE),0)","v":"04102-COQUIMBO"},"105487","18040200","2021-01-18T14:09:28",2,null,2]
[12,"5",2020,{"$f":"IFERROR(VLOOKUP([1]!Tabla_SERIEA_01_5[[#This Row],[IdEstablecimiento]],[2]Establecimientos!$A$1:$E$175,5,FALSE),0)","v":"04102-COQUIMBO"},"105487","18090000","2021-01-18T14:09:28",18,0,18]
[12,"5",2020,{"$f":"IFERROR(VLOOKUP([1]!Tabla_SERIEA_01_5[[#This Row],[IdEstablecimiento]],[2]Establecimientos!$A$1:$E$175,5,FALSE),0)","v":"04102-COQUIMBO"},"105487","18050100","2021-01-18T14:09:28",101,0,101]
[12,"5",2020,{"$f":"IFERROR(VLOOKUP([1]!Tabla_SERIEA_01_5[[#This Row],[IdEstablecimiento]],[2]Establecimientos!$A$1:$E$175,5,FALSE),0)","v":"04102-COQUIMBO"},"105487","18700100","2021-01-18T14:09:28",13,0,9,4]
[12,"5",2020,{"$f":"IFERROR(VLOOKUP([1]!Tabla_SERIEA_01_5[[#This Row],[IdEstablecimiento]],[2]Establecimientos!$A$1:$E$175,5,FALSE),0)","v":"04102-COQUIMBO"},"105488","80106002","2021-01-18T14:09:49",6,null,6,null,6]
[12,"5",2020,{"$f":"IFERROR(VLOOKUP([1]!Tabla_SERIEA_01_5[[#This Row],[IdEstablecimiento]],[2]Establecimientos!$A$1:$E$175,5,FALSE),0)","v":"04102-COQUIMBO"},"105488","80106005","2021-01-18T14:09:49",1,null,1,null,1]
[12,"5",2020,{"$f":"IFERROR(VLOOKUP([1]!Tabla_SERIEA_01_5[[#This Row],[IdEstablecimiento]],[2]Establecimientos!$A$1:$E$175,5,FALSE),0)","v":"04102-COQUIMBO"},"105488","80106014","2021-01-18T14:09:49",14,null,14,null,14]
[12,"5",2020,{"$f":"IFERROR(VLOOKUP([1]!Tabla_SERIEA_01_5[[#This Row],[IdEstablecimiento]],[2]Establecimientos!$A$1:$E$175,5,FALSE),0)","v":"04102-COQUIMBO"},"105488","80500011","2021-01-18T14:09:49",1,null,1,null,1]
[12,"5",2020,{"$f":"IFERROR(VLOOKUP([1]!Tabla_SERIEA_01_5[[#This Row],[IdEstablecimiento]],[2]Establecimientos!$A$1:$E$175,5,FALSE),0)","v":"04102-COQUIMBO"},"105488","18050100","2021-01-18T14:09:49",6,0,6]
[12,"5",2020,{"$f":"IFERROR(VLOOKUP([1]!Tabla_SERIEA_01_5[[#This Row],[IdEstablecimiento]],[2]Establecimientos!$A$1:$E$175,5,FALSE),0)","v":"04102-COQUIMBO"},"105488","18050200","2021-01-18T14:09:49",1,0,1]
[12,"5",2020,{"$f":"IFERROR(VLOOKUP([1]!Tabla_SERIEA_01_5[[#This Row],[IdEstablecimiento]],[2]Establecimientos!$A$1:$E$175,5,FALSE),0)","v":"04102-COQUIMBO"},"105489","81701001","2021-01-18T14:10:11",2,null,2,null,2]
[12,"5",2020,{"$f":"IFERROR(VLOOKUP([1]!Tabla_SERIEA_01_5[[#This Row],[IdEstablecimiento]],[2]Establecimientos!$A$1:$E$175,5,FALSE),0)","v":"04102-COQUIMBO"},"105489","81701009","2021-01-18T14:10:11",16,null,16,null,16]
[12,"5",2020,{"$f":"IFERROR(VLOOKUP([1]!Tabla_SERIEA_01_5[[#This Row],[IdEstablecimiento]],[2]Establecimientos!$A$1:$E$175,5,FALSE),0)","v":"04102-COQUIMBO"},"105489","80106002","2021-01-18T14:10:11",6,null,6,null,6]
[12,"5",2020,{"$f":"IFERROR(VLOOKUP([1]!Tabla_SERIEA_01_5[[#This Row],[IdEstablecimiento]],[2]Establecimientos!$A$1:$E$175,5,FALSE),0)","v":"04102-COQUIMBO"},"105489","80106013","2021-01-18T14:10:11",1,null,1,null,1]
[12,"5",2020,{"$f":"IFERROR(VLOOKUP([1]!Tabla_SERIEA_01_5[[#This Row],[IdEstablecimiento]],[2]Establecimientos!$A$1:$E$175,5,FALSE),0)","v":"04102-COQUIMBO"},"105489","80106014","2021-01-18T14:10:11",19,null,19,null,19]
[12,"5",2020,{"$f":"IFERROR(VLOOKUP([1]!Tabla_SERIEA_01_5[[#This Row],[IdEstablecimiento]],[2]Establecimientos!$A$1:$E$175,5,FALSE),0)","v":"04102-COQUIMBO"},"105489","80106015","2021-01-18T14:10:11",2,null,2,null,2]
[12,"5",2020,{"$f":"IFERROR(VLOOKUP([1]!Tabla_SERIEA_01_5[[#This Row],[IdEstablecimiento]],[2]Establecimientos!$A$1:$E$175,5,FALSE),0)","v":"04102-COQUIMBO"},"105489","80500011","2021-01-18T14:10:11",3,null,3,null,3]
[12,"5",2020,{"$f":"IFERROR(VLOOKUP([1]!Tabla_SERIEA_01_5[[#This Row],[IdEstablecimiento]],[2]Establecimientos!$A$1:$E$175,5,FALSE),0)","v":"04102-COQUIMBO"},"105489","18020500","2021-01-18T14:10:11",18,0,18]
[12,"5",2020,{"$f":"IFERROR(VLOOKUP([1]!Tabla_SERIEA_01_5[[#This Row],[IdEstablecimiento]],[2]Establecimientos!$A$1:$E$175,5,FALSE),0)","v":"04102-COQUIMBO"},"105489","18050100","2021-01-18T14:10:11",6,0,6]
[12,"5",2020,{"$f":"IFERROR(VLOOKUP([1]!Tabla_SERIEA_01_5[[#This Row],[IdEstablecimiento]],[2]Establecimientos!$A$1:$E$175,5,FALSE),0)","v":"04102-COQUIMBO"},"105490","80106017","2021-01-18T14:10:38",8,null,8,null,8]
[12,"5",2020,{"$f":"IFERROR(VLOOKUP([1]!Tabla_SERIEA_01_5[[#This Row],[IdEstablecimiento]],[2]Establecimientos!$A$1:$E$175,5,FALSE),0)","v":"04102-COQUIMBO"},"105490","80106014","2021-01-18T14:10:38",19,null,19,null,19]
[12,"5",2020,{"$f":"IFERROR(VLOOKUP([1]!Tabla_SERIEA_01_5[[#This Row],[IdEstablecimiento]],[2]Establecimientos!$A$1:$E$175,5,FALSE),0)","v":"04102-COQUIMBO"},"105490","80307011","2021-01-18T14:10:38",2,null,2]
[12,"5",2020,{"$f":"IFERROR(VLOOKUP([1]!Tabla_SERIEA_01_5[[#This Row],[IdEstablecimiento]],[2]Establecimientos!$A$1:$E$175,5,FALSE),0)","v":"04102-COQUIMBO"},"105490","80500011","2021-01-18T14:10:38",9,null,9,null,9]
[12,"5",2020,{"$f":"IFERROR(VLOOKUP([1]!Tabla_SERIEA_01_5[[#This Row],[IdEstablecimiento]],[2]Establecimientos!$A$1:$E$175,5,FALSE),0)","v":"04102-COQUIMBO"},"105492","81701001","2021-01-18T14:11:49",5,null,5]
[12,"5",2020,{"$f":"IFERROR(VLOOKUP([1]!Tabla_SERIEA_01_5[[#This Row],[IdEstablecimiento]],[2]Establecimientos!$A$1:$E$175,5,FALSE),0)","v":"04102-COQUIMBO"},"105492","81602222","2021-01-18T14:11:49",1,null,1]
[12,"5",2020,{"$f":"IFERROR(VLOOKUP([1]!Tabla_SERIEA_01_5[[#This Row],[IdEstablecimiento]],[2]Establecimientos!$A$1:$E$175,5,FALSE),0)","v":"04102-COQUIMBO"},"105492","80106002","2021-01-18T14:11:49",7,null,7]
[12,"5",2020,{"$f":"IFERROR(VLOOKUP([1]!Tabla_SERIEA_01_5[[#This Row],[IdEstablecimiento]],[2]Establecimientos!$A$1:$E$175,5,FALSE),0)","v":"04102-COQUIMBO"},"105492","80106023","2021-01-18T14:11:49",4,null,4]
[12,"5",2020,{"$f":"IFERROR(VLOOKUP([1]!Tabla_SERIEA_01_5[[#This Row],[IdEstablecimiento]],[2]Establecimientos!$A$1:$E$175,5,FALSE),0)","v":"04102-COQUIMBO"},"105492","80500011","2021-01-18T14:11:49",7,null,7]
[12,"5",2020,{"$f":"IFERROR(VLOOKUP([1]!Tabla_SERIEA_01_5[[#This Row],[IdEstablecimiento]],[2]Establecimientos!$A$1:$E$175,5,FALSE),0)","v":"04102-COQUIMBO"},"105492","18020500","2021-01-18T14:11:49",5,0,5]
[12,"5",2020,{"$f":"IFERROR(VLOOKUP([1]!Tabla_SERIEA_01_5[[#This Row],[IdEstablecimiento]],[2]Establecimientos!$A$1:$E$175,5,FALSE),0)","v":"04102-COQUIMBO"},"105492","18030000","2021-01-18T14:11:49",1,0,1]
[12,"5",2020,{"$f":"IFERROR(VLOOKUP([1]!Tabla_SERIEA_01_5[[#This Row],[IdEstablecimiento]],[2]Establecimientos!$A$1:$E$175,5,FALSE),0)","v":"04102-COQUIMBO"},"105492","18040200","2021-01-18T14:11:49",1,null,1]
[12,"5",2020,{"$f":"IFERROR(VLOOKUP([1]!Tabla_SERIEA_01_5[[#This Row],[IdEstablecimiento]],[2]Establecimientos!$A$1:$E$175,5,FALSE),0)","v":"04102-COQUIMBO"},"105492","18090000","2021-01-18T14:11:49",4,0,4]
[12,"5",2020,{"$f":"IFERROR(VLOOKUP([1]!Tabla_SERIEA_01_5[[#This Row],[IdEstablecimiento]],[2]Establecimientos!$A$1:$E$175,5,FALSE),0)","v":"04102-COQUIMBO"},"105492","18050100","2021-01-18T14:11:49",7,0,7]
[12,"5",2020,{"$f":"IFERROR(VLOOKUP([1]!Tabla_SERIEA_01_5[[#This Row],[IdEstablecimiento]],[2]Establecimientos!$A$1:$E$175,5,FALSE),0)","v":"04102-COQUIMBO"},"105493","81701009","2021-01-18T14:12:24",4,null,4,null,4]
[12,"5",2020,{"$f":"IFERROR(VLOOKUP([1]!Tabla_SERIEA_01_5[[#This Row],[IdEstablecimiento]],[2]Establecimientos!$A$1:$E$175,5,FALSE),0)","v":"04102-COQUIMBO"},"105493","80106002","2021-01-18T14:12:24",1,null,1,null,1]
[12,"5",2020,{"$f":"IFERROR(VLOOKUP([1]!Tabla_SERIEA_01_5[[#This Row],[IdEstablecimiento]],[2]Establecimientos!$A$1:$E$175,5,FALSE),0)","v":"04102-COQUIMBO"},"105493","80106014","2021-01-18T14:12:24",12,null,12,null,12]
[12,"5",2020,{"$f":"IFERROR(VLOOKUP([1]!Tabla_SERIEA_01_5[[#This Row],[IdEstablecimiento]],[2]Establecimientos!$A$1:$E$175,5,FALSE),0)","v":"04102-COQUIMBO"},"105493","18020500","2021-01-18T14:12:24",4,0,4]
[12,"5",2020,{"$f":"IFERROR(VLOOKUP([1]!Tabla_SERIEA_01_5[[#This Row],[IdEstablecimiento]],[2]Establecimientos!$A$1:$E$175,5,FALSE),0)","v":"04102-COQUIMBO"},"105493","18050100","2021-01-18T14:12:24",1,0,1]
[12,"5",2020,{"$f":"IFERROR(VLOOKUP([1]!Tabla_SERIEA_01_5[[#This Row],[IdEstablecimiento]],[2]Establecimientos!$A$1:$E$175,5,FALSE),0)","v":"04102-COQUIMBO"},"105496","80309010","2021-01-18T14:13:01",0,null,null,2]
[12,"5",2020,{"$f":"IFERROR(VLOOKUP([1]!Tabla_SERIEA_01_5[[#This Row],[IdEstablecimiento]],[2]Establecimientos!$A$1:$E$175,5,FALSE),0)","v":"04102-COQUIMBO"},"105496","80309013","2021-01-18T14:13:01",0,null,null,1]
[12,"5",2020,{"$f":"IFERROR(VLOOKUP([1]!Tabla_SERIEA_01_5[[#This Row],[IdEstablecimiento]],[2]Establecimientos!$A$1:$E$175,5,FALSE),0)","v":"04102-COQUIMBO"},"105496","80309022","2021-01-18T14:13:01",0,null,null,5]
[12,"5",2020,{"$f":"IFERROR(VLOOKUP([1]!Tabla_SERIEA_01_5[[#This Row],[IdEstablecimiento]],[2]Establecimientos!$A$1:$E$175,5,FALSE),0)","v":"04102-COQUIMBO"},"105496","80301041","2021-01-18T14:13:01",0,null,null,1]
[12,"5",2020,{"$f":"IFERROR(VLOOKUP([1]!Tabla_SERIEA_01_5[[#This Row],[IdEstablecimiento]],[2]Establecimientos!$A$1:$E$175,5,FALSE),0)","v":"04102-COQUIMBO"},"105496","80301045","2021-01-18T14:13:01",0,null,null,4]
[12,"5",2020,{"$f":"IFERROR(VLOOKUP([1]!Tabla_SERIEA_01_5[[#This Row],[IdEstablecimiento]],[2]Establecimientos!$A$1:$E$175,5,FALSE),0)","v":"04102-COQUIMBO"},"105496","81701001","2021-01-18T14:13:01",3,null,3,null,3]
[12,"5",2020,{"$f":"IFERROR(VLOOKUP([1]!Tabla_SERIEA_01_5[[#This Row],[IdEstablecimiento]],[2]Establecimientos!$A$1:$E$175,5,FALSE),0)","v":"04102-COQUIMBO"},"105496","81701009","2021-01-18T14:13:01",9,null,9,null,9]
[12,"5",2020,{"$f":"IFERROR(VLOOKUP([1]!Tabla_SERIEA_01_5[[#This Row],[IdEstablecimiento]],[2]Establecimientos!$A$1:$E$175,5,FALSE),0)","v":"04102-COQUIMBO"},"105496","80106002","2021-01-18T14:13:01",3,null,3,null,3]
[12,"5",2020,{"$f":"IFERROR(VLOOKUP([1]!Tabla_SERIEA_01_5[[#This Row],[IdEstablecimiento]],[2]Establecimientos!$A$1:$E$175,5,FALSE),0)","v":"04102-COQUIMBO"},"105496","80106005","2021-01-18T14:13:01",1,null,1,null,1]
[12,"5",2020,{"$f":"IFERROR(VLOOKUP([1]!Tabla_SERIEA_01_5[[#This Row],[IdEstablecimiento]],[2]Establecimientos!$A$1:$E$175,5,FALSE),0)","v":"04102-COQUIMBO"},"105496","80106017","2021-01-18T14:13:01",7,null,7,null,7]
[12,"5",2020,{"$f":"IFERROR(VLOOKUP([1]!Tabla_SERIEA_01_5[[#This Row],[IdEstablecimiento]],[2]Establecimientos!$A$1:$E$175,5,FALSE),0)","v":"04102-COQUIMBO"},"105496","80302034","2021-01-18T14:13:01",0,null,null,4]
[12,"5",2020,{"$f":"IFERROR(VLOOKUP([1]!Tabla_SERIEA_01_5[[#This Row],[IdEstablecimiento]],[2]Establecimientos!$A$1:$E$175,5,FALSE),0)","v":"04102-COQUIMBO"},"105496","80302047","2021-01-18T14:13:01",0,null,null,4]
[12,"5",2020,{"$f":"IFERROR(VLOOKUP([1]!Tabla_SERIEA_01_5[[#This Row],[IdEstablecimiento]],[2]Establecimientos!$A$1:$E$175,5,FALSE),0)","v":"04102-COQUIMBO"},"105496","80302057","2021-01-18T14:13:01",0,null,null,2]
[12,"5",2020,{"$f":"IFERROR(VLOOKUP([1]!Tabla_SERIEA_01_5[[#This Row],[IdEstablecimiento]],[2]Establecimientos!$A$1:$E$175,5,FALSE),0)","v":"04102-COQUIMBO"},"105496","80303024","2021-01-18T14:13:01",0,null,null,5]
[12,"5",2020,{"$f":"IFERROR(VLOOKUP([1]!Tabla_SERIEA_01_5[[#This Row],[IdEstablecimiento]],[2]Establecimientos!$A$1:$E$175,5,FALSE),0)","v":"04102-COQUIMBO"},"105496","80306011","2021-01-18T14:13:01",0,null,null,4]
[12,"5",2020,{"$f":"IFERROR(VLOOKUP([1]!Tabla_SERIEA_01_5[[#This Row],[IdEstablecimiento]],[2]Establecimientos!$A$1:$E$175,5,FALSE),0)","v":"04102-COQUIMBO"},"105496","80106010","2021-01-18T14:13:01",1,null,1,null,1]
[12,"5",2020,{"$f":"IFERROR(VLOOKUP([1]!Tabla_SERIEA_01_5[[#This Row],[IdEstablecimiento]],[2]Establecimientos!$A$1:$E$175,5,FALSE),0)","v":"04102-COQUIMBO"},"105496","80106013","2021-01-18T14:13:01",1,null,1,null,1]
[12,"5",2020,{"$f":"IFERROR(VLOOKUP([1]!Tabla_SERIEA_01_5[[#This Row],[IdEstablecimiento]],[2]Establecimientos!$A$1:$E$175,5,FALSE),0)","v":"04102-COQUIMBO"},"105496","80106014","2021-01-18T14:13:01",22,null,22,null,22]
[12,"5",2020,{"$f":"IFERROR(VLOOKUP([1]!Tabla_SERIEA_01_5[[#This Row],[IdEstablecimiento]],[2]Establecimientos!$A$1:$E$175,5,FALSE),0)","v":"04102-COQUIMBO"},"105496","80106015","2021-01-18T14:13:01",1,null,1,null,1]
[12,"5",2020,{"$f":"IFERROR(VLOOKUP([1]!Tabla_SERIEA_01_5[[#This Row],[IdEstablecimiento]],[2]Establecimientos!$A$1:$E$175,5,FALSE),0)","v":"04102-COQUIMBO"},"105496","80106020","2021-01-18T14:13:01",1,null,1,null,1]
[12,"5",2020,{"$f":"IFERROR(VLOOKUP([1]!Tabla_SERIEA_01_5[[#This Row],[IdEstablecimiento]],[2]Establecimientos!$A$1:$E$175,5,FALSE),0)","v":"04102-COQUIMBO"},"105496","80106022","2021-01-18T14:13:01",1,null,1,null,1]
[12,"5",2020,{"$f":"IFERROR(VLOOKUP([1]!Tabla_SERIEA_01_5[[#This Row],[IdEstablecimiento]],[2]Establecimientos!$A$1:$E$175,5,FALSE),0)","v":"04102-COQUIMBO"},"105496","80106023","2021-01-18T14:13:01",11,null,11,null,11]
[12,"5",2020,{"$f":"IFERROR(VLOOKUP([1]!Tabla_SERIEA_01_5[[#This Row],[IdEstablecimiento]],[2]Establecimientos!$A$1:$E$175,5,FALSE),0)","v":"04102-COQUIMBO"},"105496","80307011","2021-01-18T14:13:01",0,null,null,11]
[12,"5",2020,{"$f":"IFERROR(VLOOKUP([1]!Tabla_SERIEA_01_5[[#This Row],[IdEstablecimiento]],[2]Establecimientos!$A$1:$E$175,5,FALSE),0)","v":"04102-COQUIMBO"},"105496","80500011","2021-01-18T14:13:01",6,null,6,null,6]
[12,"5",2020,{"$f":"IFERROR(VLOOKUP([1]!Tabla_SERIEA_01_5[[#This Row],[IdEstablecimiento]],[2]Establecimientos!$A$1:$E$175,5,FALSE),0)","v":"04102-COQUIMBO"},"105496","80305070","2021-01-18T14:13:01",0,null,null,1]
[12,"5",2020,{"$f":"IFERROR(VLOOKUP([1]!Tabla_SERIEA_01_5[[#This Row],[IdEstablecimiento]],[2]Establecimientos!$A$1:$E$175,5,FALSE),0)","v":"04102-COQUIMBO"},"105496","18020500","2021-01-18T14:13:01",12,0,12]
[12,"5",2020,{"$f":"IFERROR(VLOOKUP([1]!Tabla_SERIEA_01_5[[#This Row],[IdEstablecimiento]],[2]Establecimientos!$A$1:$E$175,5,FALSE),0)","v":"04102-COQUIMBO"},"105496","18090000","2021-01-18T14:13:01",11,0,11]
[12,"5",2020,{"$f":"IFERROR(VLOOKUP([1]!Tabla_SERIEA_01_5[[#This Row],[IdEstablecimiento]],[2]Establecimientos!$A$1:$E$175,5,FALSE),0)","v":"04102-COQUIMBO"},"105496","18050100","2021-01-18T14:13:01",3,0,3]
[12,"5",2020,{"$f":"IFERROR(VLOOKUP([1]!Tabla_SERIEA_01_5[[#This Row],[IdEstablecimiento]],[2]Establecimientos!$A$1:$E$175,5,FALSE),0)","v":"04102-COQUIMBO"},"105496","18050200","2021-01-18T14:13:01",1,0,1]
[12,"5",2020,{"$f":"IFERROR(VLOOKUP([1]!Tabla_SERIEA_01_5[[#This Row],[IdEstablecimiento]],[2]Establecimientos!$A$1:$E$175,5,FALSE),0)","v":"04102-COQUIMBO"},"105496","18400700","2021-01-18T14:13:01",2]
[12,"5",2020,{"$f":"IFERROR(VLOOKUP([1]!Tabla_SERIEA_01_5[[#This Row],[IdEstablecimiento]],[2]Establecimientos!$A$1:$E$175,5,FALSE),0)","v":"04102-COQUIMBO"},"105496","18700100","2021-01-18T14:13:01",18,0,16,2]
[12,"5",2020,{"$f":"IFERROR(VLOOKUP([1]!Tabla_SERIEA_01_5[[#This Row],[IdEstablecimiento]],[2]Establecimientos!$A$1:$E$175,5,FALSE),0)","v":"04102-COQUIMBO"},"105497","81701009","2021-01-18T14:13:42",6,null,6,null,6]
[12,"5",2020,{"$f":"IFERROR(VLOOKUP([1]!Tabla_SERIEA_01_5[[#This Row],[IdEstablecimiento]],[2]Establecimientos!$A$1:$E$175,5,FALSE),0)","v":"04102-COQUIMBO"},"105497","80106005","2021-01-18T14:13:42",3,null,3,null,3]
[12,"5",2020,{"$f":"IFERROR(VLOOKUP([1]!Tabla_SERIEA_01_5[[#This Row],[IdEstablecimiento]],[2]Establecimientos!$A$1:$E$175,5,FALSE),0)","v":"04102-COQUIMBO"},"105497","80106014","2021-01-18T14:13:42",7,null,7,null,7]
[12,"5",2020,{"$f":"IFERROR(VLOOKUP([1]!Tabla_SERIEA_01_5[[#This Row],[IdEstablecimiento]],[2]Establecimientos!$A$1:$E$175,5,FALSE),0)","v":"04102-COQUIMBO"},"105497","80106015","2021-01-18T14:13:42",2,null,2,null,2]
[12,"5",2020,{"$f":"IFERROR(VLOOKUP([1]!Tabla_SERIEA_01_5[[#This Row],[IdEstablecimiento]],[2]Establecimientos!$A$1:$E$175,5,FALSE),0)","v":"04102-COQUIMBO"},"105497","80500011","2021-01-18T14:13:42",2,null,2,null,2]
[12,"5",2020,{"$f":"IFERROR(VLOOKUP([1]!Tabla_SERIEA_01_5[[#This Row],[IdEstablecimiento]],[2]Establecimientos!$A$1:$E$175,5,FALSE),0)","v":"04102-COQUIMBO"},"105497","18020500","2021-01-18T14:13:42",6,0,6]
[12,"5",2020,{"$f":"IFERROR(VLOOKUP([1]!Tabla_SERIEA_01_5[[#This Row],[IdEstablecimiento]],[2]Establecimientos!$A$1:$E$175,5,FALSE),0)","v":"04102-COQUIMBO"},"105497","18050200","2021-01-18T14:13:42",3,0,3]
[12,"5",2020,{"$f":"IFERROR(VLOOKUP([1]!Tabla_SERIEA_01_5[[#This Row],[IdEstablecimiento]],[2]Establecimientos!$A$1:$E$175,5,FALSE),0)","v":"04102-COQUIMBO"},"105499","80309013","2021-01-18T14:15:16",0,null,null,3]
[12,"5",2020,{"$f":"IFERROR(VLOOKUP([1]!Tabla_SERIEA_01_5[[#This Row],[IdEstablecimiento]],[2]Establecimientos!$A$1:$E$175,5,FALSE),0)","v":"04102-COQUIMBO"},"105499","80309022","2021-01-18T14:15:16",0,null,null,10]
[12,"5",2020,{"$f":"IFERROR(VLOOKUP([1]!Tabla_SERIEA_01_5[[#This Row],[IdEstablecimiento]],[2]Establecimientos!$A$1:$E$175,5,FALSE),0)","v":"04102-COQUIMBO"},"105499","80301036","2021-01-18T14:15:16",0,null,null,3]
[12,"5",2020,{"$f":"IFERROR(VLOOKUP([1]!Tabla_SERIEA_01_5[[#This Row],[IdEstablecimiento]],[2]Establecimientos!$A$1:$E$175,5,FALSE),0)","v":"04102-COQUIMBO"},"105499","80301038","2021-01-18T14:15:16",0,null,null,3]
[12,"5",2020,{"$f":"IFERROR(VLOOKUP([1]!Tabla_SERIEA_01_5[[#This Row],[IdEstablecimiento]],[2]Establecimientos!$A$1:$E$175,5,FALSE),0)","v":"04102-COQUIMBO"},"105499","80301041","2021-01-18T14:15:16",0,null,null,8]
[12,"5",2020,{"$f":"IFERROR(VLOOKUP([1]!Tabla_SERIEA_01_5[[#This Row],[IdEstablecimiento]],[2]Establecimientos!$A$1:$E$175,5,FALSE),0)","v":"04102-COQUIMBO"},"105499","80301045","2021-01-18T14:15:16",0,null,null,7]
[12,"5",2020,{"$f":"IFERROR(VLOOKUP([1]!Tabla_SERIEA_01_5[[#This Row],[IdEstablecimiento]],[2]Establecimientos!$A$1:$E$175,5,FALSE),0)","v":"04102-COQUIMBO"},"105499","80301086","2021-01-18T14:15:16",0,null,null,7]
[12,"5",2020,{"$f":"IFERROR(VLOOKUP([1]!Tabla_SERIEA_01_5[[#This Row],[IdEstablecimiento]],[2]Establecimientos!$A$1:$E$175,5,FALSE),0)","v":"04102-COQUIMBO"},"105499","80302005","2021-01-18T14:15:16",0,null,null,5]
[12,"5",2020,{"$f":"IFERROR(VLOOKUP([1]!Tabla_SERIEA_01_5[[#This Row],[IdEstablecimiento]],[2]Establecimientos!$A$1:$E$175,5,FALSE),0)","v":"04102-COQUIMBO"},"105499","80106002","2021-01-18T14:15:16",18,null,18,null,18]
[12,"5",2020,{"$f":"IFERROR(VLOOKUP([1]!Tabla_SERIEA_01_5[[#This Row],[IdEstablecimiento]],[2]Establecimientos!$A$1:$E$175,5,FALSE),0)","v":"04102-COQUIMBO"},"105499","80106017","2021-01-18T14:15:16",26,null,26,null,26]
[12,"5",2020,{"$f":"IFERROR(VLOOKUP([1]!Tabla_SERIEA_01_5[[#This Row],[IdEstablecimiento]],[2]Establecimientos!$A$1:$E$175,5,FALSE),0)","v":"04102-COQUIMBO"},"105499","80302013","2021-01-18T14:15:16",0,null,null,5]
[12,"5",2020,{"$f":"IFERROR(VLOOKUP([1]!Tabla_SERIEA_01_5[[#This Row],[IdEstablecimiento]],[2]Establecimientos!$A$1:$E$175,5,FALSE),0)","v":"04102-COQUIMBO"},"105499","80302067","2021-01-18T14:15:16",0,null,null,10]
[12,"5",2020,{"$f":"IFERROR(VLOOKUP([1]!Tabla_SERIEA_01_5[[#This Row],[IdEstablecimiento]],[2]Establecimientos!$A$1:$E$175,5,FALSE),0)","v":"04102-COQUIMBO"},"105499","80302068","2021-01-18T14:15:16",0,null,null,10]
[12,"5",2020,{"$f":"IFERROR(VLOOKUP([1]!Tabla_SERIEA_01_5[[#This Row],[IdEstablecimiento]],[2]Establecimientos!$A$1:$E$175,5,FALSE),0)","v":"105100-HOSPITAL LA SERENA"},"105499","80302023","2021-01-18T14:15:16",0,null,null,10]
[12,"5",2020,{"$f":"IFERROR(VLOOKUP([1]!Tabla_SERIEA_01_5[[#This Row],[IdEstablecimiento]],[2]Establecimientos!$A$1:$E$175,5,FALSE),0)","v":"105100-HOSPITAL LA SERENA"},"105499","80302032","2021-01-18T14:15:16",0,null,null,27]
[12,"5",2020,{"$f":"IFERROR(VLOOKUP([1]!Tabla_SERIEA_01_5[[#This Row],[IdEstablecimiento]],[2]Establecimientos!$A$1:$E$175,5,FALSE),0)","v":"105100-HOSPITAL LA SERENA"},"105499","80302040","2021-01-18T14:15:16",0,null,null,5]
[12,"5",2020,{"$f":"IFERROR(VLOOKUP([1]!Tabla_SERIEA_01_5[[#This Row],[IdEstablecimiento]],[2]Establecimientos!$A$1:$E$175,5,FALSE),0)","v":"105100-HOSPITAL LA SERENA"},"105499","80302047","2021-01-18T14:15:16",0,null,null,11]
[12,"5",2020,{"$f":"IFERROR(VLOOKUP([1]!Tabla_SERIEA_01_5[[#This Row],[IdEstablecimiento]],[2]Establecimientos!$A$1:$E$175,5,FALSE),0)","v":"04106-VICUÑA"},"105499","80302063","2021-01-18T14:15:16",0,null,null,6]
[12,"5",2020,{"$f":"IFERROR(VLOOKUP([1]!Tabla_SERIEA_01_5[[#This Row],[IdEstablecimiento]],[2]Establecimientos!$A$1:$E$175,5,FALSE),0)","v":"04106-VICUÑA"},"105499","80302064","2021-01-18T14:15:16",0,null,null,10]
[12,"5",2020,{"$f":"IFERROR(VLOOKUP([1]!Tabla_SERIEA_01_5[[#This Row],[IdEstablecimiento]],[2]Establecimientos!$A$1:$E$175,5,FALSE),0)","v":"04106-VICUÑA"},"105499","80303024","2021-01-18T14:15:16",0,null,null,5]
[12,"5",2020,{"$f":"IFERROR(VLOOKUP([1]!Tabla_SERIEA_01_5[[#This Row],[IdEstablecimiento]],[2]Establecimientos!$A$1:$E$175,5,FALSE),0)","v":"04106-VICUÑA"},"105499","18050100","2021-01-18T14:15:16",18,0,18]
[12,"5",2020,{"$f":"IFERROR(VLOOKUP([1]!Tabla_SERIEA_01_5[[#This Row],[IdEstablecimiento]],[2]Establecimientos!$A$1:$E$175,5,FALSE),0)","v":"04106-VICUÑA"},"105501","81701001","2021-01-18T14:16:28",13,null,13]
[12,"5",2020,{"$f":"IFERROR(VLOOKUP([1]!Tabla_SERIEA_01_5[[#This Row],[IdEstablecimiento]],[2]Establecimientos!$A$1:$E$175,5,FALSE),0)","v":"04201-ILLAPEL"},"105503","81701001","2021-01-18T14:16:55",4,null,4,null,4]
[12,"5",2020,{"$f":"IFERROR(VLOOKUP([1]!Tabla_SERIEA_01_5[[#This Row],[IdEstablecimiento]],[2]Establecimientos!$A$1:$E$175,5,FALSE),0)","v":"04203-LOS VILOS"},"105504","80302047","2021-01-18T14:18:22",0,null,null,11]
[12,"5",2020,{"$f":"IFERROR(VLOOKUP([1]!Tabla_SERIEA_01_5[[#This Row],[IdEstablecimiento]],[2]Establecimientos!$A$1:$E$175,5,FALSE),0)","v":"04305-RIO HURTADO"},"105505","80106002","2021-01-18T14:18:42",6,6,null,null,6]
[12,"5",2020,{"$f":"IFERROR(VLOOKUP([1]!Tabla_SERIEA_01_5[[#This Row],[IdEstablecimiento]],[2]Establecimientos!$A$1:$E$175,5,FALSE),0)","v":"04303-MONTE PATRIA"},"105509","80301045","2021-01-18T14:21:44",0,null,null,3]
[12,"5",2020,{"$f":"IFERROR(VLOOKUP([1]!Tabla_SERIEA_01_5[[#This Row],[IdEstablecimiento]],[2]Establecimientos!$A$1:$E$175,5,FALSE),0)","v":"04204-SALAMANCA"},"105510","80106017","2021-01-18T14:22:31",24,null,24,null,24]
[12,"5",2020,{"$f":"IFERROR(VLOOKUP([1]!Tabla_SERIEA_01_5[[#This Row],[IdEstablecimiento]],[2]Establecimientos!$A$1:$E$175,5,FALSE),0)","v":"04303-MONTE PATRIA"},"105509","80309013","2021-01-18T14:21:44",0,null,null,3]
[12,"5",2020,{"$f":"IFERROR(VLOOKUP([1]!Tabla_SERIEA_01_5[[#This Row],[IdEstablecimiento]],[2]Establecimientos!$A$1:$E$175,5,FALSE),0)","v":"04204-SALAMANCA"},"105511","80301045","2021-01-18T14:23:06",0,null,null,13]
[12,"5",2020,{"$f":"IFERROR(VLOOKUP([1]!Tabla_SERIEA_01_5[[#This Row],[IdEstablecimiento]],[2]Establecimientos!$A$1:$E$175,5,FALSE),0)","v":"04303-MONTE PATRIA"},"105700","80401051","2021-01-18T14:24:11",0,null,null,1]
[12,"5",2020,{"$f":"IFERROR(VLOOKUP([1]!Tabla_SERIEA_01_5[[#This Row],[IdEstablecimiento]],[2]Establecimientos!$A$1:$E$175,5,FALSE),0)","v":"04106-VICUÑA"},"105700","80303024","2021-01-18T14:24:11",0,null,null,12]
[12,"5",2020,{"$f":"IFERROR(VLOOKUP([1]!Tabla_SERIEA_01_5[[#This Row],[IdEstablecimiento]],[2]Establecimientos!$A$1:$E$175,5,FALSE),0)","v":"04303-MONTE PATRIA"},"105701","80302023","2021-01-18T14:24:38",0,null,null,12]
[12,"5",2020,{"$f":"IFERROR(VLOOKUP([1]!Tabla_SERIEA_01_5[[#This Row],[IdEstablecimiento]],[2]Establecimientos!$A$1:$E$175,5,FALSE),0)","v":"04203-LOS VILOS"},"105702","80306069","2021-01-18T14:25:01",1,null,1]
[12,"5",2020,{"$f":"IFERROR(VLOOKUP([1]!Tabla_SERIEA_01_5[[#This Row],[IdEstablecimiento]],[2]Establecimientos!$A$1:$E$175,5,FALSE),0)","v":"04303-MONTE PATRIA"},"105702","80303026","2021-01-18T14:25:01",8,null,8]
[12,"5",2020,{"$f":"IFERROR(VLOOKUP([1]!Tabla_SERIEA_01_5[[#This Row],[IdEstablecimiento]],[2]Establecimientos!$A$1:$E$175,5,FALSE),0)","v":"04203-LOS VILOS"},"105723","18400900","2021-01-18T14:26:12",6,6]
[12,"5",2020,{"$f":"IFERROR(VLOOKUP([1]!Tabla_SERIEA_01_5[[#This Row],[IdEstablecimiento]],[2]Establecimientos!$A$1:$E$175,5,FALSE),0)","v":"04203-LOS VILOS"},"105802","81701001","2021-01-18T14:26:57",49,49,null,null,49]
[12,"5",2020,{"$f":"IFERROR(VLOOKUP([1]!Tabla_SERIEA_01_5[[#This Row],[IdEstablecimiento]],[2]Establecimientos!$A$1:$E$175,5,FALSE),0)","v":"04302-COMBARBALÁ"},"105802","80106022","2021-01-18T14:26:57",5,5,null,null,5]
[12,"5",2020,{"$f":"IFERROR(VLOOKUP([1]!Tabla_SERIEA_01_5[[#This Row],[IdEstablecimiento]],[2]Establecimientos!$A$1:$E$175,5,FALSE),0)","v":"04203-LOS VILOS"},"105804","80106013","2021-01-18T14:28:28",4,4,0,4,0]
[12,"5",2020,{"$f":"IFERROR(VLOOKUP([1]!Tabla_SERIEA_01_5[[#This Row],[IdEstablecimiento]],[2]Establecimientos!$A$1:$E$175,5,FALSE),0)","v":"04305-RIO HURTADO"},"105805","80401054","2021-01-18T14:28:54",186,186]
[12,"5",2020,{"$f":"IFERROR(VLOOKUP([1]!Tabla_SERIEA_01_5[[#This Row],[IdEstablecimiento]],[2]Establecimientos!$A$1:$E$175,5,FALSE),0)","v":"04101-LA SERENA"},"105805","80106020","2021-01-18T14:28:54",42,42,null,0,42]
[12,"5",2020,{"$f":"IFERROR(VLOOKUP([1]!Tabla_SERIEA_01_5[[#This Row],[IdEstablecimiento]],[2]Establecimientos!$A$1:$E$175,5,FALSE),0)","v":"04101-LA SERENA"},"105809","80500011","2021-01-18T14:29:18",30,30,null,null,30]
[12,"5",2020,{"$f":"IFERROR(VLOOKUP([1]!Tabla_SERIEA_01_5[[#This Row],[IdEstablecimiento]],[2]Establecimientos!$A$1:$E$175,5,FALSE),0)","v":"04106-VICUÑA"},"105300","81602204","2021-01-18T11:30:34",1,null,1,1]
[11,"5",2020,{"$f":"IFERROR(VLOOKUP([1]!Tabla_SERIEA_01_5[[#This Row],[IdEstablecimiento]],[2]Establecimientos!$A$1:$E$175,5,FALSE),0)","v":"04101-LA SERENA"},"105300","80302040","2020-12-11T14:48:10",0,null,null,12]
[11,"5",2020,{"$f":"IFERROR(VLOOKUP([1]!Tabla_SERIEA_01_5[[#This Row],[IdEstablecimiento]],[2]Establecimientos!$A$1:$E$175,5,FALSE),0)","v":"04201-ILLAPEL"},"105300","18040200","2020-12-11T14:48:10",19,null,19]
[11,"5",2020,{"$f":"IFERROR(VLOOKUP([1]!Tabla_SERIEA_01_5[[#This Row],[IdEstablecimiento]],[2]Establecimientos!$A$1:$E$175,5,FALSE),0)","v":"04201-ILLAPEL"},"105301","80309022","2020-12-11T14:48:28",0,null,null,213]
[11,"5",2020,{"$f":"IFERROR(VLOOKUP([1]!Tabla_SERIEA_01_5[[#This Row],[IdEstablecimiento]],[2]Establecimientos!$A$1:$E$175,5,FALSE),0)","v":"04101-LA SERENA"},"105802","81602221","2020-12-11T15:56:14",10,10,null,10]
[11,"5",2020,{"$f":"IFERROR(VLOOKUP([1]!Tabla_SERIEA_01_5[[#This Row],[IdEstablecimiento]],[2]Establecimientos!$A$1:$E$175,5,FALSE),0)","v":"04102-COQUIMBO"},"105804","80106013","2020-12-11T15:56:47",7,7,0,0,7]
[11,"5",2020,{"$f":"IFERROR(VLOOKUP([1]!Tabla_SERIEA_01_5[[#This Row],[IdEstablecimiento]],[2]Establecimientos!$A$1:$E$175,5,FALSE),0)","v":"04301-OVALLE"},"105805","80106017","2020-12-11T15:57:02",14,10,4,0,14]
[9,"5",2020,{"$f":"IFERROR(VLOOKUP([1]!Tabla_SERIEA_01_5[[#This Row],[IdEstablecimiento]],[2]Establecimientos!$A$1:$E$175,5,FALSE),0)","v":"04204-SALAMANCA"},"105404","80302005","2020-10-16T09:22:45",0,null,null,4]
[11,"5",2020,{"$f":"IFERROR(VLOOKUP([1]!Tabla_SERIEA_01_5[[#This Row],[IdEstablecimiento]],[2]Establecimientos!$A$1:$E$175,5,FALSE),0)","v":"04204-SALAMANCA"},"105301","18050100","2020-12-11T14:48:28",258,0,258]
[10,"5",2020,{"$f":"IFERROR(VLOOKUP([1]!Tabla_SERIEA_01_5[[#This Row],[IdEstablecimiento]],[2]Establecimientos!$A$1:$E$175,5,FALSE),0)","v":"04204-SALAMANCA"},"105492","18700230","2020-11-12T09:55:06",3,null,3,null,3,null,3]
[10,"5",2020,{"$f":"IFERROR(VLOOKUP([1]!Tabla_SERIEA_01_5[[#This Row],[IdEstablecimiento]],[2]Establecimientos!$A$1:$E$175,5,FALSE),0)","v":"04102-COQUIMBO"},"200928","80106002","2020-11-13T13:49:18",68,68,null,null,68]
[8,"5",2020,{"$f":"IFERROR(VLOOKUP([1]!Tabla_SERIEA_01_5[[#This Row],[IdEstablecimiento]],[2]Establecimientos!$A$1:$E$175,5,FALSE),0)","v":"04102-COQUIMBO"},"105302","80309022","2020-11-13T14:31:47",0,null,null,67]
[8,"5",2020,{"$f":"IFERROR(VLOOKUP([1]!Tabla_SERIEA_01_5[[#This Row],[IdEstablecimiento]],[2]Establecimientos!$A$1:$E$175,5,FALSE),0)","v":"04102-COQUIMBO"},"105304","80302032","2020-09-16T16:37:05",0,null,null,53]
[1,"5",2020,{"$f":"IFERROR(VLOOKUP([1]!Tabla_SERIEA_01_5[[#This Row],[IdEstablecimiento]],[2]Establecimientos!$A$1:$E$175,5,FALSE),0)","v":"04102-COQUIMBO"},"105492","18020500","2020-04-17T20:26:06",6,0,6]
[11,"5",2020,{"$f":"IFERROR(VLOOKUP([1]!Tabla_SERIEA_01_5[[#This Row],[IdEstablecimiento]],[2]Establecimientos!$A$1:$E$175,5,FALSE),0)","v":"04102-COQUIMBO"},"105318","18020500","2020-12-11T14:53:04",63,11,52]
[11,"5",2020,{"$f":"IFERROR(VLOOKUP([1]!Tabla_SERIEA_01_5[[#This Row],[IdEstablecimiento]],[2]Establecimientos!$A$1:$E$175,5,FALSE),0)","v":"04102-COQUIMBO"},"105318","18700100","2020-12-11T14:53:04",224,10,194,20]
[11,"5",2020,{"$f":"IFERROR(VLOOKUP([1]!Tabla_SERIEA_01_5[[#This Row],[IdEstablecimiento]],[2]Establecimientos!$A$1:$E$175,5,FALSE),0)","v":"04303-MONTE PATRIA"},"105410","80302023","2020-12-11T14:59:57",0,null,null,4]
[11,"5",2020,{"$f":"IFERROR(VLOOKUP([1]!Tabla_SERIEA_01_5[[#This Row],[IdEstablecimiento]],[2]Establecimientos!$A$1:$E$175,5,FALSE),0)","v":"105100-HOSPITAL LA SERENA"},"105487","80301041","2020-12-11T15:36:00",0,null,null,6]
[11,"5",2020,{"$f":"IFERROR(VLOOKUP([1]!Tabla_SERIEA_01_5[[#This Row],[IdEstablecimiento]],[2]Establecimientos!$A$1:$E$175,5,FALSE),0)","v":"04101-LA SERENA"},"105817","80106002","2020-12-11T15:58:10",51,51]
[11,"5",2020,{"$f":"IFERROR(VLOOKUP([1]!Tabla_SERIEA_01_5[[#This Row],[IdEstablecimiento]],[2]Establecimientos!$A$1:$E$175,5,FALSE),0)","v":"04204-SALAMANCA"},"105819","80401051","2020-12-11T15:57:53",31,31]
[11,"5",2020,{"$f":"IFERROR(VLOOKUP([1]!Tabla_SERIEA_01_5[[#This Row],[IdEstablecimiento]],[2]Establecimientos!$A$1:$E$175,5,FALSE),0)","v":"04303-MONTE PATRIA"},"200607","80303024","2020-12-11T16:03:55",0,null,null,57]
[10,"5",2020,{"$f":"IFERROR(VLOOKUP([1]!Tabla_SERIEA_01_5[[#This Row],[IdEstablecimiento]],[2]Establecimientos!$A$1:$E$175,5,FALSE),0)","v":"04303-MONTE PATRIA"},"105462","18090000","2020-11-12T07:49:04",12,0,12]
[9,"5",2020,{"$f":"IFERROR(VLOOKUP([1]!Tabla_SERIEA_01_5[[#This Row],[IdEstablecimiento]],[2]Establecimientos!$A$1:$E$175,5,FALSE),0)","v":"04303-MONTE PATRIA"},"105460","80106014","2020-10-16T10:04:57",56,null,56,null,56]
[10,"5",2020,{"$f":"IFERROR(VLOOKUP([1]!Tabla_SERIEA_01_5[[#This Row],[IdEstablecimiento]],[2]Establecimientos!$A$1:$E$175,5,FALSE),0)","v":"04201-ILLAPEL"},"200366","80309013","2020-11-12T09:46:14",0,null,null,1]
[7,"5",2020,{"$f":"IFERROR(VLOOKUP([1]!Tabla_SERIEA_01_5[[#This Row],[IdEstablecimiento]],[2]Establecimientos!$A$1:$E$175,5,FALSE),0)","v":"04201-ILLAPEL"},"105301","80106002","2020-08-20T16:50:18",152,25,127,null,152]
[4,"5",2020,{"$f":"IFERROR(VLOOKUP([1]!Tabla_SERIEA_01_5[[#This Row],[IdEstablecimiento]],[2]Establecimientos!$A$1:$E$175,5,FALSE),0)","v":"04101-LA SERENA"},"105311","81201029","2020-05-26T00:42:13",1,null,1,null,1]
[5,"5",2020,{"$f":"IFERROR(VLOOKUP([1]!Tabla_SERIEA_01_5[[#This Row],[IdEstablecimiento]],[2]Establecimientos!$A$1:$E$175,5,FALSE),0)","v":"04106-VICUÑA"},"105321","80302023","2020-06-12T19:30:47",0,null,null,34]
[2,"5",2020,{"$f":"IFERROR(VLOOKUP([1]!Tabla_SERIEA_01_5[[#This Row],[IdEstablecimiento]],[2]Establecimientos!$A$1:$E$175,5,FALSE),0)","v":"04106-VICUÑA"},"105473","80301038","2020-03-19T21:06:50",0,null,null,29]
[2,"5",2020,{"$f":"IFERROR(VLOOKUP([1]!Tabla_SERIEA_01_5[[#This Row],[IdEstablecimiento]],[2]Establecimientos!$A$1:$E$175,5,FALSE),0)","v":"04101-LA SERENA"},"105470","80301059","2020-03-19T21:06:04",0,null,null,3]
[4,"5",2020,{"$f":"IFERROR(VLOOKUP([1]!Tabla_SERIEA_01_5[[#This Row],[IdEstablecimiento]],[2]Establecimientos!$A$1:$E$175,5,FALSE),0)","v":"105100-HOSPITAL LA SERENA"},"105309","80301036","2020-05-26T00:41:44",0,null,null,1]
[6,"5",2020,{"$f":"IFERROR(VLOOKUP([1]!Tabla_SERIEA_01_5[[#This Row],[IdEstablecimiento]],[2]Establecimientos!$A$1:$E$175,5,FALSE),0)","v":"04202-CANELA"},"105305","18020600","2020-07-20T22:55:21",1,0,1]
[1,"5",2020,{"$f":"IFERROR(VLOOKUP([1]!Tabla_SERIEA_01_5[[#This Row],[IdEstablecimiento]],[2]Establecimientos!$A$1:$E$175,5,FALSE),0)","v":"04201-ILLAPEL"},"105321","80301045","2020-03-18T23:48:07",0,null,null,111]
[10,"5",2020,{"$f":"IFERROR(VLOOKUP([1]!Tabla_SERIEA_01_5[[#This Row],[IdEstablecimiento]],[2]Establecimientos!$A$1:$E$175,5,FALSE),0)","v":"04301-OVALLE"},"105304","80302063","2020-11-12T07:07:49",0,null,null,83]
[4,"5",2020,{"$f":"IFERROR(VLOOKUP([1]!Tabla_SERIEA_01_5[[#This Row],[IdEstablecimiento]],[2]Establecimientos!$A$1:$E$175,5,FALSE),0)","v":"04301-OVALLE"},"105437","18050200","2020-05-26T00:53:59",2,0,2]
[1,"5",2020,{"$f":"IFERROR(VLOOKUP([1]!Tabla_SERIEA_01_5[[#This Row],[IdEstablecimiento]],[2]Establecimientos!$A$1:$E$175,5,FALSE),0)","v":"04102-COQUIMBO"},"105434","80106002","2020-03-18T23:56:22",31,null,31,null,31]
[8,"5",2020,{"$f":"IFERROR(VLOOKUP([1]!Tabla_SERIEA_01_5[[#This Row],[IdEstablecimiento]],[2]Establecimientos!$A$1:$E$175,5,FALSE),0)","v":"04102-COQUIMBO"},"105700","80302032","2020-09-16T17:38:33",0,null,null,10]
[1,"5",2020,{"$f":"IFERROR(VLOOKUP([1]!Tabla_SERIEA_01_5[[#This Row],[IdEstablecimiento]],[2]Establecimientos!$A$1:$E$175,5,FALSE),0)","v":"105102-HOSPITAL OVALLE"},"200499","80106017","2020-04-17T20:26:29",109,null,109,null,109]
[2,"5",2020,{"$f":"IFERROR(VLOOKUP([1]!Tabla_SERIEA_01_5[[#This Row],[IdEstablecimiento]],[2]Establecimientos!$A$1:$E$175,5,FALSE),0)","v":"04102-COQUIMBO"},"105479","80301086","2020-03-19T21:08:24",0,null,null,1]
[5,"5",2020,{"$f":"IFERROR(VLOOKUP([1]!Tabla_SERIEA_01_5[[#This Row],[IdEstablecimiento]],[2]Establecimientos!$A$1:$E$175,5,FALSE),0)","v":"105108-HOSPITAL LOS VILOS"},"105452","80106022","2020-06-12T19:51:41",7,null,7]
[6,"5",2020,{"$f":"IFERROR(VLOOKUP([1]!Tabla_SERIEA_01_5[[#This Row],[IdEstablecimiento]],[2]Establecimientos!$A$1:$E$175,5,FALSE),0)","v":"105105-HOSPITAL COMBARBALÁ"},"105473","80302032","2020-07-20T23:36:14",0,null,null,4]
[6,"5",2020,{"$f":"IFERROR(VLOOKUP([1]!Tabla_SERIEA_01_5[[#This Row],[IdEstablecimiento]],[2]Establecimientos!$A$1:$E$175,5,FALSE),0)","v":"04305-RIO HURTADO"},"105460","80106007","2020-07-20T23:31:34",1,null,1,null,1]
[3,"5",2020,{"$f":"IFERROR(VLOOKUP([1]!Tabla_SERIEA_01_5[[#This Row],[IdEstablecimiento]],[2]Establecimientos!$A$1:$E$175,5,FALSE),0)","v":"04302-COMBARBALÁ"},"105308","80106022","2020-04-16T21:47:32",3,null,3,null,3]
[10,"5",2020,{"$f":"IFERROR(VLOOKUP([1]!Tabla_SERIEA_01_5[[#This Row],[IdEstablecimiento]],[2]Establecimientos!$A$1:$E$175,5,FALSE),0)","v":"04201-ILLAPEL"},"105456","18050100","2020-11-12T09:50:40",21,0,21]
[10,"5",2020,{"$f":"IFERROR(VLOOKUP([1]!Tabla_SERIEA_01_5[[#This Row],[IdEstablecimiento]],[2]Establecimientos!$A$1:$E$175,5,FALSE),0)","v":"04102-COQUIMBO"},"105457","18020500","2020-11-12T09:51:00",5,0,5]
[6,"5",2020,{"$f":"IFERROR(VLOOKUP([1]!Tabla_SERIEA_01_5[[#This Row],[IdEstablecimiento]],[2]Establecimientos!$A$1:$E$175,5,FALSE),0)","v":"04106-VICUÑA"},"200721","80309024","2020-07-21T00:09:14",26,26]
[4,"5",2020,{"$f":"IFERROR(VLOOKUP([1]!Tabla_SERIEA_01_5[[#This Row],[IdEstablecimiento]],[2]Establecimientos!$A$1:$E$175,5,FALSE),0)","v":"04102-COQUIMBO"},"200402","18050100","2020-05-26T01:17:59",7,0,7]
[7,"5",2020,{"$f":"IFERROR(VLOOKUP([1]!Tabla_SERIEA_01_5[[#This Row],[IdEstablecimiento]],[2]Establecimientos!$A$1:$E$175,5,FALSE),0)","v":"04303-MONTE PATRIA"},"105309","80301045","2020-08-20T16:52:47",0,null,null,49]
[2,"5",2020,{"$f":"IFERROR(VLOOKUP([1]!Tabla_SERIEA_01_5[[#This Row],[IdEstablecimiento]],[2]Establecimientos!$A$1:$E$175,5,FALSE),0)","v":"04106-VICUÑA"},"105404","80303026","2020-03-19T18:55:37",0,null,null,1]
[2,"5",2020,{"$f":"IFERROR(VLOOKUP([1]!Tabla_SERIEA_01_5[[#This Row],[IdEstablecimiento]],[2]Establecimientos!$A$1:$E$175,5,FALSE),0)","v":"04106-VICUÑA"},"105404","80106015","2020-03-19T18:55:37",4,null,4,null,1]
[6,"5",2020,{"$f":"IFERROR(VLOOKUP([1]!Tabla_SERIEA_01_5[[#This Row],[IdEstablecimiento]],[2]Establecimientos!$A$1:$E$175,5,FALSE),0)","v":"04106-VICUÑA"},"105501","18040200","2020-07-20T23:55:36",1,null,1]
[2,"5",2020,{"$f":"IFERROR(VLOOKUP([1]!Tabla_SERIEA_01_5[[#This Row],[IdEstablecimiento]],[2]Establecimientos!$A$1:$E$175,5,FALSE),0)","v":"04302-COMBARBALÁ"},"105499","80302068","2020-03-19T21:23:26",0,null,null,12]
[8,"5",2020,{"$f":"IFERROR(VLOOKUP([1]!Tabla_SERIEA_01_5[[#This Row],[IdEstablecimiento]],[2]Establecimientos!$A$1:$E$175,5,FALSE),0)","v":"04101-LA SERENA"},"105499","80309013","2020-11-13T14:32:28",0,null,null,2]
[6,"5",2020,{"$f":"IFERROR(VLOOKUP([1]!Tabla_SERIEA_01_5[[#This Row],[IdEstablecimiento]],[2]Establecimientos!$A$1:$E$175,5,FALSE),0)","v":"04201-ILLAPEL"},"105326","18020500","2020-11-13T14:39:18",37,0,37]
[8,"5",2020,{"$f":"IFERROR(VLOOKUP([1]!Tabla_SERIEA_01_5[[#This Row],[IdEstablecimiento]],[2]Establecimientos!$A$1:$E$175,5,FALSE),0)","v":"04201-ILLAPEL"},"105306","80309022","2020-09-16T16:38:05",0,null,null,118]
[9,"5",2020,{"$f":"IFERROR(VLOOKUP([1]!Tabla_SERIEA_01_5[[#This Row],[IdEstablecimiento]],[2]Establecimientos!$A$1:$E$175,5,FALSE),0)","v":"04201-ILLAPEL"},"105480","80302032","2020-10-16T10:22:32",0,null,null,16]
[2,"5",2020,{"$f":"IFERROR(VLOOKUP([1]!Tabla_SERIEA_01_5[[#This Row],[IdEstablecimiento]],[2]Establecimientos!$A$1:$E$175,5,FALSE),0)","v":"04303-MONTE PATRIA"},"105443","81701009","2020-03-19T19:20:52",2,null,2,null,2]
[2,"5",2020,{"$f":"IFERROR(VLOOKUP([1]!Tabla_SERIEA_01_5[[#This Row],[IdEstablecimiento]],[2]Establecimientos!$A$1:$E$175,5,FALSE),0)","v":"04101-LA SERENA"},"105443","80106015","2020-03-19T19:20:52",1,null,1,null,1]
[9,"5",2020,{"$f":"IFERROR(VLOOKUP([1]!Tabla_SERIEA_01_5[[#This Row],[IdEstablecimiento]],[2]Establecimientos!$A$1:$E$175,5,FALSE),0)","v":"04101-LA SERENA"},"105481","80301036","2020-10-16T10:23:38",0,null,null,1]
[1,"5",2020,{"$f":"IFERROR(VLOOKUP([1]!Tabla_SERIEA_01_5[[#This Row],[IdEstablecimiento]],[2]Establecimientos!$A$1:$E$175,5,FALSE),0)","v":"105102-HOSPITAL OVALLE"},"105491","81701001","2020-03-19T00:38:12",26,null,26]
[1,"5",2020,{"$f":"IFERROR(VLOOKUP([1]!Tabla_SERIEA_01_5[[#This Row],[IdEstablecimiento]],[2]Establecimientos!$A$1:$E$175,5,FALSE),0)","v":"04101-LA SERENA"},"105491","80106007","2020-03-19T00:38:12",2,null,2]
[4,"5",2020,{"$f":"IFERROR(VLOOKUP([1]!Tabla_SERIEA_01_5[[#This Row],[IdEstablecimiento]],[2]Establecimientos!$A$1:$E$175,5,FALSE),0)","v":"04303-MONTE PATRIA"},"105493","80106002","2020-05-26T01:10:01",2,null,2,null,2]
[3,"5",2020,{"$f":"IFERROR(VLOOKUP([1]!Tabla_SERIEA_01_5[[#This Row],[IdEstablecimiento]],[2]Establecimientos!$A$1:$E$175,5,FALSE),0)","v":"04102-COQUIMBO"},"105487","18090000","2020-04-16T22:52:42",5,0,5]
[6,"5",2020,{"$f":"IFERROR(VLOOKUP([1]!Tabla_SERIEA_01_5[[#This Row],[IdEstablecimiento]],[2]Establecimientos!$A$1:$E$175,5,FALSE),0)","v":"04102-COQUIMBO"},"105315","80106015","2020-07-20T22:58:12",8,null,8,null,8]
[2,"5",2020,{"$f":"IFERROR(VLOOKUP([1]!Tabla_SERIEA_01_5[[#This Row],[IdEstablecimiento]],[2]Establecimientos!$A$1:$E$175,5,FALSE),0)","v":"105105-HOSPITAL COMBARBALÁ"},"105497","80500011","2020-03-19T21:22:09",4,null,4,null,4]
[10,"5",2020,{"$f":"IFERROR(VLOOKUP([1]!Tabla_SERIEA_01_5[[#This Row],[IdEstablecimiento]],[2]Establecimientos!$A$1:$E$175,5,FALSE),0)","v":"105100-HOSPITAL LA SERENA"},"105474","80303024","2020-11-12T07:54:08",0,null,null,1]
[3,"5",2020,{"$f":"IFERROR(VLOOKUP([1]!Tabla_SERIEA_01_5[[#This Row],[IdEstablecimiento]],[2]Establecimientos!$A$1:$E$175,5,FALSE),0)","v":"04106-VICUÑA"},"200538","80302076","2020-04-16T23:12:13",0,null,null,35]
[7,"5",2020,{"$f":"IFERROR(VLOOKUP([1]!Tabla_SERIEA_01_5[[#This Row],[IdEstablecimiento]],[2]Establecimientos!$A$1:$E$175,5,FALSE),0)","v":"04102-COQUIMBO"},"200367","18050100","2020-08-20T18:18:38",37,0,37]
[7,"5",2020,{"$f":"IFERROR(VLOOKUP([1]!Tabla_SERIEA_01_5[[#This Row],[IdEstablecimiento]],[2]Establecimientos!$A$1:$E$175,5,FALSE),0)","v":"04102-COQUIMBO"},"200402","80301036","2020-08-20T18:18:58",0,null,null,20]
[2,"5",2020,{"$f":"IFERROR(VLOOKUP([1]!Tabla_SERIEA_01_5[[#This Row],[IdEstablecimiento]],[2]Establecimientos!$A$1:$E$175,5,FALSE),0)","v":"04201-ILLAPEL"},"200366","80302076","2020-05-26T01:53:13",0,null,null,66]
[8,"5",2020,{"$f":"IFERROR(VLOOKUP([1]!Tabla_SERIEA_01_5[[#This Row],[IdEstablecimiento]],[2]Establecimientos!$A$1:$E$175,5,FALSE),0)","v":"105100-HOSPITAL LA SERENA"},"200258","80307011","2020-10-16T08:58:45",93,null,93]
[8,"5",2020,{"$f":"IFERROR(VLOOKUP([1]!Tabla_SERIEA_01_5[[#This Row],[IdEstablecimiento]],[2]Establecimientos!$A$1:$E$175,5,FALSE),0)","v":"04203-LOS VILOS"},"105453","80500011","2020-09-16T17:08:00",61,null,61]
[8,"5",2020,{"$f":"IFERROR(VLOOKUP([1]!Tabla_SERIEA_01_5[[#This Row],[IdEstablecimiento]],[2]Establecimientos!$A$1:$E$175,5,FALSE),0)","v":"04203-LOS VILOS"},"105453","18700100","2020-09-16T17:08:00",7,null,6,1]
[1,"5",2020,{"$f":"IFERROR(VLOOKUP([1]!Tabla_SERIEA_01_5[[#This Row],[IdEstablecimiento]],[2]Establecimientos!$A$1:$E$175,5,FALSE),0)","v":"04102-COQUIMBO"},"105307","18050100","2020-03-18T23:43:16",287,102,185]
[6,"5",2020,{"$f":"IFERROR(VLOOKUP([1]!Tabla_SERIEA_01_5[[#This Row],[IdEstablecimiento]],[2]Establecimientos!$A$1:$E$175,5,FALSE),0)","v":"04203-LOS VILOS"},"105499","80106013","2020-07-20T23:48:47",1,null,1,null,1]
[10,"5",2020,{"$f":"IFERROR(VLOOKUP([1]!Tabla_SERIEA_01_5[[#This Row],[IdEstablecimiento]],[2]Establecimientos!$A$1:$E$175,5,FALSE),0)","v":"04301-OVALLE"},"200366","80106013","2020-11-12T09:46:14",1,null,1]
[10,"5",2020,{"$f":"IFERROR(VLOOKUP([1]!Tabla_SERIEA_01_5[[#This Row],[IdEstablecimiento]],[2]Establecimientos!$A$1:$E$175,5,FALSE),0)","v":"04301-OVALLE"},"200366","80106023","2020-11-12T09:46:14",88,null,88]
[10,"5",2020,{"$f":"IFERROR(VLOOKUP([1]!Tabla_SERIEA_01_5[[#This Row],[IdEstablecimiento]],[2]Establecimientos!$A$1:$E$175,5,FALSE),0)","v":"04106-VICUÑA"},"105321","80303024","2020-11-12T07:13:11",0,null,null,103]
[5,"5",2020,{"$f":"IFERROR(VLOOKUP([1]!Tabla_SERIEA_01_5[[#This Row],[IdEstablecimiento]],[2]Establecimientos!$A$1:$E$175,5,FALSE),0)","v":"04204-SALAMANCA"},"105452","80302035","2020-06-12T19:51:41",0,null,null,2]
[2,"5",2020,{"$f":"IFERROR(VLOOKUP([1]!Tabla_SERIEA_01_5[[#This Row],[IdEstablecimiento]],[2]Establecimientos!$A$1:$E$175,5,FALSE),0)","v":"04201-ILLAPEL"},"105471","80106014","2020-03-19T21:06:20",169,null,169,null,169]
[2,"5",2020,{"$f":"IFERROR(VLOOKUP([1]!Tabla_SERIEA_01_5[[#This Row],[IdEstablecimiento]],[2]Establecimientos!$A$1:$E$175,5,FALSE),0)","v":"04204-SALAMANCA"},"105469","80302005","2020-03-19T21:05:48",0,null,null,1]
[3,"5",2020,{"$f":"IFERROR(VLOOKUP([1]!Tabla_SERIEA_01_5[[#This Row],[IdEstablecimiento]],[2]Establecimientos!$A$1:$E$175,5,FALSE),0)","v":"04204-SALAMANCA"},"105439","18020900","2020-04-16T22:19:02",1,0,1]
[10,"5",2020,{"$f":"IFERROR(VLOOKUP([1]!Tabla_SERIEA_01_5[[#This Row],[IdEstablecimiento]],[2]Establecimientos!$A$1:$E$175,5,FALSE),0)","v":"04102-COQUIMBO"},"105488","18050100","2020-11-12T08:01:23",10,0,10]
[8,"5",2020,{"$f":"IFERROR(VLOOKUP([1]!Tabla_SERIEA_01_5[[#This Row],[IdEstablecimiento]],[2]Establecimientos!$A$1:$E$175,5,FALSE),0)","v":"04102-COQUIMBO"},"105409","80302047","2020-09-16T16:46:18",0,null,null,6]
[2,"5",2020,{"$f":"IFERROR(VLOOKUP([1]!Tabla_SERIEA_01_5[[#This Row],[IdEstablecimiento]],[2]Establecimientos!$A$1:$E$175,5,FALSE),0)","v":"04106-VICUÑA"},"105303","80302005","2020-03-19T18:33:11",0,null,null,452]
[9,"5",2020,{"$f":"IFERROR(VLOOKUP([1]!Tabla_SERIEA_01_5[[#This Row],[IdEstablecimiento]],[2]Establecimientos!$A$1:$E$175,5,FALSE),0)","v":"04106-VICUÑA"},"105405","80303028","2020-10-16T09:23:04",0,null,null,8]
[5,"5",2020,{"$f":"IFERROR(VLOOKUP([1]!Tabla_SERIEA_01_5[[#This Row],[IdEstablecimiento]],[2]Establecimientos!$A$1:$E$175,5,FALSE),0)","v":"04304-PUNITAQUI"},"200366","80302032","2020-06-12T20:36:54",0,null,null,34]
[8,"5",2020,{"$f":"IFERROR(VLOOKUP([1]!Tabla_SERIEA_01_5[[#This Row],[IdEstablecimiento]],[2]Establecimientos!$A$1:$E$175,5,FALSE),0)","v":"04106-VICUÑA"},"105323","80302023","2020-09-16T16:42:51",0,null,null,128]
[9,"5",2020,{"$f":"IFERROR(VLOOKUP([1]!Tabla_SERIEA_01_5[[#This Row],[IdEstablecimiento]],[2]Establecimientos!$A$1:$E$175,5,FALSE),0)","v":"04106-VICUÑA"},"105300","80309013","2020-10-16T09:00:14",0,null,null,3]
[8,"5",2020,{"$f":"IFERROR(VLOOKUP([1]!Tabla_SERIEA_01_5[[#This Row],[IdEstablecimiento]],[2]Establecimientos!$A$1:$E$175,5,FALSE),0)","v":"04301-OVALLE"},"105447","80302047","2020-09-16T17:06:03",0,null,null,18]
[8,"5",2020,{"$f":"IFERROR(VLOOKUP([1]!Tabla_SERIEA_01_5[[#This Row],[IdEstablecimiento]],[2]Establecimientos!$A$1:$E$175,5,FALSE),0)","v":"04301-OVALLE"},"105301","80302048","2020-09-16T16:36:19",0,null,null,21]
[3,"5",2020,{"$f":"IFERROR(VLOOKUP([1]!Tabla_SERIEA_01_5[[#This Row],[IdEstablecimiento]],[2]Establecimientos!$A$1:$E$175,5,FALSE),0)","v":"04102-COQUIMBO"},"105307","80106002","2020-04-16T21:47:17",183,46,137,null,183]
[3,"5",2020,{"$f":"IFERROR(VLOOKUP([1]!Tabla_SERIEA_01_5[[#This Row],[IdEstablecimiento]],[2]Establecimientos!$A$1:$E$175,5,FALSE),0)","v":"04303-MONTE PATRIA"},"105301","80301038","2020-04-16T21:44:03",0,null,null,158]
[7,"5",2020,{"$f":"IFERROR(VLOOKUP([1]!Tabla_SERIEA_01_5[[#This Row],[IdEstablecimiento]],[2]Establecimientos!$A$1:$E$175,5,FALSE),0)","v":"04303-MONTE PATRIA"},"105305","80500009","2020-08-20T16:51:36",3,null,3,null,3]
[8,"5",2020,{"$f":"IFERROR(VLOOKUP([1]!Tabla_SERIEA_01_5[[#This Row],[IdEstablecimiento]],[2]Establecimientos!$A$1:$E$175,5,FALSE),0)","v":"04102-COQUIMBO"},"200258","80106002","2020-10-16T08:58:45",73,null,73,null,44]
[4,"5",2020,{"$f":"IFERROR(VLOOKUP([1]!Tabla_SERIEA_01_5[[#This Row],[IdEstablecimiento]],[2]Establecimientos!$A$1:$E$175,5,FALSE),0)","v":"04305-RIO HURTADO"},"200494","80106015","2020-05-26T01:18:18",91,80,11,null,91]
[8,"5",2020,{"$f":"IFERROR(VLOOKUP([1]!Tabla_SERIEA_01_5[[#This Row],[IdEstablecimiento]],[2]Establecimientos!$A$1:$E$175,5,FALSE),0)","v":"105102-HOSPITAL OVALLE"},"105505","18030000","2020-09-16T17:36:12",4,4,0]
[4,"5",2020,{"$f":"IFERROR(VLOOKUP([1]!Tabla_SERIEA_01_5[[#This Row],[IdEstablecimiento]],[2]Establecimientos!$A$1:$E$175,5,FALSE),0)","v":"04302-COMBARBALÁ"},"105302","80106002","2020-05-26T00:37:25",124,16,108,null,124]
[8,"5",2020,{"$f":"IFERROR(VLOOKUP([1]!Tabla_SERIEA_01_5[[#This Row],[IdEstablecimiento]],[2]Establecimientos!$A$1:$E$175,5,FALSE),0)","v":"04201-ILLAPEL"},"105822","18700100","2020-09-16T17:47:08",1130,116,877,137]
[3,"5",2020,{"$f":"IFERROR(VLOOKUP([1]!Tabla_SERIEA_01_5[[#This Row],[IdEstablecimiento]],[2]Establecimientos!$A$1:$E$175,5,FALSE),0)","v":"04106-VICUÑA"},"105407","80106002","2020-04-16T22:01:26",19,19]
[3,"5",2020,{"$f":"IFERROR(VLOOKUP([1]!Tabla_SERIEA_01_5[[#This Row],[IdEstablecimiento]],[2]Establecimientos!$A$1:$E$175,5,FALSE),0)","v":"04106-VICUÑA"},"105407","80500011","2020-04-16T22:01:26",15,15]
[9,"5",2020,{"$f":"IFERROR(VLOOKUP([1]!Tabla_SERIEA_01_5[[#This Row],[IdEstablecimiento]],[2]Establecimientos!$A$1:$E$175,5,FALSE),0)","v":"105010-DIRECCIÓN DEL SERVICIO DE SALUD COQUIMBO"},"105483","81701009","2020-10-16T10:25:57",20,null,20,null,20]
[9,"5",2020,{"$f":"IFERROR(VLOOKUP([1]!Tabla_SERIEA_01_5[[#This Row],[IdEstablecimiento]],[2]Establecimientos!$A$1:$E$175,5,FALSE),0)","v":"105100-HOSPITAL LA SERENA"},"105484","80106005","2020-10-16T10:26:15",7,null,7,null,7]
[10,"5",2020,{"$f":"IFERROR(VLOOKUP([1]!Tabla_SERIEA_01_5[[#This Row],[IdEstablecimiento]],[2]Establecimientos!$A$1:$E$175,5,FALSE),0)","v":"04204-SALAMANCA"},"200366","80301036","2020-11-12T09:46:14",0,null,null,31]
[8,"5",2020,{"$f":"IFERROR(VLOOKUP([1]!Tabla_SERIEA_01_5[[#This Row],[IdEstablecimiento]],[2]Establecimientos!$A$1:$E$175,5,FALSE),0)","v":"04204-SALAMANCA"},"105435","80106002","2020-09-16T16:56:30",32,null,32,null,32]
[8,"5",2020,{"$f":"IFERROR(VLOOKUP([1]!Tabla_SERIEA_01_5[[#This Row],[IdEstablecimiento]],[2]Establecimientos!$A$1:$E$175,5,FALSE),0)","v":"105100-HOSPITAL LA SERENA"},"105437","80106013","2020-10-16T08:55:45",2,null,2,null,2]
[10,"5",2020,{"$f":"IFERROR(VLOOKUP([1]!Tabla_SERIEA_01_5[[#This Row],[IdEstablecimiento]],[2]Establecimientos!$A$1:$E$175,5,FALSE),0)","v":"105100-HOSPITAL LA SERENA"},"105485","81701009","2020-11-12T07:58:15",19,null,19,null,19]
[3,"5",2020,{"$f":"IFERROR(VLOOKUP([1]!Tabla_SERIEA_01_5[[#This Row],[IdEstablecimiento]],[2]Establecimientos!$A$1:$E$175,5,FALSE),0)","v":"105101-HOSPITAL COQUIMBO"},"200494","81602222","2020-04-16T23:11:41",9,8,1,9]
[9,"5",2020,{"$f":"IFERROR(VLOOKUP([1]!Tabla_SERIEA_01_5[[#This Row],[IdEstablecimiento]],[2]Establecimientos!$A$1:$E$175,5,FALSE),0)","v":"105101-HOSPITAL COQUIMBO"},"200499","80302067","2020-10-16T10:53:43",0,null,null,18]
[7,"5",2020,{"$f":"IFERROR(VLOOKUP([1]!Tabla_SERIEA_01_5[[#This Row],[IdEstablecimiento]],[2]Establecimientos!$A$1:$E$175,5,FALSE),0)","v":"105104-HOSPITAL SALAMANCA"},"200366","80401151","2020-08-20T18:18:19",0,null,null,4]
[10,"5",2020,{"$f":"IFERROR(VLOOKUP([1]!Tabla_SERIEA_01_5[[#This Row],[IdEstablecimiento]],[2]Establecimientos!$A$1:$E$175,5,FALSE),0)","v":"105102-HOSPITAL OVALLE"},"105410","80500011","2020-11-12T07:19:46",10,null,10,null,10]
[7,"5",2020,{"$f":"IFERROR(VLOOKUP([1]!Tabla_SERIEA_01_5[[#This Row],[IdEstablecimiento]],[2]Establecimientos!$A$1:$E$175,5,FALSE),0)","v":"105108-HOSPITAL LOS VILOS"},"105506","18050100","2020-08-20T18:09:46",6,6,0]
[8,"5",2020,{"$f":"IFERROR(VLOOKUP([1]!Tabla_SERIEA_01_5[[#This Row],[IdEstablecimiento]],[2]Establecimientos!$A$1:$E$175,5,FALSE),0)","v":"105107-HOSPITAL VICUÑA"},"105452","80106023","2020-09-16T17:07:41",8,null,8]
[5,"5",2020,{"$f":"IFERROR(VLOOKUP([1]!Tabla_SERIEA_01_5[[#This Row],[IdEstablecimiento]],[2]Establecimientos!$A$1:$E$175,5,FALSE),0)","v":"04204-SALAMANCA"},"105302","80306042","2020-06-12T19:24:31",0,null,null,34]
[10,"5",2020,{"$f":"IFERROR(VLOOKUP([1]!Tabla_SERIEA_01_5[[#This Row],[IdEstablecimiento]],[2]Establecimientos!$A$1:$E$175,5,FALSE),0)","v":"04204-SALAMANCA"},"200366","80302067","2020-11-12T09:46:14",0,null,null,1]
[10,"5",2020,{"$f":"IFERROR(VLOOKUP([1]!Tabla_SERIEA_01_5[[#This Row],[IdEstablecimiento]],[2]Establecimientos!$A$1:$E$175,5,FALSE),0)","v":"04204-SALAMANCA"},"200366","80302060","2020-11-12T09:46:14",0,null,null,3]
[9,"5",2020,{"$f":"IFERROR(VLOOKUP([1]!Tabla_SERIEA_01_5[[#This Row],[IdEstablecimiento]],[2]Establecimientos!$A$1:$E$175,5,FALSE),0)","v":"04204-SALAMANCA"},"105477","18400700","2020-10-16T10:21:12",496]
[8,"5",2020,{"$f":"IFERROR(VLOOKUP([1]!Tabla_SERIEA_01_5[[#This Row],[IdEstablecimiento]],[2]Establecimientos!$A$1:$E$175,5,FALSE),0)","v":"105100-HOSPITAL LA SERENA"},"105410","80401151","2020-09-16T16:46:36",1,null,1,1]
[5,"5",2020,{"$f":"IFERROR(VLOOKUP([1]!Tabla_SERIEA_01_5[[#This Row],[IdEstablecimiento]],[2]Establecimientos!$A$1:$E$175,5,FALSE),0)","v":"04301-OVALLE"},"105323","80309014","2020-06-12T19:31:15",0,null,null,1]
[3,"5",2020,{"$f":"IFERROR(VLOOKUP([1]!Tabla_SERIEA_01_5[[#This Row],[IdEstablecimiento]],[2]Establecimientos!$A$1:$E$175,5,FALSE),0)","v":"04102-COQUIMBO"},"105305","18020800","2020-04-16T21:46:35",1,1,0]
[2,"5",2020,{"$f":"IFERROR(VLOOKUP([1]!Tabla_SERIEA_01_5[[#This Row],[IdEstablecimiento]],[2]Establecimientos!$A$1:$E$175,5,FALSE),0)","v":"105100-HOSPITAL LA SERENA"},"105401","80106014","2020-03-19T18:53:39",28,null,28,null,28]
[8,"5",2020,{"$f":"IFERROR(VLOOKUP([1]!Tabla_SERIEA_01_5[[#This Row],[IdEstablecimiento]],[2]Establecimientos!$A$1:$E$175,5,FALSE),0)","v":"105100-HOSPITAL LA SERENA"},"105507","80106017","2020-10-16T08:56:42",1,null,1,null,1]
[10,"5",2020,{"$f":"IFERROR(VLOOKUP([1]!Tabla_SERIEA_01_5[[#This Row],[IdEstablecimiento]],[2]Establecimientos!$A$1:$E$175,5,FALSE),0)","v":"105100-HOSPITAL LA SERENA"},"105487","80301036","2020-11-12T08:00:57",0,null,null,11]
[10,"5",2020,{"$f":"IFERROR(VLOOKUP([1]!Tabla_SERIEA_01_5[[#This Row],[IdEstablecimiento]],[2]Establecimientos!$A$1:$E$175,5,FALSE),0)","v":"04102-COQUIMBO"},"105409","80302034","2020-11-12T07:19:28",0,null,null,5]
[10,"5",2020,{"$f":"IFERROR(VLOOKUP([1]!Tabla_SERIEA_01_5[[#This Row],[IdEstablecimiento]],[2]Establecimientos!$A$1:$E$175,5,FALSE),0)","v":"04102-COQUIMBO"},"105409","18011001","2020-11-12T07:19:28",1,0,1]
[10,"5",2020,{"$f":"IFERROR(VLOOKUP([1]!Tabla_SERIEA_01_5[[#This Row],[IdEstablecimiento]],[2]Establecimientos!$A$1:$E$175,5,FALSE),0)","v":"04102-COQUIMBO"},"105304","80307012","2020-11-12T07:07:49",5,null,5]
[4,"5",2020,{"$f":"IFERROR(VLOOKUP([1]!Tabla_SERIEA_01_5[[#This Row],[IdEstablecimiento]],[2]Establecimientos!$A$1:$E$175,5,FALSE),0)","v":"04102-COQUIMBO"},"105317","80500011","2020-05-26T00:43:31",101,66,35,null,101]
[4,"5",2020,{"$f":"IFERROR(VLOOKUP([1]!Tabla_SERIEA_01_5[[#This Row],[IdEstablecimiento]],[2]Establecimientos!$A$1:$E$175,5,FALSE),0)","v":"04102-COQUIMBO"},"105317","18090200","2020-05-26T00:43:31",126]
[9,"5",2020,{"$f":"IFERROR(VLOOKUP([1]!Tabla_SERIEA_01_5[[#This Row],[IdEstablecimiento]],[2]Establecimientos!$A$1:$E$175,5,FALSE),0)","v":"04102-COQUIMBO"},"200494","18700100","2020-10-16T10:53:04",525,25,421,79]
[9,"5",2020,{"$f":"IFERROR(VLOOKUP([1]!Tabla_SERIEA_01_5[[#This Row],[IdEstablecimiento]],[2]Establecimientos!$A$1:$E$175,5,FALSE),0)","v":"04102-COQUIMBO"},"105801","80500011","2020-10-16T10:42:34",42,42,null,null,42]
[7,"5",2020,{"$f":"IFERROR(VLOOKUP([1]!Tabla_SERIEA_01_5[[#This Row],[IdEstablecimiento]],[2]Establecimientos!$A$1:$E$175,5,FALSE),0)","v":"04102-COQUIMBO"},"105308","18700210","2020-08-20T16:52:29",103,null,102,1,103,1,102]
[10,"5",2020,{"$f":"IFERROR(VLOOKUP([1]!Tabla_SERIEA_01_5[[#This Row],[IdEstablecimiento]],[2]Establecimientos!$A$1:$E$175,5,FALSE),0)","v":"04102-COQUIMBO"},"105484","81901022","2020-11-12T07:57:41",1,null,1,null,1]
[10,"5",2020,{"$f":"IFERROR(VLOOKUP([1]!Tabla_SERIEA_01_5[[#This Row],[IdEstablecimiento]],[2]Establecimientos!$A$1:$E$175,5,FALSE),0)","v":"04102-COQUIMBO"},"105484","80106017","2020-11-12T07:57:41",18,null,18,null,18]
[8,"5",2020,{"$f":"IFERROR(VLOOKUP([1]!Tabla_SERIEA_01_5[[#This Row],[IdEstablecimiento]],[2]Establecimientos!$A$1:$E$175,5,FALSE),0)","v":"04303-MONTE PATRIA"},"105322","80302057","2020-09-16T16:42:31",448,448]
[8,"5",2020,{"$f":"IFERROR(VLOOKUP([1]!Tabla_SERIEA_01_5[[#This Row],[IdEstablecimiento]],[2]Establecimientos!$A$1:$E$175,5,FALSE),0)","v":"04303-MONTE PATRIA"},"105310","80106013","2020-09-16T16:39:29",3,null,3,null,3]
[8,"5",2020,{"$f":"IFERROR(VLOOKUP([1]!Tabla_SERIEA_01_5[[#This Row],[IdEstablecimiento]],[2]Establecimientos!$A$1:$E$175,5,FALSE),0)","v":"04303-MONTE PATRIA"},"105430","81701009","2020-09-16T16:54:44",13,null,13,null,13]
[8,"5",2020,{"$f":"IFERROR(VLOOKUP([1]!Tabla_SERIEA_01_5[[#This Row],[IdEstablecimiento]],[2]Establecimientos!$A$1:$E$175,5,FALSE),0)","v":"04303-MONTE PATRIA"},"105324","81701009","2020-09-16T16:43:21",28,null,28,null,28]
[5,"5",2020,{"$f":"IFERROR(VLOOKUP([1]!Tabla_SERIEA_01_5[[#This Row],[IdEstablecimiento]],[2]Establecimientos!$A$1:$E$175,5,FALSE),0)","v":"04303-MONTE PATRIA"},"105321","18050100","2020-06-12T19:30:47",112,16,96]
[5,"5",2020,{"$f":"IFERROR(VLOOKUP([1]!Tabla_SERIEA_01_5[[#This Row],[IdEstablecimiento]],[2]Establecimientos!$A$1:$E$175,5,FALSE),0)","v":"04303-MONTE PATRIA"},"105313","80306169","2020-06-12T19:28:53",0,null,null,18]
[3,"5",2020,{"$f":"IFERROR(VLOOKUP([1]!Tabla_SERIEA_01_5[[#This Row],[IdEstablecimiento]],[2]Establecimientos!$A$1:$E$175,5,FALSE),0)","v":"04303-MONTE PATRIA"},"105496","80106002","2020-04-16T22:57:43",3,null,3,null,3]
[2,"5",2020,{"$f":"IFERROR(VLOOKUP([1]!Tabla_SERIEA_01_5[[#This Row],[IdEstablecimiento]],[2]Establecimientos!$A$1:$E$175,5,FALSE),0)","v":"04303-MONTE PATRIA"},"105305","80306042","2020-03-19T18:39:39",0,null,null,206]
[10,"5",2020,{"$f":"IFERROR(VLOOKUP([1]!Tabla_SERIEA_01_5[[#This Row],[IdEstablecimiento]],[2]Establecimientos!$A$1:$E$175,5,FALSE),0)","v":"04303-MONTE PATRIA"},"105321","80301085","2020-11-12T07:13:11",0,null,null,1]
[3,"5",2020,{"$f":"IFERROR(VLOOKUP([1]!Tabla_SERIEA_01_5[[#This Row],[IdEstablecimiento]],[2]Establecimientos!$A$1:$E$175,5,FALSE),0)","v":"04303-MONTE PATRIA"},"105319","82001015","2020-04-16T21:57:23",3,null,3,null,3]
[3,"5",2020,{"$f":"IFERROR(VLOOKUP([1]!Tabla_SERIEA_01_5[[#This Row],[IdEstablecimiento]],[2]Establecimientos!$A$1:$E$175,5,FALSE),0)","v":"04301-OVALLE"},"105319","81602222","2020-04-16T21:57:23",6,6,null,6]
[3,"5",2020,{"$f":"IFERROR(VLOOKUP([1]!Tabla_SERIEA_01_5[[#This Row],[IdEstablecimiento]],[2]Establecimientos!$A$1:$E$175,5,FALSE),0)","v":"04301-OVALLE"},"105459","18400900","2020-04-16T22:44:57",7,1,6]
[7,"5",2020,{"$f":"IFERROR(VLOOKUP([1]!Tabla_SERIEA_01_5[[#This Row],[IdEstablecimiento]],[2]Establecimientos!$A$1:$E$175,5,FALSE),0)","v":"04301-OVALLE"},"105324","80106002","2020-08-20T16:59:06",55,6,49,null,49]
[8,"5",2020,{"$f":"IFERROR(VLOOKUP([1]!Tabla_SERIEA_01_5[[#This Row],[IdEstablecimiento]],[2]Establecimientos!$A$1:$E$175,5,FALSE),0)","v":"04301-OVALLE"},"200494","80106022","2020-09-16T17:52:38",7,null,7,null,7]
[10,"5",2020,{"$f":"IFERROR(VLOOKUP([1]!Tabla_SERIEA_01_5[[#This Row],[IdEstablecimiento]],[2]Establecimientos!$A$1:$E$175,5,FALSE),0)","v":"04102-COQUIMBO"},"105505","80106015","2020-11-12T08:06:14",8,8,null,null,8]
[4,"5",2020,{"$f":"IFERROR(VLOOKUP([1]!Tabla_SERIEA_01_5[[#This Row],[IdEstablecimiento]],[2]Establecimientos!$A$1:$E$175,5,FALSE),0)","v":"04102-COQUIMBO"},"105493","18050200","2020-05-26T01:10:01",1,0,1]
[8,"5",2020,{"$f":"IFERROR(VLOOKUP([1]!Tabla_SERIEA_01_5[[#This Row],[IdEstablecimiento]],[2]Establecimientos!$A$1:$E$175,5,FALSE),0)","v":"04102-COQUIMBO"},"105432","80500011","2020-09-16T16:55:20",13,null,13,null,13]
[11,"5",2020,{"$f":"IFERROR(VLOOKUP([1]!Tabla_SERIEA_01_5[[#This Row],[IdEstablecimiento]],[2]Establecimientos!$A$1:$E$175,5,FALSE),0)","v":"04102-COQUIMBO"},"105410","18070300","2020-12-11T14:59:57",9,{"$nulls":3},1,4,4]
[11,"5",2020,{"$f":"IFERROR(VLOOKUP([1]!Tabla_SERIEA_01_5[[#This Row],[IdEstablecimiento]],[2]Establecimientos!$A$1:$E$175,5,FALSE),0)","v":"04102-COQUIMBO"},"105411","80302005","2020-12-11T15:00:13",0,null,null,11]
[11,"5",2020,{"$f":"IFERROR(VLOOKUP([1]!Tabla_SERIEA_01_5[[#This Row],[IdEstablecimiento]],[2]Establecimientos!$A$1:$E$175,5,FALSE),0)","v":"04102-COQUIMBO"},"105464","80301041","2020-12-11T15:14:47",0,null,null,22]
[11,"5",2020,{"$f":"IFERROR(VLOOKUP([1]!Tabla_SERIEA_01_5[[#This Row],[IdEstablecimiento]],[2]Establecimientos!$A$1:$E$175,5,FALSE),0)","v":"105101-HOSPITAL COQUIMBO"},"105414","18011002","2020-12-11T15:00:44",2,0,2]
[11,"5",2020,{"$f":"IFERROR(VLOOKUP([1]!Tabla_SERIEA_01_5[[#This Row],[IdEstablecimiento]],[2]Establecimientos!$A$1:$E$175,5,FALSE),0)","v":"105101-HOSPITAL COQUIMBO"},"105417","80106002","2020-12-11T15:02:01",5,null,5,null,5]
[11,"5",2020,{"$f":"IFERROR(VLOOKUP([1]!Tabla_SERIEA_01_5[[#This Row],[IdEstablecimiento]],[2]Establecimientos!$A$1:$E$175,5,FALSE),0)","v":"105101-HOSPITAL COQUIMBO"},"105419","80106015","2020-12-11T15:02:17",1,null,1,null,1]
[11,"5",2020,{"$f":"IFERROR(VLOOKUP([1]!Tabla_SERIEA_01_5[[#This Row],[IdEstablecimiento]],[2]Establecimientos!$A$1:$E$175,5,FALSE),0)","v":"105101-HOSPITAL COQUIMBO"},"105427","80500011","2020-12-11T15:03:13",8,null,8,null,8]
[11,"5",2020,{"$f":"IFERROR(VLOOKUP([1]!Tabla_SERIEA_01_5[[#This Row],[IdEstablecimiento]],[2]Establecimientos!$A$1:$E$175,5,FALSE),0)","v":"105101-HOSPITAL COQUIMBO"},"105430","18050100","2020-12-11T15:03:44",51,0,51]
[11,"5",2020,{"$f":"IFERROR(VLOOKUP([1]!Tabla_SERIEA_01_5[[#This Row],[IdEstablecimiento]],[2]Establecimientos!$A$1:$E$175,5,FALSE),0)","v":"105101-HOSPITAL COQUIMBO"},"105432","80106023","2020-12-11T15:04:16",8,null,8,null,8,8]
[11,"5",2020,{"$f":"IFERROR(VLOOKUP([1]!Tabla_SERIEA_01_5[[#This Row],[IdEstablecimiento]],[2]Establecimientos!$A$1:$E$175,5,FALSE),0)","v":"105101-HOSPITAL COQUIMBO"},"105434","80301041","2020-12-11T15:04:45",0,null,null,13]
[11,"5",2020,{"$f":"IFERROR(VLOOKUP([1]!Tabla_SERIEA_01_5[[#This Row],[IdEstablecimiento]],[2]Establecimientos!$A$1:$E$175,5,FALSE),0)","v":"105600-COSAM Tierras Blancas (CESAM)"},"105819","80106013","2020-12-11T15:57:53",14,14,null,null,14]
[11,"5",2020,{"$f":"IFERROR(VLOOKUP([1]!Tabla_SERIEA_01_5[[#This Row],[IdEstablecimiento]],[2]Establecimientos!$A$1:$E$175,5,FALSE),0)","v":"04301-OVALLE"},"105817","80106020","2020-12-11T15:58:10",4,4]
[11,"5",2020,{"$f":"IFERROR(VLOOKUP([1]!Tabla_SERIEA_01_5[[#This Row],[IdEstablecimiento]],[2]Establecimientos!$A$1:$E$175,5,FALSE),0)","v":"04201-ILLAPEL"},"105466","80106014","2020-12-11T15:15:21",17,null,17,null,17]
[11,"5",2020,{"$f":"IFERROR(VLOOKUP([1]!Tabla_SERIEA_01_5[[#This Row],[IdEstablecimiento]],[2]Establecimientos!$A$1:$E$175,5,FALSE),0)","v":"04104-LA HIGUERA"},"105467","80302048","2020-12-11T15:15:41",0,null,null,2]
[11,"5",2020,{"$f":"IFERROR(VLOOKUP([1]!Tabla_SERIEA_01_5[[#This Row],[IdEstablecimiento]],[2]Establecimientos!$A$1:$E$175,5,FALSE),0)","v":"04201-ILLAPEL"},"105303","81602201","2020-12-11T14:48:58",1,null,1,1]
[11,"5",2020,{"$f":"IFERROR(VLOOKUP([1]!Tabla_SERIEA_01_5[[#This Row],[IdEstablecimiento]],[2]Establecimientos!$A$1:$E$175,5,FALSE),0)","v":"04305-RIO HURTADO"},"105467","80500011","2020-12-11T15:15:41",30,null,30,null,30]
[11,"5",2020,{"$f":"IFERROR(VLOOKUP([1]!Tabla_SERIEA_01_5[[#This Row],[IdEstablecimiento]],[2]Establecimientos!$A$1:$E$175,5,FALSE),0)","v":"04301-OVALLE"},"105321","80302013","2020-12-11T14:54:10",0,null,null,27]
[11,"5",2020,{"$f":"IFERROR(VLOOKUP([1]!Tabla_SERIEA_01_5[[#This Row],[IdEstablecimiento]],[2]Establecimientos!$A$1:$E$175,5,FALSE),0)","v":"105108-HOSPITAL LOS VILOS"},"105321","80302023","2020-12-11T14:54:10",0,null,null,89]
[11,"5",2020,{"$f":"IFERROR(VLOOKUP([1]!Tabla_SERIEA_01_5[[#This Row],[IdEstablecimiento]],[2]Establecimientos!$A$1:$E$175,5,FALSE),0)","v":"105106-HOSPITAL ANDACOLLO"},"105321","80106022","2020-12-11T14:54:10",1,1]
[11,"5",2020,{"$f":"IFERROR(VLOOKUP([1]!Tabla_SERIEA_01_5[[#This Row],[IdEstablecimiento]],[2]Establecimientos!$A$1:$E$175,5,FALSE),0)","v":"04302-COMBARBALÁ"},"105306","80302060","2020-12-11T14:49:46",0,null,null,9]
[11,"5",2020,{"$f":"IFERROR(VLOOKUP([1]!Tabla_SERIEA_01_5[[#This Row],[IdEstablecimiento]],[2]Establecimientos!$A$1:$E$175,5,FALSE),0)","v":"04301-OVALLE"},"105322","80301059","2020-12-11T14:54:37",22,null,22]
[11,"5",2020,{"$f":"IFERROR(VLOOKUP([1]!Tabla_SERIEA_01_5[[#This Row],[IdEstablecimiento]],[2]Establecimientos!$A$1:$E$175,5,FALSE),0)","v":"105102-HOSPITAL OVALLE"},"105322","80302047","2020-12-11T14:54:37",730,null,730]
[11,"5",2020,{"$f":"IFERROR(VLOOKUP([1]!Tabla_SERIEA_01_5[[#This Row],[IdEstablecimiento]],[2]Establecimientos!$A$1:$E$175,5,FALSE),0)","v":"04302-COMBARBALÁ"},"105322","80302064","2020-12-11T14:54:37",18,null,18]
[11,"5",2020,{"$f":"IFERROR(VLOOKUP([1]!Tabla_SERIEA_01_5[[#This Row],[IdEstablecimiento]],[2]Establecimientos!$A$1:$E$175,5,FALSE),0)","v":"04102-COQUIMBO"},"105322","80305019","2020-12-11T14:54:37",26,null,26]
[11,"5",2020,{"$f":"IFERROR(VLOOKUP([1]!Tabla_SERIEA_01_5[[#This Row],[IdEstablecimiento]],[2]Establecimientos!$A$1:$E$175,5,FALSE),0)","v":"04101-LA SERENA"},"105468","80106002","2020-12-11T15:15:56",30,null,30,null,30]
[11,"5",2020,{"$f":"IFERROR(VLOOKUP([1]!Tabla_SERIEA_01_5[[#This Row],[IdEstablecimiento]],[2]Establecimientos!$A$1:$E$175,5,FALSE),0)","v":"04305-RIO HURTADO"},"105468","80302034","2020-12-11T15:15:56",0,null,null,6]
[11,"5",2020,{"$f":"IFERROR(VLOOKUP([1]!Tabla_SERIEA_01_5[[#This Row],[IdEstablecimiento]],[2]Establecimientos!$A$1:$E$175,5,FALSE),0)","v":"04102-COQUIMBO"},"105411","18011002","2020-12-11T15:00:13",2,0,2]
[11,"5",2020,{"$f":"IFERROR(VLOOKUP([1]!Tabla_SERIEA_01_5[[#This Row],[IdEstablecimiento]],[2]Establecimientos!$A$1:$E$175,5,FALSE),0)","v":"04204-SALAMANCA"},"105303","80303027","2020-12-11T14:48:58",0,null,null,4]
[11,"5",2020,{"$f":"IFERROR(VLOOKUP([1]!Tabla_SERIEA_01_5[[#This Row],[IdEstablecimiento]],[2]Establecimientos!$A$1:$E$175,5,FALSE),0)","v":"04102-COQUIMBO"},"105306","80305030","2020-12-11T14:49:46",0,null,null,8]
[11,"5",2020,{"$f":"IFERROR(VLOOKUP([1]!Tabla_SERIEA_01_5[[#This Row],[IdEstablecimiento]],[2]Establecimientos!$A$1:$E$175,5,FALSE),0)","v":"04101-LA SERENA"},"105307","80309014","2020-12-11T14:50:31",6,null,6]
[10,"5",2020,{"$f":"IFERROR(VLOOKUP([1]!Tabla_SERIEA_01_5[[#This Row],[IdEstablecimiento]],[2]Establecimientos!$A$1:$E$175,5,FALSE),0)","v":"04301-OVALLE"},"105304","81701001","2020-11-12T07:07:49",31,null,31,null,31,31]
[9,"5",2020,{"$f":"IFERROR(VLOOKUP([1]!Tabla_SERIEA_01_5[[#This Row],[IdEstablecimiento]],[2]Establecimientos!$A$1:$E$175,5,FALSE),0)","v":"04301-OVALLE"},"105437","82001015","2020-10-16T09:40:51",1,null,1]
[10,"5",2020,{"$f":"IFERROR(VLOOKUP([1]!Tabla_SERIEA_01_5[[#This Row],[IdEstablecimiento]],[2]Establecimientos!$A$1:$E$175,5,FALSE),0)","v":"04305-RIO HURTADO"},"105325","82001015","2020-11-12T07:17:00",5,null,5,null,5]
[10,"5",2020,{"$f":"IFERROR(VLOOKUP([1]!Tabla_SERIEA_01_5[[#This Row],[IdEstablecimiento]],[2]Establecimientos!$A$1:$E$175,5,FALSE),0)","v":"105100-HOSPITAL LA SERENA"},"105325","80302067","2020-11-12T07:17:00",0,null,null,222]
[10,"5",2020,{"$f":"IFERROR(VLOOKUP([1]!Tabla_SERIEA_01_5[[#This Row],[IdEstablecimiento]],[2]Establecimientos!$A$1:$E$175,5,FALSE),0)","v":"04102-COQUIMBO"},"105325","80305019","2020-11-12T07:17:00",0,null,null,15]
[10,"5",2020,{"$f":"IFERROR(VLOOKUP([1]!Tabla_SERIEA_01_5[[#This Row],[IdEstablecimiento]],[2]Establecimientos!$A$1:$E$175,5,FALSE),0)","v":"04301-OVALLE"},"105326","80302023","2020-11-12T07:17:22",0,null,null,79]
[10,"5",2020,{"$f":"IFERROR(VLOOKUP([1]!Tabla_SERIEA_01_5[[#This Row],[IdEstablecimiento]],[2]Establecimientos!$A$1:$E$175,5,FALSE),0)","v":"04101-LA SERENA"},"105326","18040200","2020-11-12T07:17:22",2,null,2]
[3,"5",2020,{"$f":"IFERROR(VLOOKUP([1]!Tabla_SERIEA_01_5[[#This Row],[IdEstablecimiento]],[2]Establecimientos!$A$1:$E$175,5,FALSE),0)","v":"105105-HOSPITAL COMBARBALÁ"},"105325","80309013","2020-04-16T21:59:08",0,null,null,120]
[1,"5",2020,{"$f":"IFERROR(VLOOKUP([1]!Tabla_SERIEA_01_5[[#This Row],[IdEstablecimiento]],[2]Establecimientos!$A$1:$E$175,5,FALSE),0)","v":"105105-HOSPITAL COMBARBALÁ"},"105480","80302057","2020-03-19T00:12:04",0,null,null,43]
[10,"5",2020,{"$f":"IFERROR(VLOOKUP([1]!Tabla_SERIEA_01_5[[#This Row],[IdEstablecimiento]],[2]Establecimientos!$A$1:$E$175,5,FALSE),0)","v":"04303-MONTE PATRIA"},"105467","80309022","2020-11-12T07:50:35",0,null,null,12]
[10,"5",2020,{"$f":"IFERROR(VLOOKUP([1]!Tabla_SERIEA_01_5[[#This Row],[IdEstablecimiento]],[2]Establecimientos!$A$1:$E$175,5,FALSE),0)","v":"04301-OVALLE"},"200848","18400700","2020-11-12T08:32:29",4986]
[10,"5",2020,{"$f":"IFERROR(VLOOKUP([1]!Tabla_SERIEA_01_5[[#This Row],[IdEstablecimiento]],[2]Establecimientos!$A$1:$E$175,5,FALSE),0)","v":"105106-HOSPITAL ANDACOLLO"},"105440","18040200","2020-11-12T09:44:01",15,4,11]
[9,"5",2020,{"$f":"IFERROR(VLOOKUP([1]!Tabla_SERIEA_01_5[[#This Row],[IdEstablecimiento]],[2]Establecimientos!$A$1:$E$175,5,FALSE),0)","v":"105100-HOSPITAL LA SERENA"},"105401","80309022","2020-10-16T09:21:23",0,null,null,7]
[11,"5",2020,{"$f":"IFERROR(VLOOKUP([1]!Tabla_SERIEA_01_5[[#This Row],[IdEstablecimiento]],[2]Establecimientos!$A$1:$E$175,5,FALSE),0)","v":"105107-HOSPITAL VICUÑA"},"105819","80401009","2020-12-11T15:57:53",3,3]
[10,"5",2020,{"$f":"IFERROR(VLOOKUP([1]!Tabla_SERIEA_01_5[[#This Row],[IdEstablecimiento]],[2]Establecimientos!$A$1:$E$175,5,FALSE),0)","v":"04201-ILLAPEL"},"105477","80106007","2020-11-12T07:55:31",16,null,16,null,16]
[11,"5",2020,{"$f":"IFERROR(VLOOKUP([1]!Tabla_SERIEA_01_5[[#This Row],[IdEstablecimiento]],[2]Establecimientos!$A$1:$E$175,5,FALSE),0)","v":"04101-LA SERENA"},"105817","18400700","2020-12-11T15:58:10",973]
[11,"5",2020,{"$f":"IFERROR(VLOOKUP([1]!Tabla_SERIEA_01_5[[#This Row],[IdEstablecimiento]],[2]Establecimientos!$A$1:$E$175,5,FALSE),0)","v":"04303-MONTE PATRIA"},"105822","18010200","2020-12-11T15:58:32",17,17,0]
[11,"5",2020,{"$f":"IFERROR(VLOOKUP([1]!Tabla_SERIEA_01_5[[#This Row],[IdEstablecimiento]],[2]Establecimientos!$A$1:$E$175,5,FALSE),0)","v":"04201-ILLAPEL"},"105823","18020300","2020-12-11T15:58:51",53,53,0]
[11,"5",2020,{"$f":"IFERROR(VLOOKUP([1]!Tabla_SERIEA_01_5[[#This Row],[IdEstablecimiento]],[2]Establecimientos!$A$1:$E$175,5,FALSE),0)","v":"04301-OVALLE"},"105826","80106002","2020-12-11T16:00:16",27,27,null,null,27]
[10,"5",2020,{"$f":"IFERROR(VLOOKUP([1]!Tabla_SERIEA_01_5[[#This Row],[IdEstablecimiento]],[2]Establecimientos!$A$1:$E$175,5,FALSE),0)","v":"04301-OVALLE"},"105303","80308004","2020-11-12T07:07:11",0,null,null,7]
[3,"5",2020,{"$f":"IFERROR(VLOOKUP([1]!Tabla_SERIEA_01_5[[#This Row],[IdEstablecimiento]],[2]Establecimientos!$A$1:$E$175,5,FALSE),0)","v":"04101-LA SERENA"},"105310","18020500","2020-05-26T01:56:15",35,0,35]
[3,"5",2020,{"$f":"IFERROR(VLOOKUP([1]!Tabla_SERIEA_01_5[[#This Row],[IdEstablecimiento]],[2]Establecimientos!$A$1:$E$175,5,FALSE),0)","v":"04201-ILLAPEL"},"105491","80106015","2020-04-16T22:53:39",5,null,5]
[3,"5",2020,{"$f":"IFERROR(VLOOKUP([1]!Tabla_SERIEA_01_5[[#This Row],[IdEstablecimiento]],[2]Establecimientos!$A$1:$E$175,5,FALSE),0)","v":"04201-ILLAPEL"},"105722","80307011","2020-04-16T23:09:38",135,null,135]
[7,"5",2020,{"$f":"IFERROR(VLOOKUP([1]!Tabla_SERIEA_01_5[[#This Row],[IdEstablecimiento]],[2]Establecimientos!$A$1:$E$175,5,FALSE),0)","v":"04201-ILLAPEL"},"200273","80302068","2020-08-20T18:17:58",0,null,null,23]
[4,"5",2020,{"$f":"IFERROR(VLOOKUP([1]!Tabla_SERIEA_01_5[[#This Row],[IdEstablecimiento]],[2]Establecimientos!$A$1:$E$175,5,FALSE),0)","v":"04101-LA SERENA"},"105311","18400400","2020-05-26T00:42:13",1,0,1]
[2,"5",2020,{"$f":"IFERROR(VLOOKUP([1]!Tabla_SERIEA_01_5[[#This Row],[IdEstablecimiento]],[2]Establecimientos!$A$1:$E$175,5,FALSE),0)","v":"04202-CANELA"},"105402","80302047","2020-03-19T18:54:23",0,null,null,17]
[4,"5",2020,{"$f":"IFERROR(VLOOKUP([1]!Tabla_SERIEA_01_5[[#This Row],[IdEstablecimiento]],[2]Establecimientos!$A$1:$E$175,5,FALSE),0)","v":"04101-LA SERENA"},"200607","18400600","2020-05-26T01:19:28",3,0,3]
[6,"5",2020,{"$f":"IFERROR(VLOOKUP([1]!Tabla_SERIEA_01_5[[#This Row],[IdEstablecimiento]],[2]Establecimientos!$A$1:$E$175,5,FALSE),0)","v":"04101-LA SERENA"},"105443","80106023","2020-07-20T23:20:33",3,null,3,null,3]
[8,"5",2020,{"$f":"IFERROR(VLOOKUP([1]!Tabla_SERIEA_01_5[[#This Row],[IdEstablecimiento]],[2]Establecimientos!$A$1:$E$175,5,FALSE),0)","v":"04302-COMBARBALÁ"},"105444","80302076","2020-09-16T17:00:16",0,null,null,1]
[5,"5",2020,{"$f":"IFERROR(VLOOKUP([1]!Tabla_SERIEA_01_5[[#This Row],[IdEstablecimiento]],[2]Establecimientos!$A$1:$E$175,5,FALSE),0)","v":"04302-COMBARBALÁ"},"105326","80106002","2020-06-12T19:32:09",53,null,53,null,53]
[5,"5",2020,{"$f":"IFERROR(VLOOKUP([1]!Tabla_SERIEA_01_5[[#This Row],[IdEstablecimiento]],[2]Establecimientos!$A$1:$E$175,5,FALSE),0)","v":"04301-OVALLE"},"105427","80106015","2020-06-12T19:39:06",5,null,5,null,5]
[5,"5",2020,{"$f":"IFERROR(VLOOKUP([1]!Tabla_SERIEA_01_5[[#This Row],[IdEstablecimiento]],[2]Establecimientos!$A$1:$E$175,5,FALSE),0)","v":"04301-OVALLE"},"105428","80106015","2020-06-12T19:39:22",2,null,2,null,2]
[1,"5",2020,{"$f":"IFERROR(VLOOKUP([1]!Tabla_SERIEA_01_5[[#This Row],[IdEstablecimiento]],[2]Establecimientos!$A$1:$E$175,5,FALSE),0)","v":"04302-COMBARBALÁ"},"105411","80302005","2020-03-18T23:51:55",0,null,null,10]
[7,"5",2020,{"$f":"IFERROR(VLOOKUP([1]!Tabla_SERIEA_01_5[[#This Row],[IdEstablecimiento]],[2]Establecimientos!$A$1:$E$175,5,FALSE),0)","v":"04106-VICUÑA"},"105303","80303028","2020-08-20T16:51:02",0,null,null,2]
[6,"5",2020,{"$f":"IFERROR(VLOOKUP([1]!Tabla_SERIEA_01_5[[#This Row],[IdEstablecimiento]],[2]Establecimientos!$A$1:$E$175,5,FALSE),0)","v":"04106-VICUÑA"},"105465","80106014","2020-07-20T23:33:13",11,null,11,null,11]
[7,"5",2020,{"$f":"IFERROR(VLOOKUP([1]!Tabla_SERIEA_01_5[[#This Row],[IdEstablecimiento]],[2]Establecimientos!$A$1:$E$175,5,FALSE),0)","v":"04106-VICUÑA"},"200366","81701001","2020-08-20T18:18:19",20,null,20]
[8,"5",2020,{"$f":"IFERROR(VLOOKUP([1]!Tabla_SERIEA_01_5[[#This Row],[IdEstablecimiento]],[2]Establecimientos!$A$1:$E$175,5,FALSE),0)","v":"04106-VICUÑA"},"105322","80306008","2020-09-16T16:42:31",21,21]
[9,"5",2020,{"$f":"IFERROR(VLOOKUP([1]!Tabla_SERIEA_01_5[[#This Row],[IdEstablecimiento]],[2]Establecimientos!$A$1:$E$175,5,FALSE),0)","v":"04106-VICUÑA"},"200273","80302047","2020-10-16T10:48:22",0,null,null,33]
[9,"5",2020,{"$f":"IFERROR(VLOOKUP([1]!Tabla_SERIEA_01_5[[#This Row],[IdEstablecimiento]],[2]Establecimientos!$A$1:$E$175,5,FALSE),0)","v":"04106-VICUÑA"},"200273","18050100","2020-10-16T10:48:22",20,0,20]
[9,"5",2020,{"$f":"IFERROR(VLOOKUP([1]!Tabla_SERIEA_01_5[[#This Row],[IdEstablecimiento]],[2]Establecimientos!$A$1:$E$175,5,FALSE),0)","v":"04106-VICUÑA"},"200366","80301045","2020-10-16T10:48:42",0,null,null,119]
[6,"5",2020,{"$f":"IFERROR(VLOOKUP([1]!Tabla_SERIEA_01_5[[#This Row],[IdEstablecimiento]],[2]Establecimientos!$A$1:$E$175,5,FALSE),0)","v":"04106-VICUÑA"},"105700","80106017","2020-07-21T00:01:00",45,null,45,null,45]
[3,"5",2020,{"$f":"IFERROR(VLOOKUP([1]!Tabla_SERIEA_01_5[[#This Row],[IdEstablecimiento]],[2]Establecimientos!$A$1:$E$175,5,FALSE),0)","v":"04106-VICUÑA"},"105499","80301039","2020-04-16T22:58:32",0,null,null,9]
[9,"5",2020,{"$f":"IFERROR(VLOOKUP([1]!Tabla_SERIEA_01_5[[#This Row],[IdEstablecimiento]],[2]Establecimientos!$A$1:$E$175,5,FALSE),0)","v":"04106-VICUÑA"},"105505","81701009","2020-10-16T10:35:28",32,32,null,null,32]
[9,"5",2020,{"$f":"IFERROR(VLOOKUP([1]!Tabla_SERIEA_01_5[[#This Row],[IdEstablecimiento]],[2]Establecimientos!$A$1:$E$175,5,FALSE),0)","v":"04106-VICUÑA"},"105501","80106002","2020-10-16T10:34:22",64,null,64]
[9,"5",2020,{"$f":"IFERROR(VLOOKUP([1]!Tabla_SERIEA_01_5[[#This Row],[IdEstablecimiento]],[2]Establecimientos!$A$1:$E$175,5,FALSE),0)","v":"04106-VICUÑA"},"105501","18400900","2020-10-16T10:34:22",3,1,2]
[11,"5",2020,{"$f":"IFERROR(VLOOKUP([1]!Tabla_SERIEA_01_5[[#This Row],[IdEstablecimiento]],[2]Establecimientos!$A$1:$E$175,5,FALSE),0)","v":"04106-VICUÑA"},"200258","80106002","2020-12-11T16:00:53",44,null,44,null,44]
[11,"5",2020,{"$f":"IFERROR(VLOOKUP([1]!Tabla_SERIEA_01_5[[#This Row],[IdEstablecimiento]],[2]Establecimientos!$A$1:$E$175,5,FALSE),0)","v":"04301-OVALLE"},"200607","80307011","2020-12-11T16:03:55",106,null,106]
[11,"5",2020,{"$f":"IFERROR(VLOOKUP([1]!Tabla_SERIEA_01_5[[#This Row],[IdEstablecimiento]],[2]Establecimientos!$A$1:$E$175,5,FALSE),0)","v":"04301-OVALLE"},"200720","80401042","2020-12-11T16:04:20",19,19]
[11,"5",2020,{"$f":"IFERROR(VLOOKUP([1]!Tabla_SERIEA_01_5[[#This Row],[IdEstablecimiento]],[2]Establecimientos!$A$1:$E$175,5,FALSE),0)","v":"04301-OVALLE"},"200720","80401054","2020-12-11T16:04:20",70,70]
[11,"5",2020,{"$f":"IFERROR(VLOOKUP([1]!Tabla_SERIEA_01_5[[#This Row],[IdEstablecimiento]],[2]Establecimientos!$A$1:$E$175,5,FALSE),0)","v":"04301-OVALLE"},"200720","80106014","2020-12-11T16:04:20",976,976,null,null,976]
[11,"5",2020,{"$f":"IFERROR(VLOOKUP([1]!Tabla_SERIEA_01_5[[#This Row],[IdEstablecimiento]],[2]Establecimientos!$A$1:$E$175,5,FALSE),0)","v":"04301-OVALLE"},"200721","81701001","2020-12-11T16:04:44",10,10,null,null,10]
[11,"5",2020,{"$f":"IFERROR(VLOOKUP([1]!Tabla_SERIEA_01_5[[#This Row],[IdEstablecimiento]],[2]Establecimientos!$A$1:$E$175,5,FALSE),0)","v":"04301-OVALLE"},"200721","81901022","2020-12-11T16:04:44",3,3,null,null,3]
[11,"5",2020,{"$f":"IFERROR(VLOOKUP([1]!Tabla_SERIEA_01_5[[#This Row],[IdEstablecimiento]],[2]Establecimientos!$A$1:$E$175,5,FALSE),0)","v":"04301-OVALLE"},"200721","18030000","2020-12-11T16:04:44",13,13,0]
[11,"5",2020,{"$f":"IFERROR(VLOOKUP([1]!Tabla_SERIEA_01_5[[#This Row],[IdEstablecimiento]],[2]Establecimientos!$A$1:$E$175,5,FALSE),0)","v":"04301-OVALLE"},"105461","18050100","2020-12-11T15:13:39",21,0,21]
[11,"5",2020,{"$f":"IFERROR(VLOOKUP([1]!Tabla_SERIEA_01_5[[#This Row],[IdEstablecimiento]],[2]Establecimientos!$A$1:$E$175,5,FALSE),0)","v":"04301-OVALLE"},"200742","80106002","2020-12-11T16:06:12",23,23]
[11,"5",2020,{"$f":"IFERROR(VLOOKUP([1]!Tabla_SERIEA_01_5[[#This Row],[IdEstablecimiento]],[2]Establecimientos!$A$1:$E$175,5,FALSE),0)","v":"04301-OVALLE"},"105487","80106015","2020-12-11T15:36:00",14,null,14,null,14]
[11,"5",2020,{"$f":"IFERROR(VLOOKUP([1]!Tabla_SERIEA_01_5[[#This Row],[IdEstablecimiento]],[2]Establecimientos!$A$1:$E$175,5,FALSE),0)","v":"04106-VICUÑA"},"105492","80106008","2020-12-11T15:39:49",2,null,2]
[11,"5",2020,{"$f":"IFERROR(VLOOKUP([1]!Tabla_SERIEA_01_5[[#This Row],[IdEstablecimiento]],[2]Establecimientos!$A$1:$E$175,5,FALSE),0)","v":"04106-VICUÑA"},"105493","18020500","2020-12-11T15:40:09",11,0,11]
[11,"5",2020,{"$f":"IFERROR(VLOOKUP([1]!Tabla_SERIEA_01_5[[#This Row],[IdEstablecimiento]],[2]Establecimientos!$A$1:$E$175,5,FALSE),0)","v":"04106-VICUÑA"},"105469","81602221","2020-12-11T15:16:20",4,null,4,null,4]
[11,"5",2020,{"$f":"IFERROR(VLOOKUP([1]!Tabla_SERIEA_01_5[[#This Row],[IdEstablecimiento]],[2]Establecimientos!$A$1:$E$175,5,FALSE),0)","v":"04106-VICUÑA"},"105469","80302067","2020-12-11T15:16:20",0,null,null,6]
[11,"5",2020,{"$f":"IFERROR(VLOOKUP([1]!Tabla_SERIEA_01_5[[#This Row],[IdEstablecimiento]],[2]Establecimientos!$A$1:$E$175,5,FALSE),0)","v":"04106-VICUÑA"},"105470","18090000","2020-12-11T15:16:39",12,0,12]
[11,"5",2020,{"$f":"IFERROR(VLOOKUP([1]!Tabla_SERIEA_01_5[[#This Row],[IdEstablecimiento]],[2]Establecimientos!$A$1:$E$175,5,FALSE),0)","v":"04106-VICUÑA"},"105497","18050200","2020-12-11T15:40:41",3,0,3]
[11,"5",2020,{"$f":"IFERROR(VLOOKUP([1]!Tabla_SERIEA_01_5[[#This Row],[IdEstablecimiento]],[2]Establecimientos!$A$1:$E$175,5,FALSE),0)","v":"04106-VICUÑA"},"105499","18020500","2020-12-11T15:41:14",1,0,1]
[11,"5",2020,{"$f":"IFERROR(VLOOKUP([1]!Tabla_SERIEA_01_5[[#This Row],[IdEstablecimiento]],[2]Establecimientos!$A$1:$E$175,5,FALSE),0)","v":"04106-VICUÑA"},"105500","81701009","2020-12-11T15:41:32",42,42,null,null,42]
[11,"5",2020,{"$f":"IFERROR(VLOOKUP([1]!Tabla_SERIEA_01_5[[#This Row],[IdEstablecimiento]],[2]Establecimientos!$A$1:$E$175,5,FALSE),0)","v":"04106-VICUÑA"},"105500","18050300","2020-12-11T15:41:32",1,1,0]
[11,"5",2020,{"$f":"IFERROR(VLOOKUP([1]!Tabla_SERIEA_01_5[[#This Row],[IdEstablecimiento]],[2]Establecimientos!$A$1:$E$175,5,FALSE),0)","v":"04106-VICUÑA"},"105302","80500008","2020-12-11T14:48:43",6,null,6,null,6]
[11,"5",2020,{"$f":"IFERROR(VLOOKUP([1]!Tabla_SERIEA_01_5[[#This Row],[IdEstablecimiento]],[2]Establecimientos!$A$1:$E$175,5,FALSE),0)","v":"04106-VICUÑA"},"105319","80106017","2020-12-11T14:53:20",132,null,132,null,132]
[11,"5",2020,{"$f":"IFERROR(VLOOKUP([1]!Tabla_SERIEA_01_5[[#This Row],[IdEstablecimiento]],[2]Establecimientos!$A$1:$E$175,5,FALSE),0)","v":"04106-VICUÑA"},"105319","80302068","2020-12-11T14:53:20",0,null,null,237]
[11,"5",2020,{"$f":"IFERROR(VLOOKUP([1]!Tabla_SERIEA_01_5[[#This Row],[IdEstablecimiento]],[2]Establecimientos!$A$1:$E$175,5,FALSE),0)","v":"04106-VICUÑA"},"200402","80500008","2020-12-11T16:02:22",2,null,2,null,2]
[3,"5",2020,{"$f":"IFERROR(VLOOKUP([1]!Tabla_SERIEA_01_5[[#This Row],[IdEstablecimiento]],[2]Establecimientos!$A$1:$E$175,5,FALSE),0)","v":"04106-VICUÑA"},"105304","80302047","2020-05-26T01:55:50",0,null,null,138]
[8,"5",2020,{"$f":"IFERROR(VLOOKUP([1]!Tabla_SERIEA_01_5[[#This Row],[IdEstablecimiento]],[2]Establecimientos!$A$1:$E$175,5,FALSE),0)","v":"04106-VICUÑA"},"105312","18020300","2020-09-16T16:40:06",5,0,5]
[8,"5",2020,{"$f":"IFERROR(VLOOKUP([1]!Tabla_SERIEA_01_5[[#This Row],[IdEstablecimiento]],[2]Establecimientos!$A$1:$E$175,5,FALSE),0)","v":"04106-VICUÑA"},"105309","80307012","2020-09-16T16:39:13",1,null,1,1]
[4,"5",2020,{"$f":"IFERROR(VLOOKUP([1]!Tabla_SERIEA_01_5[[#This Row],[IdEstablecimiento]],[2]Establecimientos!$A$1:$E$175,5,FALSE),0)","v":"04105-PAIHUANO"},"105402","80301034","2020-05-26T00:46:43",0,null,null,1]
[4,"5",2020,{"$f":"IFERROR(VLOOKUP([1]!Tabla_SERIEA_01_5[[#This Row],[IdEstablecimiento]],[2]Establecimientos!$A$1:$E$175,5,FALSE),0)","v":"04106-VICUÑA"},"105410","18020200","2020-05-26T00:48:24",4,0,4]
[1,"5",2020,{"$f":"IFERROR(VLOOKUP([1]!Tabla_SERIEA_01_5[[#This Row],[IdEstablecimiento]],[2]Establecimientos!$A$1:$E$175,5,FALSE),0)","v":"04106-VICUÑA"},"200607","80306011","2020-05-26T01:51:54",0,null,null,77]
[1,"5",2020,{"$f":"IFERROR(VLOOKUP([1]!Tabla_SERIEA_01_5[[#This Row],[IdEstablecimiento]],[2]Establecimientos!$A$1:$E$175,5,FALSE),0)","v":"04106-VICUÑA"},"105305","18020300","2020-03-18T23:42:06",251,119,132]
[11,"5",2020,{"$f":"IFERROR(VLOOKUP([1]!Tabla_SERIEA_01_5[[#This Row],[IdEstablecimiento]],[2]Establecimientos!$A$1:$E$175,5,FALSE),0)","v":"04105-PAIHUANO"},"105302","18700100","2020-12-11T14:48:43",586,32,486,68]
[11,"5",2020,{"$f":"IFERROR(VLOOKUP([1]!Tabla_SERIEA_01_5[[#This Row],[IdEstablecimiento]],[2]Establecimientos!$A$1:$E$175,5,FALSE),0)","v":"04105-PAIHUANO"},"105319","18400600","2020-12-11T14:53:20",35,0,35]
[9,"5",2020,{"$f":"IFERROR(VLOOKUP([1]!Tabla_SERIEA_01_5[[#This Row],[IdEstablecimiento]],[2]Establecimientos!$A$1:$E$175,5,FALSE),0)","v":"04203-LOS VILOS"},"200494","81701001","2020-10-16T10:53:04",58,58,null,null,58]
[9,"5",2020,{"$f":"IFERROR(VLOOKUP([1]!Tabla_SERIEA_01_5[[#This Row],[IdEstablecimiento]],[2]Establecimientos!$A$1:$E$175,5,FALSE),0)","v":"04203-LOS VILOS"},"200494","80302068","2020-10-16T10:53:04",0,null,null,68]
[10,"5",2020,{"$f":"IFERROR(VLOOKUP([1]!Tabla_SERIEA_01_5[[#This Row],[IdEstablecimiento]],[2]Establecimientos!$A$1:$E$175,5,FALSE),0)","v":"04202-CANELA"},"105319","80302032","2020-11-12T07:12:38",0,null,null,109]
[7,"5",2020,{"$f":"IFERROR(VLOOKUP([1]!Tabla_SERIEA_01_5[[#This Row],[IdEstablecimiento]],[2]Establecimientos!$A$1:$E$175,5,FALSE),0)","v":"04202-CANELA"},"105304","18400700","2020-08-20T16:51:19",3260]
[6,"5",2020,{"$f":"IFERROR(VLOOKUP([1]!Tabla_SERIEA_01_5[[#This Row],[IdEstablecimiento]],[2]Establecimientos!$A$1:$E$175,5,FALSE),0)","v":"04201-ILLAPEL"},"105480","80302075","2020-07-20T23:38:44",0,null,null,1]
[8,"5",2020,{"$f":"IFERROR(VLOOKUP([1]!Tabla_SERIEA_01_5[[#This Row],[IdEstablecimiento]],[2]Establecimientos!$A$1:$E$175,5,FALSE),0)","v":"04201-ILLAPEL"},"105499","80106002","2020-11-13T14:32:28",10,null,10,null,1]
[8,"5",2020,{"$f":"IFERROR(VLOOKUP([1]!Tabla_SERIEA_01_5[[#This Row],[IdEstablecimiento]],[2]Establecimientos!$A$1:$E$175,5,FALSE),0)","v":"04201-ILLAPEL"},"200538","80301045","2020-09-16T17:53:58",0,null,null,59]
[9,"5",2020,{"$f":"IFERROR(VLOOKUP([1]!Tabla_SERIEA_01_5[[#This Row],[IdEstablecimiento]],[2]Establecimientos!$A$1:$E$175,5,FALSE),0)","v":"04201-ILLAPEL"},"105701","80500009","2020-10-16T10:38:43",1,null,1,null,1]
[8,"5",2020,{"$f":"IFERROR(VLOOKUP([1]!Tabla_SERIEA_01_5[[#This Row],[IdEstablecimiento]],[2]Establecimientos!$A$1:$E$175,5,FALSE),0)","v":"04302-COMBARBALÁ"},"105503","80106020","2020-09-16T17:35:27",1,null,1,null,1]
[8,"5",2020,{"$f":"IFERROR(VLOOKUP([1]!Tabla_SERIEA_01_5[[#This Row],[IdEstablecimiento]],[2]Establecimientos!$A$1:$E$175,5,FALSE),0)","v":"04302-COMBARBALÁ"},"105503","18070300","2020-09-16T17:35:27",5,{"$nulls":4},2,3]
[8,"5",2020,{"$f":"IFERROR(VLOOKUP([1]!Tabla_SERIEA_01_5[[#This Row],[IdEstablecimiento]],[2]Establecimientos!$A$1:$E$175,5,FALSE),0)","v":"04302-COMBARBALÁ"},"105322","82001015","2020-09-16T16:42:31",1,null,1,null,1]
[9,"5",2020,{"$f":"IFERROR(VLOOKUP([1]!Tabla_SERIEA_01_5[[#This Row],[IdEstablecimiento]],[2]Establecimientos!$A$1:$E$175,5,FALSE),0)","v":"04202-CANELA"},"105302","80307011","2020-10-16T09:00:52",204,null,204]
[2,"5",2020,{"$f":"IFERROR(VLOOKUP([1]!Tabla_SERIEA_01_5[[#This Row],[IdEstablecimiento]],[2]Establecimientos!$A$1:$E$175,5,FALSE),0)","v":"04201-ILLAPEL"},"105306","80302005","2020-03-19T18:40:00",0,null,null,16]
[9,"5",2020,{"$f":"IFERROR(VLOOKUP([1]!Tabla_SERIEA_01_5[[#This Row],[IdEstablecimiento]],[2]Establecimientos!$A$1:$E$175,5,FALSE),0)","v":"04201-ILLAPEL"},"105459","80106017","2020-10-16T10:04:34",3,null,3,null,3]
[6,"5",2020,{"$f":"IFERROR(VLOOKUP([1]!Tabla_SERIEA_01_5[[#This Row],[IdEstablecimiento]],[2]Establecimientos!$A$1:$E$175,5,FALSE),0)","v":"04201-ILLAPEL"},"105480","80305070","2020-07-20T23:38:44",0,null,null,1]
[10,"5",2020,{"$f":"IFERROR(VLOOKUP([1]!Tabla_SERIEA_01_5[[#This Row],[IdEstablecimiento]],[2]Establecimientos!$A$1:$E$175,5,FALSE),0)","v":"04201-ILLAPEL"},"105503","80106014","2020-11-12T08:05:31",17,null,17,null,17]
[1,"5",2020,{"$f":"IFERROR(VLOOKUP([1]!Tabla_SERIEA_01_5[[#This Row],[IdEstablecimiento]],[2]Establecimientos!$A$1:$E$175,5,FALSE),0)","v":"04202-CANELA"},"105473","80106020","2020-03-19T00:10:17",2,null,2,null,2]
[1,"5",2020,{"$f":"IFERROR(VLOOKUP([1]!Tabla_SERIEA_01_5[[#This Row],[IdEstablecimiento]],[2]Establecimientos!$A$1:$E$175,5,FALSE),0)","v":"04202-CANELA"},"105473","80307011","2020-03-19T00:10:17",0,null,null,37]
[8,"5",2020,{"$f":"IFERROR(VLOOKUP([1]!Tabla_SERIEA_01_5[[#This Row],[IdEstablecimiento]],[2]Establecimientos!$A$1:$E$175,5,FALSE),0)","v":"04101-LA SERENA"},"105323","80301036","2020-09-16T16:42:51",0,null,null,58]
[3,"5",2020,{"$f":"IFERROR(VLOOKUP([1]!Tabla_SERIEA_01_5[[#This Row],[IdEstablecimiento]],[2]Establecimientos!$A$1:$E$175,5,FALSE),0)","v":"04204-SALAMANCA"},"200538","80309013","2020-04-16T23:12:13",0,null,null,31]
[4,"5",2020,{"$f":"IFERROR(VLOOKUP([1]!Tabla_SERIEA_01_5[[#This Row],[IdEstablecimiento]],[2]Establecimientos!$A$1:$E$175,5,FALSE),0)","v":"04204-SALAMANCA"},"105307","80302060","2020-05-26T00:41:15",2,null,2]
[7,"5",2020,{"$f":"IFERROR(VLOOKUP([1]!Tabla_SERIEA_01_5[[#This Row],[IdEstablecimiento]],[2]Establecimientos!$A$1:$E$175,5,FALSE),0)","v":"04204-SALAMANCA"},"105323","18700230","2020-08-20T16:58:47",2,null,2,{"$nulls":3},2]
[9,"5",2020,{"$f":"IFERROR(VLOOKUP([1]!Tabla_SERIEA_01_5[[#This Row],[IdEstablecimiento]],[2]Establecimientos!$A$1:$E$175,5,FALSE),0)","v":"04204-SALAMANCA"},"105700","80302047","2020-10-16T10:38:23",0,null,null,34]
[9,"5",2020,{"$f":"IFERROR(VLOOKUP([1]!Tabla_SERIEA_01_5[[#This Row],[IdEstablecimiento]],[2]Establecimientos!$A$1:$E$175,5,FALSE),0)","v":"04201-ILLAPEL"},"200105","80500011","2020-10-16T10:47:10",49,49,null,null,49]
[9,"5",2020,{"$f":"IFERROR(VLOOKUP([1]!Tabla_SERIEA_01_5[[#This Row],[IdEstablecimiento]],[2]Establecimientos!$A$1:$E$175,5,FALSE),0)","v":"04201-ILLAPEL"},"200273","80309023","2020-10-16T10:48:22",0,null,null,33]
[9,"5",2020,{"$f":"IFERROR(VLOOKUP([1]!Tabla_SERIEA_01_5[[#This Row],[IdEstablecimiento]],[2]Establecimientos!$A$1:$E$175,5,FALSE),0)","v":"04201-ILLAPEL"},"200273","80301041","2020-10-16T10:48:22",0,null,null,20]
[3,"5",2020,{"$f":"IFERROR(VLOOKUP([1]!Tabla_SERIEA_01_5[[#This Row],[IdEstablecimiento]],[2]Establecimientos!$A$1:$E$175,5,FALSE),0)","v":"04201-ILLAPEL"},"105472","80302005","2020-04-16T22:48:55",0,null,null,7]
[1,"5",2020,{"$f":"IFERROR(VLOOKUP([1]!Tabla_SERIEA_01_5[[#This Row],[IdEstablecimiento]],[2]Establecimientos!$A$1:$E$175,5,FALSE),0)","v":"04201-ILLAPEL"},"105701","80309013","2020-03-19T00:43:59",0,null,null,5]
[6,"5",2020,{"$f":"IFERROR(VLOOKUP([1]!Tabla_SERIEA_01_5[[#This Row],[IdEstablecimiento]],[2]Establecimientos!$A$1:$E$175,5,FALSE),0)","v":"04201-ILLAPEL"},"105478","80302032","2020-07-20T23:38:02",0,null,null,2]
[7,"5",2020,{"$f":"IFERROR(VLOOKUP([1]!Tabla_SERIEA_01_5[[#This Row],[IdEstablecimiento]],[2]Establecimientos!$A$1:$E$175,5,FALSE),0)","v":"04204-SALAMANCA"},"105504","81701001","2020-08-20T18:02:27",2,null,2,null,2]
[8,"5",2020,{"$f":"IFERROR(VLOOKUP([1]!Tabla_SERIEA_01_5[[#This Row],[IdEstablecimiento]],[2]Establecimientos!$A$1:$E$175,5,FALSE),0)","v":"04201-ILLAPEL"},"200538","80106015","2020-09-16T17:53:58",3,null,3,null,3]
[2,"5",2020,{"$f":"IFERROR(VLOOKUP([1]!Tabla_SERIEA_01_5[[#This Row],[IdEstablecimiento]],[2]Establecimientos!$A$1:$E$175,5,FALSE),0)","v":"04201-ILLAPEL"},"105478","80106014","2020-03-19T21:08:09",26,null,26,null,26]
[8,"5",2020,{"$f":"IFERROR(VLOOKUP([1]!Tabla_SERIEA_01_5[[#This Row],[IdEstablecimiento]],[2]Establecimientos!$A$1:$E$175,5,FALSE),0)","v":"04204-SALAMANCA"},"105322","18010100","2020-09-16T16:42:31",1314,1314,0]
[1,"5",2020,{"$f":"IFERROR(VLOOKUP([1]!Tabla_SERIEA_01_5[[#This Row],[IdEstablecimiento]],[2]Establecimientos!$A$1:$E$175,5,FALSE),0)","v":"04201-ILLAPEL"},"105309","80302048","2020-03-18T23:44:23",0,null,null,20]
[7,"5",2020,{"$f":"IFERROR(VLOOKUP([1]!Tabla_SERIEA_01_5[[#This Row],[IdEstablecimiento]],[2]Establecimientos!$A$1:$E$175,5,FALSE),0)","v":"04201-ILLAPEL"},"105301","18030000","2020-08-20T16:50:18",3,3,0]
[8,"5",2020,{"$f":"IFERROR(VLOOKUP([1]!Tabla_SERIEA_01_5[[#This Row],[IdEstablecimiento]],[2]Establecimientos!$A$1:$E$175,5,FALSE),0)","v":"04204-SALAMANCA"},"105322","80306038","2020-09-16T16:42:31",172,172]
[2,"5",2020,{"$f":"IFERROR(VLOOKUP([1]!Tabla_SERIEA_01_5[[#This Row],[IdEstablecimiento]],[2]Establecimientos!$A$1:$E$175,5,FALSE),0)","v":"105102-HOSPITAL OVALLE"},"105459","18090000","2020-03-19T21:02:25",22,0,22]
[8,"5",2020,{"$f":"IFERROR(VLOOKUP([1]!Tabla_SERIEA_01_5[[#This Row],[IdEstablecimiento]],[2]Establecimientos!$A$1:$E$175,5,FALSE),0)","v":"04201-ILLAPEL"},"105304","18020500","2020-09-16T16:37:05",38,38,0]
[6,"5",2020,{"$f":"IFERROR(VLOOKUP([1]!Tabla_SERIEA_01_5[[#This Row],[IdEstablecimiento]],[2]Establecimientos!$A$1:$E$175,5,FALSE),0)","v":"105100-HOSPITAL LA SERENA"},"105305","18400600","2020-07-20T22:55:21",1,0,1]
[11,"5",2020,{"$f":"IFERROR(VLOOKUP([1]!Tabla_SERIEA_01_5[[#This Row],[IdEstablecimiento]],[2]Establecimientos!$A$1:$E$175,5,FALSE),0)","v":"105106-HOSPITAL ANDACOLLO"},"105304","80307011","2020-12-11T14:49:16",18,null,18]
[11,"5",2020,{"$f":"IFERROR(VLOOKUP([1]!Tabla_SERIEA_01_5[[#This Row],[IdEstablecimiento]],[2]Establecimientos!$A$1:$E$175,5,FALSE),0)","v":"04201-ILLAPEL"},"105305","80404002","2020-12-11T14:49:31",5,null,5]
[11,"5",2020,{"$f":"IFERROR(VLOOKUP([1]!Tabla_SERIEA_01_5[[#This Row],[IdEstablecimiento]],[2]Establecimientos!$A$1:$E$175,5,FALSE),0)","v":"04201-ILLAPEL"},"105305","82001015","2020-12-11T14:49:31",6,null,6,null,6]
[11,"5",2020,{"$f":"IFERROR(VLOOKUP([1]!Tabla_SERIEA_01_5[[#This Row],[IdEstablecimiento]],[2]Establecimientos!$A$1:$E$175,5,FALSE),0)","v":"04201-ILLAPEL"},"105305","80303024","2020-12-11T14:49:31",0,null,null,105]
[11,"5",2020,{"$f":"IFERROR(VLOOKUP([1]!Tabla_SERIEA_01_5[[#This Row],[IdEstablecimiento]],[2]Establecimientos!$A$1:$E$175,5,FALSE),0)","v":"04201-ILLAPEL"},"105306","80309028","2020-12-11T14:49:46",0,null,null,9]
[8,"5",2020,{"$f":"IFERROR(VLOOKUP([1]!Tabla_SERIEA_01_5[[#This Row],[IdEstablecimiento]],[2]Establecimientos!$A$1:$E$175,5,FALSE),0)","v":"04201-ILLAPEL"},"105309","80305019","2020-09-16T16:39:13",0,null,null,1]
[8,"5",2020,{"$f":"IFERROR(VLOOKUP([1]!Tabla_SERIEA_01_5[[#This Row],[IdEstablecimiento]],[2]Establecimientos!$A$1:$E$175,5,FALSE),0)","v":"04204-SALAMANCA"},"105309","18050100","2020-09-16T16:39:13",25,0,25]
[10,"5",2020,{"$f":"IFERROR(VLOOKUP([1]!Tabla_SERIEA_01_5[[#This Row],[IdEstablecimiento]],[2]Establecimientos!$A$1:$E$175,5,FALSE),0)","v":"04102-COQUIMBO"},"105302","18050100","2020-11-12T07:06:54",204,0,204]
[6,"5",2020,{"$f":"IFERROR(VLOOKUP([1]!Tabla_SERIEA_01_5[[#This Row],[IdEstablecimiento]],[2]Establecimientos!$A$1:$E$175,5,FALSE),0)","v":"04106-VICUÑA"},"200569","80106014","2020-07-21T00:08:06",114,null,114,null,114]
[5,"5",2020,{"$f":"IFERROR(VLOOKUP([1]!Tabla_SERIEA_01_5[[#This Row],[IdEstablecimiento]],[2]Establecimientos!$A$1:$E$175,5,FALSE),0)","v":"04302-COMBARBALÁ"},"105459","80106015","2020-06-12T19:59:02",2,null,2,null,2]
[5,"5",2020,{"$f":"IFERROR(VLOOKUP([1]!Tabla_SERIEA_01_5[[#This Row],[IdEstablecimiento]],[2]Establecimientos!$A$1:$E$175,5,FALSE),0)","v":"04302-COMBARBALÁ"},"105459","18400900","2020-06-12T19:59:02",4,null,4]
[6,"5",2020,{"$f":"IFERROR(VLOOKUP([1]!Tabla_SERIEA_01_5[[#This Row],[IdEstablecimiento]],[2]Establecimientos!$A$1:$E$175,5,FALSE),0)","v":"04302-COMBARBALÁ"},"105487","80106002","2020-07-20T23:42:00",60,null,60,null,60]
[8,"5",2020,{"$f":"IFERROR(VLOOKUP([1]!Tabla_SERIEA_01_5[[#This Row],[IdEstablecimiento]],[2]Establecimientos!$A$1:$E$175,5,FALSE),0)","v":"04302-COMBARBALÁ"},"105322","18050300","2020-09-16T16:42:31",1,0,1]
[8,"5",2020,{"$f":"IFERROR(VLOOKUP([1]!Tabla_SERIEA_01_5[[#This Row],[IdEstablecimiento]],[2]Establecimientos!$A$1:$E$175,5,FALSE),0)","v":"04302-COMBARBALÁ"},"105303","80302068","2020-09-16T16:36:43",0,null,null,137]
[6,"5",2020,{"$f":"IFERROR(VLOOKUP([1]!Tabla_SERIEA_01_5[[#This Row],[IdEstablecimiento]],[2]Establecimientos!$A$1:$E$175,5,FALSE),0)","v":"04201-ILLAPEL"},"105462","80307011","2020-07-20T23:32:11",1,null,1]
[1,"5",2020,{"$f":"IFERROR(VLOOKUP([1]!Tabla_SERIEA_01_5[[#This Row],[IdEstablecimiento]],[2]Establecimientos!$A$1:$E$175,5,FALSE),0)","v":"04201-ILLAPEL"},"105410","18011001","2020-03-18T23:51:39",20,0,20]
[7,"5",2020,{"$f":"IFERROR(VLOOKUP([1]!Tabla_SERIEA_01_5[[#This Row],[IdEstablecimiento]],[2]Establecimientos!$A$1:$E$175,5,FALSE),0)","v":"04201-ILLAPEL"},"105306","80306011","2020-08-20T16:51:54",0,null,null,46]
[8,"5",2020,{"$f":"IFERROR(VLOOKUP([1]!Tabla_SERIEA_01_5[[#This Row],[IdEstablecimiento]],[2]Establecimientos!$A$1:$E$175,5,FALSE),0)","v":"04201-ILLAPEL"},"105500","81701009","2020-09-16T17:34:38",21,21,null,null,21]
[8,"5",2020,{"$f":"IFERROR(VLOOKUP([1]!Tabla_SERIEA_01_5[[#This Row],[IdEstablecimiento]],[2]Establecimientos!$A$1:$E$175,5,FALSE),0)","v":"04204-SALAMANCA"},"105500","80106006","2020-09-16T17:34:38",2,2,null,null,2]
[4,"5",2020,{"$f":"IFERROR(VLOOKUP([1]!Tabla_SERIEA_01_5[[#This Row],[IdEstablecimiento]],[2]Establecimientos!$A$1:$E$175,5,FALSE),0)","v":"04204-SALAMANCA"},"105451","80106014","2020-05-26T00:56:15",24,null,24,null,24]
[7,"5",2020,{"$f":"IFERROR(VLOOKUP([1]!Tabla_SERIEA_01_5[[#This Row],[IdEstablecimiento]],[2]Establecimientos!$A$1:$E$175,5,FALSE),0)","v":"04302-COMBARBALÁ"},"105324","18090200","2020-08-20T16:59:06",null,17]
[8,"5",2020,{"$f":"IFERROR(VLOOKUP([1]!Tabla_SERIEA_01_5[[#This Row],[IdEstablecimiento]],[2]Establecimientos!$A$1:$E$175,5,FALSE),0)","v":"04104-LA HIGUERA"},"105301","80305019","2020-09-16T16:36:19",0,null,null,2]
[5,"5",2020,{"$f":"IFERROR(VLOOKUP([1]!Tabla_SERIEA_01_5[[#This Row],[IdEstablecimiento]],[2]Establecimientos!$A$1:$E$175,5,FALSE),0)","v":"04104-LA HIGUERA"},"105305","80401002","2020-06-12T19:26:13",1,1]
[3,"5",2020,{"$f":"IFERROR(VLOOKUP([1]!Tabla_SERIEA_01_5[[#This Row],[IdEstablecimiento]],[2]Establecimientos!$A$1:$E$175,5,FALSE),0)","v":"04104-LA HIGUERA"},"105459","18020500","2020-04-16T22:44:57",1,0,1]
[8,"5",2020,{"$f":"IFERROR(VLOOKUP([1]!Tabla_SERIEA_01_5[[#This Row],[IdEstablecimiento]],[2]Establecimientos!$A$1:$E$175,5,FALSE),0)","v":"04104-LA HIGUERA"},"105444","80309010","2020-09-16T17:00:16",0,null,null,13]
[3,"5",2020,{"$f":"IFERROR(VLOOKUP([1]!Tabla_SERIEA_01_5[[#This Row],[IdEstablecimiento]],[2]Establecimientos!$A$1:$E$175,5,FALSE),0)","v":"04104-LA HIGUERA"},"105503","80301085","2020-05-26T01:59:49",0,null,null,1]
[3,"5",2020,{"$f":"IFERROR(VLOOKUP([1]!Tabla_SERIEA_01_5[[#This Row],[IdEstablecimiento]],[2]Establecimientos!$A$1:$E$175,5,FALSE),0)","v":"04104-LA HIGUERA"},"105503","80303026","2020-05-26T01:59:49",0,null,null,2]
[9,"5",2020,{"$f":"IFERROR(VLOOKUP([1]!Tabla_SERIEA_01_5[[#This Row],[IdEstablecimiento]],[2]Establecimientos!$A$1:$E$175,5,FALSE),0)","v":"04104-LA HIGUERA"},"105508","80106015","2020-10-16T10:36:43",3,null,3,null,3]
[9,"5",2020,{"$f":"IFERROR(VLOOKUP([1]!Tabla_SERIEA_01_5[[#This Row],[IdEstablecimiento]],[2]Establecimientos!$A$1:$E$175,5,FALSE),0)","v":"04104-LA HIGUERA"},"105509","80106013","2020-10-16T10:37:10",2,null,2,null,2]
[9,"5",2020,{"$f":"IFERROR(VLOOKUP([1]!Tabla_SERIEA_01_5[[#This Row],[IdEstablecimiento]],[2]Establecimientos!$A$1:$E$175,5,FALSE),0)","v":"04104-LA HIGUERA"},"105509","18090000","2020-10-16T10:37:10",12,0,12]
[9,"5",2020,{"$f":"IFERROR(VLOOKUP([1]!Tabla_SERIEA_01_5[[#This Row],[IdEstablecimiento]],[2]Establecimientos!$A$1:$E$175,5,FALSE),0)","v":"04104-LA HIGUERA"},"105511","80301015","2020-10-16T10:37:59",0,null,null,1]
[3,"5",2020,{"$f":"IFERROR(VLOOKUP([1]!Tabla_SERIEA_01_5[[#This Row],[IdEstablecimiento]],[2]Establecimientos!$A$1:$E$175,5,FALSE),0)","v":"04104-LA HIGUERA"},"105480","80106014","2020-04-16T22:51:01",66,null,66,null,66]
[10,"5",2020,{"$f":"IFERROR(VLOOKUP([1]!Tabla_SERIEA_01_5[[#This Row],[IdEstablecimiento]],[2]Establecimientos!$A$1:$E$175,5,FALSE),0)","v":"04104-LA HIGUERA"},"105405","80302060","2020-11-12T07:18:57",0,null,null,2]
[9,"5",2020,{"$f":"IFERROR(VLOOKUP([1]!Tabla_SERIEA_01_5[[#This Row],[IdEstablecimiento]],[2]Establecimientos!$A$1:$E$175,5,FALSE),0)","v":"04104-LA HIGUERA"},"105511","80303028","2020-10-16T10:37:59",0,null,null,1]
[9,"5",2020,{"$f":"IFERROR(VLOOKUP([1]!Tabla_SERIEA_01_5[[#This Row],[IdEstablecimiento]],[2]Establecimientos!$A$1:$E$175,5,FALSE),0)","v":"04104-LA HIGUERA"},"105511","80305070","2020-10-16T10:37:59",0,null,null,1]
[10,"5",2020,{"$f":"IFERROR(VLOOKUP([1]!Tabla_SERIEA_01_5[[#This Row],[IdEstablecimiento]],[2]Establecimientos!$A$1:$E$175,5,FALSE),0)","v":"04104-LA HIGUERA"},"105315","80307011","2020-11-12T07:11:47",141,null,141]
[9,"5",2020,{"$f":"IFERROR(VLOOKUP([1]!Tabla_SERIEA_01_5[[#This Row],[IdEstablecimiento]],[2]Establecimientos!$A$1:$E$175,5,FALSE),0)","v":"04104-LA HIGUERA"},"105503","80500011","2020-10-16T10:34:42",3,null,3]
[3,"5",2020,{"$f":"IFERROR(VLOOKUP([1]!Tabla_SERIEA_01_5[[#This Row],[IdEstablecimiento]],[2]Establecimientos!$A$1:$E$175,5,FALSE),0)","v":"04104-LA HIGUERA"},"105321","80302005","2020-04-16T21:58:05",0,null,null,44]
[6,"5",2020,{"$f":"IFERROR(VLOOKUP([1]!Tabla_SERIEA_01_5[[#This Row],[IdEstablecimiento]],[2]Establecimientos!$A$1:$E$175,5,FALSE),0)","v":"04101-LA SERENA"},"105481","80302032","2020-07-20T23:39:10",0,null,null,1]
[3,"5",2020,{"$f":"IFERROR(VLOOKUP([1]!Tabla_SERIEA_01_5[[#This Row],[IdEstablecimiento]],[2]Establecimientos!$A$1:$E$175,5,FALSE),0)","v":"04101-LA SERENA"},"105321","80302047","2020-04-16T21:58:05",0,null,null,51]
[9,"5",2020,{"$f":"IFERROR(VLOOKUP([1]!Tabla_SERIEA_01_5[[#This Row],[IdEstablecimiento]],[2]Establecimientos!$A$1:$E$175,5,FALSE),0)","v":"04101-LA SERENA"},"105506","80106014","2020-10-16T10:35:49",34,34,null,null,34]
[1,"5",2020,{"$f":"IFERROR(VLOOKUP([1]!Tabla_SERIEA_01_5[[#This Row],[IdEstablecimiento]],[2]Establecimientos!$A$1:$E$175,5,FALSE),0)","v":"04204-SALAMANCA"},"105303","18040200","2020-03-18T23:41:19",5,null,5]
[5,"5",2020,{"$f":"IFERROR(VLOOKUP([1]!Tabla_SERIEA_01_5[[#This Row],[IdEstablecimiento]],[2]Establecimientos!$A$1:$E$175,5,FALSE),0)","v":"04204-SALAMANCA"},"200721","81901019","2020-06-12T20:45:55",3,3,null,3]
[2,"5",2020,{"$f":"IFERROR(VLOOKUP([1]!Tabla_SERIEA_01_5[[#This Row],[IdEstablecimiento]],[2]Establecimientos!$A$1:$E$175,5,FALSE),0)","v":"04204-SALAMANCA"},"105304","80302023","2020-05-26T01:53:32",0,null,null,690]
[10,"5",2020,{"$f":"IFERROR(VLOOKUP([1]!Tabla_SERIEA_01_5[[#This Row],[IdEstablecimiento]],[2]Establecimientos!$A$1:$E$175,5,FALSE),0)","v":"04104-LA HIGUERA"},"105482","80106005","2020-11-12T07:57:01",18,null,18,null,18]
[10,"5",2020,{"$f":"IFERROR(VLOOKUP([1]!Tabla_SERIEA_01_5[[#This Row],[IdEstablecimiento]],[2]Establecimientos!$A$1:$E$175,5,FALSE),0)","v":"04104-LA HIGUERA"},"105482","18090000","2020-11-12T07:57:01",2,0,2]
[1,"5",2020,{"$f":"IFERROR(VLOOKUP([1]!Tabla_SERIEA_01_5[[#This Row],[IdEstablecimiento]],[2]Establecimientos!$A$1:$E$175,5,FALSE),0)","v":"04104-LA HIGUERA"},"105414","81701001","2020-03-18T23:52:26",6,null,6,null,6]
[7,"5",2020,{"$f":"IFERROR(VLOOKUP([1]!Tabla_SERIEA_01_5[[#This Row],[IdEstablecimiento]],[2]Establecimientos!$A$1:$E$175,5,FALSE),0)","v":"04204-SALAMANCA"},"105300","18700100","2020-08-20T16:32:08",225,14,189,22]
[9,"5",2020,{"$f":"IFERROR(VLOOKUP([1]!Tabla_SERIEA_01_5[[#This Row],[IdEstablecimiento]],[2]Establecimientos!$A$1:$E$175,5,FALSE),0)","v":"04204-SALAMANCA"},"105484","18040200","2020-10-16T10:26:15",3,null,3]
[9,"5",2020,{"$f":"IFERROR(VLOOKUP([1]!Tabla_SERIEA_01_5[[#This Row],[IdEstablecimiento]],[2]Establecimientos!$A$1:$E$175,5,FALSE),0)","v":"04204-SALAMANCA"},"105499","80302067","2020-10-16T10:33:44",0,null,null,1]
[9,"5",2020,{"$f":"IFERROR(VLOOKUP([1]!Tabla_SERIEA_01_5[[#This Row],[IdEstablecimiento]],[2]Establecimientos!$A$1:$E$175,5,FALSE),0)","v":"04204-SALAMANCA"},"105499","80303026","2020-10-16T10:33:44",0,null,null,1]
[3,"5",2020,{"$f":"IFERROR(VLOOKUP([1]!Tabla_SERIEA_01_5[[#This Row],[IdEstablecimiento]],[2]Establecimientos!$A$1:$E$175,5,FALSE),0)","v":"04204-SALAMANCA"},"105401","80302013","2020-04-16T21:59:58",0,null,null,6]
[3,"5",2020,{"$f":"IFERROR(VLOOKUP([1]!Tabla_SERIEA_01_5[[#This Row],[IdEstablecimiento]],[2]Establecimientos!$A$1:$E$175,5,FALSE),0)","v":"04305-RIO HURTADO"},"200273","80106017","2020-04-16T23:10:38",4,null,4,null,4]
[6,"5",2020,{"$f":"IFERROR(VLOOKUP([1]!Tabla_SERIEA_01_5[[#This Row],[IdEstablecimiento]],[2]Establecimientos!$A$1:$E$175,5,FALSE),0)","v":"04305-RIO HURTADO"},"105324","80307011","2020-07-20T23:03:13",145,null,145]
[1,"5",2020,{"$f":"IFERROR(VLOOKUP([1]!Tabla_SERIEA_01_5[[#This Row],[IdEstablecimiento]],[2]Establecimientos!$A$1:$E$175,5,FALSE),0)","v":"04305-RIO HURTADO"},"105511","80302005","2020-03-19T00:43:21",0,null,null,6]
[3,"5",2020,{"$f":"IFERROR(VLOOKUP([1]!Tabla_SERIEA_01_5[[#This Row],[IdEstablecimiento]],[2]Establecimientos!$A$1:$E$175,5,FALSE),0)","v":"04201-ILLAPEL"},"105504","18050100","2020-04-16T22:59:37",8,0,8]
[3,"5",2020,{"$f":"IFERROR(VLOOKUP([1]!Tabla_SERIEA_01_5[[#This Row],[IdEstablecimiento]],[2]Establecimientos!$A$1:$E$175,5,FALSE),0)","v":"04201-ILLAPEL"},"105305","82001015","2020-04-16T21:46:35",14,null,14,null,14]
[5,"5",2020,{"$f":"IFERROR(VLOOKUP([1]!Tabla_SERIEA_01_5[[#This Row],[IdEstablecimiento]],[2]Establecimientos!$A$1:$E$175,5,FALSE),0)","v":"04201-ILLAPEL"},"105509","80106014","2020-06-12T20:30:04",47,null,47,null,47]
[1,"5",2020,{"$f":"IFERROR(VLOOKUP([1]!Tabla_SERIEA_01_5[[#This Row],[IdEstablecimiento]],[2]Establecimientos!$A$1:$E$175,5,FALSE),0)","v":"04201-ILLAPEL"},"105511","80301083","2020-03-19T00:43:21",0,null,null,1]
[1,"5",2020,{"$f":"IFERROR(VLOOKUP([1]!Tabla_SERIEA_01_5[[#This Row],[IdEstablecimiento]],[2]Establecimientos!$A$1:$E$175,5,FALSE),0)","v":"04104-LA HIGUERA"},"105307","80302067","2020-03-18T23:43:16",148,null,148]
[1,"5",2020,{"$f":"IFERROR(VLOOKUP([1]!Tabla_SERIEA_01_5[[#This Row],[IdEstablecimiento]],[2]Establecimientos!$A$1:$E$175,5,FALSE),0)","v":"04104-LA HIGUERA"},"105466","80106014","2020-03-19T00:08:24",19,null,19,null,19]
[5,"5",2020,{"$f":"IFERROR(VLOOKUP([1]!Tabla_SERIEA_01_5[[#This Row],[IdEstablecimiento]],[2]Establecimientos!$A$1:$E$175,5,FALSE),0)","v":"04104-LA HIGUERA"},"105303","80302067","2020-08-20T18:23:50",0,null,null,42]
[7,"5",2020,{"$f":"IFERROR(VLOOKUP([1]!Tabla_SERIEA_01_5[[#This Row],[IdEstablecimiento]],[2]Establecimientos!$A$1:$E$175,5,FALSE),0)","v":"04104-LA HIGUERA"},"105444","80302076","2020-08-20T17:21:03",0,null,null,1]
[1,"5",2020,{"$f":"IFERROR(VLOOKUP([1]!Tabla_SERIEA_01_5[[#This Row],[IdEstablecimiento]],[2]Establecimientos!$A$1:$E$175,5,FALSE),0)","v":"04301-OVALLE"},"105301","80309027","2020-03-18T23:40:40",0,null,null,226]
[10,"5",2020,{"$f":"IFERROR(VLOOKUP([1]!Tabla_SERIEA_01_5[[#This Row],[IdEstablecimiento]],[2]Establecimientos!$A$1:$E$175,5,FALSE),0)","v":"04301-OVALLE"},"105486","80302047","2020-11-13T14:52:20",0,null,null,8]
[9,"5",2020,{"$f":"IFERROR(VLOOKUP([1]!Tabla_SERIEA_01_5[[#This Row],[IdEstablecimiento]],[2]Establecimientos!$A$1:$E$175,5,FALSE),0)","v":"04106-VICUÑA"},"105307","80306011","2020-10-16T09:14:26",157,null,157]
[9,"5",2020,{"$f":"IFERROR(VLOOKUP([1]!Tabla_SERIEA_01_5[[#This Row],[IdEstablecimiento]],[2]Establecimientos!$A$1:$E$175,5,FALSE),0)","v":"04106-VICUÑA"},"105307","80306051","2020-10-16T09:14:26",2,null,2]
[2,"5",2020,{"$f":"IFERROR(VLOOKUP([1]!Tabla_SERIEA_01_5[[#This Row],[IdEstablecimiento]],[2]Establecimientos!$A$1:$E$175,5,FALSE),0)","v":"04106-VICUÑA"},"105480","80305030","2020-03-19T21:08:47",0,null,null,7]
[10,"5",2020,{"$f":"IFERROR(VLOOKUP([1]!Tabla_SERIEA_01_5[[#This Row],[IdEstablecimiento]],[2]Establecimientos!$A$1:$E$175,5,FALSE),0)","v":"04106-VICUÑA"},"105486","80106014","2020-11-13T14:52:20",22,null,22,null,22]
[10,"5",2020,{"$f":"IFERROR(VLOOKUP([1]!Tabla_SERIEA_01_5[[#This Row],[IdEstablecimiento]],[2]Establecimientos!$A$1:$E$175,5,FALSE),0)","v":"04106-VICUÑA"},"105486","18020500","2020-11-13T14:52:20",11,0,11]
[9,"5",2020,{"$f":"IFERROR(VLOOKUP([1]!Tabla_SERIEA_01_5[[#This Row],[IdEstablecimiento]],[2]Establecimientos!$A$1:$E$175,5,FALSE),0)","v":"04301-OVALLE"},"105479","80302076","2020-10-16T10:21:55",0,null,null,2]
[9,"5",2020,{"$f":"IFERROR(VLOOKUP([1]!Tabla_SERIEA_01_5[[#This Row],[IdEstablecimiento]],[2]Establecimientos!$A$1:$E$175,5,FALSE),0)","v":"04301-OVALLE"},"105480","80301041","2020-10-16T10:22:32",0,null,null,5]
[2,"5",2020,{"$f":"IFERROR(VLOOKUP([1]!Tabla_SERIEA_01_5[[#This Row],[IdEstablecimiento]],[2]Establecimientos!$A$1:$E$175,5,FALSE),0)","v":"04203-LOS VILOS"},"105323","80401151","2020-03-19T18:52:10",17,17]
[10,"5",2020,{"$f":"IFERROR(VLOOKUP([1]!Tabla_SERIEA_01_5[[#This Row],[IdEstablecimiento]],[2]Establecimientos!$A$1:$E$175,5,FALSE),0)","v":"04203-LOS VILOS"},"105304","80309013","2020-11-12T07:07:49",0,null,null,58]
[10,"5",2020,{"$f":"IFERROR(VLOOKUP([1]!Tabla_SERIEA_01_5[[#This Row],[IdEstablecimiento]],[2]Establecimientos!$A$1:$E$175,5,FALSE),0)","v":"04203-LOS VILOS"},"105304","80309022","2020-11-12T07:07:49",0,null,null,168]
[5,"5",2020,{"$f":"IFERROR(VLOOKUP([1]!Tabla_SERIEA_01_5[[#This Row],[IdEstablecimiento]],[2]Establecimientos!$A$1:$E$175,5,FALSE),0)","v":"04101-LA SERENA"},"105307","80303024","2020-06-12T19:26:45",74,null,74]
[8,"5",2020,{"$f":"IFERROR(VLOOKUP([1]!Tabla_SERIEA_01_5[[#This Row],[IdEstablecimiento]],[2]Establecimientos!$A$1:$E$175,5,FALSE),0)","v":"04101-LA SERENA"},"200721","80106013","2020-09-16T17:55:47",4,4,null,null,4]
[8,"5",2020,{"$f":"IFERROR(VLOOKUP([1]!Tabla_SERIEA_01_5[[#This Row],[IdEstablecimiento]],[2]Establecimientos!$A$1:$E$175,5,FALSE),0)","v":"04101-LA SERENA"},"200721","80106022","2020-09-16T17:55:47",8,8,null,null,8]
[9,"5",2020,{"$f":"IFERROR(VLOOKUP([1]!Tabla_SERIEA_01_5[[#This Row],[IdEstablecimiento]],[2]Establecimientos!$A$1:$E$175,5,FALSE),0)","v":"04101-LA SERENA"},"105465","80106002","2020-10-16T10:09:11",3,null,3,null,3]
[10,"5",2020,{"$f":"IFERROR(VLOOKUP([1]!Tabla_SERIEA_01_5[[#This Row],[IdEstablecimiento]],[2]Establecimientos!$A$1:$E$175,5,FALSE),0)","v":"04101-LA SERENA"},"105300","80401060","2020-11-12T07:01:17",0,null,null,7]
[10,"5",2020,{"$f":"IFERROR(VLOOKUP([1]!Tabla_SERIEA_01_5[[#This Row],[IdEstablecimiento]],[2]Establecimientos!$A$1:$E$175,5,FALSE),0)","v":"04101-LA SERENA"},"105478","80301059","2020-11-12T07:55:47",0,null,null,3]
[9,"5",2020,{"$f":"IFERROR(VLOOKUP([1]!Tabla_SERIEA_01_5[[#This Row],[IdEstablecimiento]],[2]Establecimientos!$A$1:$E$175,5,FALSE),0)","v":"04101-LA SERENA"},"105323","80302075","2020-10-16T09:19:55",0,null,null,1]
[9,"5",2020,{"$f":"IFERROR(VLOOKUP([1]!Tabla_SERIEA_01_5[[#This Row],[IdEstablecimiento]],[2]Establecimientos!$A$1:$E$175,5,FALSE),0)","v":"04101-LA SERENA"},"105467","80301041","2020-10-16T10:09:55",0,null,null,2]
[9,"5",2020,{"$f":"IFERROR(VLOOKUP([1]!Tabla_SERIEA_01_5[[#This Row],[IdEstablecimiento]],[2]Establecimientos!$A$1:$E$175,5,FALSE),0)","v":"04202-CANELA"},"105467","80302076","2020-10-16T10:09:55",0,null,null,9]
[9,"5",2020,{"$f":"IFERROR(VLOOKUP([1]!Tabla_SERIEA_01_5[[#This Row],[IdEstablecimiento]],[2]Establecimientos!$A$1:$E$175,5,FALSE),0)","v":"04301-OVALLE"},"105468","80302034","2020-10-16T10:10:14",0,null,null,14]
[9,"5",2020,{"$f":"IFERROR(VLOOKUP([1]!Tabla_SERIEA_01_5[[#This Row],[IdEstablecimiento]],[2]Establecimientos!$A$1:$E$175,5,FALSE),0)","v":"04101-LA SERENA"},"105468","80303024","2020-10-16T10:10:14",0,null,null,4]
[7,"5",2020,{"$f":"IFERROR(VLOOKUP([1]!Tabla_SERIEA_01_5[[#This Row],[IdEstablecimiento]],[2]Establecimientos!$A$1:$E$175,5,FALSE),0)","v":"04101-LA SERENA"},"105452","80302023","2020-08-20T17:23:48",0,null,null,141]
[9,"5",2020,{"$f":"IFERROR(VLOOKUP([1]!Tabla_SERIEA_01_5[[#This Row],[IdEstablecimiento]],[2]Establecimientos!$A$1:$E$175,5,FALSE),0)","v":"04101-LA SERENA"},"105307","80306061","2020-10-16T09:14:26",24,null,24]
[9,"5",2020,{"$f":"IFERROR(VLOOKUP([1]!Tabla_SERIEA_01_5[[#This Row],[IdEstablecimiento]],[2]Establecimientos!$A$1:$E$175,5,FALSE),0)","v":"04101-LA SERENA"},"105307","81901019","2020-10-16T09:14:26",4,null,4,null,4]
[10,"5",2020,{"$f":"IFERROR(VLOOKUP([1]!Tabla_SERIEA_01_5[[#This Row],[IdEstablecimiento]],[2]Establecimientos!$A$1:$E$175,5,FALSE),0)","v":"04101-LA SERENA"},"105323","80302048","2020-11-12T07:16:27",0,null,null,32]
[10,"5",2020,{"$f":"IFERROR(VLOOKUP([1]!Tabla_SERIEA_01_5[[#This Row],[IdEstablecimiento]],[2]Establecimientos!$A$1:$E$175,5,FALSE),0)","v":"04101-LA SERENA"},"105324","80106015","2020-11-12T07:16:42",1,null,1,null,1]
[3,"5",2020,{"$f":"IFERROR(VLOOKUP([1]!Tabla_SERIEA_01_5[[#This Row],[IdEstablecimiento]],[2]Establecimientos!$A$1:$E$175,5,FALSE),0)","v":"04101-LA SERENA"},"105410","81701009","2020-05-26T02:04:25",1,null,1,null,1]
[3,"5",2020,{"$f":"IFERROR(VLOOKUP([1]!Tabla_SERIEA_01_5[[#This Row],[IdEstablecimiento]],[2]Establecimientos!$A$1:$E$175,5,FALSE),0)","v":"04101-LA SERENA"},"105313","80307011","2020-04-16T21:53:17",3618,null,3618]
[1,"5",2020,{"$f":"IFERROR(VLOOKUP([1]!Tabla_SERIEA_01_5[[#This Row],[IdEstablecimiento]],[2]Establecimientos!$A$1:$E$175,5,FALSE),0)","v":"04101-LA SERENA"},"105301","80302005","2020-03-18T23:40:40",0,null,null,40]
[6,"5",2020,{"$f":"IFERROR(VLOOKUP([1]!Tabla_SERIEA_01_5[[#This Row],[IdEstablecimiento]],[2]Establecimientos!$A$1:$E$175,5,FALSE),0)","v":"04101-LA SERENA"},"200538","80106017","2020-07-21T00:06:08",38,null,38,null,38]
[8,"5",2020,{"$f":"IFERROR(VLOOKUP([1]!Tabla_SERIEA_01_5[[#This Row],[IdEstablecimiento]],[2]Establecimientos!$A$1:$E$175,5,FALSE),0)","v":"04301-OVALLE"},"105308","81901022","2020-09-16T16:38:57",1,null,1,null,1]
[9,"5",2020,{"$f":"IFERROR(VLOOKUP([1]!Tabla_SERIEA_01_5[[#This Row],[IdEstablecimiento]],[2]Establecimientos!$A$1:$E$175,5,FALSE),0)","v":"04301-OVALLE"},"105440","80106014","2020-10-16T09:44:15",85,null,85,null,85]
[9,"5",2020,{"$f":"IFERROR(VLOOKUP([1]!Tabla_SERIEA_01_5[[#This Row],[IdEstablecimiento]],[2]Establecimientos!$A$1:$E$175,5,FALSE),0)","v":"04301-OVALLE"},"200569","80307012","2020-10-16T10:54:27",5,0,5,0]
[3,"5",2020,{"$f":"IFERROR(VLOOKUP([1]!Tabla_SERIEA_01_5[[#This Row],[IdEstablecimiento]],[2]Establecimientos!$A$1:$E$175,5,FALSE),0)","v":"04301-OVALLE"},"105432","80106017","2020-04-16T22:17:29",15,null,15,null,15]
[7,"5",2020,{"$f":"IFERROR(VLOOKUP([1]!Tabla_SERIEA_01_5[[#This Row],[IdEstablecimiento]],[2]Establecimientos!$A$1:$E$175,5,FALSE),0)","v":"04301-OVALLE"},"105468","80302034","2020-08-20T17:33:22",0,null,null,5]
[8,"5",2020,{"$f":"IFERROR(VLOOKUP([1]!Tabla_SERIEA_01_5[[#This Row],[IdEstablecimiento]],[2]Establecimientos!$A$1:$E$175,5,FALSE),0)","v":"04301-OVALLE"},"105407","80106015","2020-09-16T16:45:59",1,null,1,null,1]
[5,"5",2020,{"$f":"IFERROR(VLOOKUP([1]!Tabla_SERIEA_01_5[[#This Row],[IdEstablecimiento]],[2]Establecimientos!$A$1:$E$175,5,FALSE),0)","v":"04301-OVALLE"},"105324","80106017","2020-06-12T19:31:29",52,5,47]
[1,"5",2020,{"$f":"IFERROR(VLOOKUP([1]!Tabla_SERIEA_01_5[[#This Row],[IdEstablecimiento]],[2]Establecimientos!$A$1:$E$175,5,FALSE),0)","v":"04101-LA SERENA"},"105455","18030000","2020-03-19T00:05:19",3,0,3]
[3,"5",2020,{"$f":"IFERROR(VLOOKUP([1]!Tabla_SERIEA_01_5[[#This Row],[IdEstablecimiento]],[2]Establecimientos!$A$1:$E$175,5,FALSE),0)","v":"04204-SALAMANCA"},"105300","80500009","2020-04-16T21:43:47",1,0,1,null,1]
[1,"5",2020,{"$f":"IFERROR(VLOOKUP([1]!Tabla_SERIEA_01_5[[#This Row],[IdEstablecimiento]],[2]Establecimientos!$A$1:$E$175,5,FALSE),0)","v":"04204-SALAMANCA"},"105401","80301038","2020-03-18T23:50:01",0,null,null,13]
[4,"5",2020,{"$f":"IFERROR(VLOOKUP([1]!Tabla_SERIEA_01_5[[#This Row],[IdEstablecimiento]],[2]Establecimientos!$A$1:$E$175,5,FALSE),0)","v":"04204-SALAMANCA"},"105303","80302068","2020-05-26T00:37:39",0,null,null,4]
[3,"5",2020,{"$f":"IFERROR(VLOOKUP([1]!Tabla_SERIEA_01_5[[#This Row],[IdEstablecimiento]],[2]Establecimientos!$A$1:$E$175,5,FALSE),0)","v":"04204-SALAMANCA"},"105303","80301045","2020-04-16T21:45:28",0,null,null,75]
[7,"5",2020,{"$f":"IFERROR(VLOOKUP([1]!Tabla_SERIEA_01_5[[#This Row],[IdEstablecimiento]],[2]Establecimientos!$A$1:$E$175,5,FALSE),0)","v":"04204-SALAMANCA"},"105487","18090000","2020-08-20T17:43:35",32,0,32]
[4,"5",2020,{"$f":"IFERROR(VLOOKUP([1]!Tabla_SERIEA_01_5[[#This Row],[IdEstablecimiento]],[2]Establecimientos!$A$1:$E$175,5,FALSE),0)","v":"04204-SALAMANCA"},"105302","18050100","2020-05-26T00:37:25",124,16,108]
[1,"5",2020,{"$f":"IFERROR(VLOOKUP([1]!Tabla_SERIEA_01_5[[#This Row],[IdEstablecimiento]],[2]Establecimientos!$A$1:$E$175,5,FALSE),0)","v":"04204-SALAMANCA"},"105325","80106017","2020-03-18T23:49:12",130,null,130,null,130]
[5,"5",2020,{"$f":"IFERROR(VLOOKUP([1]!Tabla_SERIEA_01_5[[#This Row],[IdEstablecimiento]],[2]Establecimientos!$A$1:$E$175,5,FALSE),0)","v":"04204-SALAMANCA"},"105504","80401010","2020-06-12T20:27:47",0,null,null,2]
[9,"5",2020,{"$f":"IFERROR(VLOOKUP([1]!Tabla_SERIEA_01_5[[#This Row],[IdEstablecimiento]],[2]Establecimientos!$A$1:$E$175,5,FALSE),0)","v":"04204-SALAMANCA"},"105472","81701001","2020-10-16T10:18:07",4,null,4,null,4]
[7,"5",2020,{"$f":"IFERROR(VLOOKUP([1]!Tabla_SERIEA_01_5[[#This Row],[IdEstablecimiento]],[2]Establecimientos!$A$1:$E$175,5,FALSE),0)","v":"04204-SALAMANCA"},"105701","80302032","2020-08-20T18:12:31",0,null,null,6]
[4,"5",2020,{"$f":"IFERROR(VLOOKUP([1]!Tabla_SERIEA_01_5[[#This Row],[IdEstablecimiento]],[2]Establecimientos!$A$1:$E$175,5,FALSE),0)","v":"04204-SALAMANCA"},"105500","80106014","2020-06-12T21:00:42",63,63,null,null,63]
[2,"5",2020,{"$f":"IFERROR(VLOOKUP([1]!Tabla_SERIEA_01_5[[#This Row],[IdEstablecimiento]],[2]Establecimientos!$A$1:$E$175,5,FALSE),0)","v":"04204-SALAMANCA"},"105404","80302023","2020-03-19T18:55:37",0,null,null,7]
[9,"5",2020,{"$f":"IFERROR(VLOOKUP([1]!Tabla_SERIEA_01_5[[#This Row],[IdEstablecimiento]],[2]Establecimientos!$A$1:$E$175,5,FALSE),0)","v":"04204-SALAMANCA"},"105491","18090000","2020-10-16T10:30:13",45,0,45]
[4,"5",2020,{"$f":"IFERROR(VLOOKUP([1]!Tabla_SERIEA_01_5[[#This Row],[IdEstablecimiento]],[2]Establecimientos!$A$1:$E$175,5,FALSE),0)","v":"04204-SALAMANCA"},"105471","80302076","2020-05-26T01:03:31",0,null,null,1]
[4,"5",2020,{"$f":"IFERROR(VLOOKUP([1]!Tabla_SERIEA_01_5[[#This Row],[IdEstablecimiento]],[2]Establecimientos!$A$1:$E$175,5,FALSE),0)","v":"04204-SALAMANCA"},"105471","80306011","2020-05-26T01:03:31",0,null,null,2]
[7,"5",2020,{"$f":"IFERROR(VLOOKUP([1]!Tabla_SERIEA_01_5[[#This Row],[IdEstablecimiento]],[2]Establecimientos!$A$1:$E$175,5,FALSE),0)","v":"04204-SALAMANCA"},"105305","80301038","2020-08-20T16:51:36",0,null,null,61]
[3,"5",2020,{"$f":"IFERROR(VLOOKUP([1]!Tabla_SERIEA_01_5[[#This Row],[IdEstablecimiento]],[2]Establecimientos!$A$1:$E$175,5,FALSE),0)","v":"04204-SALAMANCA"},"105307","80303024","2020-04-16T21:47:17",430,null,430]
[10,"5",2020,{"$f":"IFERROR(VLOOKUP([1]!Tabla_SERIEA_01_5[[#This Row],[IdEstablecimiento]],[2]Establecimientos!$A$1:$E$175,5,FALSE),0)","v":"04204-SALAMANCA"},"105503","80106002","2020-11-12T08:05:31",3,null,3,null,3]
[3,"5",2020,{"$f":"IFERROR(VLOOKUP([1]!Tabla_SERIEA_01_5[[#This Row],[IdEstablecimiento]],[2]Establecimientos!$A$1:$E$175,5,FALSE),0)","v":"04204-SALAMANCA"},"105476","80106014","2020-04-16T22:50:00",64,64,null,null,64]
[7,"5",2020,{"$f":"IFERROR(VLOOKUP([1]!Tabla_SERIEA_01_5[[#This Row],[IdEstablecimiento]],[2]Establecimientos!$A$1:$E$175,5,FALSE),0)","v":"04204-SALAMANCA"},"200607","80302057","2020-08-20T18:20:55",0,null,null,17]
[1,"5",2020,{"$f":"IFERROR(VLOOKUP([1]!Tabla_SERIEA_01_5[[#This Row],[IdEstablecimiento]],[2]Establecimientos!$A$1:$E$175,5,FALSE),0)","v":"04204-SALAMANCA"},"200273","80106022","2020-03-19T00:45:44",1,null,1,null,1]
[10,"5",2020,{"$f":"IFERROR(VLOOKUP([1]!Tabla_SERIEA_01_5[[#This Row],[IdEstablecimiento]],[2]Establecimientos!$A$1:$E$175,5,FALSE),0)","v":"04204-SALAMANCA"},"105805","80401045","2020-11-12T08:18:43",14,14]
[10,"5",2020,{"$f":"IFERROR(VLOOKUP([1]!Tabla_SERIEA_01_5[[#This Row],[IdEstablecimiento]],[2]Establecimientos!$A$1:$E$175,5,FALSE),0)","v":"04204-SALAMANCA"},"105805","81707030","2020-11-12T08:18:43",38,38,null,null,38]
[1,"5",2020,{"$f":"IFERROR(VLOOKUP([1]!Tabla_SERIEA_01_5[[#This Row],[IdEstablecimiento]],[2]Establecimientos!$A$1:$E$175,5,FALSE),0)","v":"04204-SALAMANCA"},"105322","80106013","2020-03-18T23:48:24",1,1]
[11,"5",2020,{"$f":"IFERROR(VLOOKUP([1]!Tabla_SERIEA_01_5[[#This Row],[IdEstablecimiento]],[2]Establecimientos!$A$1:$E$175,5,FALSE),0)","v":"04204-SALAMANCA"},"105303","18040200","2020-12-11T14:48:58",16,null,16]
[11,"5",2020,{"$f":"IFERROR(VLOOKUP([1]!Tabla_SERIEA_01_5[[#This Row],[IdEstablecimiento]],[2]Establecimientos!$A$1:$E$175,5,FALSE),0)","v":"04204-SALAMANCA"},"105304","80301041","2020-12-11T14:49:16",0,null,null,9]
[3,"5",2020,{"$f":"IFERROR(VLOOKUP([1]!Tabla_SERIEA_01_5[[#This Row],[IdEstablecimiento]],[2]Establecimientos!$A$1:$E$175,5,FALSE),0)","v":"04302-COMBARBALÁ"},"105722","18090000","2020-04-16T23:09:38",31,0,31]
[9,"5",2020,{"$f":"IFERROR(VLOOKUP([1]!Tabla_SERIEA_01_5[[#This Row],[IdEstablecimiento]],[2]Establecimientos!$A$1:$E$175,5,FALSE),0)","v":"04302-COMBARBALÁ"},"105471","80500011","2020-10-16T10:12:52",56,null,56,null,56]
[8,"5",2020,{"$f":"IFERROR(VLOOKUP([1]!Tabla_SERIEA_01_5[[#This Row],[IdEstablecimiento]],[2]Establecimientos!$A$1:$E$175,5,FALSE),0)","v":"04302-COMBARBALÁ"},"105321","80302076","2020-09-16T16:42:14",0,null,null,1]
[4,"5",2020,{"$f":"IFERROR(VLOOKUP([1]!Tabla_SERIEA_01_5[[#This Row],[IdEstablecimiento]],[2]Establecimientos!$A$1:$E$175,5,FALSE),0)","v":"04302-COMBARBALÁ"},"105471","80301034","2020-05-26T01:03:31",0,null,null,2]
[5,"5",2020,{"$f":"IFERROR(VLOOKUP([1]!Tabla_SERIEA_01_5[[#This Row],[IdEstablecimiento]],[2]Establecimientos!$A$1:$E$175,5,FALSE),0)","v":"04302-COMBARBALÁ"},"105487","81707030","2020-06-12T20:22:47",2,null,2,null,2]
[6,"5",2020,{"$f":"IFERROR(VLOOKUP([1]!Tabla_SERIEA_01_5[[#This Row],[IdEstablecimiento]],[2]Establecimientos!$A$1:$E$175,5,FALSE),0)","v":"04302-COMBARBALÁ"},"105479","80301085","2020-07-20T23:38:26",0,null,null,1]
[3,"5",2020,{"$f":"IFERROR(VLOOKUP([1]!Tabla_SERIEA_01_5[[#This Row],[IdEstablecimiento]],[2]Establecimientos!$A$1:$E$175,5,FALSE),0)","v":"04302-COMBARBALÁ"},"105450","80106023","2020-04-16T22:38:49",1,null,1,null,1]
[4,"5",2020,{"$f":"IFERROR(VLOOKUP([1]!Tabla_SERIEA_01_5[[#This Row],[IdEstablecimiento]],[2]Establecimientos!$A$1:$E$175,5,FALSE),0)","v":"04302-COMBARBALÁ"},"105400","80307011","2020-05-26T00:46:05",2,null,2]
[9,"5",2020,{"$f":"IFERROR(VLOOKUP([1]!Tabla_SERIEA_01_5[[#This Row],[IdEstablecimiento]],[2]Establecimientos!$A$1:$E$175,5,FALSE),0)","v":"04302-COMBARBALÁ"},"105492","81602231","2020-10-16T10:30:42",2,null,2]
[3,"5",2020,{"$f":"IFERROR(VLOOKUP([1]!Tabla_SERIEA_01_5[[#This Row],[IdEstablecimiento]],[2]Establecimientos!$A$1:$E$175,5,FALSE),0)","v":"04302-COMBARBALÁ"},"105303","18400600","2020-04-16T21:45:28",18,0,18]
[1,"5",2020,{"$f":"IFERROR(VLOOKUP([1]!Tabla_SERIEA_01_5[[#This Row],[IdEstablecimiento]],[2]Establecimientos!$A$1:$E$175,5,FALSE),0)","v":"04302-COMBARBALÁ"},"105469","80302005","2020-03-19T00:09:13",0,null,null,1]
[3,"5",2020,{"$f":"IFERROR(VLOOKUP([1]!Tabla_SERIEA_01_5[[#This Row],[IdEstablecimiento]],[2]Establecimientos!$A$1:$E$175,5,FALSE),0)","v":"04102-COQUIMBO"},"105322","18010601","2020-04-16T21:58:21",853,0,853]
[7,"5",2020,{"$f":"IFERROR(VLOOKUP([1]!Tabla_SERIEA_01_5[[#This Row],[IdEstablecimiento]],[2]Establecimientos!$A$1:$E$175,5,FALSE),0)","v":"04102-COQUIMBO"},"105322","80303025","2020-08-20T16:56:37",324,null,324]
[6,"5",2020,{"$f":"IFERROR(VLOOKUP([1]!Tabla_SERIEA_01_5[[#This Row],[IdEstablecimiento]],[2]Establecimientos!$A$1:$E$175,5,FALSE),0)","v":"04302-COMBARBALÁ"},"105405","80302063","2020-07-20T23:04:51",0,null,null,10]
[3,"5",2020,{"$f":"IFERROR(VLOOKUP([1]!Tabla_SERIEA_01_5[[#This Row],[IdEstablecimiento]],[2]Establecimientos!$A$1:$E$175,5,FALSE),0)","v":"04302-COMBARBALÁ"},"105401","80307011","2020-04-16T21:59:58",13,null,13]
[8,"5",2020,{"$f":"IFERROR(VLOOKUP([1]!Tabla_SERIEA_01_5[[#This Row],[IdEstablecimiento]],[2]Establecimientos!$A$1:$E$175,5,FALSE),0)","v":"04302-COMBARBALÁ"},"105324","80307012","2020-09-16T16:43:21",3,null,3]
[1,"5",2020,{"$f":"IFERROR(VLOOKUP([1]!Tabla_SERIEA_01_5[[#This Row],[IdEstablecimiento]],[2]Establecimientos!$A$1:$E$175,5,FALSE),0)","v":"04302-COMBARBALÁ"},"105499","18020500","2020-03-19T00:40:03",2,0,2]
[3,"5",2020,{"$f":"IFERROR(VLOOKUP([1]!Tabla_SERIEA_01_5[[#This Row],[IdEstablecimiento]],[2]Establecimientos!$A$1:$E$175,5,FALSE),0)","v":"04302-COMBARBALÁ"},"105311","81701009","2020-04-16T21:52:44",657,null,657,null,657]
[5,"5",2020,{"$f":"IFERROR(VLOOKUP([1]!Tabla_SERIEA_01_5[[#This Row],[IdEstablecimiento]],[2]Establecimientos!$A$1:$E$175,5,FALSE),0)","v":"04302-COMBARBALÁ"},"105308","80106017","2020-06-12T19:27:03",9,null,9,null,9]
[7,"5",2020,{"$f":"IFERROR(VLOOKUP([1]!Tabla_SERIEA_01_5[[#This Row],[IdEstablecimiento]],[2]Establecimientos!$A$1:$E$175,5,FALSE),0)","v":"04302-COMBARBALÁ"},"105511","80303026","2020-08-20T18:11:20",0,null,null,3]
[3,"5",2020,{"$f":"IFERROR(VLOOKUP([1]!Tabla_SERIEA_01_5[[#This Row],[IdEstablecimiento]],[2]Establecimientos!$A$1:$E$175,5,FALSE),0)","v":"04302-COMBARBALÁ"},"200607","80302024","2020-05-26T02:01:24",0,null,null,1]
[8,"5",2020,{"$f":"IFERROR(VLOOKUP([1]!Tabla_SERIEA_01_5[[#This Row],[IdEstablecimiento]],[2]Establecimientos!$A$1:$E$175,5,FALSE),0)","v":"04302-COMBARBALÁ"},"105458","18700100","2020-09-16T17:16:41",124,null,107,17]
[11,"5",2020,{"$f":"IFERROR(VLOOKUP([1]!Tabla_SERIEA_01_5[[#This Row],[IdEstablecimiento]],[2]Establecimientos!$A$1:$E$175,5,FALSE),0)","v":"04302-COMBARBALÁ"},"105307","80302005","2020-12-11T14:50:31",185,null,185]
[7,"5",2020,{"$f":"IFERROR(VLOOKUP([1]!Tabla_SERIEA_01_5[[#This Row],[IdEstablecimiento]],[2]Establecimientos!$A$1:$E$175,5,FALSE),0)","v":"04302-COMBARBALÁ"},"105401","80106005","2020-08-20T17:00:50",6,null,6,null,6]
[9,"5",2020,{"$f":"IFERROR(VLOOKUP([1]!Tabla_SERIEA_01_5[[#This Row],[IdEstablecimiento]],[2]Establecimientos!$A$1:$E$175,5,FALSE),0)","v":"04106-VICUÑA"},"105473","81602222","2020-10-16T10:18:28",2,null,2,null,2]
[11,"5",2020,{"$f":"IFERROR(VLOOKUP([1]!Tabla_SERIEA_01_5[[#This Row],[IdEstablecimiento]],[2]Establecimientos!$A$1:$E$175,5,FALSE),0)","v":"04106-VICUÑA"},"105325","80303026","2020-12-11T14:56:13",0,null,null,74]
[9,"5",2020,{"$f":"IFERROR(VLOOKUP([1]!Tabla_SERIEA_01_5[[#This Row],[IdEstablecimiento]],[2]Establecimientos!$A$1:$E$175,5,FALSE),0)","v":"04106-VICUÑA"},"200607","80401070","2020-10-16T10:54:56",0,null,null,10]
[11,"5",2020,{"$f":"IFERROR(VLOOKUP([1]!Tabla_SERIEA_01_5[[#This Row],[IdEstablecimiento]],[2]Establecimientos!$A$1:$E$175,5,FALSE),0)","v":"04106-VICUÑA"},"105405","80303026","2020-12-11T14:59:04",0,null,null,13]
[11,"5",2020,{"$f":"IFERROR(VLOOKUP([1]!Tabla_SERIEA_01_5[[#This Row],[IdEstablecimiento]],[2]Establecimientos!$A$1:$E$175,5,FALSE),0)","v":"04106-VICUÑA"},"105405","80106015","2020-12-11T14:59:04",18,null,18,null,4]
[5,"5",2020,{"$f":"IFERROR(VLOOKUP([1]!Tabla_SERIEA_01_5[[#This Row],[IdEstablecimiento]],[2]Establecimientos!$A$1:$E$175,5,FALSE),0)","v":"04106-VICUÑA"},"105323","80303024","2020-06-12T19:31:15",0,null,null,61]
[2,"5",2020,{"$f":"IFERROR(VLOOKUP([1]!Tabla_SERIEA_01_5[[#This Row],[IdEstablecimiento]],[2]Establecimientos!$A$1:$E$175,5,FALSE),0)","v":"04201-ILLAPEL"},"105302","80106005","2020-03-19T18:32:44",70,null,70,null,70]
[10,"5",2020,{"$f":"IFERROR(VLOOKUP([1]!Tabla_SERIEA_01_5[[#This Row],[IdEstablecimiento]],[2]Establecimientos!$A$1:$E$175,5,FALSE),0)","v":"04301-OVALLE"},"105801","80106015","2020-11-12T08:16:34",39,39,null,null,39]
[10,"5",2020,{"$f":"IFERROR(VLOOKUP([1]!Tabla_SERIEA_01_5[[#This Row],[IdEstablecimiento]],[2]Establecimientos!$A$1:$E$175,5,FALSE),0)","v":"04202-CANELA"},"105801","18020300","2020-11-12T08:16:34",5,5,0]
[2,"5",2020,{"$f":"IFERROR(VLOOKUP([1]!Tabla_SERIEA_01_5[[#This Row],[IdEstablecimiento]],[2]Establecimientos!$A$1:$E$175,5,FALSE),0)","v":"04101-LA SERENA"},"105301","80302068","2020-03-19T18:32:12",0,null,null,311]
[5,"5",2020,{"$f":"IFERROR(VLOOKUP([1]!Tabla_SERIEA_01_5[[#This Row],[IdEstablecimiento]],[2]Establecimientos!$A$1:$E$175,5,FALSE),0)","v":"105101-HOSPITAL COQUIMBO"},"105505","80106002","2020-06-12T21:07:09",19,19,null,null,19]
[5,"5",2020,{"$f":"IFERROR(VLOOKUP([1]!Tabla_SERIEA_01_5[[#This Row],[IdEstablecimiento]],[2]Establecimientos!$A$1:$E$175,5,FALSE),0)","v":"04305-RIO HURTADO"},"105505","80106020","2020-06-12T21:07:09",1,1,null,null,1]
[5,"5",2020,{"$f":"IFERROR(VLOOKUP([1]!Tabla_SERIEA_01_5[[#This Row],[IdEstablecimiento]],[2]Establecimientos!$A$1:$E$175,5,FALSE),0)","v":"04102-COQUIMBO"},"105415","80500011","2020-06-12T19:37:34",35,null,35,null,35]
[10,"5",2020,{"$f":"IFERROR(VLOOKUP([1]!Tabla_SERIEA_01_5[[#This Row],[IdEstablecimiento]],[2]Establecimientos!$A$1:$E$175,5,FALSE),0)","v":"04303-MONTE PATRIA"},"105819","18011001","2020-11-12T08:19:43",580,580,0]
[10,"5",2020,{"$f":"IFERROR(VLOOKUP([1]!Tabla_SERIEA_01_5[[#This Row],[IdEstablecimiento]],[2]Establecimientos!$A$1:$E$175,5,FALSE),0)","v":"105101-HOSPITAL COQUIMBO"},"200499","18700170","2020-11-12T08:28:09",142,null,142,null,142,0,142]
[6,"5",2020,{"$f":"IFERROR(VLOOKUP([1]!Tabla_SERIEA_01_5[[#This Row],[IdEstablecimiento]],[2]Establecimientos!$A$1:$E$175,5,FALSE),0)","v":"105101-HOSPITAL COQUIMBO"},"105479","80302005","2020-07-20T23:38:26",0,null,null,3]
[6,"5",2020,{"$f":"IFERROR(VLOOKUP([1]!Tabla_SERIEA_01_5[[#This Row],[IdEstablecimiento]],[2]Establecimientos!$A$1:$E$175,5,FALSE),0)","v":"105012-CLINICA DENTAL MOVIL"},"105479","18050100","2020-07-20T23:38:26",4,0,4]
[3,"5",2020,{"$f":"IFERROR(VLOOKUP([1]!Tabla_SERIEA_01_5[[#This Row],[IdEstablecimiento]],[2]Establecimientos!$A$1:$E$175,5,FALSE),0)","v":"04303-MONTE PATRIA"},"105480","80307012","2020-04-16T22:51:01",2,null,2]
[2,"5",2020,{"$f":"IFERROR(VLOOKUP([1]!Tabla_SERIEA_01_5[[#This Row],[IdEstablecimiento]],[2]Establecimientos!$A$1:$E$175,5,FALSE),0)","v":"105101-HOSPITAL COQUIMBO"},"105325","80301014","2020-03-19T18:52:46",0,null,null,4]
[1,"5",2020,{"$f":"IFERROR(VLOOKUP([1]!Tabla_SERIEA_01_5[[#This Row],[IdEstablecimiento]],[2]Establecimientos!$A$1:$E$175,5,FALSE),0)","v":"105106-HOSPITAL ANDACOLLO"},"105304","80309022","2020-05-26T01:48:33",0,null,null,857]
[4,"5",2020,{"$f":"IFERROR(VLOOKUP([1]!Tabla_SERIEA_01_5[[#This Row],[IdEstablecimiento]],[2]Establecimientos!$A$1:$E$175,5,FALSE),0)","v":"105106-HOSPITAL ANDACOLLO"},"105432","18050300","2020-05-26T00:52:27",10,0,10]
[2,"5",2020,{"$f":"IFERROR(VLOOKUP([1]!Tabla_SERIEA_01_5[[#This Row],[IdEstablecimiento]],[2]Establecimientos!$A$1:$E$175,5,FALSE),0)","v":"105102-HOSPITAL OVALLE"},"105322","18090100","2020-03-19T18:51:53",2910,0,2910]
[7,"5",2020,{"$f":"IFERROR(VLOOKUP([1]!Tabla_SERIEA_01_5[[#This Row],[IdEstablecimiento]],[2]Establecimientos!$A$1:$E$175,5,FALSE),0)","v":"105101-HOSPITAL COQUIMBO"},"105313","80106002","2020-08-20T16:53:51",169,16,153,null,169]
[4,"5",2020,{"$f":"IFERROR(VLOOKUP([1]!Tabla_SERIEA_01_5[[#This Row],[IdEstablecimiento]],[2]Establecimientos!$A$1:$E$175,5,FALSE),0)","v":"04102-COQUIMBO"},"105402","80301038","2020-05-26T00:46:43",0,null,null,1]
[8,"5",2020,{"$f":"IFERROR(VLOOKUP([1]!Tabla_SERIEA_01_5[[#This Row],[IdEstablecimiento]],[2]Establecimientos!$A$1:$E$175,5,FALSE),0)","v":"105106-HOSPITAL ANDACOLLO"},"105700","18050100","2020-09-16T17:38:33",24,0,24]
[8,"5",2020,{"$f":"IFERROR(VLOOKUP([1]!Tabla_SERIEA_01_5[[#This Row],[IdEstablecimiento]],[2]Establecimientos!$A$1:$E$175,5,FALSE),0)","v":"105102-HOSPITAL OVALLE"},"105489","18020500","2020-09-16T17:30:20",25,0,25]
[8,"5",2020,{"$f":"IFERROR(VLOOKUP([1]!Tabla_SERIEA_01_5[[#This Row],[IdEstablecimiento]],[2]Establecimientos!$A$1:$E$175,5,FALSE),0)","v":"105101-HOSPITAL COQUIMBO"},"105701","80302023","2020-09-16T17:38:54",0,null,null,12]
[10,"5",2020,{"$f":"IFERROR(VLOOKUP([1]!Tabla_SERIEA_01_5[[#This Row],[IdEstablecimiento]],[2]Establecimientos!$A$1:$E$175,5,FALSE),0)","v":"04303-MONTE PATRIA"},"105324","80307012","2020-11-12T07:16:42",3,null,3]
[2,"5",2020,{"$f":"IFERROR(VLOOKUP([1]!Tabla_SERIEA_01_5[[#This Row],[IdEstablecimiento]],[2]Establecimientos!$A$1:$E$175,5,FALSE),0)","v":"04301-OVALLE"},"200494","80303027","2020-03-19T21:32:14",0,null,null,7]
[1,"5",2020,{"$f":"IFERROR(VLOOKUP([1]!Tabla_SERIEA_01_5[[#This Row],[IdEstablecimiento]],[2]Establecimientos!$A$1:$E$175,5,FALSE),0)","v":"04101-LA SERENA"},"105300","80302064","2020-03-18T23:40:23",0,null,null,545]
[2,"5",2020,{"$f":"IFERROR(VLOOKUP([1]!Tabla_SERIEA_01_5[[#This Row],[IdEstablecimiento]],[2]Establecimientos!$A$1:$E$175,5,FALSE),0)","v":"105101-HOSPITAL COQUIMBO"},"105326","80307011","2020-03-19T18:53:04",0,null,null,418]
[5,"5",2020,{"$f":"IFERROR(VLOOKUP([1]!Tabla_SERIEA_01_5[[#This Row],[IdEstablecimiento]],[2]Establecimientos!$A$1:$E$175,5,FALSE),0)","v":"105106-HOSPITAL ANDACOLLO"},"200366","80303026","2020-06-12T20:36:54",0,null,null,1]
[3,"5",2020,{"$f":"IFERROR(VLOOKUP([1]!Tabla_SERIEA_01_5[[#This Row],[IdEstablecimiento]],[2]Establecimientos!$A$1:$E$175,5,FALSE),0)","v":"04301-OVALLE"},"105303","80500009","2020-04-16T21:45:28",2,null,2,null,2]
[6,"5",2020,{"$f":"IFERROR(VLOOKUP([1]!Tabla_SERIEA_01_5[[#This Row],[IdEstablecimiento]],[2]Establecimientos!$A$1:$E$175,5,FALSE),0)","v":"105102-HOSPITAL OVALLE"},"105508","80106014","2020-07-20T23:59:41",15,null,15,null,15]
[1,"5",2020,{"$f":"IFERROR(VLOOKUP([1]!Tabla_SERIEA_01_5[[#This Row],[IdEstablecimiento]],[2]Establecimientos!$A$1:$E$175,5,FALSE),0)","v":"105101-HOSPITAL COQUIMBO"},"105425","80307011","2020-03-18T23:54:21",33,null,33]
[3,"5",2020,{"$f":"IFERROR(VLOOKUP([1]!Tabla_SERIEA_01_5[[#This Row],[IdEstablecimiento]],[2]Establecimientos!$A$1:$E$175,5,FALSE),0)","v":"105100-HOSPITAL LA SERENA"},"105451","18020500","2020-04-16T22:39:03",14,0,14]
[3,"5",2020,{"$f":"IFERROR(VLOOKUP([1]!Tabla_SERIEA_01_5[[#This Row],[IdEstablecimiento]],[2]Establecimientos!$A$1:$E$175,5,FALSE),0)","v":"105102-HOSPITAL OVALLE"},"105452","80106022","2020-04-16T22:39:19",2,null,2]
[8,"5",2020,{"$f":"IFERROR(VLOOKUP([1]!Tabla_SERIEA_01_5[[#This Row],[IdEstablecimiento]],[2]Establecimientos!$A$1:$E$175,5,FALSE),0)","v":"04101-LA SERENA"},"105487","80302023","2020-09-16T17:29:41",0,null,null,1]
[3,"5",2020,{"$f":"IFERROR(VLOOKUP([1]!Tabla_SERIEA_01_5[[#This Row],[IdEstablecimiento]],[2]Establecimientos!$A$1:$E$175,5,FALSE),0)","v":"04204-SALAMANCA"},"105509","80302076","2020-04-16T23:07:54",0,null,null,1]
[7,"5",2020,{"$f":"IFERROR(VLOOKUP([1]!Tabla_SERIEA_01_5[[#This Row],[IdEstablecimiento]],[2]Establecimientos!$A$1:$E$175,5,FALSE),0)","v":"105101-HOSPITAL COQUIMBO"},"105322","80106015","2020-08-20T16:56:37",5,null,5,null,5]
[1,"5",2020,{"$f":"IFERROR(VLOOKUP([1]!Tabla_SERIEA_01_5[[#This Row],[IdEstablecimiento]],[2]Establecimientos!$A$1:$E$175,5,FALSE),0)","v":"105101-HOSPITAL COQUIMBO"},"105474","80307012","2020-03-19T00:10:33",0,null,null,1]
[3,"5",2020,{"$f":"IFERROR(VLOOKUP([1]!Tabla_SERIEA_01_5[[#This Row],[IdEstablecimiento]],[2]Establecimientos!$A$1:$E$175,5,FALSE),0)","v":"105102-HOSPITAL OVALLE"},"105400","80302040","2020-04-16T21:59:39",0,null,null,38]
[3,"5",2020,{"$f":"IFERROR(VLOOKUP([1]!Tabla_SERIEA_01_5[[#This Row],[IdEstablecimiento]],[2]Establecimientos!$A$1:$E$175,5,FALSE),0)","v":"105102-HOSPITAL OVALLE"},"105325","80306011","2020-04-16T21:59:08",0,null,null,42]
[6,"5",2020,{"$f":"IFERROR(VLOOKUP([1]!Tabla_SERIEA_01_5[[#This Row],[IdEstablecimiento]],[2]Establecimientos!$A$1:$E$175,5,FALSE),0)","v":"04101-LA SERENA"},"200720","80106014","2020-07-21T00:08:54",499,499,null,null,499]
[1,"5",2020,{"$f":"IFERROR(VLOOKUP([1]!Tabla_SERIEA_01_5[[#This Row],[IdEstablecimiento]],[2]Establecimientos!$A$1:$E$175,5,FALSE),0)","v":"105101-HOSPITAL COQUIMBO"},"105312","80106014","2020-03-18T23:45:10",384,null,384,null,384]
[9,"5",2020,{"$f":"IFERROR(VLOOKUP([1]!Tabla_SERIEA_01_5[[#This Row],[IdEstablecimiento]],[2]Establecimientos!$A$1:$E$175,5,FALSE),0)","v":"04305-RIO HURTADO"},"105817","81201029","2020-10-16T10:43:57",7,7]
[7,"5",2020,{"$f":"IFERROR(VLOOKUP([1]!Tabla_SERIEA_01_5[[#This Row],[IdEstablecimiento]],[2]Establecimientos!$A$1:$E$175,5,FALSE),0)","v":"04204-SALAMANCA"},"105312","18011001","2020-08-20T16:53:36",2,0,2]
[7,"5",2020,{"$f":"IFERROR(VLOOKUP([1]!Tabla_SERIEA_01_5[[#This Row],[IdEstablecimiento]],[2]Establecimientos!$A$1:$E$175,5,FALSE),0)","v":"04204-SALAMANCA"},"105312","18030000","2020-08-20T16:53:36",4,0,4]
[4,"5",2020,{"$f":"IFERROR(VLOOKUP([1]!Tabla_SERIEA_01_5[[#This Row],[IdEstablecimiento]],[2]Establecimientos!$A$1:$E$175,5,FALSE),0)","v":"105106-HOSPITAL ANDACOLLO"},"105500","80106023","2020-06-12T21:00:42",2,2,null,null,2]
[4,"5",2020,{"$f":"IFERROR(VLOOKUP([1]!Tabla_SERIEA_01_5[[#This Row],[IdEstablecimiento]],[2]Establecimientos!$A$1:$E$175,5,FALSE),0)","v":"105101-HOSPITAL COQUIMBO"},"105505","81701001","2020-06-12T21:01:26",2,2,null,null,2]
[7,"5",2020,{"$f":"IFERROR(VLOOKUP([1]!Tabla_SERIEA_01_5[[#This Row],[IdEstablecimiento]],[2]Establecimientos!$A$1:$E$175,5,FALSE),0)","v":"04101-LA SERENA"},"105441","80106015","2020-08-20T17:20:10",1,null,1,null,1]
[7,"5",2020,{"$f":"IFERROR(VLOOKUP([1]!Tabla_SERIEA_01_5[[#This Row],[IdEstablecimiento]],[2]Establecimientos!$A$1:$E$175,5,FALSE),0)","v":"04102-COQUIMBO"},"105404","80106014","2020-08-20T17:01:46",45,null,45,null,1]
[5,"5",2020,{"$f":"IFERROR(VLOOKUP([1]!Tabla_SERIEA_01_5[[#This Row],[IdEstablecimiento]],[2]Establecimientos!$A$1:$E$175,5,FALSE),0)","v":"105101-HOSPITAL COQUIMBO"},"200607","80302063","2020-06-12T20:42:21",0,null,null,2]
[7,"5",2020,{"$f":"IFERROR(VLOOKUP([1]!Tabla_SERIEA_01_5[[#This Row],[IdEstablecimiento]],[2]Establecimientos!$A$1:$E$175,5,FALSE),0)","v":"105101-HOSPITAL COQUIMBO"},"105325","18700100","2020-08-20T16:59:30",398,41,326,31]
[3,"5",2020,{"$f":"IFERROR(VLOOKUP([1]!Tabla_SERIEA_01_5[[#This Row],[IdEstablecimiento]],[2]Establecimientos!$A$1:$E$175,5,FALSE),0)","v":"105104-HOSPITAL SALAMANCA"},"105486","80307011","2020-04-16T22:52:28",0,null,null,34]
[3,"5",2020,{"$f":"IFERROR(VLOOKUP([1]!Tabla_SERIEA_01_5[[#This Row],[IdEstablecimiento]],[2]Establecimientos!$A$1:$E$175,5,FALSE),0)","v":"105104-HOSPITAL SALAMANCA"},"105486","80301045","2020-04-16T22:52:28",0,null,null,17]
[2,"5",2020,{"$f":"IFERROR(VLOOKUP([1]!Tabla_SERIEA_01_5[[#This Row],[IdEstablecimiento]],[2]Establecimientos!$A$1:$E$175,5,FALSE),0)","v":"105103-HOSPITAL ILLAPEL"},"105325","80302068","2020-03-19T18:52:46",0,null,null,396]
[1,"5",2020,{"$f":"IFERROR(VLOOKUP([1]!Tabla_SERIEA_01_5[[#This Row],[IdEstablecimiento]],[2]Establecimientos!$A$1:$E$175,5,FALSE),0)","v":"105103-HOSPITAL ILLAPEL"},"105471","80309013","2020-03-19T00:09:47",0,null,null,20]
[6,"5",2020,{"$f":"IFERROR(VLOOKUP([1]!Tabla_SERIEA_01_5[[#This Row],[IdEstablecimiento]],[2]Establecimientos!$A$1:$E$175,5,FALSE),0)","v":"105102-HOSPITAL OVALLE"},"105407","80106006","2020-07-20T23:05:07",1,null,1,null,1]
[8,"5",2020,{"$f":"IFERROR(VLOOKUP([1]!Tabla_SERIEA_01_5[[#This Row],[IdEstablecimiento]],[2]Establecimientos!$A$1:$E$175,5,FALSE),0)","v":"105106-HOSPITAL ANDACOLLO"},"105490","80307011","2020-09-16T17:30:38",2,null,2]
[10,"5",2020,{"$f":"IFERROR(VLOOKUP([1]!Tabla_SERIEA_01_5[[#This Row],[IdEstablecimiento]],[2]Establecimientos!$A$1:$E$175,5,FALSE),0)","v":"105104-HOSPITAL SALAMANCA"},"200494","80307011","2020-11-12T08:27:25",121,null,121]
[10,"5",2020,{"$f":"IFERROR(VLOOKUP([1]!Tabla_SERIEA_01_5[[#This Row],[IdEstablecimiento]],[2]Establecimientos!$A$1:$E$175,5,FALSE),0)","v":"105104-HOSPITAL SALAMANCA"},"105468","81602222","2020-11-12T07:50:54",2,null,2,null,2]
[9,"5",2020,{"$f":"IFERROR(VLOOKUP([1]!Tabla_SERIEA_01_5[[#This Row],[IdEstablecimiento]],[2]Establecimientos!$A$1:$E$175,5,FALSE),0)","v":"04204-SALAMANCA"},"200499","80301045","2020-10-16T10:53:43",0,null,null,104]
[9,"5",2020,{"$f":"IFERROR(VLOOKUP([1]!Tabla_SERIEA_01_5[[#This Row],[IdEstablecimiento]],[2]Establecimientos!$A$1:$E$175,5,FALSE),0)","v":"04204-SALAMANCA"},"200499","80302005","2020-10-16T10:53:43",0,null,null,75]
[6,"5",2020,{"$f":"IFERROR(VLOOKUP([1]!Tabla_SERIEA_01_5[[#This Row],[IdEstablecimiento]],[2]Establecimientos!$A$1:$E$175,5,FALSE),0)","v":"04101-LA SERENA"},"105322","80106014","2020-07-20T22:59:33",203,null,203,null,203]
[2,"5",2020,{"$f":"IFERROR(VLOOKUP([1]!Tabla_SERIEA_01_5[[#This Row],[IdEstablecimiento]],[2]Establecimientos!$A$1:$E$175,5,FALSE),0)","v":"105102-HOSPITAL OVALLE"},"105319","18400900","2020-03-19T18:50:36",52,5,47]
[5,"5",2020,{"$f":"IFERROR(VLOOKUP([1]!Tabla_SERIEA_01_5[[#This Row],[IdEstablecimiento]],[2]Establecimientos!$A$1:$E$175,5,FALSE),0)","v":"04301-OVALLE"},"105722","80106022","2020-06-12T20:33:19",4,null,4,null,4]
[5,"5",2020,{"$f":"IFERROR(VLOOKUP([1]!Tabla_SERIEA_01_5[[#This Row],[IdEstablecimiento]],[2]Establecimientos!$A$1:$E$175,5,FALSE),0)","v":"04301-OVALLE"},"105305","80401009","2020-06-12T19:26:13",9,8,1]
[10,"5",2020,{"$f":"IFERROR(VLOOKUP([1]!Tabla_SERIEA_01_5[[#This Row],[IdEstablecimiento]],[2]Establecimientos!$A$1:$E$175,5,FALSE),0)","v":"105102-HOSPITAL OVALLE"},"105819","80401051","2020-11-12T08:19:43",33,33]
[8,"5",2020,{"$f":"IFERROR(VLOOKUP([1]!Tabla_SERIEA_01_5[[#This Row],[IdEstablecimiento]],[2]Establecimientos!$A$1:$E$175,5,FALSE),0)","v":"04106-VICUÑA"},"105487","80106010","2020-09-16T17:29:41",1,null,1,null,1]
[5,"5",2020,{"$f":"IFERROR(VLOOKUP([1]!Tabla_SERIEA_01_5[[#This Row],[IdEstablecimiento]],[2]Establecimientos!$A$1:$E$175,5,FALSE),0)","v":"04101-LA SERENA"},"105300","80106015","2020-06-12T19:23:50",6,6,null,null,6]
[1,"5",2020,{"$f":"IFERROR(VLOOKUP([1]!Tabla_SERIEA_01_5[[#This Row],[IdEstablecimiento]],[2]Establecimientos!$A$1:$E$175,5,FALSE),0)","v":"04303-MONTE PATRIA"},"105313","80309013","2020-03-18T23:45:25",0,null,null,65]
[8,"5",2020,{"$f":"IFERROR(VLOOKUP([1]!Tabla_SERIEA_01_5[[#This Row],[IdEstablecimiento]],[2]Establecimientos!$A$1:$E$175,5,FALSE),0)","v":"04102-COQUIMBO"},"105492","81602222","2020-09-16T17:32:20",2,null,2]
[5,"5",2020,{"$f":"IFERROR(VLOOKUP([1]!Tabla_SERIEA_01_5[[#This Row],[IdEstablecimiento]],[2]Establecimientos!$A$1:$E$175,5,FALSE),0)","v":"04101-LA SERENA"},"105444","80401010","2020-06-12T19:44:24",0,null,null,1]
[5,"5",2020,{"$f":"IFERROR(VLOOKUP([1]!Tabla_SERIEA_01_5[[#This Row],[IdEstablecimiento]],[2]Establecimientos!$A$1:$E$175,5,FALSE),0)","v":"04303-MONTE PATRIA"},"105307","80302032","2020-06-12T19:26:45",47,null,47]
[7,"5",2020,{"$f":"IFERROR(VLOOKUP([1]!Tabla_SERIEA_01_5[[#This Row],[IdEstablecimiento]],[2]Establecimientos!$A$1:$E$175,5,FALSE),0)","v":"105100-HOSPITAL LA SERENA"},"105402","80106013","2020-08-20T17:01:07",1,null,1,null,1]
[2,"5",2020,{"$f":"IFERROR(VLOOKUP([1]!Tabla_SERIEA_01_5[[#This Row],[IdEstablecimiento]],[2]Establecimientos!$A$1:$E$175,5,FALSE),0)","v":"04102-COQUIMBO"},"105464","18070300","2020-03-19T21:04:27",19,null,1,null,2,8,8]
[2,"5",2020,{"$f":"IFERROR(VLOOKUP([1]!Tabla_SERIEA_01_5[[#This Row],[IdEstablecimiento]],[2]Establecimientos!$A$1:$E$175,5,FALSE),0)","v":"04201-ILLAPEL"},"105308","80106013","2020-03-19T18:40:47",3,null,3,null,3]
[4,"5",2020,{"$f":"IFERROR(VLOOKUP([1]!Tabla_SERIEA_01_5[[#This Row],[IdEstablecimiento]],[2]Establecimientos!$A$1:$E$175,5,FALSE),0)","v":"04102-COQUIMBO"},"105505","18030000","2020-06-12T21:01:26",1,1,0]
[8,"5",2020,{"$f":"IFERROR(VLOOKUP([1]!Tabla_SERIEA_01_5[[#This Row],[IdEstablecimiento]],[2]Establecimientos!$A$1:$E$175,5,FALSE),0)","v":"04303-MONTE PATRIA"},"200569","80106002","2020-09-16T17:55:07",109,null,109]
[10,"5",2020,{"$f":"IFERROR(VLOOKUP([1]!Tabla_SERIEA_01_5[[#This Row],[IdEstablecimiento]],[2]Establecimientos!$A$1:$E$175,5,FALSE),0)","v":"04201-ILLAPEL"},"105819","18400700","2020-11-12T08:19:43",14727]
[6,"5",2020,{"$f":"IFERROR(VLOOKUP([1]!Tabla_SERIEA_01_5[[#This Row],[IdEstablecimiento]],[2]Establecimientos!$A$1:$E$175,5,FALSE),0)","v":"105102-HOSPITAL OVALLE"},"105480","80301086","2020-07-20T23:38:44",0,null,null,6]
[2,"5",2020,{"$f":"IFERROR(VLOOKUP([1]!Tabla_SERIEA_01_5[[#This Row],[IdEstablecimiento]],[2]Establecimientos!$A$1:$E$175,5,FALSE),0)","v":"04105-PAIHUANO"},"105441","18070300","2020-03-19T19:11:58",4,1,1,null,null,2]
[2,"5",2020,{"$f":"IFERROR(VLOOKUP([1]!Tabla_SERIEA_01_5[[#This Row],[IdEstablecimiento]],[2]Establecimientos!$A$1:$E$175,5,FALSE),0)","v":"04204-SALAMANCA"},"105443","80302034","2020-03-19T19:20:52",0,null,null,28]
[6,"5",2020,{"$f":"IFERROR(VLOOKUP([1]!Tabla_SERIEA_01_5[[#This Row],[IdEstablecimiento]],[2]Establecimientos!$A$1:$E$175,5,FALSE),0)","v":"105102-HOSPITAL OVALLE"},"105321","81701001","2020-07-20T22:59:16",26,25,1,null,26,26]
[7,"5",2020,{"$f":"IFERROR(VLOOKUP([1]!Tabla_SERIEA_01_5[[#This Row],[IdEstablecimiento]],[2]Establecimientos!$A$1:$E$175,5,FALSE),0)","v":"105102-HOSPITAL OVALLE"},"200402","80302032","2020-08-20T18:18:58",0,null,null,15]
[5,"5",2020,{"$f":"IFERROR(VLOOKUP([1]!Tabla_SERIEA_01_5[[#This Row],[IdEstablecimiento]],[2]Establecimientos!$A$1:$E$175,5,FALSE),0)","v":"105100-HOSPITAL LA SERENA"},"105453","80106022","2020-06-12T19:56:08",2,null,2]
[6,"5",2020,{"$f":"IFERROR(VLOOKUP([1]!Tabla_SERIEA_01_5[[#This Row],[IdEstablecimiento]],[2]Establecimientos!$A$1:$E$175,5,FALSE),0)","v":"04102-COQUIMBO"},"105318","18090000","2020-07-20T22:58:43",21,0,21]
[5,"5",2020,{"$f":"IFERROR(VLOOKUP([1]!Tabla_SERIEA_01_5[[#This Row],[IdEstablecimiento]],[2]Establecimientos!$A$1:$E$175,5,FALSE),0)","v":"04102-COQUIMBO"},"105301","80306169","2020-06-12T19:24:16",0,null,null,11]
[4,"5",2020,{"$f":"IFERROR(VLOOKUP([1]!Tabla_SERIEA_01_5[[#This Row],[IdEstablecimiento]],[2]Establecimientos!$A$1:$E$175,5,FALSE),0)","v":"04101-LA SERENA"},"105313","80306061","2020-05-26T00:42:45",0,null,null,25]
[3,"5",2020,{"$f":"IFERROR(VLOOKUP([1]!Tabla_SERIEA_01_5[[#This Row],[IdEstablecimiento]],[2]Establecimientos!$A$1:$E$175,5,FALSE),0)","v":"105107-HOSPITAL VICUÑA"},"105308","80106011","2020-04-16T21:47:32",1,null,1,null,1]
[6,"5",2020,{"$f":"IFERROR(VLOOKUP([1]!Tabla_SERIEA_01_5[[#This Row],[IdEstablecimiento]],[2]Establecimientos!$A$1:$E$175,5,FALSE),0)","v":"04102-COQUIMBO"},"200499","80303024","2020-07-21T00:05:38",0,null,null,56]
[6,"5",2020,{"$f":"IFERROR(VLOOKUP([1]!Tabla_SERIEA_01_5[[#This Row],[IdEstablecimiento]],[2]Establecimientos!$A$1:$E$175,5,FALSE),0)","v":"105102-HOSPITAL OVALLE"},"200538","80309024","2020-07-21T00:06:08",0,null,null,20]
[8,"5",2020,{"$f":"IFERROR(VLOOKUP([1]!Tabla_SERIEA_01_5[[#This Row],[IdEstablecimiento]],[2]Establecimientos!$A$1:$E$175,5,FALSE),0)","v":"04201-ILLAPEL"},"105461","18030000","2020-09-16T17:19:49",1,0,1]
[8,"5",2020,{"$f":"IFERROR(VLOOKUP([1]!Tabla_SERIEA_01_5[[#This Row],[IdEstablecimiento]],[2]Establecimientos!$A$1:$E$175,5,FALSE),0)","v":"04101-LA SERENA"},"105303","18400700","2020-09-16T16:36:43",2860]
[8,"5",2020,{"$f":"IFERROR(VLOOKUP([1]!Tabla_SERIEA_01_5[[#This Row],[IdEstablecimiento]],[2]Establecimientos!$A$1:$E$175,5,FALSE),0)","v":"04101-LA SERENA"},"105303","18090200","2020-09-16T16:36:43",3]
[4,"5",2020,{"$f":"IFERROR(VLOOKUP([1]!Tabla_SERIEA_01_5[[#This Row],[IdEstablecimiento]],[2]Establecimientos!$A$1:$E$175,5,FALSE),0)","v":"105102-HOSPITAL OVALLE"},"105505","80106014","2020-06-12T21:01:26",71,71,null,null,71]
[5,"5",2020,{"$f":"IFERROR(VLOOKUP([1]!Tabla_SERIEA_01_5[[#This Row],[IdEstablecimiento]],[2]Establecimientos!$A$1:$E$175,5,FALSE),0)","v":"04106-VICUÑA"},"200538","80106015","2020-06-12T20:40:57",6,null,6,null,6]
[8,"5",2020,{"$f":"IFERROR(VLOOKUP([1]!Tabla_SERIEA_01_5[[#This Row],[IdEstablecimiento]],[2]Establecimientos!$A$1:$E$175,5,FALSE),0)","v":"105102-HOSPITAL OVALLE"},"105400","80301086","2020-09-16T16:44:19",0,null,null,2]
[8,"5",2020,{"$f":"IFERROR(VLOOKUP([1]!Tabla_SERIEA_01_5[[#This Row],[IdEstablecimiento]],[2]Establecimientos!$A$1:$E$175,5,FALSE),0)","v":"105102-HOSPITAL OVALLE"},"200607","80301045","2020-09-16T17:54:41",0,null,null,30]
[5,"5",2020,{"$f":"IFERROR(VLOOKUP([1]!Tabla_SERIEA_01_5[[#This Row],[IdEstablecimiento]],[2]Establecimientos!$A$1:$E$175,5,FALSE),0)","v":"04101-LA SERENA"},"105300","80306048","2020-06-12T19:23:50",0,null,null,2]
[7,"5",2020,{"$f":"IFERROR(VLOOKUP([1]!Tabla_SERIEA_01_5[[#This Row],[IdEstablecimiento]],[2]Establecimientos!$A$1:$E$175,5,FALSE),0)","v":"04303-MONTE PATRIA"},"105414","80401010","2020-08-20T17:06:46",1,null,1,1]
[7,"5",2020,{"$f":"IFERROR(VLOOKUP([1]!Tabla_SERIEA_01_5[[#This Row],[IdEstablecimiento]],[2]Establecimientos!$A$1:$E$175,5,FALSE),0)","v":"04304-PUNITAQUI"},"105414","18070300","2020-08-20T17:06:46",21,{"$nulls":4},17,4]
[4,"5",2020,{"$f":"IFERROR(VLOOKUP([1]!Tabla_SERIEA_01_5[[#This Row],[IdEstablecimiento]],[2]Establecimientos!$A$1:$E$175,5,FALSE),0)","v":"04204-SALAMANCA"},"105322","80307011","2020-05-26T00:44:30",81,null,81]
[4,"5",2020,{"$f":"IFERROR(VLOOKUP([1]!Tabla_SERIEA_01_5[[#This Row],[IdEstablecimiento]],[2]Establecimientos!$A$1:$E$175,5,FALSE),0)","v":"105105-HOSPITAL COMBARBALÁ"},"105306","80309022","2020-05-26T01:20:09",0,null,null,55]
[8,"5",2020,{"$f":"IFERROR(VLOOKUP([1]!Tabla_SERIEA_01_5[[#This Row],[IdEstablecimiento]],[2]Establecimientos!$A$1:$E$175,5,FALSE),0)","v":"105102-HOSPITAL OVALLE"},"105511","80106002","2020-09-16T17:38:09",6,null,6,null,6]
[6,"5",2020,{"$f":"IFERROR(VLOOKUP([1]!Tabla_SERIEA_01_5[[#This Row],[IdEstablecimiento]],[2]Establecimientos!$A$1:$E$175,5,FALSE),0)","v":"105102-HOSPITAL OVALLE"},"105499","80301086","2020-07-20T23:48:47",0,null,null,1]
[1,"5",2020,{"$f":"IFERROR(VLOOKUP([1]!Tabla_SERIEA_01_5[[#This Row],[IdEstablecimiento]],[2]Establecimientos!$A$1:$E$175,5,FALSE),0)","v":"105106-HOSPITAL ANDACOLLO"},"105484","80106015","2020-03-19T00:36:20",21,null,21,null,21]
[6,"5",2020,{"$f":"IFERROR(VLOOKUP([1]!Tabla_SERIEA_01_5[[#This Row],[IdEstablecimiento]],[2]Establecimientos!$A$1:$E$175,5,FALSE),0)","v":"04302-COMBARBALÁ"},"105305","80401053","2020-07-20T22:55:21",2,2]
[2,"5",2020,{"$f":"IFERROR(VLOOKUP([1]!Tabla_SERIEA_01_5[[#This Row],[IdEstablecimiento]],[2]Establecimientos!$A$1:$E$175,5,FALSE),0)","v":"105102-HOSPITAL OVALLE"},"105308","80306051","2020-03-19T18:40:47",0,null,null,2]
[4,"5",2020,{"$f":"IFERROR(VLOOKUP([1]!Tabla_SERIEA_01_5[[#This Row],[IdEstablecimiento]],[2]Establecimientos!$A$1:$E$175,5,FALSE),0)","v":"04101-LA SERENA"},"105401","80106015","2020-05-26T00:46:27",2,null,2,null,2]
[4,"5",2020,{"$f":"IFERROR(VLOOKUP([1]!Tabla_SERIEA_01_5[[#This Row],[IdEstablecimiento]],[2]Establecimientos!$A$1:$E$175,5,FALSE),0)","v":"04301-OVALLE"},"105427","80500014","2020-05-26T00:51:14",7,null,7,null,7]
[3,"5",2020,{"$f":"IFERROR(VLOOKUP([1]!Tabla_SERIEA_01_5[[#This Row],[IdEstablecimiento]],[2]Establecimientos!$A$1:$E$175,5,FALSE),0)","v":"105101-HOSPITAL COQUIMBO"},"200258","80106002","2020-04-16T23:10:21",11,null,11,null,11]
[7,"5",2020,{"$f":"IFERROR(VLOOKUP([1]!Tabla_SERIEA_01_5[[#This Row],[IdEstablecimiento]],[2]Establecimientos!$A$1:$E$175,5,FALSE),0)","v":"105102-HOSPITAL OVALLE"},"105303","80106002","2020-08-20T16:51:02",256,null,256,null,256]
[7,"5",2020,{"$f":"IFERROR(VLOOKUP([1]!Tabla_SERIEA_01_5[[#This Row],[IdEstablecimiento]],[2]Establecimientos!$A$1:$E$175,5,FALSE),0)","v":"04101-LA SERENA"},"105307","18050100","2020-08-20T16:52:12",78,0,78]
[1,"5",2020,{"$f":"IFERROR(VLOOKUP([1]!Tabla_SERIEA_01_5[[#This Row],[IdEstablecimiento]],[2]Establecimientos!$A$1:$E$175,5,FALSE),0)","v":"105102-HOSPITAL OVALLE"},"105400","18050100","2020-03-18T23:49:45",8,0,8]
[5,"5",2020,{"$f":"IFERROR(VLOOKUP([1]!Tabla_SERIEA_01_5[[#This Row],[IdEstablecimiento]],[2]Establecimientos!$A$1:$E$175,5,FALSE),0)","v":"105102-HOSPITAL OVALLE"},"105487","80106014","2020-06-12T20:22:47",164,null,164,null,164]
[7,"5",2020,{"$f":"IFERROR(VLOOKUP([1]!Tabla_SERIEA_01_5[[#This Row],[IdEstablecimiento]],[2]Establecimientos!$A$1:$E$175,5,FALSE),0)","v":"105102-HOSPITAL OVALLE"},"105326","80306061","2020-08-20T16:59:57",0,null,null,2]
[4,"5",2020,{"$f":"IFERROR(VLOOKUP([1]!Tabla_SERIEA_01_5[[#This Row],[IdEstablecimiento]],[2]Establecimientos!$A$1:$E$175,5,FALSE),0)","v":"04202-CANELA"},"105425","80106017","2020-05-26T00:50:55",29,null,29,null,29]
[5,"5",2020,{"$f":"IFERROR(VLOOKUP([1]!Tabla_SERIEA_01_5[[#This Row],[IdEstablecimiento]],[2]Establecimientos!$A$1:$E$175,5,FALSE),0)","v":"04104-LA HIGUERA"},"105491","80500011","2020-06-12T20:24:46",82,null,82]
[3,"5",2020,{"$f":"IFERROR(VLOOKUP([1]!Tabla_SERIEA_01_5[[#This Row],[IdEstablecimiento]],[2]Establecimientos!$A$1:$E$175,5,FALSE),0)","v":"105102-HOSPITAL OVALLE"},"105309","80302026","2020-04-16T21:47:46",0,null,null,1]
[1,"5",2020,{"$f":"IFERROR(VLOOKUP([1]!Tabla_SERIEA_01_5[[#This Row],[IdEstablecimiento]],[2]Establecimientos!$A$1:$E$175,5,FALSE),0)","v":"105104-HOSPITAL SALAMANCA"},"105401","80302034","2020-03-18T23:50:01",0,null,null,24]
[2,"5",2020,{"$f":"IFERROR(VLOOKUP([1]!Tabla_SERIEA_01_5[[#This Row],[IdEstablecimiento]],[2]Establecimientos!$A$1:$E$175,5,FALSE),0)","v":"105100-HOSPITAL LA SERENA"},"105303","80307012","2020-03-19T18:33:11",66,null,66]
[5,"5",2020,{"$f":"IFERROR(VLOOKUP([1]!Tabla_SERIEA_01_5[[#This Row],[IdEstablecimiento]],[2]Establecimientos!$A$1:$E$175,5,FALSE),0)","v":"04304-PUNITAQUI"},"105453","80106002","2020-06-12T19:56:08",61,null,61]
[1,"5",2020,{"$f":"IFERROR(VLOOKUP([1]!Tabla_SERIEA_01_5[[#This Row],[IdEstablecimiento]],[2]Establecimientos!$A$1:$E$175,5,FALSE),0)","v":"04101-LA SERENA"},"105441","18050100","2020-03-18T23:58:04",3,0,3]
[6,"5",2020,{"$f":"IFERROR(VLOOKUP([1]!Tabla_SERIEA_01_5[[#This Row],[IdEstablecimiento]],[2]Establecimientos!$A$1:$E$175,5,FALSE),0)","v":"105105-HOSPITAL COMBARBALÁ"},"200499","80302032","2020-07-21T00:05:38",0,null,null,35]
[7,"5",2020,{"$f":"IFERROR(VLOOKUP([1]!Tabla_SERIEA_01_5[[#This Row],[IdEstablecimiento]],[2]Establecimientos!$A$1:$E$175,5,FALSE),0)","v":"105106-HOSPITAL ANDACOLLO"},"105302","80302023","2020-08-20T16:50:43",0,null,null,120]
[7,"5",2020,{"$f":"IFERROR(VLOOKUP([1]!Tabla_SERIEA_01_5[[#This Row],[IdEstablecimiento]],[2]Establecimientos!$A$1:$E$175,5,FALSE),0)","v":"04101-LA SERENA"},"105302","80302064","2020-08-20T16:50:43",0,null,null,131]
[5,"5",2020,{"$f":"IFERROR(VLOOKUP([1]!Tabla_SERIEA_01_5[[#This Row],[IdEstablecimiento]],[2]Establecimientos!$A$1:$E$175,5,FALSE),0)","v":"105103-HOSPITAL ILLAPEL"},"105414","81301025","2020-06-12T19:37:20",1,null,1,null,1]
[7,"5",2020,{"$f":"IFERROR(VLOOKUP([1]!Tabla_SERIEA_01_5[[#This Row],[IdEstablecimiento]],[2]Establecimientos!$A$1:$E$175,5,FALSE),0)","v":"04106-VICUÑA"},"105313","80302048","2020-08-20T16:53:51",0,null,null,28]
[3,"5",2020,{"$f":"IFERROR(VLOOKUP([1]!Tabla_SERIEA_01_5[[#This Row],[IdEstablecimiento]],[2]Establecimientos!$A$1:$E$175,5,FALSE),0)","v":"105106-HOSPITAL ANDACOLLO"},"105319","80302040","2020-04-16T21:57:23",0,null,null,13]
[3,"5",2020,{"$f":"IFERROR(VLOOKUP([1]!Tabla_SERIEA_01_5[[#This Row],[IdEstablecimiento]],[2]Establecimientos!$A$1:$E$175,5,FALSE),0)","v":"04102-COQUIMBO"},"105323","80302047","2020-04-16T21:58:36",0,null,null,426]
[7,"5",2020,{"$f":"IFERROR(VLOOKUP([1]!Tabla_SERIEA_01_5[[#This Row],[IdEstablecimiento]],[2]Establecimientos!$A$1:$E$175,5,FALSE),0)","v":"04102-COQUIMBO"},"105411","18011001","2020-08-20T17:04:26",1,0,1]
[9,"5",2020,{"$f":"IFERROR(VLOOKUP([1]!Tabla_SERIEA_01_5[[#This Row],[IdEstablecimiento]],[2]Establecimientos!$A$1:$E$175,5,FALSE),0)","v":"04301-OVALLE"},"105310","80500014","2020-10-16T09:15:22",1,null,1,null,1,1]
[5,"5",2020,{"$f":"IFERROR(VLOOKUP([1]!Tabla_SERIEA_01_5[[#This Row],[IdEstablecimiento]],[2]Establecimientos!$A$1:$E$175,5,FALSE),0)","v":"04106-VICUÑA"},"105300","80301038","2020-06-12T19:23:50",0,null,null,66]
[5,"5",2020,{"$f":"IFERROR(VLOOKUP([1]!Tabla_SERIEA_01_5[[#This Row],[IdEstablecimiento]],[2]Establecimientos!$A$1:$E$175,5,FALSE),0)","v":"04102-COQUIMBO"},"105322","80306038","2020-06-12T19:31:00",163,null,163]
[7,"5",2020,{"$f":"IFERROR(VLOOKUP([1]!Tabla_SERIEA_01_5[[#This Row],[IdEstablecimiento]],[2]Establecimientos!$A$1:$E$175,5,FALSE),0)","v":"105103-HOSPITAL ILLAPEL"},"105416","80106007","2020-08-20T17:11:45",2,null,2,null,2]
[8,"5",2020,{"$f":"IFERROR(VLOOKUP([1]!Tabla_SERIEA_01_5[[#This Row],[IdEstablecimiento]],[2]Establecimientos!$A$1:$E$175,5,FALSE),0)","v":"105103-HOSPITAL ILLAPEL"},"105304","80309013","2020-09-16T16:37:05",0,null,null,28]
[5,"5",2020,{"$f":"IFERROR(VLOOKUP([1]!Tabla_SERIEA_01_5[[#This Row],[IdEstablecimiento]],[2]Establecimientos!$A$1:$E$175,5,FALSE),0)","v":"105105-HOSPITAL COMBARBALÁ"},"105473","18020500","2020-06-12T20:12:04",6,0,6]
[5,"5",2020,{"$f":"IFERROR(VLOOKUP([1]!Tabla_SERIEA_01_5[[#This Row],[IdEstablecimiento]],[2]Establecimientos!$A$1:$E$175,5,FALSE),0)","v":"04204-SALAMANCA"},"105473","18050300","2020-06-12T20:12:04",26,0,26]
[8,"5",2020,{"$f":"IFERROR(VLOOKUP([1]!Tabla_SERIEA_01_5[[#This Row],[IdEstablecimiento]],[2]Establecimientos!$A$1:$E$175,5,FALSE),0)","v":"04301-OVALLE"},"200273","80302063","2020-09-16T17:49:55",0,null,null,12]
[3,"5",2020,{"$f":"IFERROR(VLOOKUP([1]!Tabla_SERIEA_01_5[[#This Row],[IdEstablecimiento]],[2]Establecimientos!$A$1:$E$175,5,FALSE),0)","v":"105103-HOSPITAL ILLAPEL"},"105410","18011002","2020-05-26T02:04:25",2,0,2]
[1,"5",2020,{"$f":"IFERROR(VLOOKUP([1]!Tabla_SERIEA_01_5[[#This Row],[IdEstablecimiento]],[2]Establecimientos!$A$1:$E$175,5,FALSE),0)","v":"04201-ILLAPEL"},"105486","80306011","2020-03-19T00:36:50",0,null,null,2]
[1,"5",2020,{"$f":"IFERROR(VLOOKUP([1]!Tabla_SERIEA_01_5[[#This Row],[IdEstablecimiento]],[2]Establecimientos!$A$1:$E$175,5,FALSE),0)","v":"04101-LA SERENA"},"105486","81701001","2020-03-19T00:36:50",3,null,3,null,3]
[5,"5",2020,{"$f":"IFERROR(VLOOKUP([1]!Tabla_SERIEA_01_5[[#This Row],[IdEstablecimiento]],[2]Establecimientos!$A$1:$E$175,5,FALSE),0)","v":"04303-MONTE PATRIA"},"200569","80106002","2020-06-12T20:42:43",209,null,209,null,209]
[2,"5",2020,{"$f":"IFERROR(VLOOKUP([1]!Tabla_SERIEA_01_5[[#This Row],[IdEstablecimiento]],[2]Establecimientos!$A$1:$E$175,5,FALSE),0)","v":"105102-HOSPITAL OVALLE"},"105303","80404002","2020-03-19T18:33:11",0,null,null,19]
[1,"5",2020,{"$f":"IFERROR(VLOOKUP([1]!Tabla_SERIEA_01_5[[#This Row],[IdEstablecimiento]],[2]Establecimientos!$A$1:$E$175,5,FALSE),0)","v":"105103-HOSPITAL ILLAPEL"},"105313","80303024","2020-03-18T23:45:25",0,null,null,361]
[1,"5",2020,{"$f":"IFERROR(VLOOKUP([1]!Tabla_SERIEA_01_5[[#This Row],[IdEstablecimiento]],[2]Establecimientos!$A$1:$E$175,5,FALSE),0)","v":"105103-HOSPITAL ILLAPEL"},"105313","80305019","2020-03-18T23:45:25",0,null,null,29]
[1,"5",2020,{"$f":"IFERROR(VLOOKUP([1]!Tabla_SERIEA_01_5[[#This Row],[IdEstablecimiento]],[2]Establecimientos!$A$1:$E$175,5,FALSE),0)","v":"105100-HOSPITAL LA SERENA"},"105313","80302032","2020-03-18T23:45:25",0,null,null,134]
[10,"5",2020,{"$f":"IFERROR(VLOOKUP([1]!Tabla_SERIEA_01_5[[#This Row],[IdEstablecimiento]],[2]Establecimientos!$A$1:$E$175,5,FALSE),0)","v":"04201-ILLAPEL"},"105823","18400700","2020-11-12T08:20:55",3084]
[4,"5",2020,{"$f":"IFERROR(VLOOKUP([1]!Tabla_SERIEA_01_5[[#This Row],[IdEstablecimiento]],[2]Establecimientos!$A$1:$E$175,5,FALSE),0)","v":"105101-HOSPITAL COQUIMBO"},"105472","80302023","2020-05-26T01:03:58",0,null,null,4]
[5,"5",2020,{"$f":"IFERROR(VLOOKUP([1]!Tabla_SERIEA_01_5[[#This Row],[IdEstablecimiento]],[2]Establecimientos!$A$1:$E$175,5,FALSE),0)","v":"105101-HOSPITAL COQUIMBO"},"105492","18040200","2020-06-12T20:25:04",1,null,1]
[4,"5",2020,{"$f":"IFERROR(VLOOKUP([1]!Tabla_SERIEA_01_5[[#This Row],[IdEstablecimiento]],[2]Establecimientos!$A$1:$E$175,5,FALSE),0)","v":"04101-LA SERENA"},"105469","81701009","2020-05-26T01:02:51",10,null,10,null,10]
[1,"5",2020,{"$f":"IFERROR(VLOOKUP([1]!Tabla_SERIEA_01_5[[#This Row],[IdEstablecimiento]],[2]Establecimientos!$A$1:$E$175,5,FALSE),0)","v":"04102-COQUIMBO"},"105486","80106013","2020-03-19T00:36:50",5,null,5,null,5]
[4,"5",2020,{"$f":"IFERROR(VLOOKUP([1]!Tabla_SERIEA_01_5[[#This Row],[IdEstablecimiento]],[2]Establecimientos!$A$1:$E$175,5,FALSE),0)","v":"04303-MONTE PATRIA"},"105481","18020500","2020-05-26T01:06:41",3,0,3]
[2,"5",2020,{"$f":"IFERROR(VLOOKUP([1]!Tabla_SERIEA_01_5[[#This Row],[IdEstablecimiento]],[2]Establecimientos!$A$1:$E$175,5,FALSE),0)","v":"105105-HOSPITAL COMBARBALÁ"},"105445","81701009","2020-03-19T20:39:07",8,null,8]
[7,"5",2020,{"$f":"IFERROR(VLOOKUP([1]!Tabla_SERIEA_01_5[[#This Row],[IdEstablecimiento]],[2]Establecimientos!$A$1:$E$175,5,FALSE),0)","v":"105103-HOSPITAL ILLAPEL"},"105307","18700100","2020-08-20T16:52:12",179,21,112,46]
[2,"5",2020,{"$f":"IFERROR(VLOOKUP([1]!Tabla_SERIEA_01_5[[#This Row],[IdEstablecimiento]],[2]Establecimientos!$A$1:$E$175,5,FALSE),0)","v":"105100-HOSPITAL LA SERENA"},"105303","81602217","2020-03-19T18:33:11",1,null,1,1]
[1,"5",2020,{"$f":"IFERROR(VLOOKUP([1]!Tabla_SERIEA_01_5[[#This Row],[IdEstablecimiento]],[2]Establecimientos!$A$1:$E$175,5,FALSE),0)","v":"105106-HOSPITAL ANDACOLLO"},"105404","80301045","2020-03-18T23:50:32",0,null,null,7]
[1,"5",2020,{"$f":"IFERROR(VLOOKUP([1]!Tabla_SERIEA_01_5[[#This Row],[IdEstablecimiento]],[2]Establecimientos!$A$1:$E$175,5,FALSE),0)","v":"04302-COMBARBALÁ"},"105409","80306042","2020-03-18T23:51:22",0,null,null,1]
[8,"5",2020,{"$f":"IFERROR(VLOOKUP([1]!Tabla_SERIEA_01_5[[#This Row],[IdEstablecimiento]],[2]Establecimientos!$A$1:$E$175,5,FALSE),0)","v":"04203-LOS VILOS"},"105304","80301045","2020-09-16T16:37:05",0,null,null,76]
[5,"5",2020,{"$f":"IFERROR(VLOOKUP([1]!Tabla_SERIEA_01_5[[#This Row],[IdEstablecimiento]],[2]Establecimientos!$A$1:$E$175,5,FALSE),0)","v":"105103-HOSPITAL ILLAPEL"},"105306","80106014","2020-06-12T19:26:28",45,45,null,null,45]
[6,"5",2020,{"$f":"IFERROR(VLOOKUP([1]!Tabla_SERIEA_01_5[[#This Row],[IdEstablecimiento]],[2]Establecimientos!$A$1:$E$175,5,FALSE),0)","v":"105103-HOSPITAL ILLAPEL"},"200721","18050200","2020-07-21T00:09:14",283,283,0]
[5,"5",2020,{"$f":"IFERROR(VLOOKUP([1]!Tabla_SERIEA_01_5[[#This Row],[IdEstablecimiento]],[2]Establecimientos!$A$1:$E$175,5,FALSE),0)","v":"105103-HOSPITAL ILLAPEL"},"105401","18050100","2020-06-12T19:34:31",32,0,32]
[4,"5",2020,{"$f":"IFERROR(VLOOKUP([1]!Tabla_SERIEA_01_5[[#This Row],[IdEstablecimiento]],[2]Establecimientos!$A$1:$E$175,5,FALSE),0)","v":"04102-COQUIMBO"},"105411","18011001","2020-05-26T00:48:41",2,0,2]
[7,"5",2020,{"$f":"IFERROR(VLOOKUP([1]!Tabla_SERIEA_01_5[[#This Row],[IdEstablecimiento]],[2]Establecimientos!$A$1:$E$175,5,FALSE),0)","v":"105100-HOSPITAL LA SERENA"},"105405","80306059","2020-08-20T17:02:12",0,null,null,2]
[9,"5",2020,{"$f":"IFERROR(VLOOKUP([1]!Tabla_SERIEA_01_5[[#This Row],[IdEstablecimiento]],[2]Establecimientos!$A$1:$E$175,5,FALSE),0)","v":"105106-HOSPITAL ANDACOLLO"},"105410","81701009","2020-10-16T09:24:05",2,null,2,null,2]
[1,"5",2020,{"$f":"IFERROR(VLOOKUP([1]!Tabla_SERIEA_01_5[[#This Row],[IdEstablecimiento]],[2]Establecimientos!$A$1:$E$175,5,FALSE),0)","v":"04101-LA SERENA"},"105507","80106015","2020-03-19T00:42:16",10,null,10,null,10]
[7,"5",2020,{"$f":"IFERROR(VLOOKUP([1]!Tabla_SERIEA_01_5[[#This Row],[IdEstablecimiento]],[2]Establecimientos!$A$1:$E$175,5,FALSE),0)","v":"105103-HOSPITAL ILLAPEL"},"105409","80301041","2020-08-20T17:03:34",0,null,null,6]
[6,"5",2020,{"$f":"IFERROR(VLOOKUP([1]!Tabla_SERIEA_01_5[[#This Row],[IdEstablecimiento]],[2]Establecimientos!$A$1:$E$175,5,FALSE),0)","v":"04301-OVALLE"},"105482","80106007","2020-07-20T23:39:28",1,null,1,null,1]
[10,"5",2020,{"$f":"IFERROR(VLOOKUP([1]!Tabla_SERIEA_01_5[[#This Row],[IdEstablecimiento]],[2]Establecimientos!$A$1:$E$175,5,FALSE),0)","v":"105100-HOSPITAL LA SERENA"},"105825","18700230","2020-11-12T08:21:14",9,0,9,0,9,0,9]
[7,"5",2020,{"$f":"IFERROR(VLOOKUP([1]!Tabla_SERIEA_01_5[[#This Row],[IdEstablecimiento]],[2]Establecimientos!$A$1:$E$175,5,FALSE),0)","v":"105100-HOSPITAL LA SERENA"},"105410","80302067","2020-08-20T17:03:50",0,null,null,6]
[9,"5",2020,{"$f":"IFERROR(VLOOKUP([1]!Tabla_SERIEA_01_5[[#This Row],[IdEstablecimiento]],[2]Establecimientos!$A$1:$E$175,5,FALSE),0)","v":"04102-COQUIMBO"},"105414","80500008","2020-10-16T09:30:12",2,null,2,null,2]
[2,"5",2020,{"$f":"IFERROR(VLOOKUP([1]!Tabla_SERIEA_01_5[[#This Row],[IdEstablecimiento]],[2]Establecimientos!$A$1:$E$175,5,FALSE),0)","v":"105103-HOSPITAL ILLAPEL"},"200499","80309023","2020-03-19T21:32:31",0,null,null,1]
[9,"5",2020,{"$f":"IFERROR(VLOOKUP([1]!Tabla_SERIEA_01_5[[#This Row],[IdEstablecimiento]],[2]Establecimientos!$A$1:$E$175,5,FALSE),0)","v":"105103-HOSPITAL ILLAPEL"},"105404","80302068","2020-10-16T09:22:45",0,null,null,8]
[9,"5",2020,{"$f":"IFERROR(VLOOKUP([1]!Tabla_SERIEA_01_5[[#This Row],[IdEstablecimiento]],[2]Establecimientos!$A$1:$E$175,5,FALSE),0)","v":"105100-HOSPITAL LA SERENA"},"105404","80500011","2020-10-16T09:22:45",10,null,10,null,1]
[7,"5",2020,{"$f":"IFERROR(VLOOKUP([1]!Tabla_SERIEA_01_5[[#This Row],[IdEstablecimiento]],[2]Establecimientos!$A$1:$E$175,5,FALSE),0)","v":"04301-OVALLE"},"105307","80302057","2020-08-20T16:52:12",87,null,87]
[10,"5",2020,{"$f":"IFERROR(VLOOKUP([1]!Tabla_SERIEA_01_5[[#This Row],[IdEstablecimiento]],[2]Establecimientos!$A$1:$E$175,5,FALSE),0)","v":"105103-HOSPITAL ILLAPEL"},"200273","80302048","2020-11-12T08:23:29",0,null,null,1]
[4,"5",2020,{"$f":"IFERROR(VLOOKUP([1]!Tabla_SERIEA_01_5[[#This Row],[IdEstablecimiento]],[2]Establecimientos!$A$1:$E$175,5,FALSE),0)","v":"105107-HOSPITAL VICUÑA"},"105414","80106014","2020-05-26T00:49:20",24,null,24,null,24]
[5,"5",2020,{"$f":"IFERROR(VLOOKUP([1]!Tabla_SERIEA_01_5[[#This Row],[IdEstablecimiento]],[2]Establecimientos!$A$1:$E$175,5,FALSE),0)","v":"04301-OVALLE"},"105458","81602222","2020-06-12T19:58:25",2,null,2]
[2,"5",2020,{"$f":"IFERROR(VLOOKUP([1]!Tabla_SERIEA_01_5[[#This Row],[IdEstablecimiento]],[2]Establecimientos!$A$1:$E$175,5,FALSE),0)","v":"105100-HOSPITAL LA SERENA"},"105427","81602222","2020-03-19T19:03:34",1,null,1,null,1]
[7,"5",2020,{"$f":"IFERROR(VLOOKUP([1]!Tabla_SERIEA_01_5[[#This Row],[IdEstablecimiento]],[2]Establecimientos!$A$1:$E$175,5,FALSE),0)","v":"04201-ILLAPEL"},"105307","82001015","2020-08-20T16:52:12",3,null,3,null,3]
[10,"5",2020,{"$f":"IFERROR(VLOOKUP([1]!Tabla_SERIEA_01_5[[#This Row],[IdEstablecimiento]],[2]Establecimientos!$A$1:$E$175,5,FALSE),0)","v":"04101-LA SERENA"},"200258","81701009","2020-11-12T08:22:26",2,null,2,null,2]
[10,"5",2020,{"$f":"IFERROR(VLOOKUP([1]!Tabla_SERIEA_01_5[[#This Row],[IdEstablecimiento]],[2]Establecimientos!$A$1:$E$175,5,FALSE),0)","v":"04102-COQUIMBO"},"200273","80301045","2020-11-12T08:23:29",0,null,null,32]
[2,"5",2020,{"$f":"IFERROR(VLOOKUP([1]!Tabla_SERIEA_01_5[[#This Row],[IdEstablecimiento]],[2]Establecimientos!$A$1:$E$175,5,FALSE),0)","v":"105100-HOSPITAL LA SERENA"},"105303","81707030","2020-03-19T18:33:11",6,null,6,null,6]
[9,"5",2020,{"$f":"IFERROR(VLOOKUP([1]!Tabla_SERIEA_01_5[[#This Row],[IdEstablecimiento]],[2]Establecimientos!$A$1:$E$175,5,FALSE),0)","v":"105105-HOSPITAL COMBARBALÁ"},"105410","80306061","2020-10-16T09:24:05",0,null,null,1]
[5,"5",2020,{"$f":"IFERROR(VLOOKUP([1]!Tabla_SERIEA_01_5[[#This Row],[IdEstablecimiento]],[2]Establecimientos!$A$1:$E$175,5,FALSE),0)","v":"105105-HOSPITAL COMBARBALÁ"},"105305","80302040","2020-06-12T19:26:13",0,null,null,1]
[1,"5",2020,{"$f":"IFERROR(VLOOKUP([1]!Tabla_SERIEA_01_5[[#This Row],[IdEstablecimiento]],[2]Establecimientos!$A$1:$E$175,5,FALSE),0)","v":"105106-HOSPITAL ANDACOLLO"},"105499","80303026","2020-03-19T00:40:03",0,null,null,2]
[1,"5",2020,{"$f":"IFERROR(VLOOKUP([1]!Tabla_SERIEA_01_5[[#This Row],[IdEstablecimiento]],[2]Establecimientos!$A$1:$E$175,5,FALSE),0)","v":"105106-HOSPITAL ANDACOLLO"},"105506","80307011","2020-03-19T00:42:00",14,null,14]
[3,"5",2020,{"$f":"IFERROR(VLOOKUP([1]!Tabla_SERIEA_01_5[[#This Row],[IdEstablecimiento]],[2]Establecimientos!$A$1:$E$175,5,FALSE),0)","v":"04102-COQUIMBO"},"105478","80106014","2020-04-16T22:50:29",307,null,307,null,307]
[3,"5",2020,{"$f":"IFERROR(VLOOKUP([1]!Tabla_SERIEA_01_5[[#This Row],[IdEstablecimiento]],[2]Establecimientos!$A$1:$E$175,5,FALSE),0)","v":"04204-SALAMANCA"},"105479","80302023","2020-04-16T22:50:46",0,null,null,14]
[10,"5",2020,{"$f":"IFERROR(VLOOKUP([1]!Tabla_SERIEA_01_5[[#This Row],[IdEstablecimiento]],[2]Establecimientos!$A$1:$E$175,5,FALSE),0)","v":"105106-HOSPITAL ANDACOLLO"},"105825","18700100","2020-11-12T08:21:14",154,15,115,24,154]
[10,"5",2020,{"$f":"IFERROR(VLOOKUP([1]!Tabla_SERIEA_01_5[[#This Row],[IdEstablecimiento]],[2]Establecimientos!$A$1:$E$175,5,FALSE),0)","v":"105104-HOSPITAL SALAMANCA"},"200105","80106014","2020-11-12T08:21:59",274,274,null,null,274]
[1,"5",2020,{"$f":"IFERROR(VLOOKUP([1]!Tabla_SERIEA_01_5[[#This Row],[IdEstablecimiento]],[2]Establecimientos!$A$1:$E$175,5,FALSE),0)","v":"04302-COMBARBALÁ"},"105309","80301015","2020-03-18T23:44:23",0,null,null,8]
[4,"5",2020,{"$f":"IFERROR(VLOOKUP([1]!Tabla_SERIEA_01_5[[#This Row],[IdEstablecimiento]],[2]Establecimientos!$A$1:$E$175,5,FALSE),0)","v":"105102-HOSPITAL OVALLE"},"105411","80302047","2020-05-26T00:48:41",0,null,null,2]
[5,"5",2020,{"$f":"IFERROR(VLOOKUP([1]!Tabla_SERIEA_01_5[[#This Row],[IdEstablecimiento]],[2]Establecimientos!$A$1:$E$175,5,FALSE),0)","v":"04101-LA SERENA"},"105468","80302023","2020-06-12T20:09:11",0,null,null,6]
[7,"5",2020,{"$f":"IFERROR(VLOOKUP([1]!Tabla_SERIEA_01_5[[#This Row],[IdEstablecimiento]],[2]Establecimientos!$A$1:$E$175,5,FALSE),0)","v":"105107-HOSPITAL VICUÑA"},"105431","80106013","2020-08-20T17:16:08",2,null,2,null,2]
[7,"5",2020,{"$f":"IFERROR(VLOOKUP([1]!Tabla_SERIEA_01_5[[#This Row],[IdEstablecimiento]],[2]Establecimientos!$A$1:$E$175,5,FALSE),0)","v":"105104-HOSPITAL SALAMANCA"},"105453","18040200","2020-08-20T17:24:06",3,null,3]
[7,"5",2020,{"$f":"IFERROR(VLOOKUP([1]!Tabla_SERIEA_01_5[[#This Row],[IdEstablecimiento]],[2]Establecimientos!$A$1:$E$175,5,FALSE),0)","v":"105104-HOSPITAL SALAMANCA"},"105454","80500011","2020-08-20T17:24:42",15,null,15]
[10,"5",2020,{"$f":"IFERROR(VLOOKUP([1]!Tabla_SERIEA_01_5[[#This Row],[IdEstablecimiento]],[2]Establecimientos!$A$1:$E$175,5,FALSE),0)","v":"04201-ILLAPEL"},"200569","80307011","2020-11-12T08:29:12",296,null,296]
[2,"5",2020,{"$f":"IFERROR(VLOOKUP([1]!Tabla_SERIEA_01_5[[#This Row],[IdEstablecimiento]],[2]Establecimientos!$A$1:$E$175,5,FALSE),0)","v":"105102-HOSPITAL OVALLE"},"105468","80303024","2020-03-19T21:05:32",0,null,null,10]
[1,"5",2020,{"$f":"IFERROR(VLOOKUP([1]!Tabla_SERIEA_01_5[[#This Row],[IdEstablecimiento]],[2]Establecimientos!$A$1:$E$175,5,FALSE),0)","v":"105104-HOSPITAL SALAMANCA"},"105401","80303024","2020-03-18T23:50:01",0,null,null,7]
[2,"5",2020,{"$f":"IFERROR(VLOOKUP([1]!Tabla_SERIEA_01_5[[#This Row],[IdEstablecimiento]],[2]Establecimientos!$A$1:$E$175,5,FALSE),0)","v":"105100-HOSPITAL LA SERENA"},"105447","80301045","2020-03-19T20:39:47",0,null,null,21]
[9,"5",2020,{"$f":"IFERROR(VLOOKUP([1]!Tabla_SERIEA_01_5[[#This Row],[IdEstablecimiento]],[2]Establecimientos!$A$1:$E$175,5,FALSE),0)","v":"04106-VICUÑA"},"105317","18700100","2020-10-16T09:18:28",70,1,61,8]
[8,"5",2020,{"$f":"IFERROR(VLOOKUP([1]!Tabla_SERIEA_01_5[[#This Row],[IdEstablecimiento]],[2]Establecimientos!$A$1:$E$175,5,FALSE),0)","v":"105104-HOSPITAL SALAMANCA"},"105317","18050100","2020-09-16T16:41:20",147,0,147]
[10,"5",2020,{"$f":"IFERROR(VLOOKUP([1]!Tabla_SERIEA_01_5[[#This Row],[IdEstablecimiento]],[2]Establecimientos!$A$1:$E$175,5,FALSE),0)","v":"105104-HOSPITAL SALAMANCA"},"200607","80302047","2020-11-12T08:29:39",0,null,null,48]
[8,"5",2020,{"$f":"IFERROR(VLOOKUP([1]!Tabla_SERIEA_01_5[[#This Row],[IdEstablecimiento]],[2]Establecimientos!$A$1:$E$175,5,FALSE),0)","v":"04303-MONTE PATRIA"},"105300","80301041","2020-09-16T16:16:06",0,null,null,48]
[8,"5",2020,{"$f":"IFERROR(VLOOKUP([1]!Tabla_SERIEA_01_5[[#This Row],[IdEstablecimiento]],[2]Establecimientos!$A$1:$E$175,5,FALSE),0)","v":"04101-LA SERENA"},"105431","18050100","2020-09-16T16:55:02",10,0,10]
[8,"5",2020,{"$f":"IFERROR(VLOOKUP([1]!Tabla_SERIEA_01_5[[#This Row],[IdEstablecimiento]],[2]Establecimientos!$A$1:$E$175,5,FALSE),0)","v":"04303-MONTE PATRIA"},"105471","80301041","2020-09-16T17:24:08",0,null,null,5]
[10,"5",2020,{"$f":"IFERROR(VLOOKUP([1]!Tabla_SERIEA_01_5[[#This Row],[IdEstablecimiento]],[2]Establecimientos!$A$1:$E$175,5,FALSE),0)","v":"105104-HOSPITAL SALAMANCA"},"200499","81701009","2020-11-12T08:28:09",59,null,59,44,59]
[3,"5",2020,{"$f":"IFERROR(VLOOKUP([1]!Tabla_SERIEA_01_5[[#This Row],[IdEstablecimiento]],[2]Establecimientos!$A$1:$E$175,5,FALSE),0)","v":"105100-HOSPITAL LA SERENA"},"105479","80303024","2020-04-16T22:50:46",0,null,null,2]
[2,"5",2020,{"$f":"IFERROR(VLOOKUP([1]!Tabla_SERIEA_01_5[[#This Row],[IdEstablecimiento]],[2]Establecimientos!$A$1:$E$175,5,FALSE),0)","v":"105100-HOSPITAL LA SERENA"},"105400","80106017","2020-03-19T18:53:22",3,null,3,null,3]
[2,"5",2020,{"$f":"IFERROR(VLOOKUP([1]!Tabla_SERIEA_01_5[[#This Row],[IdEstablecimiento]],[2]Establecimientos!$A$1:$E$175,5,FALSE),0)","v":"105104-HOSPITAL SALAMANCA"},"105321","80303024","2020-03-19T18:51:30",0,null,null,135]
[9,"5",2020,{"$f":"IFERROR(VLOOKUP([1]!Tabla_SERIEA_01_5[[#This Row],[IdEstablecimiento]],[2]Establecimientos!$A$1:$E$175,5,FALSE),0)","v":"105100-HOSPITAL LA SERENA"},"105317","80106014","2020-10-16T09:18:28",116,null,116]
[1,"5",2020,{"$f":"IFERROR(VLOOKUP([1]!Tabla_SERIEA_01_5[[#This Row],[IdEstablecimiento]],[2]Establecimientos!$A$1:$E$175,5,FALSE),0)","v":"04102-COQUIMBO"},"105300","80309013","2020-03-18T23:40:23",0,null,null,43]
[1,"5",2020,{"$f":"IFERROR(VLOOKUP([1]!Tabla_SERIEA_01_5[[#This Row],[IdEstablecimiento]],[2]Establecimientos!$A$1:$E$175,5,FALSE),0)","v":"04101-LA SERENA"},"105317","80106008","2020-03-18T23:46:37",3,3]
[3,"5",2020,{"$f":"IFERROR(VLOOKUP([1]!Tabla_SERIEA_01_5[[#This Row],[IdEstablecimiento]],[2]Establecimientos!$A$1:$E$175,5,FALSE),0)","v":"105100-HOSPITAL LA SERENA"},"105468","80302032","2020-04-16T22:47:48",0,null,null,3]
[10,"5",2020,{"$f":"IFERROR(VLOOKUP([1]!Tabla_SERIEA_01_5[[#This Row],[IdEstablecimiento]],[2]Establecimientos!$A$1:$E$175,5,FALSE),0)","v":"105104-HOSPITAL SALAMANCA"},"105507","80106002","2020-11-12T08:06:55",61,null,61,null,61]
[7,"5",2020,{"$f":"IFERROR(VLOOKUP([1]!Tabla_SERIEA_01_5[[#This Row],[IdEstablecimiento]],[2]Establecimientos!$A$1:$E$175,5,FALSE),0)","v":"105100-HOSPITAL LA SERENA"},"105485","80302034","2020-08-20T17:43:03",0,null,null,11]
[7,"5",2020,{"$f":"IFERROR(VLOOKUP([1]!Tabla_SERIEA_01_5[[#This Row],[IdEstablecimiento]],[2]Establecimientos!$A$1:$E$175,5,FALSE),0)","v":"105104-HOSPITAL SALAMANCA"},"105486","80301041","2020-08-20T17:43:19",0,null,null,1]
[1,"5",2020,{"$f":"IFERROR(VLOOKUP([1]!Tabla_SERIEA_01_5[[#This Row],[IdEstablecimiento]],[2]Establecimientos!$A$1:$E$175,5,FALSE),0)","v":"105105-HOSPITAL COMBARBALÁ"},"105305","18040200","2020-03-18T23:42:06",18,3,15]
[1,"5",2020,{"$f":"IFERROR(VLOOKUP([1]!Tabla_SERIEA_01_5[[#This Row],[IdEstablecimiento]],[2]Establecimientos!$A$1:$E$175,5,FALSE),0)","v":"04201-ILLAPEL"},"105300","18020800","2020-03-18T23:40:23",10,10,0]
[7,"5",2020,{"$f":"IFERROR(VLOOKUP([1]!Tabla_SERIEA_01_5[[#This Row],[IdEstablecimiento]],[2]Establecimientos!$A$1:$E$175,5,FALSE),0)","v":"105012-CLINICA DENTAL MOVIL"},"105326","80301015","2020-08-20T16:59:57",0,null,null,7]
[7,"5",2020,{"$f":"IFERROR(VLOOKUP([1]!Tabla_SERIEA_01_5[[#This Row],[IdEstablecimiento]],[2]Establecimientos!$A$1:$E$175,5,FALSE),0)","v":"105100-HOSPITAL LA SERENA"},"105419","80106014","2020-08-20T17:14:13",12,null,12,null,12]
[1,"5",2020,{"$f":"IFERROR(VLOOKUP([1]!Tabla_SERIEA_01_5[[#This Row],[IdEstablecimiento]],[2]Establecimientos!$A$1:$E$175,5,FALSE),0)","v":"105100-HOSPITAL LA SERENA"},"105317","18020500","2020-03-18T23:46:37",525,32,493]
[5,"5",2020,{"$f":"IFERROR(VLOOKUP([1]!Tabla_SERIEA_01_5[[#This Row],[IdEstablecimiento]],[2]Establecimientos!$A$1:$E$175,5,FALSE),0)","v":"105106-HOSPITAL ANDACOLLO"},"105301","80306042","2020-06-12T19:24:16",0,null,null,32]
[1,"5",2020,{"$f":"IFERROR(VLOOKUP([1]!Tabla_SERIEA_01_5[[#This Row],[IdEstablecimiento]],[2]Establecimientos!$A$1:$E$175,5,FALSE),0)","v":"105105-HOSPITAL COMBARBALÁ"},"105702","80306045","2020-03-19T00:44:15",0,null,null,2]
[4,"5",2020,{"$f":"IFERROR(VLOOKUP([1]!Tabla_SERIEA_01_5[[#This Row],[IdEstablecimiento]],[2]Establecimientos!$A$1:$E$175,5,FALSE),0)","v":"04101-LA SERENA"},"105452","80106010","2020-05-26T00:56:41",3,null,3]
[11,"5",2020,{"$f":"IFERROR(VLOOKUP([1]!Tabla_SERIEA_01_5[[#This Row],[IdEstablecimiento]],[2]Establecimientos!$A$1:$E$175,5,FALSE),0)","v":"105100-HOSPITAL LA SERENA"},"105301","80106014","2020-12-11T14:48:28",136,null,136,null,136]
[2,"5",2020,{"$f":"IFERROR(VLOOKUP([1]!Tabla_SERIEA_01_5[[#This Row],[IdEstablecimiento]],[2]Establecimientos!$A$1:$E$175,5,FALSE),0)","v":"105100-HOSPITAL LA SERENA"},"105305","80306059","2020-03-19T18:39:39",0,null,null,14]
[4,"5",2020,{"$f":"IFERROR(VLOOKUP([1]!Tabla_SERIEA_01_5[[#This Row],[IdEstablecimiento]],[2]Establecimientos!$A$1:$E$175,5,FALSE),0)","v":"105100-HOSPITAL LA SERENA"},"105499","18050100","2020-05-26T01:11:25",20,0,20]
[6,"5",2020,{"$f":"IFERROR(VLOOKUP([1]!Tabla_SERIEA_01_5[[#This Row],[IdEstablecimiento]],[2]Establecimientos!$A$1:$E$175,5,FALSE),0)","v":"105106-HOSPITAL ANDACOLLO"},"105489","80106020","2020-07-20T23:43:23",2,null,2,null,2]
[2,"5",2020,{"$f":"IFERROR(VLOOKUP([1]!Tabla_SERIEA_01_5[[#This Row],[IdEstablecimiento]],[2]Establecimientos!$A$1:$E$175,5,FALSE),0)","v":"105106-HOSPITAL ANDACOLLO"},"105322","80308044","2020-03-19T18:51:53",8,null,8]
[6,"5",2020,{"$f":"IFERROR(VLOOKUP([1]!Tabla_SERIEA_01_5[[#This Row],[IdEstablecimiento]],[2]Establecimientos!$A$1:$E$175,5,FALSE),0)","v":"105100-HOSPITAL LA SERENA"},"105435","81602221","2020-07-20T23:12:19",1,null,1,null,1]
[6,"5",2020,{"$f":"IFERROR(VLOOKUP([1]!Tabla_SERIEA_01_5[[#This Row],[IdEstablecimiento]],[2]Establecimientos!$A$1:$E$175,5,FALSE),0)","v":"105106-HOSPITAL ANDACOLLO"},"105308","18700210","2020-07-20T22:56:14",80,null,79,1,80,null,80]
[5,"5",2020,{"$f":"IFERROR(VLOOKUP([1]!Tabla_SERIEA_01_5[[#This Row],[IdEstablecimiento]],[2]Establecimientos!$A$1:$E$175,5,FALSE),0)","v":"105106-HOSPITAL ANDACOLLO"},"200721","80106009","2020-06-12T20:45:55",2,2,null,2]
[6,"5",2020,{"$f":"IFERROR(VLOOKUP([1]!Tabla_SERIEA_01_5[[#This Row],[IdEstablecimiento]],[2]Establecimientos!$A$1:$E$175,5,FALSE),0)","v":"04101-LA SERENA"},"105483","18020500","2020-07-20T23:40:00",4,0,4]
[8,"5",2020,{"$f":"IFERROR(VLOOKUP([1]!Tabla_SERIEA_01_5[[#This Row],[IdEstablecimiento]],[2]Establecimientos!$A$1:$E$175,5,FALSE),0)","v":"105100-HOSPITAL LA SERENA"},"105493","80500011","2020-09-16T17:32:58",2,null,2,null,2]
[6,"5",2020,{"$f":"IFERROR(VLOOKUP([1]!Tabla_SERIEA_01_5[[#This Row],[IdEstablecimiento]],[2]Establecimientos!$A$1:$E$175,5,FALSE),0)","v":"105106-HOSPITAL ANDACOLLO"},"105509","80106002","2020-07-21T00:00:01",42,null,42,null,42]
[2,"5",2020,{"$f":"IFERROR(VLOOKUP([1]!Tabla_SERIEA_01_5[[#This Row],[IdEstablecimiento]],[2]Establecimientos!$A$1:$E$175,5,FALSE),0)","v":"105106-HOSPITAL ANDACOLLO"},"105322","81701001","2020-03-19T18:51:53",283,31,252,null,283]
[4,"5",2020,{"$f":"IFERROR(VLOOKUP([1]!Tabla_SERIEA_01_5[[#This Row],[IdEstablecimiento]],[2]Establecimientos!$A$1:$E$175,5,FALSE),0)","v":"105100-HOSPITAL LA SERENA"},"105323","80302075","2020-09-17T11:40:50",0,null,null,1]
[7,"5",2020,{"$f":"IFERROR(VLOOKUP([1]!Tabla_SERIEA_01_5[[#This Row],[IdEstablecimiento]],[2]Establecimientos!$A$1:$E$175,5,FALSE),0)","v":"105102-HOSPITAL OVALLE"},"105322","18090000","2020-08-20T16:56:37",9,0,9]
[8,"5",2020,{"$f":"IFERROR(VLOOKUP([1]!Tabla_SERIEA_01_5[[#This Row],[IdEstablecimiento]],[2]Establecimientos!$A$1:$E$175,5,FALSE),0)","v":"105106-HOSPITAL ANDACOLLO"},"105414","81701001","2020-09-16T16:47:35",3,null,3]
[4,"5",2020,{"$f":"IFERROR(VLOOKUP([1]!Tabla_SERIEA_01_5[[#This Row],[IdEstablecimiento]],[2]Establecimientos!$A$1:$E$175,5,FALSE),0)","v":"105106-HOSPITAL ANDACOLLO"},"105323","80306051","2020-09-17T11:40:50",0,null,null,3]
[9,"5",2020,{"$f":"IFERROR(VLOOKUP([1]!Tabla_SERIEA_01_5[[#This Row],[IdEstablecimiento]],[2]Establecimientos!$A$1:$E$175,5,FALSE),0)","v":"105101-HOSPITAL COQUIMBO"},"105311","80106017","2020-10-16T09:15:38",21,null,21,null,21]
[4,"5",2020,{"$f":"IFERROR(VLOOKUP([1]!Tabla_SERIEA_01_5[[#This Row],[IdEstablecimiento]],[2]Establecimientos!$A$1:$E$175,5,FALSE),0)","v":"105106-HOSPITAL ANDACOLLO"},"105430","80106020","2020-05-26T00:51:50",1,null,1,null,1]
[3,"5",2020,{"$f":"IFERROR(VLOOKUP([1]!Tabla_SERIEA_01_5[[#This Row],[IdEstablecimiento]],[2]Establecimientos!$A$1:$E$175,5,FALSE),0)","v":"105106-HOSPITAL ANDACOLLO"},"105325","18020900","2020-04-16T21:59:08",7,0,7]
[8,"5",2020,{"$f":"IFERROR(VLOOKUP([1]!Tabla_SERIEA_01_5[[#This Row],[IdEstablecimiento]],[2]Establecimientos!$A$1:$E$175,5,FALSE),0)","v":"105102-HOSPITAL OVALLE"},"105802","81701001","2020-09-16T17:45:22",41,41,null,null,41]
[8,"5",2020,{"$f":"IFERROR(VLOOKUP([1]!Tabla_SERIEA_01_5[[#This Row],[IdEstablecimiento]],[2]Establecimientos!$A$1:$E$175,5,FALSE),0)","v":"04303-MONTE PATRIA"},"105478","80302005","2020-09-16T17:26:37",0,null,null,4]
[10,"5",2020,{"$f":"IFERROR(VLOOKUP([1]!Tabla_SERIEA_01_5[[#This Row],[IdEstablecimiento]],[2]Establecimientos!$A$1:$E$175,5,FALSE),0)","v":"105106-HOSPITAL ANDACOLLO"},"105511","80302034","2020-11-12T08:09:02",0,null,null,28]
[8,"5",2020,{"$f":"IFERROR(VLOOKUP([1]!Tabla_SERIEA_01_5[[#This Row],[IdEstablecimiento]],[2]Establecimientos!$A$1:$E$175,5,FALSE),0)","v":"105107-HOSPITAL VICUÑA"},"105471","80302032","2020-09-16T17:24:08",0,null,null,4]
[1,"5",2020,{"$f":"IFERROR(VLOOKUP([1]!Tabla_SERIEA_01_5[[#This Row],[IdEstablecimiento]],[2]Establecimientos!$A$1:$E$175,5,FALSE),0)","v":"105105-HOSPITAL COMBARBALÁ"},"105306","80106022","2020-03-18T23:42:22",3,3,null,null,3]
[1,"5",2020,{"$f":"IFERROR(VLOOKUP([1]!Tabla_SERIEA_01_5[[#This Row],[IdEstablecimiento]],[2]Establecimientos!$A$1:$E$175,5,FALSE),0)","v":"04102-COQUIMBO"},"105404","80309013","2020-03-18T23:50:32",0,null,null,9]
[1,"5",2020,{"$f":"IFERROR(VLOOKUP([1]!Tabla_SERIEA_01_5[[#This Row],[IdEstablecimiento]],[2]Establecimientos!$A$1:$E$175,5,FALSE),0)","v":"105107-HOSPITAL VICUÑA"},"200258","80106002","2020-03-19T00:45:25",32,null,32,null,32]
[7,"5",2020,{"$f":"IFERROR(VLOOKUP([1]!Tabla_SERIEA_01_5[[#This Row],[IdEstablecimiento]],[2]Establecimientos!$A$1:$E$175,5,FALSE),0)","v":"105107-HOSPITAL VICUÑA"},"105317","80106015","2020-08-20T16:54:52",48,43,5,null,48]
[9,"5",2020,{"$f":"IFERROR(VLOOKUP([1]!Tabla_SERIEA_01_5[[#This Row],[IdEstablecimiento]],[2]Establecimientos!$A$1:$E$175,5,FALSE),0)","v":"105105-HOSPITAL COMBARBALÁ"},"105319","80309022","2020-10-16T09:19:01",0,null,null,188]
[1,"5",2020,{"$f":"IFERROR(VLOOKUP([1]!Tabla_SERIEA_01_5[[#This Row],[IdEstablecimiento]],[2]Establecimientos!$A$1:$E$175,5,FALSE),0)","v":"04101-LA SERENA"},"105509","80302064","2020-03-19T00:42:47",0,null,null,1]
[3,"5",2020,{"$f":"IFERROR(VLOOKUP([1]!Tabla_SERIEA_01_5[[#This Row],[IdEstablecimiento]],[2]Establecimientos!$A$1:$E$175,5,FALSE),0)","v":"105107-HOSPITAL VICUÑA"},"105323","80305019","2020-04-16T21:58:36",0,null,null,10]
[5,"5",2020,{"$f":"IFERROR(VLOOKUP([1]!Tabla_SERIEA_01_5[[#This Row],[IdEstablecimiento]],[2]Establecimientos!$A$1:$E$175,5,FALSE),0)","v":"105107-HOSPITAL VICUÑA"},"105324","18050100","2020-06-12T19:31:29",59,14,45]
[3,"5",2020,{"$f":"IFERROR(VLOOKUP([1]!Tabla_SERIEA_01_5[[#This Row],[IdEstablecimiento]],[2]Establecimientos!$A$1:$E$175,5,FALSE),0)","v":"105105-HOSPITAL COMBARBALÁ"},"200367","80307011","2020-04-16T23:11:09",15,null,15]
[6,"5",2020,{"$f":"IFERROR(VLOOKUP([1]!Tabla_SERIEA_01_5[[#This Row],[IdEstablecimiento]],[2]Establecimientos!$A$1:$E$175,5,FALSE),0)","v":"105101-HOSPITAL COQUIMBO"},"200538","80306011","2020-07-21T00:06:08",0,null,null,13]
[10,"5",2020,{"$f":"IFERROR(VLOOKUP([1]!Tabla_SERIEA_01_5[[#This Row],[IdEstablecimiento]],[2]Establecimientos!$A$1:$E$175,5,FALSE),0)","v":"04101-LA SERENA"},"105509","80302047","2020-11-12T08:07:49",0,null,null,9]
[10,"5",2020,{"$f":"IFERROR(VLOOKUP([1]!Tabla_SERIEA_01_5[[#This Row],[IdEstablecimiento]],[2]Establecimientos!$A$1:$E$175,5,FALSE),0)","v":"04101-LA SERENA"},"105509","80303024","2020-11-12T08:07:49",0,null,null,4]
[1,"5",2020,{"$f":"IFERROR(VLOOKUP([1]!Tabla_SERIEA_01_5[[#This Row],[IdEstablecimiento]],[2]Establecimientos!$A$1:$E$175,5,FALSE),0)","v":"105105-HOSPITAL COMBARBALÁ"},"105323","80302064","2020-03-18T23:48:41",0,null,null,295]
[10,"5",2020,{"$f":"IFERROR(VLOOKUP([1]!Tabla_SERIEA_01_5[[#This Row],[IdEstablecimiento]],[2]Establecimientos!$A$1:$E$175,5,FALSE),0)","v":"105105-HOSPITAL COMBARBALÁ"},"200720","80401045","2020-11-12T08:30:01",23,23]
[7,"5",2020,{"$f":"IFERROR(VLOOKUP([1]!Tabla_SERIEA_01_5[[#This Row],[IdEstablecimiento]],[2]Establecimientos!$A$1:$E$175,5,FALSE),0)","v":"04204-SALAMANCA"},"200720","18020500","2020-08-20T18:21:12",102,102,0]
[8,"5",2020,{"$f":"IFERROR(VLOOKUP([1]!Tabla_SERIEA_01_5[[#This Row],[IdEstablecimiento]],[2]Establecimientos!$A$1:$E$175,5,FALSE),0)","v":"04201-ILLAPEL"},"105419","81701001","2020-10-16T08:55:04",1,null,1,null,1]
[10,"5",2020,{"$f":"IFERROR(VLOOKUP([1]!Tabla_SERIEA_01_5[[#This Row],[IdEstablecimiento]],[2]Establecimientos!$A$1:$E$175,5,FALSE),0)","v":"04305-RIO HURTADO"},"105301","18090000","2020-11-12T07:05:58",6,0,6]
[2,"5",2020,{"$f":"IFERROR(VLOOKUP([1]!Tabla_SERIEA_01_5[[#This Row],[IdEstablecimiento]],[2]Establecimientos!$A$1:$E$175,5,FALSE),0)","v":"105107-HOSPITAL VICUÑA"},"105309","80106002","2020-03-19T18:44:07",116,18,98,null,116]
[7,"5",2020,{"$f":"IFERROR(VLOOKUP([1]!Tabla_SERIEA_01_5[[#This Row],[IdEstablecimiento]],[2]Establecimientos!$A$1:$E$175,5,FALSE),0)","v":"105105-HOSPITAL COMBARBALÁ"},"105479","80306011","2020-08-20T17:41:28",0,null,null,3]
[5,"5",2020,{"$f":"IFERROR(VLOOKUP([1]!Tabla_SERIEA_01_5[[#This Row],[IdEstablecimiento]],[2]Establecimientos!$A$1:$E$175,5,FALSE),0)","v":"105105-HOSPITAL COMBARBALÁ"},"105301","18700100","2020-06-12T19:24:16",259,37,185,37]
[3,"5",2020,{"$f":"IFERROR(VLOOKUP([1]!Tabla_SERIEA_01_5[[#This Row],[IdEstablecimiento]],[2]Establecimientos!$A$1:$E$175,5,FALSE),0)","v":"105107-HOSPITAL VICUÑA"},"105462","80106013","2020-04-16T22:45:45",2,null,2,null,2]
[1,"5",2020,{"$f":"IFERROR(VLOOKUP([1]!Tabla_SERIEA_01_5[[#This Row],[IdEstablecimiento]],[2]Establecimientos!$A$1:$E$175,5,FALSE),0)","v":"04201-ILLAPEL"},"105311","80307012","2020-03-18T23:44:54",13,null,13]
[1,"5",2020,{"$f":"IFERROR(VLOOKUP([1]!Tabla_SERIEA_01_5[[#This Row],[IdEstablecimiento]],[2]Establecimientos!$A$1:$E$175,5,FALSE),0)","v":"04104-LA HIGUERA"},"105322","18090200","2020-03-18T23:48:24",142]
[1,"5",2020,{"$f":"IFERROR(VLOOKUP([1]!Tabla_SERIEA_01_5[[#This Row],[IdEstablecimiento]],[2]Establecimientos!$A$1:$E$175,5,FALSE),0)","v":"105102-HOSPITAL OVALLE"},"105323","80302068","2020-03-18T23:48:41",0,null,null,297]
[9,"5",2020,{"$f":"IFERROR(VLOOKUP([1]!Tabla_SERIEA_01_5[[#This Row],[IdEstablecimiento]],[2]Establecimientos!$A$1:$E$175,5,FALSE),0)","v":"105107-HOSPITAL VICUÑA"},"105307","80302034","2020-10-16T09:14:26",466,null,466]
[4,"5",2020,{"$f":"IFERROR(VLOOKUP([1]!Tabla_SERIEA_01_5[[#This Row],[IdEstablecimiento]],[2]Establecimientos!$A$1:$E$175,5,FALSE),0)","v":"04201-ILLAPEL"},"105301","80307011","2020-05-26T00:37:04",40,null,40]
[8,"5",2020,{"$f":"IFERROR(VLOOKUP([1]!Tabla_SERIEA_01_5[[#This Row],[IdEstablecimiento]],[2]Establecimientos!$A$1:$E$175,5,FALSE),0)","v":"105107-HOSPITAL VICUÑA"},"105300","80303024","2020-09-16T16:16:06",0,null,null,44]
[10,"5",2020,{"$f":"IFERROR(VLOOKUP([1]!Tabla_SERIEA_01_5[[#This Row],[IdEstablecimiento]],[2]Establecimientos!$A$1:$E$175,5,FALSE),0)","v":"105107-HOSPITAL VICUÑA"},"200607","80302063","2020-11-12T08:29:39",0,null,null,6]
[9,"5",2020,{"$f":"IFERROR(VLOOKUP([1]!Tabla_SERIEA_01_5[[#This Row],[IdEstablecimiento]],[2]Establecimientos!$A$1:$E$175,5,FALSE),0)","v":"105107-HOSPITAL VICUÑA"},"200720","18020200","2020-10-16T10:55:18",4,4,0]
[2,"5",2020,{"$f":"IFERROR(VLOOKUP([1]!Tabla_SERIEA_01_5[[#This Row],[IdEstablecimiento]],[2]Establecimientos!$A$1:$E$175,5,FALSE),0)","v":"105108-HOSPITAL LOS VILOS"},"105305","80401060","2020-03-19T18:39:39",452,29,423]
[8,"5",2020,{"$f":"IFERROR(VLOOKUP([1]!Tabla_SERIEA_01_5[[#This Row],[IdEstablecimiento]],[2]Establecimientos!$A$1:$E$175,5,FALSE),0)","v":"04102-COQUIMBO"},"105431","81701009","2020-09-16T16:55:02",8,null,8,null,2]
[8,"5",2020,{"$f":"IFERROR(VLOOKUP([1]!Tabla_SERIEA_01_5[[#This Row],[IdEstablecimiento]],[2]Establecimientos!$A$1:$E$175,5,FALSE),0)","v":"105108-HOSPITAL LOS VILOS"},"105431","80500011","2020-09-16T16:55:02",7,null,7,null,7]
[1,"5",2020,{"$f":"IFERROR(VLOOKUP([1]!Tabla_SERIEA_01_5[[#This Row],[IdEstablecimiento]],[2]Establecimientos!$A$1:$E$175,5,FALSE),0)","v":"04102-COQUIMBO"},"105701","80307011","2020-03-19T00:43:59",0,null,null,82]
[3,"5",2020,{"$f":"IFERROR(VLOOKUP([1]!Tabla_SERIEA_01_5[[#This Row],[IdEstablecimiento]],[2]Establecimientos!$A$1:$E$175,5,FALSE),0)","v":"04301-OVALLE"},"105304","80309023","2020-05-26T01:55:50",0,null,null,4]
[7,"5",2020,{"$f":"IFERROR(VLOOKUP([1]!Tabla_SERIEA_01_5[[#This Row],[IdEstablecimiento]],[2]Establecimientos!$A$1:$E$175,5,FALSE),0)","v":"04201-ILLAPEL"},"200720","80401045","2020-08-20T18:21:12",10,10]
[7,"5",2020,{"$f":"IFERROR(VLOOKUP([1]!Tabla_SERIEA_01_5[[#This Row],[IdEstablecimiento]],[2]Establecimientos!$A$1:$E$175,5,FALSE),0)","v":"04305-RIO HURTADO"},"105455","80106002","2020-08-20T17:25:09",40,null,40]
[5,"5",2020,{"$f":"IFERROR(VLOOKUP([1]!Tabla_SERIEA_01_5[[#This Row],[IdEstablecimiento]],[2]Establecimientos!$A$1:$E$175,5,FALSE),0)","v":"04301-OVALLE"},"105468","80303024","2020-06-12T20:09:11",0,null,null,4]
[10,"5",2020,{"$f":"IFERROR(VLOOKUP([1]!Tabla_SERIEA_01_5[[#This Row],[IdEstablecimiento]],[2]Establecimientos!$A$1:$E$175,5,FALSE),0)","v":"04101-LA SERENA"},"105307","80302024","2020-11-12T07:08:48",1,null,1]
[7,"5",2020,{"$f":"IFERROR(VLOOKUP([1]!Tabla_SERIEA_01_5[[#This Row],[IdEstablecimiento]],[2]Establecimientos!$A$1:$E$175,5,FALSE),0)","v":"105106-HOSPITAL ANDACOLLO"},"105484","81602231","2020-08-20T17:42:47",1,null,1,null,1]
[5,"5",2020,{"$f":"IFERROR(VLOOKUP([1]!Tabla_SERIEA_01_5[[#This Row],[IdEstablecimiento]],[2]Establecimientos!$A$1:$E$175,5,FALSE),0)","v":"105101-HOSPITAL COQUIMBO"},"105500","80106020","2020-06-12T21:06:45",2,2,null,null,2]
[7,"5",2020,{"$f":"IFERROR(VLOOKUP([1]!Tabla_SERIEA_01_5[[#This Row],[IdEstablecimiento]],[2]Establecimientos!$A$1:$E$175,5,FALSE),0)","v":"04101-LA SERENA"},"105308","81602222","2020-08-20T16:52:29",11,null,11,null,11]
[4,"5",2020,{"$f":"IFERROR(VLOOKUP([1]!Tabla_SERIEA_01_5[[#This Row],[IdEstablecimiento]],[2]Establecimientos!$A$1:$E$175,5,FALSE),0)","v":"04101-LA SERENA"},"200494","80106017","2020-05-26T01:18:18",153,9,144,null,153]
[6,"5",2020,{"$f":"IFERROR(VLOOKUP([1]!Tabla_SERIEA_01_5[[#This Row],[IdEstablecimiento]],[2]Establecimientos!$A$1:$E$175,5,FALSE),0)","v":"04301-OVALLE"},"105414","80401010","2020-07-20T23:06:43",1,null,1,1]
[6,"5",2020,{"$f":"IFERROR(VLOOKUP([1]!Tabla_SERIEA_01_5[[#This Row],[IdEstablecimiento]],[2]Establecimientos!$A$1:$E$175,5,FALSE),0)","v":"04102-COQUIMBO"},"105414","80500009","2020-07-20T23:06:43",1,null,1,null,1]
[7,"5",2020,{"$f":"IFERROR(VLOOKUP([1]!Tabla_SERIEA_01_5[[#This Row],[IdEstablecimiento]],[2]Establecimientos!$A$1:$E$175,5,FALSE),0)","v":"04301-OVALLE"},"105313","80306061","2020-08-20T16:53:51",0,null,null,17]
[9,"5",2020,{"$f":"IFERROR(VLOOKUP([1]!Tabla_SERIEA_01_5[[#This Row],[IdEstablecimiento]],[2]Establecimientos!$A$1:$E$175,5,FALSE),0)","v":"105101-HOSPITAL COQUIMBO"},"105472","80302076","2020-10-16T10:18:07",0,null,null,9]
[3,"5",2020,{"$f":"IFERROR(VLOOKUP([1]!Tabla_SERIEA_01_5[[#This Row],[IdEstablecimiento]],[2]Establecimientos!$A$1:$E$175,5,FALSE),0)","v":"105102-HOSPITAL OVALLE"},"105311","80106013","2020-04-16T21:52:44",2,null,2,null,2]
[3,"5",2020,{"$f":"IFERROR(VLOOKUP([1]!Tabla_SERIEA_01_5[[#This Row],[IdEstablecimiento]],[2]Establecimientos!$A$1:$E$175,5,FALSE),0)","v":"04303-MONTE PATRIA"},"105319","80302064","2020-04-16T21:57:23",0,null,null,274]
[6,"5",2020,{"$f":"IFERROR(VLOOKUP([1]!Tabla_SERIEA_01_5[[#This Row],[IdEstablecimiento]],[2]Establecimientos!$A$1:$E$175,5,FALSE),0)","v":"105101-HOSPITAL COQUIMBO"},"105474","80309022","2020-07-20T23:36:33",0,null,null,1]
[3,"5",2020,{"$f":"IFERROR(VLOOKUP([1]!Tabla_SERIEA_01_5[[#This Row],[IdEstablecimiento]],[2]Establecimientos!$A$1:$E$175,5,FALSE),0)","v":"105101-HOSPITAL COQUIMBO"},"105400","18400900","2020-04-16T21:59:39",12,1,11]
[5,"5",2020,{"$f":"IFERROR(VLOOKUP([1]!Tabla_SERIEA_01_5[[#This Row],[IdEstablecimiento]],[2]Establecimientos!$A$1:$E$175,5,FALSE),0)","v":"04101-LA SERENA"},"105435","80106020","2020-06-12T19:42:03",1,null,1,null,1]
[5,"5",2020,{"$f":"IFERROR(VLOOKUP([1]!Tabla_SERIEA_01_5[[#This Row],[IdEstablecimiento]],[2]Establecimientos!$A$1:$E$175,5,FALSE),0)","v":"04303-MONTE PATRIA"},"105434","80106023","2020-06-12T19:41:45",3,null,3,null,3]
[8,"5",2020,{"$f":"IFERROR(VLOOKUP([1]!Tabla_SERIEA_01_5[[#This Row],[IdEstablecimiento]],[2]Establecimientos!$A$1:$E$175,5,FALSE),0)","v":"04102-COQUIMBO"},"105440","81901022","2020-09-16T16:58:44",7,null,7,null,7]
[5,"5",2020,{"$f":"IFERROR(VLOOKUP([1]!Tabla_SERIEA_01_5[[#This Row],[IdEstablecimiento]],[2]Establecimientos!$A$1:$E$175,5,FALSE),0)","v":"04301-OVALLE"},"105471","80309024","2020-06-12T20:10:16",0,null,null,2]
[5,"5",2020,{"$f":"IFERROR(VLOOKUP([1]!Tabla_SERIEA_01_5[[#This Row],[IdEstablecimiento]],[2]Establecimientos!$A$1:$E$175,5,FALSE),0)","v":"04101-LA SERENA"},"105471","81701001","2020-06-12T20:10:16",1,null,1,null,1]
[6,"5",2020,{"$f":"IFERROR(VLOOKUP([1]!Tabla_SERIEA_01_5[[#This Row],[IdEstablecimiento]],[2]Establecimientos!$A$1:$E$175,5,FALSE),0)","v":"04102-COQUIMBO"},"105309","81602221","2020-07-20T22:56:32",3,3,0,0,3]
[7,"5",2020,{"$f":"IFERROR(VLOOKUP([1]!Tabla_SERIEA_01_5[[#This Row],[IdEstablecimiento]],[2]Establecimientos!$A$1:$E$175,5,FALSE),0)","v":"04202-CANELA"},"105326","18040200","2020-08-20T16:59:57",1,1]
[1,"5",2020,{"$f":"IFERROR(VLOOKUP([1]!Tabla_SERIEA_01_5[[#This Row],[IdEstablecimiento]],[2]Establecimientos!$A$1:$E$175,5,FALSE),0)","v":"04101-LA SERENA"},"105322","18010900","2020-03-18T23:48:24",6038,0,6038]
[7,"5",2020,{"$f":"IFERROR(VLOOKUP([1]!Tabla_SERIEA_01_5[[#This Row],[IdEstablecimiento]],[2]Establecimientos!$A$1:$E$175,5,FALSE),0)","v":"105104-HOSPITAL SALAMANCA"},"200258","80307011","2020-08-20T18:15:45",58,null,58]
[9,"5",2020,{"$f":"IFERROR(VLOOKUP([1]!Tabla_SERIEA_01_5[[#This Row],[IdEstablecimiento]],[2]Establecimientos!$A$1:$E$175,5,FALSE),0)","v":"105108-HOSPITAL LOS VILOS"},"200720","80106006","2020-10-16T10:55:18",2,2,null,null,2]
[6,"5",2020,{"$f":"IFERROR(VLOOKUP([1]!Tabla_SERIEA_01_5[[#This Row],[IdEstablecimiento]],[2]Establecimientos!$A$1:$E$175,5,FALSE),0)","v":"04102-COQUIMBO"},"200273","18050100","2020-07-21T00:03:58",19,0,19]
[3,"5",2020,{"$f":"IFERROR(VLOOKUP([1]!Tabla_SERIEA_01_5[[#This Row],[IdEstablecimiento]],[2]Establecimientos!$A$1:$E$175,5,FALSE),0)","v":"04304-PUNITAQUI"},"105402","80106014","2020-04-16T22:00:14",19,null,19,null,19]
[6,"5",2020,{"$f":"IFERROR(VLOOKUP([1]!Tabla_SERIEA_01_5[[#This Row],[IdEstablecimiento]],[2]Establecimientos!$A$1:$E$175,5,FALSE),0)","v":"105101-HOSPITAL COQUIMBO"},"105405","80301038","2020-07-20T23:04:51",0,null,null,11]
[6,"5",2020,{"$f":"IFERROR(VLOOKUP([1]!Tabla_SERIEA_01_5[[#This Row],[IdEstablecimiento]],[2]Establecimientos!$A$1:$E$175,5,FALSE),0)","v":"04101-LA SERENA"},"105307","81601115","2020-07-20T22:55:57",7,null,7,null,7]
[5,"5",2020,{"$f":"IFERROR(VLOOKUP([1]!Tabla_SERIEA_01_5[[#This Row],[IdEstablecimiento]],[2]Establecimientos!$A$1:$E$175,5,FALSE),0)","v":"04102-COQUIMBO"},"200273","80500014","2020-06-12T20:36:37",0,{"$nulls":4},4]
[1,"5",2020,{"$f":"IFERROR(VLOOKUP([1]!Tabla_SERIEA_01_5[[#This Row],[IdEstablecimiento]],[2]Establecimientos!$A$1:$E$175,5,FALSE),0)","v":"04302-COMBARBALÁ"},"105305","80401031","2020-03-18T23:42:06",23,9,14]
[6,"5",2020,{"$f":"IFERROR(VLOOKUP([1]!Tabla_SERIEA_01_5[[#This Row],[IdEstablecimiento]],[2]Establecimientos!$A$1:$E$175,5,FALSE),0)","v":"04102-COQUIMBO"},"200273","80500011","2020-07-21T00:03:58",9,null,9,null,9]
[11,"5",2020,{"$f":"IFERROR(VLOOKUP([1]!Tabla_SERIEA_01_5[[#This Row],[IdEstablecimiento]],[2]Establecimientos!$A$1:$E$175,5,FALSE),0)","v":"04101-LA SERENA"},"105306","80306061","2020-12-11T14:49:46",0,null,null,8]
[7,"5",2020,{"$f":"IFERROR(VLOOKUP([1]!Tabla_SERIEA_01_5[[#This Row],[IdEstablecimiento]],[2]Establecimientos!$A$1:$E$175,5,FALSE),0)","v":"04302-COMBARBALÁ"},"105450","18040200","2020-08-20T17:23:02",7,null,7]
[3,"5",2020,{"$f":"IFERROR(VLOOKUP([1]!Tabla_SERIEA_01_5[[#This Row],[IdEstablecimiento]],[2]Establecimientos!$A$1:$E$175,5,FALSE),0)","v":"105105-HOSPITAL COMBARBALÁ"},"105435","18020300","2020-04-16T22:18:16",1,0,1]
[3,"5",2020,{"$f":"IFERROR(VLOOKUP([1]!Tabla_SERIEA_01_5[[#This Row],[IdEstablecimiento]],[2]Establecimientos!$A$1:$E$175,5,FALSE),0)","v":"04102-COQUIMBO"},"105467","80303026","2020-04-16T22:47:14",0,null,null,5]
[1,"5",2020,{"$f":"IFERROR(VLOOKUP([1]!Tabla_SERIEA_01_5[[#This Row],[IdEstablecimiento]],[2]Establecimientos!$A$1:$E$175,5,FALSE),0)","v":"04101-LA SERENA"},"105303","80303024","2020-03-18T23:41:19",0,null,null,462]
[3,"5",2020,{"$f":"IFERROR(VLOOKUP([1]!Tabla_SERIEA_01_5[[#This Row],[IdEstablecimiento]],[2]Establecimientos!$A$1:$E$175,5,FALSE),0)","v":"04301-OVALLE"},"200499","18020300","2020-04-16T23:11:57",38,10,28]
[10,"5",2020,{"$f":"IFERROR(VLOOKUP([1]!Tabla_SERIEA_01_5[[#This Row],[IdEstablecimiento]],[2]Establecimientos!$A$1:$E$175,5,FALSE),0)","v":"04301-OVALLE"},"200721","18030000","2020-11-12T08:30:19",12,12,0]
[10,"5",2020,{"$f":"IFERROR(VLOOKUP([1]!Tabla_SERIEA_01_5[[#This Row],[IdEstablecimiento]],[2]Establecimientos!$A$1:$E$175,5,FALSE),0)","v":"04301-OVALLE"},"200742","80106011","2020-11-12T08:32:05",1,1]
[6,"5",2020,{"$f":"IFERROR(VLOOKUP([1]!Tabla_SERIEA_01_5[[#This Row],[IdEstablecimiento]],[2]Establecimientos!$A$1:$E$175,5,FALSE),0)","v":"04301-OVALLE"},"105300","81701001","2020-07-20T22:53:25",5,5]
[6,"5",2020,{"$f":"IFERROR(VLOOKUP([1]!Tabla_SERIEA_01_5[[#This Row],[IdEstablecimiento]],[2]Establecimientos!$A$1:$E$175,5,FALSE),0)","v":"04301-OVALLE"},"105471","80303024","2020-07-20T23:35:31",0,null,null,4]
[1,"5",2020,{"$f":"IFERROR(VLOOKUP([1]!Tabla_SERIEA_01_5[[#This Row],[IdEstablecimiento]],[2]Establecimientos!$A$1:$E$175,5,FALSE),0)","v":"04301-OVALLE"},"105317","80307011","2020-03-18T23:46:37",985,null,985]
[8,"5",2020,{"$f":"IFERROR(VLOOKUP([1]!Tabla_SERIEA_01_5[[#This Row],[IdEstablecimiento]],[2]Establecimientos!$A$1:$E$175,5,FALSE),0)","v":"04301-OVALLE"},"105702","80302063","2020-09-16T17:39:14",0,null,null,11]
[4,"5",2020,{"$f":"IFERROR(VLOOKUP([1]!Tabla_SERIEA_01_5[[#This Row],[IdEstablecimiento]],[2]Establecimientos!$A$1:$E$175,5,FALSE),0)","v":"04301-OVALLE"},"105489","80106015","2020-05-26T01:08:32",7,null,7,null,7]
[10,"5",2020,{"$f":"IFERROR(VLOOKUP([1]!Tabla_SERIEA_01_5[[#This Row],[IdEstablecimiento]],[2]Establecimientos!$A$1:$E$175,5,FALSE),0)","v":"04102-COQUIMBO"},"200720","80106022","2020-11-12T08:30:01",13,13,null,null,13]
[1,"5",2020,{"$f":"IFERROR(VLOOKUP([1]!Tabla_SERIEA_01_5[[#This Row],[IdEstablecimiento]],[2]Establecimientos!$A$1:$E$175,5,FALSE),0)","v":"04102-COQUIMBO"},"200273","80302057","2020-03-19T00:45:44",0,null,null,9]
[9,"5",2020,{"$f":"IFERROR(VLOOKUP([1]!Tabla_SERIEA_01_5[[#This Row],[IdEstablecimiento]],[2]Establecimientos!$A$1:$E$175,5,FALSE),0)","v":"04102-COQUIMBO"},"105303","80302032","2020-10-16T09:01:41",0,null,null,63]
[9,"5",2020,{"$f":"IFERROR(VLOOKUP([1]!Tabla_SERIEA_01_5[[#This Row],[IdEstablecimiento]],[2]Establecimientos!$A$1:$E$175,5,FALSE),0)","v":"04102-COQUIMBO"},"105303","80302076","2020-10-16T09:01:41",0,null,null,1]
[2,"5",2020,{"$f":"IFERROR(VLOOKUP([1]!Tabla_SERIEA_01_5[[#This Row],[IdEstablecimiento]],[2]Establecimientos!$A$1:$E$175,5,FALSE),0)","v":"04102-COQUIMBO"},"105511","80302060","2020-03-19T21:27:24",0,null,null,2]
[5,"5",2020,{"$f":"IFERROR(VLOOKUP([1]!Tabla_SERIEA_01_5[[#This Row],[IdEstablecimiento]],[2]Establecimientos!$A$1:$E$175,5,FALSE),0)","v":"04201-ILLAPEL"},"200499","80301038","2020-06-12T20:40:09",0,null,null,54]
[3,"5",2020,{"$f":"IFERROR(VLOOKUP([1]!Tabla_SERIEA_01_5[[#This Row],[IdEstablecimiento]],[2]Establecimientos!$A$1:$E$175,5,FALSE),0)","v":"04201-ILLAPEL"},"105486","80106013","2020-04-16T22:52:28",2,null,2,null,2]
[5,"5",2020,{"$f":"IFERROR(VLOOKUP([1]!Tabla_SERIEA_01_5[[#This Row],[IdEstablecimiento]],[2]Establecimientos!$A$1:$E$175,5,FALSE),0)","v":"04201-ILLAPEL"},"105507","18050100","2020-06-12T20:28:34",21,0,21]
[8,"5",2020,{"$f":"IFERROR(VLOOKUP([1]!Tabla_SERIEA_01_5[[#This Row],[IdEstablecimiento]],[2]Establecimientos!$A$1:$E$175,5,FALSE),0)","v":"04201-ILLAPEL"},"105457","18050100","2020-09-16T18:37:33",14,0,14]
[4,"5",2020,{"$f":"IFERROR(VLOOKUP([1]!Tabla_SERIEA_01_5[[#This Row],[IdEstablecimiento]],[2]Establecimientos!$A$1:$E$175,5,FALSE),0)","v":"04201-ILLAPEL"},"105305","18011001","2020-09-17T11:40:08",205,184,21]
[8,"5",2020,{"$f":"IFERROR(VLOOKUP([1]!Tabla_SERIEA_01_5[[#This Row],[IdEstablecimiento]],[2]Establecimientos!$A$1:$E$175,5,FALSE),0)","v":"04201-ILLAPEL"},"105477","80500011","2020-09-16T17:26:19",35,35,null,null,35]
[10,"5",2020,{"$f":"IFERROR(VLOOKUP([1]!Tabla_SERIEA_01_5[[#This Row],[IdEstablecimiento]],[2]Establecimientos!$A$1:$E$175,5,FALSE),0)","v":"04201-ILLAPEL"},"105511","80306042","2020-11-12T08:09:02",0,null,null,1]
[4,"5",2020,{"$f":"IFERROR(VLOOKUP([1]!Tabla_SERIEA_01_5[[#This Row],[IdEstablecimiento]],[2]Establecimientos!$A$1:$E$175,5,FALSE),0)","v":"04201-ILLAPEL"},"105473","80307011","2020-05-26T01:04:14",0,null,null,8]
[7,"5",2020,{"$f":"IFERROR(VLOOKUP([1]!Tabla_SERIEA_01_5[[#This Row],[IdEstablecimiento]],[2]Establecimientos!$A$1:$E$175,5,FALSE),0)","v":"04201-ILLAPEL"},"105480","80306080","2020-08-20T17:41:43",0,null,null,1]
[2,"5",2020,{"$f":"IFERROR(VLOOKUP([1]!Tabla_SERIEA_01_5[[#This Row],[IdEstablecimiento]],[2]Establecimientos!$A$1:$E$175,5,FALSE),0)","v":"04201-ILLAPEL"},"105499","80106006","2020-03-19T21:23:26",4,null,4,null,4]
[2,"5",2020,{"$f":"IFERROR(VLOOKUP([1]!Tabla_SERIEA_01_5[[#This Row],[IdEstablecimiento]],[2]Establecimientos!$A$1:$E$175,5,FALSE),0)","v":"04201-ILLAPEL"},"105322","80306026","2020-03-19T18:51:53",35,null,35]
[4,"5",2020,{"$f":"IFERROR(VLOOKUP([1]!Tabla_SERIEA_01_5[[#This Row],[IdEstablecimiento]],[2]Establecimientos!$A$1:$E$175,5,FALSE),0)","v":"04201-ILLAPEL"},"105405","80301045","2020-05-26T00:47:13",0,null,null,2]
[1,"5",2020,{"$f":"IFERROR(VLOOKUP([1]!Tabla_SERIEA_01_5[[#This Row],[IdEstablecimiento]],[2]Establecimientos!$A$1:$E$175,5,FALSE),0)","v":"04301-OVALLE"},"105309","80306011","2020-03-18T23:44:23",0,null,null,64]
[4,"5",2020,{"$f":"IFERROR(VLOOKUP([1]!Tabla_SERIEA_01_5[[#This Row],[IdEstablecimiento]],[2]Establecimientos!$A$1:$E$175,5,FALSE),0)","v":"04301-OVALLE"},"105415","80106002","2020-05-26T00:49:35",17,null,17,null,17]
[6,"5",2020,{"$f":"IFERROR(VLOOKUP([1]!Tabla_SERIEA_01_5[[#This Row],[IdEstablecimiento]],[2]Establecimientos!$A$1:$E$175,5,FALSE),0)","v":"04301-OVALLE"},"105319","18400700","2020-07-20T22:58:58",8263]
[1,"5",2020,{"$f":"IFERROR(VLOOKUP([1]!Tabla_SERIEA_01_5[[#This Row],[IdEstablecimiento]],[2]Establecimientos!$A$1:$E$175,5,FALSE),0)","v":"04301-OVALLE"},"105323","80307011","2020-03-18T23:48:41",1549,null,1549]
[2,"5",2020,{"$f":"IFERROR(VLOOKUP([1]!Tabla_SERIEA_01_5[[#This Row],[IdEstablecimiento]],[2]Establecimientos!$A$1:$E$175,5,FALSE),0)","v":"04102-COQUIMBO"},"105303","80306011","2020-03-19T18:33:11",0,null,null,161]
[2,"5",2020,{"$f":"IFERROR(VLOOKUP([1]!Tabla_SERIEA_01_5[[#This Row],[IdEstablecimiento]],[2]Establecimientos!$A$1:$E$175,5,FALSE),0)","v":"04102-COQUIMBO"},"105471","18400900","2020-03-19T21:06:20",13,4,9]
[6,"5",2020,{"$f":"IFERROR(VLOOKUP([1]!Tabla_SERIEA_01_5[[#This Row],[IdEstablecimiento]],[2]Establecimientos!$A$1:$E$175,5,FALSE),0)","v":"04102-COQUIMBO"},"105480","80302057","2020-07-20T23:38:44",0,null,null,37]
[1,"5",2020,{"$f":"IFERROR(VLOOKUP([1]!Tabla_SERIEA_01_5[[#This Row],[IdEstablecimiento]],[2]Establecimientos!$A$1:$E$175,5,FALSE),0)","v":"04102-COQUIMBO"},"105473","80306047","2020-03-19T00:10:17",0,null,null,2]
[2,"5",2020,{"$f":"IFERROR(VLOOKUP([1]!Tabla_SERIEA_01_5[[#This Row],[IdEstablecimiento]],[2]Establecimientos!$A$1:$E$175,5,FALSE),0)","v":"04106-VICUÑA"},"105700","80301059","2020-03-19T21:27:42",0,null,null,1]
[5,"5",2020,{"$f":"IFERROR(VLOOKUP([1]!Tabla_SERIEA_01_5[[#This Row],[IdEstablecimiento]],[2]Establecimientos!$A$1:$E$175,5,FALSE),0)","v":"04106-VICUÑA"},"105321","80301041","2020-06-12T19:30:47",0,null,null,14]
[8,"5",2020,{"$f":"IFERROR(VLOOKUP([1]!Tabla_SERIEA_01_5[[#This Row],[IdEstablecimiento]],[2]Establecimientos!$A$1:$E$175,5,FALSE),0)","v":"04106-VICUÑA"},"200366","80302064","2020-09-16T17:49:27",0,null,null,6]
[4,"5",2020,{"$f":"IFERROR(VLOOKUP([1]!Tabla_SERIEA_01_5[[#This Row],[IdEstablecimiento]],[2]Establecimientos!$A$1:$E$175,5,FALSE),0)","v":"04106-VICUÑA"},"105323","80302013","2020-09-17T11:40:50",0,null,null,5]
[7,"5",2020,{"$f":"IFERROR(VLOOKUP([1]!Tabla_SERIEA_01_5[[#This Row],[IdEstablecimiento]],[2]Establecimientos!$A$1:$E$175,5,FALSE),0)","v":"04106-VICUÑA"},"105323","80301059","2020-08-20T16:58:47",0,null,null,11]
[7,"5",2020,{"$f":"IFERROR(VLOOKUP([1]!Tabla_SERIEA_01_5[[#This Row],[IdEstablecimiento]],[2]Establecimientos!$A$1:$E$175,5,FALSE),0)","v":"04106-VICUÑA"},"105323","81701001","2020-08-20T16:58:47",69,69,null,null,69,69]
[3,"5",2020,{"$f":"IFERROR(VLOOKUP([1]!Tabla_SERIEA_01_5[[#This Row],[IdEstablecimiento]],[2]Establecimientos!$A$1:$E$175,5,FALSE),0)","v":"04106-VICUÑA"},"105722","81701009","2020-04-16T23:09:38",40,null,40,null,40]
[10,"5",2020,{"$f":"IFERROR(VLOOKUP([1]!Tabla_SERIEA_01_5[[#This Row],[IdEstablecimiento]],[2]Establecimientos!$A$1:$E$175,5,FALSE),0)","v":"04106-VICUÑA"},"105700","80301036","2020-11-12T08:09:24",0,null,null,15]
[4,"5",2020,{"$f":"IFERROR(VLOOKUP([1]!Tabla_SERIEA_01_5[[#This Row],[IdEstablecimiento]],[2]Establecimientos!$A$1:$E$175,5,FALSE),0)","v":"04106-VICUÑA"},"200499","80106014","2020-05-26T01:18:37",6,null,6,null,12]
[7,"5",2020,{"$f":"IFERROR(VLOOKUP([1]!Tabla_SERIEA_01_5[[#This Row],[IdEstablecimiento]],[2]Establecimientos!$A$1:$E$175,5,FALSE),0)","v":"04106-VICUÑA"},"200721","18020700","2020-08-20T18:21:37",5,5,0]
[4,"5",2020,{"$f":"IFERROR(VLOOKUP([1]!Tabla_SERIEA_01_5[[#This Row],[IdEstablecimiento]],[2]Establecimientos!$A$1:$E$175,5,FALSE),0)","v":"04106-VICUÑA"},"105305","80401009","2020-09-17T11:40:08",1,1,0]
[7,"5",2020,{"$f":"IFERROR(VLOOKUP([1]!Tabla_SERIEA_01_5[[#This Row],[IdEstablecimiento]],[2]Establecimientos!$A$1:$E$175,5,FALSE),0)","v":"04106-VICUÑA"},"105310","18020500","2020-08-20T16:53:05",13,0,13]
[5,"5",2020,{"$f":"IFERROR(VLOOKUP([1]!Tabla_SERIEA_01_5[[#This Row],[IdEstablecimiento]],[2]Establecimientos!$A$1:$E$175,5,FALSE),0)","v":"04301-OVALLE"},"105435","18030000","2020-06-12T19:42:03",3,0,3]
[5,"5",2020,{"$f":"IFERROR(VLOOKUP([1]!Tabla_SERIEA_01_5[[#This Row],[IdEstablecimiento]],[2]Establecimientos!$A$1:$E$175,5,FALSE),0)","v":"04301-OVALLE"},"105436","81701009","2020-06-12T19:42:19",20,null,20,null,20]
[1,"5",2020,{"$f":"IFERROR(VLOOKUP([1]!Tabla_SERIEA_01_5[[#This Row],[IdEstablecimiento]],[2]Establecimientos!$A$1:$E$175,5,FALSE),0)","v":"04304-PUNITAQUI"},"105478","80302076","2020-03-19T00:11:35",0,null,null,1]
[3,"5",2020,{"$f":"IFERROR(VLOOKUP([1]!Tabla_SERIEA_01_5[[#This Row],[IdEstablecimiento]],[2]Establecimientos!$A$1:$E$175,5,FALSE),0)","v":"04301-OVALLE"},"105434","18070300","2020-04-16T22:18:01",8,null,1,null,null,6,1]
[10,"5",2020,{"$f":"IFERROR(VLOOKUP([1]!Tabla_SERIEA_01_5[[#This Row],[IdEstablecimiento]],[2]Establecimientos!$A$1:$E$175,5,FALSE),0)","v":"105108-HOSPITAL LOS VILOS"},"105700","80302023","2020-11-12T08:09:24",0,null,null,36]
[5,"5",2020,{"$f":"IFERROR(VLOOKUP([1]!Tabla_SERIEA_01_5[[#This Row],[IdEstablecimiento]],[2]Establecimientos!$A$1:$E$175,5,FALSE),0)","v":"04301-OVALLE"},"105467","80306042","2020-06-12T20:08:53",0,null,null,1]
[6,"5",2020,{"$f":"IFERROR(VLOOKUP([1]!Tabla_SERIEA_01_5[[#This Row],[IdEstablecimiento]],[2]Establecimientos!$A$1:$E$175,5,FALSE),0)","v":"105108-HOSPITAL LOS VILOS"},"105305","80106022","2020-07-20T22:55:21",2,2,0,0,2]
[7,"5",2020,{"$f":"IFERROR(VLOOKUP([1]!Tabla_SERIEA_01_5[[#This Row],[IdEstablecimiento]],[2]Establecimientos!$A$1:$E$175,5,FALSE),0)","v":"04301-OVALLE"},"105450","80106007","2020-08-20T17:23:02",3,null,3,null,3]
[2,"5",2020,{"$f":"IFERROR(VLOOKUP([1]!Tabla_SERIEA_01_5[[#This Row],[IdEstablecimiento]],[2]Establecimientos!$A$1:$E$175,5,FALSE),0)","v":"04301-OVALLE"},"105303","80302064","2020-03-19T18:33:11",0,null,null,609]
[7,"5",2020,{"$f":"IFERROR(VLOOKUP([1]!Tabla_SERIEA_01_5[[#This Row],[IdEstablecimiento]],[2]Establecimientos!$A$1:$E$175,5,FALSE),0)","v":"105108-HOSPITAL LOS VILOS"},"105487","80301036","2020-08-20T17:43:35",0,null,null,15]
[7,"5",2020,{"$f":"IFERROR(VLOOKUP([1]!Tabla_SERIEA_01_5[[#This Row],[IdEstablecimiento]],[2]Establecimientos!$A$1:$E$175,5,FALSE),0)","v":"04301-OVALLE"},"200538","80302023","2020-08-20T18:20:07",0,null,null,35]
[9,"5",2020,{"$f":"IFERROR(VLOOKUP([1]!Tabla_SERIEA_01_5[[#This Row],[IdEstablecimiento]],[2]Establecimientos!$A$1:$E$175,5,FALSE),0)","v":"105108-HOSPITAL LOS VILOS"},"105305","80302067","2020-10-16T09:13:49",0,null,null,90]
[3,"5",2020,{"$f":"IFERROR(VLOOKUP([1]!Tabla_SERIEA_01_5[[#This Row],[IdEstablecimiento]],[2]Establecimientos!$A$1:$E$175,5,FALSE),0)","v":"04301-OVALLE"},"105723","80307011","2020-04-16T23:09:56",72,null,72]
[2,"5",2020,{"$f":"IFERROR(VLOOKUP([1]!Tabla_SERIEA_01_5[[#This Row],[IdEstablecimiento]],[2]Establecimientos!$A$1:$E$175,5,FALSE),0)","v":"105108-HOSPITAL LOS VILOS"},"105411","80302005","2020-03-19T18:57:31",0,null,null,3]
[6,"5",2020,{"$f":"IFERROR(VLOOKUP([1]!Tabla_SERIEA_01_5[[#This Row],[IdEstablecimiento]],[2]Establecimientos!$A$1:$E$175,5,FALSE),0)","v":"105108-HOSPITAL LOS VILOS"},"105409","80309013","2020-07-20T23:05:24",0,null,null,5]
[5,"5",2020,{"$f":"IFERROR(VLOOKUP([1]!Tabla_SERIEA_01_5[[#This Row],[IdEstablecimiento]],[2]Establecimientos!$A$1:$E$175,5,FALSE),0)","v":"04303-MONTE PATRIA"},"105304","80106015","2020-06-12T19:25:36",27,27,0,27,0]
[3,"5",2020,{"$f":"IFERROR(VLOOKUP([1]!Tabla_SERIEA_01_5[[#This Row],[IdEstablecimiento]],[2]Establecimientos!$A$1:$E$175,5,FALSE),0)","v":"105108-HOSPITAL LOS VILOS"},"200607","80302047","2020-05-26T02:01:24",0,null,null,140]
[7,"5",2020,{"$f":"IFERROR(VLOOKUP([1]!Tabla_SERIEA_01_5[[#This Row],[IdEstablecimiento]],[2]Establecimientos!$A$1:$E$175,5,FALSE),0)","v":"105108-HOSPITAL LOS VILOS"},"105411","80302034","2020-08-20T17:04:26",0,null,null,7]
[2,"5",2020,{"$f":"IFERROR(VLOOKUP([1]!Tabla_SERIEA_01_5[[#This Row],[IdEstablecimiento]],[2]Establecimientos!$A$1:$E$175,5,FALSE),0)","v":"04101-LA SERENA"},"105483","80500011","2020-03-19T21:14:22",6,null,6,null,6]
[9,"5",2020,{"$f":"IFERROR(VLOOKUP([1]!Tabla_SERIEA_01_5[[#This Row],[IdEstablecimiento]],[2]Establecimientos!$A$1:$E$175,5,FALSE),0)","v":"04101-LA SERENA"},"105318","80106002","2020-10-16T09:18:45",132,6,126,null,132]
[2,"5",2020,{"$f":"IFERROR(VLOOKUP([1]!Tabla_SERIEA_01_5[[#This Row],[IdEstablecimiento]],[2]Establecimientos!$A$1:$E$175,5,FALSE),0)","v":"04101-LA SERENA"},"105456","80106002","2020-03-19T21:01:20",21,null,21]
[2,"5",2020,{"$f":"IFERROR(VLOOKUP([1]!Tabla_SERIEA_01_5[[#This Row],[IdEstablecimiento]],[2]Establecimientos!$A$1:$E$175,5,FALSE),0)","v":"04101-LA SERENA"},"105456","18050100","2020-03-19T21:01:20",21,0,21]
[6,"5",2020,{"$f":"IFERROR(VLOOKUP([1]!Tabla_SERIEA_01_5[[#This Row],[IdEstablecimiento]],[2]Establecimientos!$A$1:$E$175,5,FALSE),0)","v":"04101-LA SERENA"},"105307","80302023","2020-07-20T22:55:57",110,null,110]
[4,"5",2020,{"$f":"IFERROR(VLOOKUP([1]!Tabla_SERIEA_01_5[[#This Row],[IdEstablecimiento]],[2]Establecimientos!$A$1:$E$175,5,FALSE),0)","v":"04101-LA SERENA"},"200499","80307011","2020-05-26T01:18:37",57,null,57]
[7,"5",2020,{"$f":"IFERROR(VLOOKUP([1]!Tabla_SERIEA_01_5[[#This Row],[IdEstablecimiento]],[2]Establecimientos!$A$1:$E$175,5,FALSE),0)","v":"04101-LA SERENA"},"105311","81901019","2020-08-20T16:53:20",1,null,1,null,1]
[7,"5",2020,{"$f":"IFERROR(VLOOKUP([1]!Tabla_SERIEA_01_5[[#This Row],[IdEstablecimiento]],[2]Establecimientos!$A$1:$E$175,5,FALSE),0)","v":"04101-LA SERENA"},"105311","80106002","2020-08-20T16:53:20",69,null,69,null,69]
[9,"5",2020,{"$f":"IFERROR(VLOOKUP([1]!Tabla_SERIEA_01_5[[#This Row],[IdEstablecimiento]],[2]Establecimientos!$A$1:$E$175,5,FALSE),0)","v":"04105-PAIHUANO"},"105819","18020800","2020-10-16T10:44:18",24,24,0]
[2,"5",2020,{"$f":"IFERROR(VLOOKUP([1]!Tabla_SERIEA_01_5[[#This Row],[IdEstablecimiento]],[2]Establecimientos!$A$1:$E$175,5,FALSE),0)","v":"04101-LA SERENA"},"105307","18020700","2020-03-19T18:40:25",9,6,3]
[5,"5",2020,{"$f":"IFERROR(VLOOKUP([1]!Tabla_SERIEA_01_5[[#This Row],[IdEstablecimiento]],[2]Establecimientos!$A$1:$E$175,5,FALSE),0)","v":"04202-CANELA"},"105321","81602222","2020-06-12T19:30:47",8,8,0,null,1]
[6,"5",2020,{"$f":"IFERROR(VLOOKUP([1]!Tabla_SERIEA_01_5[[#This Row],[IdEstablecimiento]],[2]Establecimientos!$A$1:$E$175,5,FALSE),0)","v":"04204-SALAMANCA"},"105323","80302013","2020-07-20T22:59:51",0,null,null,17]
[8,"5",2020,{"$f":"IFERROR(VLOOKUP([1]!Tabla_SERIEA_01_5[[#This Row],[IdEstablecimiento]],[2]Establecimientos!$A$1:$E$175,5,FALSE),0)","v":"04101-LA SERENA"},"200366","18020500","2020-09-16T17:49:27",22,0,22]
[4,"5",2020,{"$f":"IFERROR(VLOOKUP([1]!Tabla_SERIEA_01_5[[#This Row],[IdEstablecimiento]],[2]Establecimientos!$A$1:$E$175,5,FALSE),0)","v":"04101-LA SERENA"},"105307","18010100","2020-05-26T00:41:15",292,0,292]
[5,"5",2020,{"$f":"IFERROR(VLOOKUP([1]!Tabla_SERIEA_01_5[[#This Row],[IdEstablecimiento]],[2]Establecimientos!$A$1:$E$175,5,FALSE),0)","v":"04204-SALAMANCA"},"200366","80404003","2020-06-12T20:36:54",0,null,null,30]
[5,"5",2020,{"$f":"IFERROR(VLOOKUP([1]!Tabla_SERIEA_01_5[[#This Row],[IdEstablecimiento]],[2]Establecimientos!$A$1:$E$175,5,FALSE),0)","v":"04301-OVALLE"},"200366","81701001","2020-06-12T20:36:54",6,null,6]
[2,"5",2020,{"$f":"IFERROR(VLOOKUP([1]!Tabla_SERIEA_01_5[[#This Row],[IdEstablecimiento]],[2]Establecimientos!$A$1:$E$175,5,FALSE),0)","v":"04101-LA SERENA"},"105437","80106013","2020-03-19T19:09:51",1,null,1,null,1]
[3,"5",2020,{"$f":"IFERROR(VLOOKUP([1]!Tabla_SERIEA_01_5[[#This Row],[IdEstablecimiento]],[2]Establecimientos!$A$1:$E$175,5,FALSE),0)","v":"04101-LA SERENA"},"105305","80401053","2020-04-16T21:46:35",3,1,2]
[8,"5",2020,{"$f":"IFERROR(VLOOKUP([1]!Tabla_SERIEA_01_5[[#This Row],[IdEstablecimiento]],[2]Establecimientos!$A$1:$E$175,5,FALSE),0)","v":"04102-COQUIMBO"},"200366","80106015","2020-09-16T17:49:27",3,null,3]
[8,"5",2020,{"$f":"IFERROR(VLOOKUP([1]!Tabla_SERIEA_01_5[[#This Row],[IdEstablecimiento]],[2]Establecimientos!$A$1:$E$175,5,FALSE),0)","v":"04101-LA SERENA"},"200366","80305019","2020-09-16T17:49:27",0,null,null,4]
[5,"5",2020,{"$f":"IFERROR(VLOOKUP([1]!Tabla_SERIEA_01_5[[#This Row],[IdEstablecimiento]],[2]Establecimientos!$A$1:$E$175,5,FALSE),0)","v":"04301-OVALLE"},"200720","80401062","2020-06-12T20:43:06",12,12]
[7,"5",2020,{"$f":"IFERROR(VLOOKUP([1]!Tabla_SERIEA_01_5[[#This Row],[IdEstablecimiento]],[2]Establecimientos!$A$1:$E$175,5,FALSE),0)","v":"04101-LA SERENA"},"105492","18020500","2020-08-20T17:46:40",1,0,1]
[2,"5",2020,{"$f":"IFERROR(VLOOKUP([1]!Tabla_SERIEA_01_5[[#This Row],[IdEstablecimiento]],[2]Establecimientos!$A$1:$E$175,5,FALSE),0)","v":"04305-RIO HURTADO"},"105322","80301034","2020-03-19T18:51:53",90,null,90]
[2,"5",2020,{"$f":"IFERROR(VLOOKUP([1]!Tabla_SERIEA_01_5[[#This Row],[IdEstablecimiento]],[2]Establecimientos!$A$1:$E$175,5,FALSE),0)","v":"04101-LA SERENA"},"105322","80301036","2020-03-19T18:51:53",304,null,304]
[10,"5",2020,{"$f":"IFERROR(VLOOKUP([1]!Tabla_SERIEA_01_5[[#This Row],[IdEstablecimiento]],[2]Establecimientos!$A$1:$E$175,5,FALSE),0)","v":"04101-LA SERENA"},"105431","81701009","2020-11-12T07:24:03",8,null,8,null,8]
[2,"5",2020,{"$f":"IFERROR(VLOOKUP([1]!Tabla_SERIEA_01_5[[#This Row],[IdEstablecimiento]],[2]Establecimientos!$A$1:$E$175,5,FALSE),0)","v":"04101-LA SERENA"},"105491","80106015","2020-03-19T21:17:51",9,null,9]
[2,"5",2020,{"$f":"IFERROR(VLOOKUP([1]!Tabla_SERIEA_01_5[[#This Row],[IdEstablecimiento]],[2]Establecimientos!$A$1:$E$175,5,FALSE),0)","v":"04203-LOS VILOS"},"105492","81701001","2020-03-19T21:18:07",4,null,4]
[2,"5",2020,{"$f":"IFERROR(VLOOKUP([1]!Tabla_SERIEA_01_5[[#This Row],[IdEstablecimiento]],[2]Establecimientos!$A$1:$E$175,5,FALSE),0)","v":"04101-LA SERENA"},"105499","80307012","2020-03-19T21:23:26",2,null,2]
[4,"5",2020,{"$f":"IFERROR(VLOOKUP([1]!Tabla_SERIEA_01_5[[#This Row],[IdEstablecimiento]],[2]Establecimientos!$A$1:$E$175,5,FALSE),0)","v":"105102-HOSPITAL OVALLE"},"105319","18011001","2020-05-26T00:43:58",190,190,0]
[2,"5",2020,{"$f":"IFERROR(VLOOKUP([1]!Tabla_SERIEA_01_5[[#This Row],[IdEstablecimiento]],[2]Establecimientos!$A$1:$E$175,5,FALSE),0)","v":"04101-LA SERENA"},"105317","81602222","2020-03-19T18:50:04",3,3]
[5,"5",2020,{"$f":"IFERROR(VLOOKUP([1]!Tabla_SERIEA_01_5[[#This Row],[IdEstablecimiento]],[2]Establecimientos!$A$1:$E$175,5,FALSE),0)","v":"04203-LOS VILOS"},"105308","18090000","2020-06-12T19:27:03",6,0,6]
[8,"5",2020,{"$f":"IFERROR(VLOOKUP([1]!Tabla_SERIEA_01_5[[#This Row],[IdEstablecimiento]],[2]Establecimientos!$A$1:$E$175,5,FALSE),0)","v":"04102-COQUIMBO"},"105313","80301014","2020-09-16T16:40:23",0,null,null,7]
[10,"5",2020,{"$f":"IFERROR(VLOOKUP([1]!Tabla_SERIEA_01_5[[#This Row],[IdEstablecimiento]],[2]Establecimientos!$A$1:$E$175,5,FALSE),0)","v":"105104-HOSPITAL SALAMANCA"},"105308","81602222","2020-11-12T07:09:09",18,null,18,null,18]
[9,"5",2020,{"$f":"IFERROR(VLOOKUP([1]!Tabla_SERIEA_01_5[[#This Row],[IdEstablecimiento]],[2]Establecimientos!$A$1:$E$175,5,FALSE),0)","v":"04101-LA SERENA"},"105305","18090000","2020-10-16T09:13:49",8,0,8]
[1,"5",2020,{"$f":"IFERROR(VLOOKUP([1]!Tabla_SERIEA_01_5[[#This Row],[IdEstablecimiento]],[2]Establecimientos!$A$1:$E$175,5,FALSE),0)","v":"04301-OVALLE"},"200402","80302023","2020-03-19T00:46:43",0,null,null,40]
[1,"5",2020,{"$f":"IFERROR(VLOOKUP([1]!Tabla_SERIEA_01_5[[#This Row],[IdEstablecimiento]],[2]Establecimientos!$A$1:$E$175,5,FALSE),0)","v":"04101-LA SERENA"},"200402","80306048","2020-03-19T00:46:43",0,null,null,4]
[6,"5",2020,{"$f":"IFERROR(VLOOKUP([1]!Tabla_SERIEA_01_5[[#This Row],[IdEstablecimiento]],[2]Establecimientos!$A$1:$E$175,5,FALSE),0)","v":"04202-CANELA"},"105308","80301045","2020-07-20T22:56:14",0,null,null,35]
[1,"5",2020,{"$f":"IFERROR(VLOOKUP([1]!Tabla_SERIEA_01_5[[#This Row],[IdEstablecimiento]],[2]Establecimientos!$A$1:$E$175,5,FALSE),0)","v":"04106-VICUÑA"},"105413","80500011","2020-03-18T23:52:10",7,null,7,null,7]
[9,"5",2020,{"$f":"IFERROR(VLOOKUP([1]!Tabla_SERIEA_01_5[[#This Row],[IdEstablecimiento]],[2]Establecimientos!$A$1:$E$175,5,FALSE),0)","v":"04201-ILLAPEL"},"105817","18090200","2020-10-16T10:43:57",126]
[9,"5",2020,{"$f":"IFERROR(VLOOKUP([1]!Tabla_SERIEA_01_5[[#This Row],[IdEstablecimiento]],[2]Establecimientos!$A$1:$E$175,5,FALSE),0)","v":"04305-RIO HURTADO"},"105819","80401032","2020-10-16T10:44:18",37,37]
[4,"5",2020,{"$f":"IFERROR(VLOOKUP([1]!Tabla_SERIEA_01_5[[#This Row],[IdEstablecimiento]],[2]Establecimientos!$A$1:$E$175,5,FALSE),0)","v":"105108-HOSPITAL LOS VILOS"},"105499","81301025","2020-05-26T01:11:25",1,null,1,null,1]
[2,"5",2020,{"$f":"IFERROR(VLOOKUP([1]!Tabla_SERIEA_01_5[[#This Row],[IdEstablecimiento]],[2]Establecimientos!$A$1:$E$175,5,FALSE),0)","v":"04101-LA SERENA"},"105300","80302023","2020-03-19T18:31:57",0,null,null,487]
[7,"5",2020,{"$f":"IFERROR(VLOOKUP([1]!Tabla_SERIEA_01_5[[#This Row],[IdEstablecimiento]],[2]Establecimientos!$A$1:$E$175,5,FALSE),0)","v":"04301-OVALLE"},"105410","80309013","2020-08-20T17:03:50",0,null,null,19]
[7,"5",2020,{"$f":"IFERROR(VLOOKUP([1]!Tabla_SERIEA_01_5[[#This Row],[IdEstablecimiento]],[2]Establecimientos!$A$1:$E$175,5,FALSE),0)","v":"04101-LA SERENA"},"105410","80301041","2020-08-20T17:03:50",0,null,null,5]
[8,"5",2020,{"$f":"IFERROR(VLOOKUP([1]!Tabla_SERIEA_01_5[[#This Row],[IdEstablecimiento]],[2]Establecimientos!$A$1:$E$175,5,FALSE),0)","v":"04101-LA SERENA"},"105305","80302032","2020-09-16T16:37:47",0,null,null,61]
[1,"5",2020,{"$f":"IFERROR(VLOOKUP([1]!Tabla_SERIEA_01_5[[#This Row],[IdEstablecimiento]],[2]Establecimientos!$A$1:$E$175,5,FALSE),0)","v":"105101-HOSPITAL COQUIMBO"},"105428","81602222","2020-03-18T23:54:54",2,null,2,null,2]
[7,"5",2020,{"$f":"IFERROR(VLOOKUP([1]!Tabla_SERIEA_01_5[[#This Row],[IdEstablecimiento]],[2]Establecimientos!$A$1:$E$175,5,FALSE),0)","v":"04101-LA SERENA"},"105431","80106022","2020-08-20T17:16:08",1,null,1,null,1]
[8,"5",2020,{"$f":"IFERROR(VLOOKUP([1]!Tabla_SERIEA_01_5[[#This Row],[IdEstablecimiento]],[2]Establecimientos!$A$1:$E$175,5,FALSE),0)","v":"105011-PRAIS"},"105325","80404002","2020-09-16T16:43:39",16,null,16]
[4,"5",2020,{"$f":"IFERROR(VLOOKUP([1]!Tabla_SERIEA_01_5[[#This Row],[IdEstablecimiento]],[2]Establecimientos!$A$1:$E$175,5,FALSE),0)","v":"105108-HOSPITAL LOS VILOS"},"105499","80302067","2020-05-26T01:11:25",0,null,null,1]
[1,"5",2020,{"$f":"IFERROR(VLOOKUP([1]!Tabla_SERIEA_01_5[[#This Row],[IdEstablecimiento]],[2]Establecimientos!$A$1:$E$175,5,FALSE),0)","v":"04101-LA SERENA"},"105432","82001015","2020-03-18T23:55:47",2,null,2,null,2]
[6,"5",2020,{"$f":"IFERROR(VLOOKUP([1]!Tabla_SERIEA_01_5[[#This Row],[IdEstablecimiento]],[2]Establecimientos!$A$1:$E$175,5,FALSE),0)","v":"105107-HOSPITAL VICUÑA"},"105313","80302067","2020-07-20T22:57:37",0,null,null,95]
[6,"5",2020,{"$f":"IFERROR(VLOOKUP([1]!Tabla_SERIEA_01_5[[#This Row],[IdEstablecimiento]],[2]Establecimientos!$A$1:$E$175,5,FALSE),0)","v":"04301-OVALLE"},"105313","80302032","2020-07-20T22:57:37",0,null,null,30]
[1,"5",2020,{"$f":"IFERROR(VLOOKUP([1]!Tabla_SERIEA_01_5[[#This Row],[IdEstablecimiento]],[2]Establecimientos!$A$1:$E$175,5,FALSE),0)","v":"04101-LA SERENA"},"105450","81901019","2020-03-19T00:03:36",1,null,1,null,1]
[2,"5",2020,{"$f":"IFERROR(VLOOKUP([1]!Tabla_SERIEA_01_5[[#This Row],[IdEstablecimiento]],[2]Establecimientos!$A$1:$E$175,5,FALSE),0)","v":"04101-LA SERENA"},"105493","80106002","2020-03-19T21:18:21",2,null,2,null,2]
[2,"5",2020,{"$f":"IFERROR(VLOOKUP([1]!Tabla_SERIEA_01_5[[#This Row],[IdEstablecimiento]],[2]Establecimientos!$A$1:$E$175,5,FALSE),0)","v":"04204-SALAMANCA"},"105307","80302060","2020-03-19T18:40:25",26,null,26]
[2,"5",2020,{"$f":"IFERROR(VLOOKUP([1]!Tabla_SERIEA_01_5[[#This Row],[IdEstablecimiento]],[2]Establecimientos!$A$1:$E$175,5,FALSE),0)","v":"04204-SALAMANCA"},"105307","80302064","2020-03-19T18:40:25",14,null,14]
[2,"5",2020,{"$f":"IFERROR(VLOOKUP([1]!Tabla_SERIEA_01_5[[#This Row],[IdEstablecimiento]],[2]Establecimientos!$A$1:$E$175,5,FALSE),0)","v":"04101-LA SERENA"},"105302","80302067","2020-03-19T18:32:44",0,null,null,451]
[2,"5",2020,{"$f":"IFERROR(VLOOKUP([1]!Tabla_SERIEA_01_5[[#This Row],[IdEstablecimiento]],[2]Establecimientos!$A$1:$E$175,5,FALSE),0)","v":"04101-LA SERENA"},"200366","80302057","2020-05-26T01:53:13",0,null,null,130]
[7,"5",2020,{"$f":"IFERROR(VLOOKUP([1]!Tabla_SERIEA_01_5[[#This Row],[IdEstablecimiento]],[2]Establecimientos!$A$1:$E$175,5,FALSE),0)","v":"04101-LA SERENA"},"105477","18020200","2020-08-20T17:40:56",6,6,0]
[10,"5",2020,{"$f":"IFERROR(VLOOKUP([1]!Tabla_SERIEA_01_5[[#This Row],[IdEstablecimiento]],[2]Establecimientos!$A$1:$E$175,5,FALSE),0)","v":"04101-LA SERENA"},"105414","81701001","2020-11-12T07:20:37",1,1]
[2,"5",2020,{"$f":"IFERROR(VLOOKUP([1]!Tabla_SERIEA_01_5[[#This Row],[IdEstablecimiento]],[2]Establecimientos!$A$1:$E$175,5,FALSE),0)","v":"04101-LA SERENA"},"200494","80302068","2020-03-19T21:32:14",0,null,null,272]
[10,"5",2020,{"$f":"IFERROR(VLOOKUP([1]!Tabla_SERIEA_01_5[[#This Row],[IdEstablecimiento]],[2]Establecimientos!$A$1:$E$175,5,FALSE),0)","v":"04101-LA SERENA"},"105472","80302076","2020-11-12T07:53:01",0,null,null,7]
[5,"5",2020,{"$f":"IFERROR(VLOOKUP([1]!Tabla_SERIEA_01_5[[#This Row],[IdEstablecimiento]],[2]Establecimientos!$A$1:$E$175,5,FALSE),0)","v":"04101-LA SERENA"},"105323","80306051","2020-06-12T19:31:15",0,null,null,1]
[5,"5",2020,{"$f":"IFERROR(VLOOKUP([1]!Tabla_SERIEA_01_5[[#This Row],[IdEstablecimiento]],[2]Establecimientos!$A$1:$E$175,5,FALSE),0)","v":"04101-LA SERENA"},"105323","18020600","2020-06-12T19:31:15",2,1,1]
[2,"5",2020,{"$f":"IFERROR(VLOOKUP([1]!Tabla_SERIEA_01_5[[#This Row],[IdEstablecimiento]],[2]Establecimientos!$A$1:$E$175,5,FALSE),0)","v":"04101-LA SERENA"},"105447","18020500","2020-03-19T20:39:47",8,0,8]
[11,"5",2020,{"$f":"IFERROR(VLOOKUP([1]!Tabla_SERIEA_01_5[[#This Row],[IdEstablecimiento]],[2]Establecimientos!$A$1:$E$175,5,FALSE),0)","v":"04101-LA SERENA"},"105307","80302076","2020-12-11T14:50:31",197,null,197]
[11,"5",2020,{"$f":"IFERROR(VLOOKUP([1]!Tabla_SERIEA_01_5[[#This Row],[IdEstablecimiento]],[2]Establecimientos!$A$1:$E$175,5,FALSE),0)","v":"04101-LA SERENA"},"105307","18010601","2020-12-11T14:50:31",158,0,158]
[11,"5",2020,{"$f":"IFERROR(VLOOKUP([1]!Tabla_SERIEA_01_5[[#This Row],[IdEstablecimiento]],[2]Establecimientos!$A$1:$E$175,5,FALSE),0)","v":"04101-LA SERENA"},"105311","18020500","2020-12-11T14:51:36",479,0,479]
[11,"5",2020,{"$f":"IFERROR(VLOOKUP([1]!Tabla_SERIEA_01_5[[#This Row],[IdEstablecimiento]],[2]Establecimientos!$A$1:$E$175,5,FALSE),0)","v":"04101-LA SERENA"},"105311","18400900","2020-12-11T14:51:36",4,1,3]
[11,"5",2020,{"$f":"IFERROR(VLOOKUP([1]!Tabla_SERIEA_01_5[[#This Row],[IdEstablecimiento]],[2]Establecimientos!$A$1:$E$175,5,FALSE),0)","v":"04101-LA SERENA"},"105313","80106002","2020-12-11T14:52:05",163,null,163,null,163]
[11,"5",2020,{"$f":"IFERROR(VLOOKUP([1]!Tabla_SERIEA_01_5[[#This Row],[IdEstablecimiento]],[2]Establecimientos!$A$1:$E$175,5,FALSE),0)","v":"04101-LA SERENA"},"105313","80306042","2020-12-11T14:52:05",0,null,null,50]
[11,"5",2020,{"$f":"IFERROR(VLOOKUP([1]!Tabla_SERIEA_01_5[[#This Row],[IdEstablecimiento]],[2]Establecimientos!$A$1:$E$175,5,FALSE),0)","v":"04101-LA SERENA"},"105313","18400600","2020-12-11T14:52:05",51,0,51]
[11,"5",2020,{"$f":"IFERROR(VLOOKUP([1]!Tabla_SERIEA_01_5[[#This Row],[IdEstablecimiento]],[2]Establecimientos!$A$1:$E$175,5,FALSE),0)","v":"04101-LA SERENA"},"105315","81701009","2020-12-11T14:52:34",29,null,29,null,29]
[11,"5",2020,{"$f":"IFERROR(VLOOKUP([1]!Tabla_SERIEA_01_5[[#This Row],[IdEstablecimiento]],[2]Establecimientos!$A$1:$E$175,5,FALSE),0)","v":"105106-HOSPITAL ANDACOLLO"},"105318","80404002","2020-12-11T14:53:04",12,null,12]
[11,"5",2020,{"$f":"IFERROR(VLOOKUP([1]!Tabla_SERIEA_01_5[[#This Row],[IdEstablecimiento]],[2]Establecimientos!$A$1:$E$175,5,FALSE),0)","v":"04101-LA SERENA"},"105323","81602203","2020-12-11T14:55:21",2,null,2,null,2]
[11,"5",2020,{"$f":"IFERROR(VLOOKUP([1]!Tabla_SERIEA_01_5[[#This Row],[IdEstablecimiento]],[2]Establecimientos!$A$1:$E$175,5,FALSE),0)","v":"04101-LA SERENA"},"105323","81602224","2020-12-11T14:55:21",5,null,5,null,5]
[11,"5",2020,{"$f":"IFERROR(VLOOKUP([1]!Tabla_SERIEA_01_5[[#This Row],[IdEstablecimiento]],[2]Establecimientos!$A$1:$E$175,5,FALSE),0)","v":"04101-LA SERENA"},"105323","80302060","2020-12-11T14:55:21",0,null,null,14]
[11,"5",2020,{"$f":"IFERROR(VLOOKUP([1]!Tabla_SERIEA_01_5[[#This Row],[IdEstablecimiento]],[2]Establecimientos!$A$1:$E$175,5,FALSE),0)","v":"04203-LOS VILOS"},"105324","81701001","2020-12-11T14:55:36",16,null,16,null,16]
[11,"5",2020,{"$f":"IFERROR(VLOOKUP([1]!Tabla_SERIEA_01_5[[#This Row],[IdEstablecimiento]],[2]Establecimientos!$A$1:$E$175,5,FALSE),0)","v":"04102-COQUIMBO"},"105325","80301036","2020-12-11T14:56:13",0,null,null,176]
[11,"5",2020,{"$f":"IFERROR(VLOOKUP([1]!Tabla_SERIEA_01_5[[#This Row],[IdEstablecimiento]],[2]Establecimientos!$A$1:$E$175,5,FALSE),0)","v":"04102-COQUIMBO"},"105325","80302005","2020-12-11T14:56:13",0,null,null,7]
[10,"5",2020,{"$f":"IFERROR(VLOOKUP([1]!Tabla_SERIEA_01_5[[#This Row],[IdEstablecimiento]],[2]Establecimientos!$A$1:$E$175,5,FALSE),0)","v":"04102-COQUIMBO"},"105469","80301045","2020-11-12T07:51:12",0,null,null,17]
[3,"5",2020,{"$f":"IFERROR(VLOOKUP([1]!Tabla_SERIEA_01_5[[#This Row],[IdEstablecimiento]],[2]Establecimientos!$A$1:$E$175,5,FALSE),0)","v":"04102-COQUIMBO"},"200607","80302005","2020-05-26T02:01:24",0,null,null,82]
[7,"5",2020,{"$f":"IFERROR(VLOOKUP([1]!Tabla_SERIEA_01_5[[#This Row],[IdEstablecimiento]],[2]Establecimientos!$A$1:$E$175,5,FALSE),0)","v":"105108-HOSPITAL LOS VILOS"},"105478","80306042","2020-08-20T17:41:12",0,null,null,2]
[7,"5",2020,{"$f":"IFERROR(VLOOKUP([1]!Tabla_SERIEA_01_5[[#This Row],[IdEstablecimiento]],[2]Establecimientos!$A$1:$E$175,5,FALSE),0)","v":"04106-VICUÑA"},"105479","80309013","2020-08-20T17:41:28",0,null,null,12]
[9,"5",2020,{"$f":"IFERROR(VLOOKUP([1]!Tabla_SERIEA_01_5[[#This Row],[IdEstablecimiento]],[2]Establecimientos!$A$1:$E$175,5,FALSE),0)","v":"04202-CANELA"},"105490","81901019","2020-10-16T10:29:50",1,null,1,null,1]
[10,"5",2020,{"$f":"IFERROR(VLOOKUP([1]!Tabla_SERIEA_01_5[[#This Row],[IdEstablecimiento]],[2]Establecimientos!$A$1:$E$175,5,FALSE),0)","v":"04101-LA SERENA"},"105417","18050100","2020-11-12T07:21:28",19,0,19]
[5,"5",2020,{"$f":"IFERROR(VLOOKUP([1]!Tabla_SERIEA_01_5[[#This Row],[IdEstablecimiento]],[2]Establecimientos!$A$1:$E$175,5,FALSE),0)","v":"04101-LA SERENA"},"105305","80401045","2020-06-12T19:26:13",9,9]
[8,"5",2020,{"$f":"IFERROR(VLOOKUP([1]!Tabla_SERIEA_01_5[[#This Row],[IdEstablecimiento]],[2]Establecimientos!$A$1:$E$175,5,FALSE),0)","v":"04102-COQUIMBO"},"105307","80301036","2020-09-16T16:38:24",45,null,45]
[1,"5",2020,{"$f":"IFERROR(VLOOKUP([1]!Tabla_SERIEA_01_5[[#This Row],[IdEstablecimiento]],[2]Establecimientos!$A$1:$E$175,5,FALSE),0)","v":"04301-OVALLE"},"105445","80301041","2020-03-18T23:59:50",0,null,null,9]
[2,"5",2020,{"$f":"IFERROR(VLOOKUP([1]!Tabla_SERIEA_01_5[[#This Row],[IdEstablecimiento]],[2]Establecimientos!$A$1:$E$175,5,FALSE),0)","v":"105101-HOSPITAL COQUIMBO"},"105723","18050100","2020-03-19T21:29:44",28,0,28]
[8,"5",2020,{"$f":"IFERROR(VLOOKUP([1]!Tabla_SERIEA_01_5[[#This Row],[IdEstablecimiento]],[2]Establecimientos!$A$1:$E$175,5,FALSE),0)","v":"04202-CANELA"},"105311","18030000","2020-09-16T16:39:47",4,0,4]
[4,"5",2020,{"$f":"IFERROR(VLOOKUP([1]!Tabla_SERIEA_01_5[[#This Row],[IdEstablecimiento]],[2]Establecimientos!$A$1:$E$175,5,FALSE),0)","v":"04202-CANELA"},"105313","80302023","2020-05-26T00:42:45",0,null,null,75]
[3,"5",2020,{"$f":"IFERROR(VLOOKUP([1]!Tabla_SERIEA_01_5[[#This Row],[IdEstablecimiento]],[2]Establecimientos!$A$1:$E$175,5,FALSE),0)","v":"105106-HOSPITAL ANDACOLLO"},"200538","80302023","2020-04-16T23:12:13",0,null,null,47]
[9,"5",2020,{"$f":"IFERROR(VLOOKUP([1]!Tabla_SERIEA_01_5[[#This Row],[IdEstablecimiento]],[2]Establecimientos!$A$1:$E$175,5,FALSE),0)","v":"04101-LA SERENA"},"105822","80401070","2020-10-16T10:44:36",51,51]
[9,"5",2020,{"$f":"IFERROR(VLOOKUP([1]!Tabla_SERIEA_01_5[[#This Row],[IdEstablecimiento]],[2]Establecimientos!$A$1:$E$175,5,FALSE),0)","v":"04302-COMBARBALÁ"},"105822","80106020","2020-10-16T10:44:36",36,36]
[8,"5",2020,{"$f":"IFERROR(VLOOKUP([1]!Tabla_SERIEA_01_5[[#This Row],[IdEstablecimiento]],[2]Establecimientos!$A$1:$E$175,5,FALSE),0)","v":"105108-HOSPITAL LOS VILOS"},"105509","18050100","2020-09-16T17:37:30",18,0,18]
[7,"5",2020,{"$f":"IFERROR(VLOOKUP([1]!Tabla_SERIEA_01_5[[#This Row],[IdEstablecimiento]],[2]Establecimientos!$A$1:$E$175,5,FALSE),0)","v":"04201-ILLAPEL"},"105447","80302057","2020-08-20T17:22:08",0,null,null,21]
[1,"5",2020,{"$f":"IFERROR(VLOOKUP([1]!Tabla_SERIEA_01_5[[#This Row],[IdEstablecimiento]],[2]Establecimientos!$A$1:$E$175,5,FALSE),0)","v":"04201-ILLAPEL"},"105304","80500009","2020-05-26T01:48:33",19,0,19,0,18]
[3,"5",2020,{"$f":"IFERROR(VLOOKUP([1]!Tabla_SERIEA_01_5[[#This Row],[IdEstablecimiento]],[2]Establecimientos!$A$1:$E$175,5,FALSE),0)","v":"04303-MONTE PATRIA"},"105446","80106010","2020-04-16T22:37:36",1,null,1,null,1]
[3,"5",2020,{"$f":"IFERROR(VLOOKUP([1]!Tabla_SERIEA_01_5[[#This Row],[IdEstablecimiento]],[2]Establecimientos!$A$1:$E$175,5,FALSE),0)","v":"105101-HOSPITAL COQUIMBO"},"105466","80106023","2020-04-16T22:46:47",11,null,11,null,11]
[3,"5",2020,{"$f":"IFERROR(VLOOKUP([1]!Tabla_SERIEA_01_5[[#This Row],[IdEstablecimiento]],[2]Establecimientos!$A$1:$E$175,5,FALSE),0)","v":"04303-MONTE PATRIA"},"105305","80306011","2020-04-16T21:46:35",0,null,null,23]
[1,"5",2020,{"$f":"IFERROR(VLOOKUP([1]!Tabla_SERIEA_01_5[[#This Row],[IdEstablecimiento]],[2]Establecimientos!$A$1:$E$175,5,FALSE),0)","v":"105102-HOSPITAL OVALLE"},"105458","81701001","2020-03-19T00:06:20",21,null,21]
[2,"5",2020,{"$f":"IFERROR(VLOOKUP([1]!Tabla_SERIEA_01_5[[#This Row],[IdEstablecimiento]],[2]Establecimientos!$A$1:$E$175,5,FALSE),0)","v":"04302-COMBARBALÁ"},"105304","18040200","2020-05-26T01:53:32",8,0,8]
[5,"5",2020,{"$f":"IFERROR(VLOOKUP([1]!Tabla_SERIEA_01_5[[#This Row],[IdEstablecimiento]],[2]Establecimientos!$A$1:$E$175,5,FALSE),0)","v":"105104-HOSPITAL SALAMANCA"},"105326","80301041","2020-06-12T19:32:09",0,null,null,86]
[3,"5",2020,{"$f":"IFERROR(VLOOKUP([1]!Tabla_SERIEA_01_5[[#This Row],[IdEstablecimiento]],[2]Establecimientos!$A$1:$E$175,5,FALSE),0)","v":"04101-LA SERENA"},"105303","80404002","2020-04-16T21:45:28",18,null,18]
[10,"5",2020,{"$f":"IFERROR(VLOOKUP([1]!Tabla_SERIEA_01_5[[#This Row],[IdEstablecimiento]],[2]Establecimientos!$A$1:$E$175,5,FALSE),0)","v":"04305-RIO HURTADO"},"105473","80302047","2020-11-12T07:53:22",0,null,null,8]
[7,"5",2020,{"$f":"IFERROR(VLOOKUP([1]!Tabla_SERIEA_01_5[[#This Row],[IdEstablecimiento]],[2]Establecimientos!$A$1:$E$175,5,FALSE),0)","v":"04102-COQUIMBO"},"105478","80302023","2020-08-20T17:41:12",0,null,null,8]
[2,"5",2020,{"$f":"IFERROR(VLOOKUP([1]!Tabla_SERIEA_01_5[[#This Row],[IdEstablecimiento]],[2]Establecimientos!$A$1:$E$175,5,FALSE),0)","v":"04203-LOS VILOS"},"200367","81701001","2020-03-19T21:31:36",34,null,34,null,34]
[4,"5",2020,{"$f":"IFERROR(VLOOKUP([1]!Tabla_SERIEA_01_5[[#This Row],[IdEstablecimiento]],[2]Establecimientos!$A$1:$E$175,5,FALSE),0)","v":"04304-PUNITAQUI"},"105469","80106010","2020-05-26T01:02:51",3,null,3,null,3]
[6,"5",2020,{"$f":"IFERROR(VLOOKUP([1]!Tabla_SERIEA_01_5[[#This Row],[IdEstablecimiento]],[2]Establecimientos!$A$1:$E$175,5,FALSE),0)","v":"04105-PAIHUANO"},"105508","80106002","2020-07-20T23:59:41",12,null,12,null,12]
[5,"5",2020,{"$f":"IFERROR(VLOOKUP([1]!Tabla_SERIEA_01_5[[#This Row],[IdEstablecimiento]],[2]Establecimientos!$A$1:$E$175,5,FALSE),0)","v":"04102-COQUIMBO"},"105482","18050100","2020-06-12T20:20:33",21,0,21]
[6,"5",2020,{"$f":"IFERROR(VLOOKUP([1]!Tabla_SERIEA_01_5[[#This Row],[IdEstablecimiento]],[2]Establecimientos!$A$1:$E$175,5,FALSE),0)","v":"04303-MONTE PATRIA"},"105487","80301036","2020-07-20T23:42:00",0,null,null,4]
[1,"5",2020,{"$f":"IFERROR(VLOOKUP([1]!Tabla_SERIEA_01_5[[#This Row],[IdEstablecimiento]],[2]Establecimientos!$A$1:$E$175,5,FALSE),0)","v":"105102-HOSPITAL OVALLE"},"200402","80106017","2020-03-19T00:46:43",19,null,19,null,19]
[3,"5",2020,{"$f":"IFERROR(VLOOKUP([1]!Tabla_SERIEA_01_5[[#This Row],[IdEstablecimiento]],[2]Establecimientos!$A$1:$E$175,5,FALSE),0)","v":"105104-HOSPITAL SALAMANCA"},"105445","80404003","2020-04-16T22:20:38",0,null,null,1]
[1,"5",2020,{"$f":"IFERROR(VLOOKUP([1]!Tabla_SERIEA_01_5[[#This Row],[IdEstablecimiento]],[2]Establecimientos!$A$1:$E$175,5,FALSE),0)","v":"04201-ILLAPEL"},"105318","18020300","2020-03-18T23:46:52",30,0,30]
[8,"5",2020,{"$f":"IFERROR(VLOOKUP([1]!Tabla_SERIEA_01_5[[#This Row],[IdEstablecimiento]],[2]Establecimientos!$A$1:$E$175,5,FALSE),0)","v":"105102-HOSPITAL OVALLE"},"105321","80302034","2020-09-16T16:42:14",0,null,null,3]
[2,"5",2020,{"$f":"IFERROR(VLOOKUP([1]!Tabla_SERIEA_01_5[[#This Row],[IdEstablecimiento]],[2]Establecimientos!$A$1:$E$175,5,FALSE),0)","v":"105101-HOSPITAL COQUIMBO"},"200499","80302005","2020-03-19T21:32:31",0,null,null,91]
[6,"5",2020,{"$f":"IFERROR(VLOOKUP([1]!Tabla_SERIEA_01_5[[#This Row],[IdEstablecimiento]],[2]Establecimientos!$A$1:$E$175,5,FALSE),0)","v":"105105-HOSPITAL COMBARBALÁ"},"105309","18050100","2020-07-20T22:56:32",32,6,26]
[8,"5",2020,{"$f":"IFERROR(VLOOKUP([1]!Tabla_SERIEA_01_5[[#This Row],[IdEstablecimiento]],[2]Establecimientos!$A$1:$E$175,5,FALSE),0)","v":"105105-HOSPITAL COMBARBALÁ"},"105487","80106023","2020-09-16T17:29:41",11,null,11,null,11]
[3,"5",2020,{"$f":"IFERROR(VLOOKUP([1]!Tabla_SERIEA_01_5[[#This Row],[IdEstablecimiento]],[2]Establecimientos!$A$1:$E$175,5,FALSE),0)","v":"04102-COQUIMBO"},"200402","80302013","2020-04-16T23:11:25",0,null,null,3]
[4,"5",2020,{"$f":"IFERROR(VLOOKUP([1]!Tabla_SERIEA_01_5[[#This Row],[IdEstablecimiento]],[2]Establecimientos!$A$1:$E$175,5,FALSE),0)","v":"04104-LA HIGUERA"},"105303","18400700","2020-05-26T00:37:39",3919]
[11,"5",2020,{"$f":"IFERROR(VLOOKUP([1]!Tabla_SERIEA_01_5[[#This Row],[IdEstablecimiento]],[2]Establecimientos!$A$1:$E$175,5,FALSE),0)","v":"04301-OVALLE"},"105303","80302040","2020-12-11T14:48:58",0,null,null,21]
[6,"5",2020,{"$f":"IFERROR(VLOOKUP([1]!Tabla_SERIEA_01_5[[#This Row],[IdEstablecimiento]],[2]Establecimientos!$A$1:$E$175,5,FALSE),0)","v":"04101-LA SERENA"},"105310","80106017","2020-07-20T22:56:49",37,null,37,null,37]
[6,"5",2020,{"$f":"IFERROR(VLOOKUP([1]!Tabla_SERIEA_01_5[[#This Row],[IdEstablecimiento]],[2]Establecimientos!$A$1:$E$175,5,FALSE),0)","v":"105105-HOSPITAL COMBARBALÁ"},"105310","80106020","2020-07-20T22:56:49",2,null,2,null,2]
[1,"5",2020,{"$f":"IFERROR(VLOOKUP([1]!Tabla_SERIEA_01_5[[#This Row],[IdEstablecimiento]],[2]Establecimientos!$A$1:$E$175,5,FALSE),0)","v":"04303-MONTE PATRIA"},"105498","80106015","2020-03-19T00:39:46",2,null,2,null,2]
[7,"5",2020,{"$f":"IFERROR(VLOOKUP([1]!Tabla_SERIEA_01_5[[#This Row],[IdEstablecimiento]],[2]Establecimientos!$A$1:$E$175,5,FALSE),0)","v":"04303-MONTE PATRIA"},"105302","80307012","2020-08-20T16:50:43",241,null,241]
[7,"5",2020,{"$f":"IFERROR(VLOOKUP([1]!Tabla_SERIEA_01_5[[#This Row],[IdEstablecimiento]],[2]Establecimientos!$A$1:$E$175,5,FALSE),0)","v":"04303-MONTE PATRIA"},"105309","80302042","2020-08-20T16:52:47",0,null,null,3]
[2,"5",2020,{"$f":"IFERROR(VLOOKUP([1]!Tabla_SERIEA_01_5[[#This Row],[IdEstablecimiento]],[2]Establecimientos!$A$1:$E$175,5,FALSE),0)","v":"04104-LA HIGUERA"},"105326","80309023","2020-03-19T18:53:04",0,null,null,166]
[2,"5",2020,{"$f":"IFERROR(VLOOKUP([1]!Tabla_SERIEA_01_5[[#This Row],[IdEstablecimiento]],[2]Establecimientos!$A$1:$E$175,5,FALSE),0)","v":"105101-HOSPITAL COQUIMBO"},"105469","81701009","2020-03-19T21:05:48",50,null,50,null,50]
[9,"5",2020,{"$f":"IFERROR(VLOOKUP([1]!Tabla_SERIEA_01_5[[#This Row],[IdEstablecimiento]],[2]Establecimientos!$A$1:$E$175,5,FALSE),0)","v":"04102-COQUIMBO"},"105303","80404002","2020-10-16T09:01:41",11,null,11]
[8,"5",2020,{"$f":"IFERROR(VLOOKUP([1]!Tabla_SERIEA_01_5[[#This Row],[IdEstablecimiento]],[2]Establecimientos!$A$1:$E$175,5,FALSE),0)","v":"04102-COQUIMBO"},"105307","81701009","2020-09-16T16:38:24",42,null,42,null,42]
[2,"5",2020,{"$f":"IFERROR(VLOOKUP([1]!Tabla_SERIEA_01_5[[#This Row],[IdEstablecimiento]],[2]Establecimientos!$A$1:$E$175,5,FALSE),0)","v":"105108-HOSPITAL LOS VILOS"},"105499","80306048","2020-03-19T21:23:26",0,null,null,1]
[1,"5",2020,{"$f":"IFERROR(VLOOKUP([1]!Tabla_SERIEA_01_5[[#This Row],[IdEstablecimiento]],[2]Establecimientos!$A$1:$E$175,5,FALSE),0)","v":"04304-PUNITAQUI"},"105321","80303028","2020-03-18T23:48:07",0,null,null,1]
[1,"5",2020,{"$f":"IFERROR(VLOOKUP([1]!Tabla_SERIEA_01_5[[#This Row],[IdEstablecimiento]],[2]Establecimientos!$A$1:$E$175,5,FALSE),0)","v":"105600-COSAM Tierras Blancas (CESAM)"},"105503","18400500","2020-03-19T00:40:49",1,0,1]
[6,"5",2020,{"$f":"IFERROR(VLOOKUP([1]!Tabla_SERIEA_01_5[[#This Row],[IdEstablecimiento]],[2]Establecimientos!$A$1:$E$175,5,FALSE),0)","v":"04303-MONTE PATRIA"},"105301","80302048","2020-07-20T22:54:01",0,null,null,19]
[5,"5",2020,{"$f":"IFERROR(VLOOKUP([1]!Tabla_SERIEA_01_5[[#This Row],[IdEstablecimiento]],[2]Establecimientos!$A$1:$E$175,5,FALSE),0)","v":"04201-ILLAPEL"},"200538","80302023","2020-06-12T20:40:57",0,null,null,9]
[2,"5",2020,{"$f":"IFERROR(VLOOKUP([1]!Tabla_SERIEA_01_5[[#This Row],[IdEstablecimiento]],[2]Establecimientos!$A$1:$E$175,5,FALSE),0)","v":"04106-VICUÑA"},"105479","80302064","2020-03-19T21:08:24",0,null,null,4]
[8,"5",2020,{"$f":"IFERROR(VLOOKUP([1]!Tabla_SERIEA_01_5[[#This Row],[IdEstablecimiento]],[2]Establecimientos!$A$1:$E$175,5,FALSE),0)","v":"04102-COQUIMBO"},"105473","80309022","2020-09-16T17:24:50",0,null,null,4]
[7,"5",2020,{"$f":"IFERROR(VLOOKUP([1]!Tabla_SERIEA_01_5[[#This Row],[IdEstablecimiento]],[2]Establecimientos!$A$1:$E$175,5,FALSE),0)","v":"04102-COQUIMBO"},"200607","80301038","2020-08-20T18:20:55",0,null,null,28]
[7,"5",2020,{"$f":"IFERROR(VLOOKUP([1]!Tabla_SERIEA_01_5[[#This Row],[IdEstablecimiento]],[2]Establecimientos!$A$1:$E$175,5,FALSE),0)","v":"04201-ILLAPEL"},"200607","80106002","2020-08-20T18:20:55",176,25,151,5,171]
[10,"5",2020,{"$f":"IFERROR(VLOOKUP([1]!Tabla_SERIEA_01_5[[#This Row],[IdEstablecimiento]],[2]Establecimientos!$A$1:$E$175,5,FALSE),0)","v":"04303-MONTE PATRIA"},"105723","18050100","2020-11-12T08:13:08",7,0,7]
[11,"5",2020,{"$f":"IFERROR(VLOOKUP([1]!Tabla_SERIEA_01_5[[#This Row],[IdEstablecimiento]],[2]Establecimientos!$A$1:$E$175,5,FALSE),0)","v":"04301-OVALLE"},"105325","18050100","2020-12-11T14:56:13",272,0,272]
[11,"5",2020,{"$f":"IFERROR(VLOOKUP([1]!Tabla_SERIEA_01_5[[#This Row],[IdEstablecimiento]],[2]Establecimientos!$A$1:$E$175,5,FALSE),0)","v":"04301-OVALLE"},"105326","80301034","2020-12-11T14:56:28",0,null,null,4]
[11,"5",2020,{"$f":"IFERROR(VLOOKUP([1]!Tabla_SERIEA_01_5[[#This Row],[IdEstablecimiento]],[2]Establecimientos!$A$1:$E$175,5,FALSE),0)","v":"04301-OVALLE"},"105326","80106008","2020-12-11T14:56:28",1,null,1,1]
[11,"5",2020,{"$f":"IFERROR(VLOOKUP([1]!Tabla_SERIEA_01_5[[#This Row],[IdEstablecimiento]],[2]Establecimientos!$A$1:$E$175,5,FALSE),0)","v":"04301-OVALLE"},"105400","80302067","2020-12-11T14:57:20",0,null,null,11]
[11,"5",2020,{"$f":"IFERROR(VLOOKUP([1]!Tabla_SERIEA_01_5[[#This Row],[IdEstablecimiento]],[2]Establecimientos!$A$1:$E$175,5,FALSE),0)","v":"105106-HOSPITAL ANDACOLLO"},"105401","80106002","2020-12-11T14:57:38",24,null,24]
[11,"5",2020,{"$f":"IFERROR(VLOOKUP([1]!Tabla_SERIEA_01_5[[#This Row],[IdEstablecimiento]],[2]Establecimientos!$A$1:$E$175,5,FALSE),0)","v":"04102-COQUIMBO"},"105402","80301041","2020-12-11T14:57:55",0,null,null,15]
[11,"5",2020,{"$f":"IFERROR(VLOOKUP([1]!Tabla_SERIEA_01_5[[#This Row],[IdEstablecimiento]],[2]Establecimientos!$A$1:$E$175,5,FALSE),0)","v":"04102-COQUIMBO"},"105402","80302068","2020-12-11T14:57:55",0,null,null,17]
[11,"5",2020,{"$f":"IFERROR(VLOOKUP([1]!Tabla_SERIEA_01_5[[#This Row],[IdEstablecimiento]],[2]Establecimientos!$A$1:$E$175,5,FALSE),0)","v":"105107-HOSPITAL VICUÑA"},"105405","80106002","2020-12-11T14:59:04",42,null,42,null,4]
[11,"5",2020,{"$f":"IFERROR(VLOOKUP([1]!Tabla_SERIEA_01_5[[#This Row],[IdEstablecimiento]],[2]Establecimientos!$A$1:$E$175,5,FALSE),0)","v":"04204-SALAMANCA"},"105407","80106014","2020-12-11T14:59:23",23,null,23,null,23]
[11,"5",2020,{"$f":"IFERROR(VLOOKUP([1]!Tabla_SERIEA_01_5[[#This Row],[IdEstablecimiento]],[2]Establecimientos!$A$1:$E$175,5,FALSE),0)","v":"04105-PAIHUANO"},"105409","80301045","2020-12-11T14:59:39",0,null,null,17]
[11,"5",2020,{"$f":"IFERROR(VLOOKUP([1]!Tabla_SERIEA_01_5[[#This Row],[IdEstablecimiento]],[2]Establecimientos!$A$1:$E$175,5,FALSE),0)","v":"04101-LA SERENA"},"105435","81707030","2020-12-11T15:05:01",2,null,2,null,2]
[11,"5",2020,{"$f":"IFERROR(VLOOKUP([1]!Tabla_SERIEA_01_5[[#This Row],[IdEstablecimiento]],[2]Establecimientos!$A$1:$E$175,5,FALSE),0)","v":"04102-COQUIMBO"},"105437","80106017","2020-12-11T15:05:32",2,null,2,null,2]
[11,"5",2020,{"$f":"IFERROR(VLOOKUP([1]!Tabla_SERIEA_01_5[[#This Row],[IdEstablecimiento]],[2]Establecimientos!$A$1:$E$175,5,FALSE),0)","v":"04303-MONTE PATRIA"},"105440","18040200","2020-12-11T15:06:03",11,4,7]
[11,"5",2020,{"$f":"IFERROR(VLOOKUP([1]!Tabla_SERIEA_01_5[[#This Row],[IdEstablecimiento]],[2]Establecimientos!$A$1:$E$175,5,FALSE),0)","v":"04301-OVALLE"},"105443","80106017","2020-12-11T15:06:54",6,null,6,null,6]
[11,"5",2020,{"$f":"IFERROR(VLOOKUP([1]!Tabla_SERIEA_01_5[[#This Row],[IdEstablecimiento]],[2]Establecimientos!$A$1:$E$175,5,FALSE),0)","v":"04102-COQUIMBO"},"105443","80306011","2020-12-11T15:06:54",0,null,null,6]
[11,"5",2020,{"$f":"IFERROR(VLOOKUP([1]!Tabla_SERIEA_01_5[[#This Row],[IdEstablecimiento]],[2]Establecimientos!$A$1:$E$175,5,FALSE),0)","v":"105106-HOSPITAL ANDACOLLO"},"105444","80306011","2020-12-11T15:07:11",0,null,null,2]
[11,"5",2020,{"$f":"IFERROR(VLOOKUP([1]!Tabla_SERIEA_01_5[[#This Row],[IdEstablecimiento]],[2]Establecimientos!$A$1:$E$175,5,FALSE),0)","v":"04102-COQUIMBO"},"105447","80303024","2020-12-11T15:08:17",0,null,null,5]
[11,"5",2020,{"$f":"IFERROR(VLOOKUP([1]!Tabla_SERIEA_01_5[[#This Row],[IdEstablecimiento]],[2]Establecimientos!$A$1:$E$175,5,FALSE),0)","v":"04102-COQUIMBO"},"105447","80106023","2020-12-11T15:08:17",7,null,7,null,7]
[11,"5",2020,{"$f":"IFERROR(VLOOKUP([1]!Tabla_SERIEA_01_5[[#This Row],[IdEstablecimiento]],[2]Establecimientos!$A$1:$E$175,5,FALSE),0)","v":"04101-LA SERENA"},"105448","80106010","2020-12-11T15:08:33",2,null,2,null,2]
[11,"5",2020,{"$f":"IFERROR(VLOOKUP([1]!Tabla_SERIEA_01_5[[#This Row],[IdEstablecimiento]],[2]Establecimientos!$A$1:$E$175,5,FALSE),0)","v":"04305-RIO HURTADO"},"105450","18020500","2020-12-11T15:09:07",29,0,29]
[11,"5",2020,{"$f":"IFERROR(VLOOKUP([1]!Tabla_SERIEA_01_5[[#This Row],[IdEstablecimiento]],[2]Establecimientos!$A$1:$E$175,5,FALSE),0)","v":"04201-ILLAPEL"},"105452","80301041","2020-12-11T15:09:42",0,null,null,304]
[11,"5",2020,{"$f":"IFERROR(VLOOKUP([1]!Tabla_SERIEA_01_5[[#This Row],[IdEstablecimiento]],[2]Establecimientos!$A$1:$E$175,5,FALSE),0)","v":"04201-ILLAPEL"},"105452","80301059","2020-12-11T15:09:42",0,null,null,13]
[10,"5",2020,{"$f":"IFERROR(VLOOKUP([1]!Tabla_SERIEA_01_5[[#This Row],[IdEstablecimiento]],[2]Establecimientos!$A$1:$E$175,5,FALSE),0)","v":"04301-OVALLE"},"105805","80401032","2020-11-12T08:18:43",13,13]
[8,"5",2020,{"$f":"IFERROR(VLOOKUP([1]!Tabla_SERIEA_01_5[[#This Row],[IdEstablecimiento]],[2]Establecimientos!$A$1:$E$175,5,FALSE),0)","v":"04302-COMBARBALÁ"},"105326","80302057","2020-09-16T16:43:59",0,null,null,2]
[6,"5",2020,{"$f":"IFERROR(VLOOKUP([1]!Tabla_SERIEA_01_5[[#This Row],[IdEstablecimiento]],[2]Establecimientos!$A$1:$E$175,5,FALSE),0)","v":"04301-OVALLE"},"200607","80303024","2020-07-21T00:08:27",0,null,null,14]
[2,"5",2020,{"$f":"IFERROR(VLOOKUP([1]!Tabla_SERIEA_01_5[[#This Row],[IdEstablecimiento]],[2]Establecimientos!$A$1:$E$175,5,FALSE),0)","v":"04101-LA SERENA"},"105448","81701009","2020-03-19T20:40:25",15,null,15,null,15]
[5,"5",2020,{"$f":"IFERROR(VLOOKUP([1]!Tabla_SERIEA_01_5[[#This Row],[IdEstablecimiento]],[2]Establecimientos!$A$1:$E$175,5,FALSE),0)","v":"04201-ILLAPEL"},"105309","18400700","2020-06-12T19:27:18",801]
[6,"5",2020,{"$f":"IFERROR(VLOOKUP([1]!Tabla_SERIEA_01_5[[#This Row],[IdEstablecimiento]],[2]Establecimientos!$A$1:$E$175,5,FALSE),0)","v":"105101-HOSPITAL COQUIMBO"},"105477","81701001","2020-07-20T23:37:39",15,15,null,null,15]
[1,"5",2020,{"$f":"IFERROR(VLOOKUP([1]!Tabla_SERIEA_01_5[[#This Row],[IdEstablecimiento]],[2]Establecimientos!$A$1:$E$175,5,FALSE),0)","v":"04102-COQUIMBO"},"105303","80106020","2020-03-18T23:41:19",3,null,3,null,3]
[1,"5",2020,{"$f":"IFERROR(VLOOKUP([1]!Tabla_SERIEA_01_5[[#This Row],[IdEstablecimiento]],[2]Establecimientos!$A$1:$E$175,5,FALSE),0)","v":"04101-LA SERENA"},"105301","80305020","2020-03-18T23:40:40",0,null,null,13]
[1,"5",2020,{"$f":"IFERROR(VLOOKUP([1]!Tabla_SERIEA_01_5[[#This Row],[IdEstablecimiento]],[2]Establecimientos!$A$1:$E$175,5,FALSE),0)","v":"04102-COQUIMBO"},"105301","80306066","2020-03-18T23:40:40",0,null,null,18]
[6,"5",2020,{"$f":"IFERROR(VLOOKUP([1]!Tabla_SERIEA_01_5[[#This Row],[IdEstablecimiento]],[2]Establecimientos!$A$1:$E$175,5,FALSE),0)","v":"105101-HOSPITAL COQUIMBO"},"105499","80302064","2020-07-20T23:48:47",0,null,null,4]
[8,"5",2020,{"$f":"IFERROR(VLOOKUP([1]!Tabla_SERIEA_01_5[[#This Row],[IdEstablecimiento]],[2]Establecimientos!$A$1:$E$175,5,FALSE),0)","v":"04102-COQUIMBO"},"105307","80305019","2020-09-16T16:38:24",13,null,13]
[2,"5",2020,{"$f":"IFERROR(VLOOKUP([1]!Tabla_SERIEA_01_5[[#This Row],[IdEstablecimiento]],[2]Establecimientos!$A$1:$E$175,5,FALSE),0)","v":"04102-COQUIMBO"},"105318","18090200","2020-03-19T18:50:20",35]
[9,"5",2020,{"$f":"IFERROR(VLOOKUP([1]!Tabla_SERIEA_01_5[[#This Row],[IdEstablecimiento]],[2]Establecimientos!$A$1:$E$175,5,FALSE),0)","v":"105106-HOSPITAL ANDACOLLO"},"200499","80306042","2020-10-16T10:53:43",0,null,null,33]
[10,"5",2020,{"$f":"IFERROR(VLOOKUP([1]!Tabla_SERIEA_01_5[[#This Row],[IdEstablecimiento]],[2]Establecimientos!$A$1:$E$175,5,FALSE),0)","v":"04102-COQUIMBO"},"200366","18020500","2020-11-12T09:46:14",16,0,16]
[9,"5",2020,{"$f":"IFERROR(VLOOKUP([1]!Tabla_SERIEA_01_5[[#This Row],[IdEstablecimiento]],[2]Establecimientos!$A$1:$E$175,5,FALSE),0)","v":"04102-COQUIMBO"},"105479","80301059","2020-10-16T10:21:55",0,null,null,2]
[9,"5",2020,{"$f":"IFERROR(VLOOKUP([1]!Tabla_SERIEA_01_5[[#This Row],[IdEstablecimiento]],[2]Establecimientos!$A$1:$E$175,5,FALSE),0)","v":"04102-COQUIMBO"},"200538","80301045","2020-10-16T10:54:04",0,null,null,66]
[8,"5",2020,{"$f":"IFERROR(VLOOKUP([1]!Tabla_SERIEA_01_5[[#This Row],[IdEstablecimiento]],[2]Establecimientos!$A$1:$E$175,5,FALSE),0)","v":"04201-ILLAPEL"},"105323","80302040","2020-09-16T16:42:51",0,null,null,16]
[6,"5",2020,{"$f":"IFERROR(VLOOKUP([1]!Tabla_SERIEA_01_5[[#This Row],[IdEstablecimiento]],[2]Establecimientos!$A$1:$E$175,5,FALSE),0)","v":"04102-COQUIMBO"},"105306","80302012","2020-07-20T22:55:41",0,null,null,2]
[10,"5",2020,{"$f":"IFERROR(VLOOKUP([1]!Tabla_SERIEA_01_5[[#This Row],[IdEstablecimiento]],[2]Establecimientos!$A$1:$E$175,5,FALSE),0)","v":"04101-LA SERENA"},"105410","81701009","2020-11-12T07:19:46",7,null,7,null,7]
[10,"5",2020,{"$f":"IFERROR(VLOOKUP([1]!Tabla_SERIEA_01_5[[#This Row],[IdEstablecimiento]],[2]Establecimientos!$A$1:$E$175,5,FALSE),0)","v":"04102-COQUIMBO"},"105410","80302023","2020-11-12T07:19:46",0,null,null,10]
[10,"5",2020,{"$f":"IFERROR(VLOOKUP([1]!Tabla_SERIEA_01_5[[#This Row],[IdEstablecimiento]],[2]Establecimientos!$A$1:$E$175,5,FALSE),0)","v":"04102-COQUIMBO"},"105493","18050100","2020-11-12T08:02:30",5,0,5]
[10,"5",2020,{"$f":"IFERROR(VLOOKUP([1]!Tabla_SERIEA_01_5[[#This Row],[IdEstablecimiento]],[2]Establecimientos!$A$1:$E$175,5,FALSE),0)","v":"04204-SALAMANCA"},"105322","80309010","2020-11-12T07:15:37",682,null,682]
[4,"5",2020,{"$f":"IFERROR(VLOOKUP([1]!Tabla_SERIEA_01_5[[#This Row],[IdEstablecimiento]],[2]Establecimientos!$A$1:$E$175,5,FALSE),0)","v":"04102-COQUIMBO"},"105312","80106015","2020-05-26T00:42:28",40,null,40,null,40]
[1,"5",2020,{"$f":"IFERROR(VLOOKUP([1]!Tabla_SERIEA_01_5[[#This Row],[IdEstablecimiento]],[2]Establecimientos!$A$1:$E$175,5,FALSE),0)","v":"04102-COQUIMBO"},"200499","80301036","2020-04-17T20:26:29",0,null,null,40]
[7,"5",2020,{"$f":"IFERROR(VLOOKUP([1]!Tabla_SERIEA_01_5[[#This Row],[IdEstablecimiento]],[2]Establecimientos!$A$1:$E$175,5,FALSE),0)","v":"04201-ILLAPEL"},"105303","80307012","2020-08-20T16:51:02",4,null,4]
[9,"5",2020,{"$f":"IFERROR(VLOOKUP([1]!Tabla_SERIEA_01_5[[#This Row],[IdEstablecimiento]],[2]Establecimientos!$A$1:$E$175,5,FALSE),0)","v":"04102-COQUIMBO"},"105300","80301059","2020-10-16T09:00:14",0,null,null,13]
[7,"5",2020,{"$f":"IFERROR(VLOOKUP([1]!Tabla_SERIEA_01_5[[#This Row],[IdEstablecimiento]],[2]Establecimientos!$A$1:$E$175,5,FALSE),0)","v":"04101-LA SERENA"},"105467","80302076","2020-08-20T17:33:05",0,null,null,6]
[2,"5",2020,{"$f":"IFERROR(VLOOKUP([1]!Tabla_SERIEA_01_5[[#This Row],[IdEstablecimiento]],[2]Establecimientos!$A$1:$E$175,5,FALSE),0)","v":"04301-OVALLE"},"105469","80303026","2020-03-19T21:05:48",0,null,null,5]
[4,"5",2020,{"$f":"IFERROR(VLOOKUP([1]!Tabla_SERIEA_01_5[[#This Row],[IdEstablecimiento]],[2]Establecimientos!$A$1:$E$175,5,FALSE),0)","v":"04102-COQUIMBO"},"105318","18700100","2020-05-26T00:43:44",7,null,7]
[1,"5",2020,{"$f":"IFERROR(VLOOKUP([1]!Tabla_SERIEA_01_5[[#This Row],[IdEstablecimiento]],[2]Establecimientos!$A$1:$E$175,5,FALSE),0)","v":"105105-HOSPITAL COMBARBALÁ"},"105453","80106022","2020-03-19T00:04:42",2,null,2]
[2,"5",2020,{"$f":"IFERROR(VLOOKUP([1]!Tabla_SERIEA_01_5[[#This Row],[IdEstablecimiento]],[2]Establecimientos!$A$1:$E$175,5,FALSE),0)","v":"04102-COQUIMBO"},"105480","80303026","2020-03-19T21:08:47",0,null,null,24]
[6,"5",2020,{"$f":"IFERROR(VLOOKUP([1]!Tabla_SERIEA_01_5[[#This Row],[IdEstablecimiento]],[2]Establecimientos!$A$1:$E$175,5,FALSE),0)","v":"04102-COQUIMBO"},"105471","80106023","2020-07-20T23:35:31",12,null,12,null,12]
[3,"5",2020,{"$f":"IFERROR(VLOOKUP([1]!Tabla_SERIEA_01_5[[#This Row],[IdEstablecimiento]],[2]Establecimientos!$A$1:$E$175,5,FALSE),0)","v":"105105-HOSPITAL COMBARBALÁ"},"105301","80307012","2020-04-16T21:44:03",9,null,9]
[10,"5",2020,{"$f":"IFERROR(VLOOKUP([1]!Tabla_SERIEA_01_5[[#This Row],[IdEstablecimiento]],[2]Establecimientos!$A$1:$E$175,5,FALSE),0)","v":"04102-COQUIMBO"},"105468","18040200","2020-11-12T07:50:54",2,null,2]
[9,"5",2020,{"$f":"IFERROR(VLOOKUP([1]!Tabla_SERIEA_01_5[[#This Row],[IdEstablecimiento]],[2]Establecimientos!$A$1:$E$175,5,FALSE),0)","v":"105102-HOSPITAL OVALLE"},"105487","80306169","2020-10-16T10:27:18",0,null,null,1]
[8,"5",2020,{"$f":"IFERROR(VLOOKUP([1]!Tabla_SERIEA_01_5[[#This Row],[IdEstablecimiento]],[2]Establecimientos!$A$1:$E$175,5,FALSE),0)","v":"04102-COQUIMBO"},"105321","80309022","2020-09-16T16:42:14",0,null,null,76]
[8,"5",2020,{"$f":"IFERROR(VLOOKUP([1]!Tabla_SERIEA_01_5[[#This Row],[IdEstablecimiento]],[2]Establecimientos!$A$1:$E$175,5,FALSE),0)","v":"04102-COQUIMBO"},"105321","81201029","2020-09-16T16:42:14",5,5,null,2]
[8,"5",2020,{"$f":"IFERROR(VLOOKUP([1]!Tabla_SERIEA_01_5[[#This Row],[IdEstablecimiento]],[2]Establecimientos!$A$1:$E$175,5,FALSE),0)","v":"105106-HOSPITAL ANDACOLLO"},"200720","81602231","2020-09-16T17:55:29",1,1,null,1]
[6,"5",2020,{"$f":"IFERROR(VLOOKUP([1]!Tabla_SERIEA_01_5[[#This Row],[IdEstablecimiento]],[2]Establecimientos!$A$1:$E$175,5,FALSE),0)","v":"04102-COQUIMBO"},"105485","80302034","2020-07-20T23:41:10",0,null,null,5]
[4,"5",2020,{"$f":"IFERROR(VLOOKUP([1]!Tabla_SERIEA_01_5[[#This Row],[IdEstablecimiento]],[2]Establecimientos!$A$1:$E$175,5,FALSE),0)","v":"04301-OVALLE"},"105451","80106002","2020-05-26T00:56:15",4,null,4,null,4]
[6,"5",2020,{"$f":"IFERROR(VLOOKUP([1]!Tabla_SERIEA_01_5[[#This Row],[IdEstablecimiento]],[2]Establecimientos!$A$1:$E$175,5,FALSE),0)","v":"04102-COQUIMBO"},"105485","80306011","2020-07-20T23:41:10",0,null,null,1]
[3,"5",2020,{"$f":"IFERROR(VLOOKUP([1]!Tabla_SERIEA_01_5[[#This Row],[IdEstablecimiento]],[2]Establecimientos!$A$1:$E$175,5,FALSE),0)","v":"105105-HOSPITAL COMBARBALÁ"},"105431","80106014","2020-04-16T22:17:14",46,null,46,null,46]
[6,"5",2020,{"$f":"IFERROR(VLOOKUP([1]!Tabla_SERIEA_01_5[[#This Row],[IdEstablecimiento]],[2]Establecimientos!$A$1:$E$175,5,FALSE),0)","v":"04102-COQUIMBO"},"105323","18020600","2020-07-20T22:59:51",2,0,2]
[6,"5",2020,{"$f":"IFERROR(VLOOKUP([1]!Tabla_SERIEA_01_5[[#This Row],[IdEstablecimiento]],[2]Establecimientos!$A$1:$E$175,5,FALSE),0)","v":"105105-HOSPITAL COMBARBALÁ"},"105323","18050100","2020-07-20T22:59:51",165,0,165]
[10,"5",2020,{"$f":"IFERROR(VLOOKUP([1]!Tabla_SERIEA_01_5[[#This Row],[IdEstablecimiento]],[2]Establecimientos!$A$1:$E$175,5,FALSE),0)","v":"04102-COQUIMBO"},"105496","80302034","2020-11-12T08:02:50",0,null,null,14]
[3,"5",2020,{"$f":"IFERROR(VLOOKUP([1]!Tabla_SERIEA_01_5[[#This Row],[IdEstablecimiento]],[2]Establecimientos!$A$1:$E$175,5,FALSE),0)","v":"105101-HOSPITAL COQUIMBO"},"105453","80500011","2020-04-16T22:39:39",42,null,42]
[4,"5",2020,{"$f":"IFERROR(VLOOKUP([1]!Tabla_SERIEA_01_5[[#This Row],[IdEstablecimiento]],[2]Establecimientos!$A$1:$E$175,5,FALSE),0)","v":"04102-COQUIMBO"},"105700","80302040","2020-05-26T01:14:49",0,null,null,2]
[4,"5",2020,{"$f":"IFERROR(VLOOKUP([1]!Tabla_SERIEA_01_5[[#This Row],[IdEstablecimiento]],[2]Establecimientos!$A$1:$E$175,5,FALSE),0)","v":"04102-COQUIMBO"},"105700","80306011","2020-05-26T01:14:49",0,null,null,1]
[7,"5",2020,{"$f":"IFERROR(VLOOKUP([1]!Tabla_SERIEA_01_5[[#This Row],[IdEstablecimiento]],[2]Establecimientos!$A$1:$E$175,5,FALSE),0)","v":"04204-SALAMANCA"},"105467","18090000","2020-08-20T17:33:05",17,0,17]
[6,"5",2020,{"$f":"IFERROR(VLOOKUP([1]!Tabla_SERIEA_01_5[[#This Row],[IdEstablecimiento]],[2]Establecimientos!$A$1:$E$175,5,FALSE),0)","v":"04102-COQUIMBO"},"105701","80302047","2020-07-21T00:01:22",0,null,null,10]
[2,"5",2020,{"$f":"IFERROR(VLOOKUP([1]!Tabla_SERIEA_01_5[[#This Row],[IdEstablecimiento]],[2]Establecimientos!$A$1:$E$175,5,FALSE),0)","v":"04102-COQUIMBO"},"105701","80302063","2020-03-19T21:27:57",0,null,null,1]
[8,"5",2020,{"$f":"IFERROR(VLOOKUP([1]!Tabla_SERIEA_01_5[[#This Row],[IdEstablecimiento]],[2]Establecimientos!$A$1:$E$175,5,FALSE),0)","v":"04202-CANELA"},"200720","18020500","2020-09-16T17:55:29",195,195,0]
[3,"5",2020,{"$f":"IFERROR(VLOOKUP([1]!Tabla_SERIEA_01_5[[#This Row],[IdEstablecimiento]],[2]Establecimientos!$A$1:$E$175,5,FALSE),0)","v":"04102-COQUIMBO"},"105322","80306051","2020-04-16T21:58:21",18,null,18]
[6,"5",2020,{"$f":"IFERROR(VLOOKUP([1]!Tabla_SERIEA_01_5[[#This Row],[IdEstablecimiento]],[2]Establecimientos!$A$1:$E$175,5,FALSE),0)","v":"04102-COQUIMBO"},"105301","81602222","2020-07-20T22:54:01",2,2,null,2]
[6,"5",2020,{"$f":"IFERROR(VLOOKUP([1]!Tabla_SERIEA_01_5[[#This Row],[IdEstablecimiento]],[2]Establecimientos!$A$1:$E$175,5,FALSE),0)","v":"04202-CANELA"},"105322","80302024","2020-07-20T22:59:33",4,null,4]
[10,"5",2020,{"$f":"IFERROR(VLOOKUP([1]!Tabla_SERIEA_01_5[[#This Row],[IdEstablecimiento]],[2]Establecimientos!$A$1:$E$175,5,FALSE),0)","v":"04101-LA SERENA"},"105414","80500009","2020-11-12T07:20:37",1,null,1,null,1]
[7,"5",2020,{"$f":"IFERROR(VLOOKUP([1]!Tabla_SERIEA_01_5[[#This Row],[IdEstablecimiento]],[2]Establecimientos!$A$1:$E$175,5,FALSE),0)","v":"04202-CANELA"},"105511","80301015","2020-08-20T18:11:20",0,null,null,1]
[5,"5",2020,{"$f":"IFERROR(VLOOKUP([1]!Tabla_SERIEA_01_5[[#This Row],[IdEstablecimiento]],[2]Establecimientos!$A$1:$E$175,5,FALSE),0)","v":"04301-OVALLE"},"105407","80106020","2020-06-12T19:35:32",1,1]
[3,"5",2020,{"$f":"IFERROR(VLOOKUP([1]!Tabla_SERIEA_01_5[[#This Row],[IdEstablecimiento]],[2]Establecimientos!$A$1:$E$175,5,FALSE),0)","v":"04202-CANELA"},"105307","80306011","2020-04-16T21:47:17",150,null,150]
[2,"5",2020,{"$f":"IFERROR(VLOOKUP([1]!Tabla_SERIEA_01_5[[#This Row],[IdEstablecimiento]],[2]Establecimientos!$A$1:$E$175,5,FALSE),0)","v":"04202-CANELA"},"105323","80106007","2020-03-19T18:52:10",1,1,null,1]
[9,"5",2020,{"$f":"IFERROR(VLOOKUP([1]!Tabla_SERIEA_01_5[[#This Row],[IdEstablecimiento]],[2]Establecimientos!$A$1:$E$175,5,FALSE),0)","v":"04305-RIO HURTADO"},"105487","80106017","2020-10-16T10:27:18",16,null,16,null,16]
[4,"5",2020,{"$f":"IFERROR(VLOOKUP([1]!Tabla_SERIEA_01_5[[#This Row],[IdEstablecimiento]],[2]Establecimientos!$A$1:$E$175,5,FALSE),0)","v":"04301-OVALLE"},"200538","80307011","2020-05-26T01:18:55",0,null,null,59]
[2,"5",2020,{"$f":"IFERROR(VLOOKUP([1]!Tabla_SERIEA_01_5[[#This Row],[IdEstablecimiento]],[2]Establecimientos!$A$1:$E$175,5,FALSE),0)","v":"04301-OVALLE"},"105323","80302064","2020-03-19T18:52:10",0,null,null,282]
[7,"5",2020,{"$f":"IFERROR(VLOOKUP([1]!Tabla_SERIEA_01_5[[#This Row],[IdEstablecimiento]],[2]Establecimientos!$A$1:$E$175,5,FALSE),0)","v":"04102-COQUIMBO"},"105306","80305019","2020-08-20T16:51:54",0,null,null,3]
[4,"5",2020,{"$f":"IFERROR(VLOOKUP([1]!Tabla_SERIEA_01_5[[#This Row],[IdEstablecimiento]],[2]Establecimientos!$A$1:$E$175,5,FALSE),0)","v":"04305-RIO HURTADO"},"105483","18020500","2020-05-26T01:07:14",2,0,2]
[1,"5",2020,{"$f":"IFERROR(VLOOKUP([1]!Tabla_SERIEA_01_5[[#This Row],[IdEstablecimiento]],[2]Establecimientos!$A$1:$E$175,5,FALSE),0)","v":"04305-RIO HURTADO"},"200494","80306042","2020-03-19T00:47:01",0,null,null,86]
[6,"5",2020,{"$f":"IFERROR(VLOOKUP([1]!Tabla_SERIEA_01_5[[#This Row],[IdEstablecimiento]],[2]Establecimientos!$A$1:$E$175,5,FALSE),0)","v":"04102-COQUIMBO"},"200494","80302064","2020-07-21T00:05:17",0,null,null,30]
[4,"5",2020,{"$f":"IFERROR(VLOOKUP([1]!Tabla_SERIEA_01_5[[#This Row],[IdEstablecimiento]],[2]Establecimientos!$A$1:$E$175,5,FALSE),0)","v":"04106-VICUÑA"},"105498","81602222","2020-05-26T01:11:09",1,null,1,null,1]
[10,"5",2020,{"$f":"IFERROR(VLOOKUP([1]!Tabla_SERIEA_01_5[[#This Row],[IdEstablecimiento]],[2]Establecimientos!$A$1:$E$175,5,FALSE),0)","v":"04303-MONTE PATRIA"},"105499","80106006","2020-11-12T08:04:44",18,null,18,null,18]
[8,"5",2020,{"$f":"IFERROR(VLOOKUP([1]!Tabla_SERIEA_01_5[[#This Row],[IdEstablecimiento]],[2]Establecimientos!$A$1:$E$175,5,FALSE),0)","v":"04305-RIO HURTADO"},"200720","18050300","2020-09-16T17:55:29",2,2,0]
[11,"5",2020,{"$f":"IFERROR(VLOOKUP([1]!Tabla_SERIEA_01_5[[#This Row],[IdEstablecimiento]],[2]Establecimientos!$A$1:$E$175,5,FALSE),0)","v":"105108-HOSPITAL LOS VILOS"},"105452","18040200","2020-12-11T15:09:42",3,null,3]
[11,"5",2020,{"$f":"IFERROR(VLOOKUP([1]!Tabla_SERIEA_01_5[[#This Row],[IdEstablecimiento]],[2]Establecimientos!$A$1:$E$175,5,FALSE),0)","v":"04301-OVALLE"},"105456","18020500","2020-12-11T15:11:54",6,0,6]
[11,"5",2020,{"$f":"IFERROR(VLOOKUP([1]!Tabla_SERIEA_01_5[[#This Row],[IdEstablecimiento]],[2]Establecimientos!$A$1:$E$175,5,FALSE),0)","v":"04305-RIO HURTADO"},"105457","18050100","2020-12-11T15:12:12",26,0,26]
[11,"5",2020,{"$f":"IFERROR(VLOOKUP([1]!Tabla_SERIEA_01_5[[#This Row],[IdEstablecimiento]],[2]Establecimientos!$A$1:$E$175,5,FALSE),0)","v":"04305-RIO HURTADO"},"105471","80106002","2020-12-11T15:19:01",54,null,54,null,54]
[11,"5",2020,{"$f":"IFERROR(VLOOKUP([1]!Tabla_SERIEA_01_5[[#This Row],[IdEstablecimiento]],[2]Establecimientos!$A$1:$E$175,5,FALSE),0)","v":"04305-RIO HURTADO"},"105472","81701001","2020-12-11T15:19:17",5,null,5,null,5]
[11,"5",2020,{"$f":"IFERROR(VLOOKUP([1]!Tabla_SERIEA_01_5[[#This Row],[IdEstablecimiento]],[2]Establecimientos!$A$1:$E$175,5,FALSE),0)","v":"04305-RIO HURTADO"},"105472","80500011","2020-12-11T15:19:17",15,null,15,null,15]
[4,"5",2020,{"$f":"IFERROR(VLOOKUP([1]!Tabla_SERIEA_01_5[[#This Row],[IdEstablecimiento]],[2]Establecimientos!$A$1:$E$175,5,FALSE),0)","v":"04303-MONTE PATRIA"},"105308","80307011","2020-05-26T00:41:30",14,null,14]
[11,"5",2020,{"$f":"IFERROR(VLOOKUP([1]!Tabla_SERIEA_01_5[[#This Row],[IdEstablecimiento]],[2]Establecimientos!$A$1:$E$175,5,FALSE),0)","v":"04304-PUNITAQUI"},"105473","80301034","2020-12-11T15:19:33",0,null,null,2]
[11,"5",2020,{"$f":"IFERROR(VLOOKUP([1]!Tabla_SERIEA_01_5[[#This Row],[IdEstablecimiento]],[2]Establecimientos!$A$1:$E$175,5,FALSE),0)","v":"04303-MONTE PATRIA"},"105473","81701009","2020-12-11T15:19:33",67,null,67,null,67]
[4,"5",2020,{"$f":"IFERROR(VLOOKUP([1]!Tabla_SERIEA_01_5[[#This Row],[IdEstablecimiento]],[2]Establecimientos!$A$1:$E$175,5,FALSE),0)","v":"04304-PUNITAQUI"},"105467","80106007","2020-05-26T01:02:08",1,null,1,null,1]
[11,"5",2020,{"$f":"IFERROR(VLOOKUP([1]!Tabla_SERIEA_01_5[[#This Row],[IdEstablecimiento]],[2]Establecimientos!$A$1:$E$175,5,FALSE),0)","v":"04302-COMBARBALÁ"},"105474","80301041","2020-12-11T15:19:50",0,null,null,1]
[6,"5",2020,{"$f":"IFERROR(VLOOKUP([1]!Tabla_SERIEA_01_5[[#This Row],[IdEstablecimiento]],[2]Establecimientos!$A$1:$E$175,5,FALSE),0)","v":"04304-PUNITAQUI"},"105477","80106022","2020-07-20T23:37:39",2,2,null,null,2]
[10,"5",2020,{"$f":"IFERROR(VLOOKUP([1]!Tabla_SERIEA_01_5[[#This Row],[IdEstablecimiento]],[2]Establecimientos!$A$1:$E$175,5,FALSE),0)","v":"04304-PUNITAQUI"},"105803","18400700","2020-11-12T08:17:42",3735]
[11,"5",2020,{"$f":"IFERROR(VLOOKUP([1]!Tabla_SERIEA_01_5[[#This Row],[IdEstablecimiento]],[2]Establecimientos!$A$1:$E$175,5,FALSE),0)","v":"04304-PUNITAQUI"},"105474","80500011","2020-12-11T15:19:50",5,null,5,null,5]
[11,"5",2020,{"$f":"IFERROR(VLOOKUP([1]!Tabla_SERIEA_01_5[[#This Row],[IdEstablecimiento]],[2]Establecimientos!$A$1:$E$175,5,FALSE),0)","v":"04101-LA SERENA"},"105476","18020300","2020-12-11T15:28:32",1,0,1]
[4,"5",2020,{"$f":"IFERROR(VLOOKUP([1]!Tabla_SERIEA_01_5[[#This Row],[IdEstablecimiento]],[2]Establecimientos!$A$1:$E$175,5,FALSE),0)","v":"04304-PUNITAQUI"},"105410","80301045","2020-05-26T00:48:24",0,null,null,1]
[11,"5",2020,{"$f":"IFERROR(VLOOKUP([1]!Tabla_SERIEA_01_5[[#This Row],[IdEstablecimiento]],[2]Establecimientos!$A$1:$E$175,5,FALSE),0)","v":"04304-PUNITAQUI"},"105477","80106020","2020-12-11T15:30:31",3,null,3,null,3]
[4,"5",2020,{"$f":"IFERROR(VLOOKUP([1]!Tabla_SERIEA_01_5[[#This Row],[IdEstablecimiento]],[2]Establecimientos!$A$1:$E$175,5,FALSE),0)","v":"04304-PUNITAQUI"},"105410","81701001","2020-05-26T00:48:24",7,null,7,null,7]
[6,"5",2020,{"$f":"IFERROR(VLOOKUP([1]!Tabla_SERIEA_01_5[[#This Row],[IdEstablecimiento]],[2]Establecimientos!$A$1:$E$175,5,FALSE),0)","v":"04106-VICUÑA"},"200494","80301038","2020-07-21T00:05:17",0,null,null,25]
[11,"5",2020,{"$f":"IFERROR(VLOOKUP([1]!Tabla_SERIEA_01_5[[#This Row],[IdEstablecimiento]],[2]Establecimientos!$A$1:$E$175,5,FALSE),0)","v":"105105-HOSPITAL COMBARBALÁ"},"105480","80106014","2020-12-11T15:33:45",25,null,25,null,25]
[1,"5",2020,{"$f":"IFERROR(VLOOKUP([1]!Tabla_SERIEA_01_5[[#This Row],[IdEstablecimiento]],[2]Establecimientos!$A$1:$E$175,5,FALSE),0)","v":"04304-PUNITAQUI"},"105414","18070300","2020-03-18T23:52:26",17,{"$nulls":4},5,12]
[1,"5",2020,{"$f":"IFERROR(VLOOKUP([1]!Tabla_SERIEA_01_5[[#This Row],[IdEstablecimiento]],[2]Establecimientos!$A$1:$E$175,5,FALSE),0)","v":"04304-PUNITAQUI"},"105415","81701009","2020-03-18T23:52:49",44,null,44,null,44]
[1,"5",2020,{"$f":"IFERROR(VLOOKUP([1]!Tabla_SERIEA_01_5[[#This Row],[IdEstablecimiento]],[2]Establecimientos!$A$1:$E$175,5,FALSE),0)","v":"04304-PUNITAQUI"},"105415","80106002","2020-03-18T23:52:49",54,null,54,null,54]
[8,"5",2020,{"$f":"IFERROR(VLOOKUP([1]!Tabla_SERIEA_01_5[[#This Row],[IdEstablecimiento]],[2]Establecimientos!$A$1:$E$175,5,FALSE),0)","v":"04304-PUNITAQUI"},"105445","80302005","2020-09-16T18:37:00",0,null,null,5]
[11,"5",2020,{"$f":"IFERROR(VLOOKUP([1]!Tabla_SERIEA_01_5[[#This Row],[IdEstablecimiento]],[2]Establecimientos!$A$1:$E$175,5,FALSE),0)","v":"04304-PUNITAQUI"},"105484","18050100","2020-12-11T15:34:52",11,0,11]
[9,"5",2020,{"$f":"IFERROR(VLOOKUP([1]!Tabla_SERIEA_01_5[[#This Row],[IdEstablecimiento]],[2]Establecimientos!$A$1:$E$175,5,FALSE),0)","v":"04304-PUNITAQUI"},"105405","80302013","2020-10-16T09:23:04",0,null,null,8]
[4,"5",2020,{"$f":"IFERROR(VLOOKUP([1]!Tabla_SERIEA_01_5[[#This Row],[IdEstablecimiento]],[2]Establecimientos!$A$1:$E$175,5,FALSE),0)","v":"04304-PUNITAQUI"},"105473","80309013","2020-05-26T01:04:14",0,null,null,4]
[8,"5",2020,{"$f":"IFERROR(VLOOKUP([1]!Tabla_SERIEA_01_5[[#This Row],[IdEstablecimiento]],[2]Establecimientos!$A$1:$E$175,5,FALSE),0)","v":"04304-PUNITAQUI"},"105325","80306042","2020-09-16T16:43:39",0,null,null,56]
[8,"5",2020,{"$f":"IFERROR(VLOOKUP([1]!Tabla_SERIEA_01_5[[#This Row],[IdEstablecimiento]],[2]Establecimientos!$A$1:$E$175,5,FALSE),0)","v":"04304-PUNITAQUI"},"200607","80302048","2020-09-16T17:54:41",0,null,null,17]
[6,"5",2020,{"$f":"IFERROR(VLOOKUP([1]!Tabla_SERIEA_01_5[[#This Row],[IdEstablecimiento]],[2]Establecimientos!$A$1:$E$175,5,FALSE),0)","v":"04304-PUNITAQUI"},"105447","80307011","2020-07-20T23:21:46",0,null,null,2]
[2,"5",2020,{"$f":"IFERROR(VLOOKUP([1]!Tabla_SERIEA_01_5[[#This Row],[IdEstablecimiento]],[2]Establecimientos!$A$1:$E$175,5,FALSE),0)","v":"04304-PUNITAQUI"},"105723","80106014","2020-03-19T21:29:44",73,null,73,null,73]
[2,"5",2020,{"$f":"IFERROR(VLOOKUP([1]!Tabla_SERIEA_01_5[[#This Row],[IdEstablecimiento]],[2]Establecimientos!$A$1:$E$175,5,FALSE),0)","v":"04304-PUNITAQUI"},"105306","80301034","2020-03-19T18:40:00",0,null,null,1]
[3,"5",2020,{"$f":"IFERROR(VLOOKUP([1]!Tabla_SERIEA_01_5[[#This Row],[IdEstablecimiento]],[2]Establecimientos!$A$1:$E$175,5,FALSE),0)","v":"04202-CANELA"},"105401","80303026","2020-04-16T21:59:58",0,null,null,3]
[1,"5",2020,{"$f":"IFERROR(VLOOKUP([1]!Tabla_SERIEA_01_5[[#This Row],[IdEstablecimiento]],[2]Establecimientos!$A$1:$E$175,5,FALSE),0)","v":"04202-CANELA"},"200607","80302076","2020-05-26T01:51:54",0,null,null,71]
[8,"5",2020,{"$f":"IFERROR(VLOOKUP([1]!Tabla_SERIEA_01_5[[#This Row],[IdEstablecimiento]],[2]Establecimientos!$A$1:$E$175,5,FALSE),0)","v":"04202-CANELA"},"105479","80309022","2020-09-16T17:26:57",0,null,null,15]
[4,"5",2020,{"$f":"IFERROR(VLOOKUP([1]!Tabla_SERIEA_01_5[[#This Row],[IdEstablecimiento]],[2]Establecimientos!$A$1:$E$175,5,FALSE),0)","v":"04302-COMBARBALÁ"},"105510","80106013","2020-05-26T01:14:01",1,null,1,null,1]
[5,"5",2020,{"$f":"IFERROR(VLOOKUP([1]!Tabla_SERIEA_01_5[[#This Row],[IdEstablecimiento]],[2]Establecimientos!$A$1:$E$175,5,FALSE),0)","v":"04201-ILLAPEL"},"105309","80307011","2020-06-12T19:27:18",87,null,87,87]
[7,"5",2020,{"$f":"IFERROR(VLOOKUP([1]!Tabla_SERIEA_01_5[[#This Row],[IdEstablecimiento]],[2]Establecimientos!$A$1:$E$175,5,FALSE),0)","v":"04301-OVALLE"},"105306","80303026","2020-08-20T16:51:54",0,null,null,29]
[9,"5",2020,{"$f":"IFERROR(VLOOKUP([1]!Tabla_SERIEA_01_5[[#This Row],[IdEstablecimiento]],[2]Establecimientos!$A$1:$E$175,5,FALSE),0)","v":"04101-LA SERENA"},"105411","80302076","2020-10-16T09:24:22",0,null,null,3]
[1,"5",2020,{"$f":"IFERROR(VLOOKUP([1]!Tabla_SERIEA_01_5[[#This Row],[IdEstablecimiento]],[2]Establecimientos!$A$1:$E$175,5,FALSE),0)","v":"04305-RIO HURTADO"},"105323","18400500","2020-03-18T23:48:41",2,0,2]
[4,"5",2020,{"$f":"IFERROR(VLOOKUP([1]!Tabla_SERIEA_01_5[[#This Row],[IdEstablecimiento]],[2]Establecimientos!$A$1:$E$175,5,FALSE),0)","v":"105104-HOSPITAL SALAMANCA"},"200538","80309022","2020-05-26T01:18:55",0,null,null,9]
[6,"5",2020,{"$f":"IFERROR(VLOOKUP([1]!Tabla_SERIEA_01_5[[#This Row],[IdEstablecimiento]],[2]Establecimientos!$A$1:$E$175,5,FALSE),0)","v":"04102-COQUIMBO"},"105468","80106023","2020-07-20T23:34:18",5,null,5,null,5]
[4,"5",2020,{"$f":"IFERROR(VLOOKUP([1]!Tabla_SERIEA_01_5[[#This Row],[IdEstablecimiento]],[2]Establecimientos!$A$1:$E$175,5,FALSE),0)","v":"04102-COQUIMBO"},"105318","80106002","2020-05-26T00:43:44",162,6,156,null,162]
[2,"5",2020,{"$f":"IFERROR(VLOOKUP([1]!Tabla_SERIEA_01_5[[#This Row],[IdEstablecimiento]],[2]Establecimientos!$A$1:$E$175,5,FALSE),0)","v":"04105-PAIHUANO"},"200569","80500008","2020-03-19T21:33:08",8,null,8,null,8]
[9,"5",2020,{"$f":"IFERROR(VLOOKUP([1]!Tabla_SERIEA_01_5[[#This Row],[IdEstablecimiento]],[2]Establecimientos!$A$1:$E$175,5,FALSE),0)","v":"04204-SALAMANCA"},"105313","80301041","2020-10-16T09:17:19",0,null,null,66]
[9,"5",2020,{"$f":"IFERROR(VLOOKUP([1]!Tabla_SERIEA_01_5[[#This Row],[IdEstablecimiento]],[2]Establecimientos!$A$1:$E$175,5,FALSE),0)","v":"04204-SALAMANCA"},"105313","80306011","2020-10-16T09:17:19",0,null,null,1]
[8,"5",2020,{"$f":"IFERROR(VLOOKUP([1]!Tabla_SERIEA_01_5[[#This Row],[IdEstablecimiento]],[2]Establecimientos!$A$1:$E$175,5,FALSE),0)","v":"04201-ILLAPEL"},"105496","80106023","2020-09-16T17:33:18",4,null,4,null,4]
[1,"5",2020,{"$f":"IFERROR(VLOOKUP([1]!Tabla_SERIEA_01_5[[#This Row],[IdEstablecimiento]],[2]Establecimientos!$A$1:$E$175,5,FALSE),0)","v":"04203-LOS VILOS"},"105467","80303024","2020-03-19T00:08:40",0,null,null,19]
[3,"5",2020,{"$f":"IFERROR(VLOOKUP([1]!Tabla_SERIEA_01_5[[#This Row],[IdEstablecimiento]],[2]Establecimientos!$A$1:$E$175,5,FALSE),0)","v":"04101-LA SERENA"},"105481","80301045","2020-04-16T22:51:15",0,null,null,1]
[6,"5",2020,{"$f":"IFERROR(VLOOKUP([1]!Tabla_SERIEA_01_5[[#This Row],[IdEstablecimiento]],[2]Establecimientos!$A$1:$E$175,5,FALSE),0)","v":"04305-RIO HURTADO"},"105452","18040200","2020-07-20T23:26:20",3,null,3]
[9,"5",2020,{"$f":"IFERROR(VLOOKUP([1]!Tabla_SERIEA_01_5[[#This Row],[IdEstablecimiento]],[2]Establecimientos!$A$1:$E$175,5,FALSE),0)","v":"04303-MONTE PATRIA"},"105822","18010200","2020-10-16T10:44:36",12,12,0]
[9,"5",2020,{"$f":"IFERROR(VLOOKUP([1]!Tabla_SERIEA_01_5[[#This Row],[IdEstablecimiento]],[2]Establecimientos!$A$1:$E$175,5,FALSE),0)","v":"04104-LA HIGUERA"},"105825","80106017","2020-10-16T10:45:01",1,1,null,null,1]
[8,"5",2020,{"$f":"IFERROR(VLOOKUP([1]!Tabla_SERIEA_01_5[[#This Row],[IdEstablecimiento]],[2]Establecimientos!$A$1:$E$175,5,FALSE),0)","v":"04101-LA SERENA"},"200607","80307011","2020-09-16T17:54:41",66,null,66]
[8,"5",2020,{"$f":"IFERROR(VLOOKUP([1]!Tabla_SERIEA_01_5[[#This Row],[IdEstablecimiento]],[2]Establecimientos!$A$1:$E$175,5,FALSE),0)","v":"04301-OVALLE"},"200607","18020300","2020-09-16T17:54:41",2,2,0]
[3,"5",2020,{"$f":"IFERROR(VLOOKUP([1]!Tabla_SERIEA_01_5[[#This Row],[IdEstablecimiento]],[2]Establecimientos!$A$1:$E$175,5,FALSE),0)","v":"04301-OVALLE"},"200366","18090000","2020-04-16T23:10:54",98,0,98]
[9,"5",2020,{"$f":"IFERROR(VLOOKUP([1]!Tabla_SERIEA_01_5[[#This Row],[IdEstablecimiento]],[2]Establecimientos!$A$1:$E$175,5,FALSE),0)","v":"105101-HOSPITAL COQUIMBO"},"105493","18050100","2020-10-16T10:31:47",3,0,3]
[9,"5",2020,{"$f":"IFERROR(VLOOKUP([1]!Tabla_SERIEA_01_5[[#This Row],[IdEstablecimiento]],[2]Establecimientos!$A$1:$E$175,5,FALSE),0)","v":"105101-HOSPITAL COQUIMBO"},"105496","80309010","2020-10-16T10:32:23",0,null,null,3]
[2,"5",2020,{"$f":"IFERROR(VLOOKUP([1]!Tabla_SERIEA_01_5[[#This Row],[IdEstablecimiento]],[2]Establecimientos!$A$1:$E$175,5,FALSE),0)","v":"04305-RIO HURTADO"},"105309","80306038","2020-03-19T18:44:07",0,null,null,13]
[2,"5",2020,{"$f":"IFERROR(VLOOKUP([1]!Tabla_SERIEA_01_5[[#This Row],[IdEstablecimiento]],[2]Establecimientos!$A$1:$E$175,5,FALSE),0)","v":"04201-ILLAPEL"},"105322","80302057","2020-03-19T18:51:53",1582,null,1582]
[1,"5",2020,{"$f":"IFERROR(VLOOKUP([1]!Tabla_SERIEA_01_5[[#This Row],[IdEstablecimiento]],[2]Establecimientos!$A$1:$E$175,5,FALSE),0)","v":"105106-HOSPITAL ANDACOLLO"},"105305","80404002","2020-03-18T23:42:06",10,0,10]
[4,"5",2020,{"$f":"IFERROR(VLOOKUP([1]!Tabla_SERIEA_01_5[[#This Row],[IdEstablecimiento]],[2]Establecimientos!$A$1:$E$175,5,FALSE),0)","v":"04303-MONTE PATRIA"},"105300","80303024","2020-05-26T00:36:31",0,null,null,11]
[2,"5",2020,{"$f":"IFERROR(VLOOKUP([1]!Tabla_SERIEA_01_5[[#This Row],[IdEstablecimiento]],[2]Establecimientos!$A$1:$E$175,5,FALSE),0)","v":"04201-ILLAPEL"},"200607","80302076","2020-05-26T01:52:20",0,null,null,17]
[4,"5",2020,{"$f":"IFERROR(VLOOKUP([1]!Tabla_SERIEA_01_5[[#This Row],[IdEstablecimiento]],[2]Establecimientos!$A$1:$E$175,5,FALSE),0)","v":"04102-COQUIMBO"},"105402","18020500","2020-05-26T00:46:43",2,0,2]
[4,"5",2020,{"$f":"IFERROR(VLOOKUP([1]!Tabla_SERIEA_01_5[[#This Row],[IdEstablecimiento]],[2]Establecimientos!$A$1:$E$175,5,FALSE),0)","v":"04301-OVALLE"},"105325","80307011","2020-05-26T00:45:17",384,null,384,384]
[2,"5",2020,{"$f":"IFERROR(VLOOKUP([1]!Tabla_SERIEA_01_5[[#This Row],[IdEstablecimiento]],[2]Establecimientos!$A$1:$E$175,5,FALSE),0)","v":"04106-VICUÑA"},"105303","80500001","2020-03-19T18:33:11",8,null,8,null,8]
[6,"5",2020,{"$f":"IFERROR(VLOOKUP([1]!Tabla_SERIEA_01_5[[#This Row],[IdEstablecimiento]],[2]Establecimientos!$A$1:$E$175,5,FALSE),0)","v":"04303-MONTE PATRIA"},"200366","80306042","2020-07-21T00:04:14",0,null,null,20]
[3,"5",2020,{"$f":"IFERROR(VLOOKUP([1]!Tabla_SERIEA_01_5[[#This Row],[IdEstablecimiento]],[2]Establecimientos!$A$1:$E$175,5,FALSE),0)","v":"105101-HOSPITAL COQUIMBO"},"105311","18020700","2020-04-16T21:52:44",3,0,3]
[7,"5",2020,{"$f":"IFERROR(VLOOKUP([1]!Tabla_SERIEA_01_5[[#This Row],[IdEstablecimiento]],[2]Establecimientos!$A$1:$E$175,5,FALSE),0)","v":"04303-MONTE PATRIA"},"105469","80106007","2020-08-20T17:33:37",2,null,2,null,2]
[2,"5",2020,{"$f":"IFERROR(VLOOKUP([1]!Tabla_SERIEA_01_5[[#This Row],[IdEstablecimiento]],[2]Establecimientos!$A$1:$E$175,5,FALSE),0)","v":"04303-MONTE PATRIA"},"105307","80302032","2020-03-19T18:40:25",253,null,253]
[2,"5",2020,{"$f":"IFERROR(VLOOKUP([1]!Tabla_SERIEA_01_5[[#This Row],[IdEstablecimiento]],[2]Establecimientos!$A$1:$E$175,5,FALSE),0)","v":"04102-COQUIMBO"},"105319","18040200","2020-03-19T18:50:36",11,2,9]
[8,"5",2020,{"$f":"IFERROR(VLOOKUP([1]!Tabla_SERIEA_01_5[[#This Row],[IdEstablecimiento]],[2]Establecimientos!$A$1:$E$175,5,FALSE),0)","v":"04106-VICUÑA"},"105701","80106017","2020-09-16T17:38:54",0,{"$nulls":3},21]
[10,"5",2020,{"$f":"IFERROR(VLOOKUP([1]!Tabla_SERIEA_01_5[[#This Row],[IdEstablecimiento]],[2]Establecimientos!$A$1:$E$175,5,FALSE),0)","v":"04201-ILLAPEL"},"105803","80106015","2020-11-12T08:17:42",86,86,null,null,86]
[8,"5",2020,{"$f":"IFERROR(VLOOKUP([1]!Tabla_SERIEA_01_5[[#This Row],[IdEstablecimiento]],[2]Establecimientos!$A$1:$E$175,5,FALSE),0)","v":"04201-ILLAPEL"},"105458","81602231","2020-09-16T17:16:41",2,null,2]
[2,"5",2020,{"$f":"IFERROR(VLOOKUP([1]!Tabla_SERIEA_01_5[[#This Row],[IdEstablecimiento]],[2]Establecimientos!$A$1:$E$175,5,FALSE),0)","v":"04102-COQUIMBO"},"105422","18050100","2020-03-19T19:01:02",2,0,2]
[2,"5",2020,{"$f":"IFERROR(VLOOKUP([1]!Tabla_SERIEA_01_5[[#This Row],[IdEstablecimiento]],[2]Establecimientos!$A$1:$E$175,5,FALSE),0)","v":"04201-ILLAPEL"},"105309","80301034","2020-03-19T18:44:07",0,null,null,5]
[1,"5",2020,{"$f":"IFERROR(VLOOKUP([1]!Tabla_SERIEA_01_5[[#This Row],[IdEstablecimiento]],[2]Establecimientos!$A$1:$E$175,5,FALSE),0)","v":"04301-OVALLE"},"105487","80106002","2020-03-19T00:37:06",60,null,60,null,60]
[1,"5",2020,{"$f":"IFERROR(VLOOKUP([1]!Tabla_SERIEA_01_5[[#This Row],[IdEstablecimiento]],[2]Establecimientos!$A$1:$E$175,5,FALSE),0)","v":"04201-ILLAPEL"},"200494","80303024","2020-03-19T00:47:01",0,null,null,331]
[4,"5",2020,{"$f":"IFERROR(VLOOKUP([1]!Tabla_SERIEA_01_5[[#This Row],[IdEstablecimiento]],[2]Establecimientos!$A$1:$E$175,5,FALSE),0)","v":"04101-LA SERENA"},"105473","80302005","2020-05-26T01:04:14",0,null,null,2]
[4,"5",2020,{"$f":"IFERROR(VLOOKUP([1]!Tabla_SERIEA_01_5[[#This Row],[IdEstablecimiento]],[2]Establecimientos!$A$1:$E$175,5,FALSE),0)","v":"04203-LOS VILOS"},"105452","18050100","2020-05-26T00:56:41",8,0,8]
[9,"5",2020,{"$f":"IFERROR(VLOOKUP([1]!Tabla_SERIEA_01_5[[#This Row],[IdEstablecimiento]],[2]Establecimientos!$A$1:$E$175,5,FALSE),0)","v":"04303-MONTE PATRIA"},"105304","80106022","2020-10-16T09:13:28",5,0,5,0,5]
[9,"5",2020,{"$f":"IFERROR(VLOOKUP([1]!Tabla_SERIEA_01_5[[#This Row],[IdEstablecimiento]],[2]Establecimientos!$A$1:$E$175,5,FALSE),0)","v":"04305-RIO HURTADO"},"105304","80307012","2020-10-16T09:13:28",11,null,11]
[7,"5",2020,{"$f":"IFERROR(VLOOKUP([1]!Tabla_SERIEA_01_5[[#This Row],[IdEstablecimiento]],[2]Establecimientos!$A$1:$E$175,5,FALSE),0)","v":"04102-COQUIMBO"},"105458","80500011","2020-08-20T17:26:27",63,null,63]
[3,"5",2020,{"$f":"IFERROR(VLOOKUP([1]!Tabla_SERIEA_01_5[[#This Row],[IdEstablecimiento]],[2]Establecimientos!$A$1:$E$175,5,FALSE),0)","v":"04101-LA SERENA"},"105302","80305019","2020-04-16T21:45:12",0,null,null,4]
[3,"5",2020,{"$f":"IFERROR(VLOOKUP([1]!Tabla_SERIEA_01_5[[#This Row],[IdEstablecimiento]],[2]Establecimientos!$A$1:$E$175,5,FALSE),0)","v":"04303-MONTE PATRIA"},"105307","80305070","2020-04-16T21:47:17",77,null,77]
[3,"5",2020,{"$f":"IFERROR(VLOOKUP([1]!Tabla_SERIEA_01_5[[#This Row],[IdEstablecimiento]],[2]Establecimientos!$A$1:$E$175,5,FALSE),0)","v":"105102-HOSPITAL OVALLE"},"105457","81701001","2020-04-16T22:44:22",6,null,6]
[6,"5",2020,{"$f":"IFERROR(VLOOKUP([1]!Tabla_SERIEA_01_5[[#This Row],[IdEstablecimiento]],[2]Establecimientos!$A$1:$E$175,5,FALSE),0)","v":"04302-COMBARBALÁ"},"105492","80106002","2020-07-20T23:45:01",9,null,9]
[7,"5",2020,{"$f":"IFERROR(VLOOKUP([1]!Tabla_SERIEA_01_5[[#This Row],[IdEstablecimiento]],[2]Establecimientos!$A$1:$E$175,5,FALSE),0)","v":"105107-HOSPITAL VICUÑA"},"105700","80309013","2020-08-20T18:11:49",0,null,null,8]
[5,"5",2020,{"$f":"IFERROR(VLOOKUP([1]!Tabla_SERIEA_01_5[[#This Row],[IdEstablecimiento]],[2]Establecimientos!$A$1:$E$175,5,FALSE),0)","v":"04101-LA SERENA"},"105471","80500011","2020-06-12T20:10:16",31,null,31,null,31]
[5,"5",2020,{"$f":"IFERROR(VLOOKUP([1]!Tabla_SERIEA_01_5[[#This Row],[IdEstablecimiento]],[2]Establecimientos!$A$1:$E$175,5,FALSE),0)","v":"105106-HOSPITAL ANDACOLLO"},"105471","18030000","2020-06-12T20:10:16",1,0,1]
[1,"5",2020,{"$f":"IFERROR(VLOOKUP([1]!Tabla_SERIEA_01_5[[#This Row],[IdEstablecimiento]],[2]Establecimientos!$A$1:$E$175,5,FALSE),0)","v":"04204-SALAMANCA"},"105307","80309014","2020-03-18T23:43:16",14,null,14]
[3,"5",2020,{"$f":"IFERROR(VLOOKUP([1]!Tabla_SERIEA_01_5[[#This Row],[IdEstablecimiento]],[2]Establecimientos!$A$1:$E$175,5,FALSE),0)","v":"04202-CANELA"},"200494","81602221","2020-04-16T23:11:41",4,3,1,4]
[4,"5",2020,{"$f":"IFERROR(VLOOKUP([1]!Tabla_SERIEA_01_5[[#This Row],[IdEstablecimiento]],[2]Establecimientos!$A$1:$E$175,5,FALSE),0)","v":"105104-HOSPITAL SALAMANCA"},"105509","80106014","2020-05-26T01:13:45",25,null,25,null,25]
[7,"5",2020,{"$f":"IFERROR(VLOOKUP([1]!Tabla_SERIEA_01_5[[#This Row],[IdEstablecimiento]],[2]Establecimientos!$A$1:$E$175,5,FALSE),0)","v":"04303-MONTE PATRIA"},"105400","80302012","2020-08-20T17:00:27",0,null,null,2]
[6,"5",2020,{"$f":"IFERROR(VLOOKUP([1]!Tabla_SERIEA_01_5[[#This Row],[IdEstablecimiento]],[2]Establecimientos!$A$1:$E$175,5,FALSE),0)","v":"04101-LA SERENA"},"105486","81701001","2020-07-20T23:41:36",2,null,2,null,2]
[7,"5",2020,{"$f":"IFERROR(VLOOKUP([1]!Tabla_SERIEA_01_5[[#This Row],[IdEstablecimiento]],[2]Establecimientos!$A$1:$E$175,5,FALSE),0)","v":"105104-HOSPITAL SALAMANCA"},"105437","80106007","2020-08-20T17:18:27",2,null,2,null,2]
[2,"5",2020,{"$f":"IFERROR(VLOOKUP([1]!Tabla_SERIEA_01_5[[#This Row],[IdEstablecimiento]],[2]Establecimientos!$A$1:$E$175,5,FALSE),0)","v":"105105-HOSPITAL COMBARBALÁ"},"105309","80302023","2020-03-19T18:44:07",0,null,null,231]
[2,"5",2020,{"$f":"IFERROR(VLOOKUP([1]!Tabla_SERIEA_01_5[[#This Row],[IdEstablecimiento]],[2]Establecimientos!$A$1:$E$175,5,FALSE),0)","v":"04201-ILLAPEL"},"105402","80303024","2020-03-19T18:54:23",0,null,null,12]
[2,"5",2020,{"$f":"IFERROR(VLOOKUP([1]!Tabla_SERIEA_01_5[[#This Row],[IdEstablecimiento]],[2]Establecimientos!$A$1:$E$175,5,FALSE),0)","v":"04105-PAIHUANO"},"105319","18020900","2020-03-19T18:50:36",4,0,4]
[2,"5",2020,{"$f":"IFERROR(VLOOKUP([1]!Tabla_SERIEA_01_5[[#This Row],[IdEstablecimiento]],[2]Establecimientos!$A$1:$E$175,5,FALSE),0)","v":"04305-RIO HURTADO"},"105325","80302013","2020-03-19T18:52:46",0,null,null,76]
[2,"5",2020,{"$f":"IFERROR(VLOOKUP([1]!Tabla_SERIEA_01_5[[#This Row],[IdEstablecimiento]],[2]Establecimientos!$A$1:$E$175,5,FALSE),0)","v":"04202-CANELA"},"105409","80302047","2020-03-19T18:56:26",0,null,null,7]
[5,"5",2020,{"$f":"IFERROR(VLOOKUP([1]!Tabla_SERIEA_01_5[[#This Row],[IdEstablecimiento]],[2]Establecimientos!$A$1:$E$175,5,FALSE),0)","v":"04302-COMBARBALÁ"},"105307","80301036","2020-06-12T19:26:45",34,null,34]
[1,"5",2020,{"$f":"IFERROR(VLOOKUP([1]!Tabla_SERIEA_01_5[[#This Row],[IdEstablecimiento]],[2]Establecimientos!$A$1:$E$175,5,FALSE),0)","v":"105102-HOSPITAL OVALLE"},"105461","18070300","2020-03-19T00:07:09",1,null,1]
[7,"5",2020,{"$f":"IFERROR(VLOOKUP([1]!Tabla_SERIEA_01_5[[#This Row],[IdEstablecimiento]],[2]Establecimientos!$A$1:$E$175,5,FALSE),0)","v":"04102-COQUIMBO"},"105448","80307011","2020-08-20T17:22:26",0,null,null,20]
[1,"5",2020,{"$f":"IFERROR(VLOOKUP([1]!Tabla_SERIEA_01_5[[#This Row],[IdEstablecimiento]],[2]Establecimientos!$A$1:$E$175,5,FALSE),0)","v":"04305-RIO HURTADO"},"105400","80302040","2020-03-18T23:49:45",0,null,null,45]
[2,"5",2020,{"$f":"IFERROR(VLOOKUP([1]!Tabla_SERIEA_01_5[[#This Row],[IdEstablecimiento]],[2]Establecimientos!$A$1:$E$175,5,FALSE),0)","v":"04301-OVALLE"},"200273","80302063","2020-03-19T21:30:31",0,null,null,6]
[2,"5",2020,{"$f":"IFERROR(VLOOKUP([1]!Tabla_SERIEA_01_5[[#This Row],[IdEstablecimiento]],[2]Establecimientos!$A$1:$E$175,5,FALSE),0)","v":"04102-COQUIMBO"},"105300","80301041","2020-03-19T18:31:57",0,null,null,173]
[5,"5",2020,{"$f":"IFERROR(VLOOKUP([1]!Tabla_SERIEA_01_5[[#This Row],[IdEstablecimiento]],[2]Establecimientos!$A$1:$E$175,5,FALSE),0)","v":"04201-ILLAPEL"},"105300","81602222","2020-06-12T19:23:50",7,7,null,7]
[4,"5",2020,{"$f":"IFERROR(VLOOKUP([1]!Tabla_SERIEA_01_5[[#This Row],[IdEstablecimiento]],[2]Establecimientos!$A$1:$E$175,5,FALSE),0)","v":"105107-HOSPITAL VICUÑA"},"105306","18030000","2020-05-26T01:20:09",12,12,0]
[1,"5",2020,{"$f":"IFERROR(VLOOKUP([1]!Tabla_SERIEA_01_5[[#This Row],[IdEstablecimiento]],[2]Establecimientos!$A$1:$E$175,5,FALSE),0)","v":"04202-CANELA"},"200499","80307012","2020-04-17T20:26:29",36,null,36]
[1,"5",2020,{"$f":"IFERROR(VLOOKUP([1]!Tabla_SERIEA_01_5[[#This Row],[IdEstablecimiento]],[2]Establecimientos!$A$1:$E$175,5,FALSE),0)","v":"04301-OVALLE"},"200494","80106020","2020-03-19T00:47:01",18,18,null,null,18]
[8,"5",2020,{"$f":"IFERROR(VLOOKUP([1]!Tabla_SERIEA_01_5[[#This Row],[IdEstablecimiento]],[2]Establecimientos!$A$1:$E$175,5,FALSE),0)","v":"04106-VICUÑA"},"105822","18050300","2020-09-16T17:47:08",3,3,0]
[1,"5",2020,{"$f":"IFERROR(VLOOKUP([1]!Tabla_SERIEA_01_5[[#This Row],[IdEstablecimiento]],[2]Establecimientos!$A$1:$E$175,5,FALSE),0)","v":"04101-LA SERENA"},"105452","80306011","2020-03-19T00:04:26",0,null,null,86]
[7,"5",2020,{"$f":"IFERROR(VLOOKUP([1]!Tabla_SERIEA_01_5[[#This Row],[IdEstablecimiento]],[2]Establecimientos!$A$1:$E$175,5,FALSE),0)","v":"04101-LA SERENA"},"200494","80106017","2020-08-20T18:19:15",205,12,193,null,205]
[2,"5",2020,{"$f":"IFERROR(VLOOKUP([1]!Tabla_SERIEA_01_5[[#This Row],[IdEstablecimiento]],[2]Establecimientos!$A$1:$E$175,5,FALSE),0)","v":"04201-ILLAPEL"},"105313","80302064","2020-03-19T18:45:31",0,null,null,428]
[6,"5",2020,{"$f":"IFERROR(VLOOKUP([1]!Tabla_SERIEA_01_5[[#This Row],[IdEstablecimiento]],[2]Establecimientos!$A$1:$E$175,5,FALSE),0)","v":"04304-PUNITAQUI"},"105323","80303027","2020-07-20T22:59:51",0,null,null,9]
[1,"5",2020,{"$f":"IFERROR(VLOOKUP([1]!Tabla_SERIEA_01_5[[#This Row],[IdEstablecimiento]],[2]Establecimientos!$A$1:$E$175,5,FALSE),0)","v":"04301-OVALLE"},"105307","80500009","2020-03-18T23:43:16",7,null,7,null,7]
[4,"5",2020,{"$f":"IFERROR(VLOOKUP([1]!Tabla_SERIEA_01_5[[#This Row],[IdEstablecimiento]],[2]Establecimientos!$A$1:$E$175,5,FALSE),0)","v":"105106-HOSPITAL ANDACOLLO"},"105460","80106002","2020-05-26T00:59:57",17,null,17,null,17]
[2,"5",2020,{"$f":"IFERROR(VLOOKUP([1]!Tabla_SERIEA_01_5[[#This Row],[IdEstablecimiento]],[2]Establecimientos!$A$1:$E$175,5,FALSE),0)","v":"04101-LA SERENA"},"105471","80306051","2020-03-19T21:06:20",0,null,null,1]
[1,"5",2020,{"$f":"IFERROR(VLOOKUP([1]!Tabla_SERIEA_01_5[[#This Row],[IdEstablecimiento]],[2]Establecimientos!$A$1:$E$175,5,FALSE),0)","v":"04102-COQUIMBO"},"105300","80106020","2020-03-18T23:40:23",28,28,null,null,28]
[1,"5",2020,{"$f":"IFERROR(VLOOKUP([1]!Tabla_SERIEA_01_5[[#This Row],[IdEstablecimiento]],[2]Establecimientos!$A$1:$E$175,5,FALSE),0)","v":"04201-ILLAPEL"},"105500","80106008","2020-03-19T00:40:19",1,1,null,null,1]
[1,"5",2020,{"$f":"IFERROR(VLOOKUP([1]!Tabla_SERIEA_01_5[[#This Row],[IdEstablecimiento]],[2]Establecimientos!$A$1:$E$175,5,FALSE),0)","v":"04101-LA SERENA"},"105500","80106015","2020-03-19T00:40:19",8,8,null,null,8]
[7,"5",2020,{"$f":"IFERROR(VLOOKUP([1]!Tabla_SERIEA_01_5[[#This Row],[IdEstablecimiento]],[2]Establecimientos!$A$1:$E$175,5,FALSE),0)","v":"105101-HOSPITAL COQUIMBO"},"200494","80106015","2020-08-20T18:19:15",132,132,null,null,132]
[7,"5",2020,{"$f":"IFERROR(VLOOKUP([1]!Tabla_SERIEA_01_5[[#This Row],[IdEstablecimiento]],[2]Establecimientos!$A$1:$E$175,5,FALSE),0)","v":"105106-HOSPITAL ANDACOLLO"},"200499","80301059","2020-08-20T18:19:32",0,null,null,5]
[7,"5",2020,{"$f":"IFERROR(VLOOKUP([1]!Tabla_SERIEA_01_5[[#This Row],[IdEstablecimiento]],[2]Establecimientos!$A$1:$E$175,5,FALSE),0)","v":"04203-LOS VILOS"},"105428","81701009","2020-08-20T17:15:26",52,null,52,null,52]
[7,"5",2020,{"$f":"IFERROR(VLOOKUP([1]!Tabla_SERIEA_01_5[[#This Row],[IdEstablecimiento]],[2]Establecimientos!$A$1:$E$175,5,FALSE),0)","v":"04203-LOS VILOS"},"105428","18050100","2020-08-20T17:15:26",11,0,11]
[2,"5",2020,{"$f":"IFERROR(VLOOKUP([1]!Tabla_SERIEA_01_5[[#This Row],[IdEstablecimiento]],[2]Establecimientos!$A$1:$E$175,5,FALSE),0)","v":"04101-LA SERENA"},"105500","80106002","2020-03-19T21:23:42",23,23,null,null,23]
[1,"5",2020,{"$f":"IFERROR(VLOOKUP([1]!Tabla_SERIEA_01_5[[#This Row],[IdEstablecimiento]],[2]Establecimientos!$A$1:$E$175,5,FALSE),0)","v":"04101-LA SERENA"},"105496","18020700","2020-03-19T00:39:06",1,0,1]
[2,"5",2020,{"$f":"IFERROR(VLOOKUP([1]!Tabla_SERIEA_01_5[[#This Row],[IdEstablecimiento]],[2]Establecimientos!$A$1:$E$175,5,FALSE),0)","v":"105104-HOSPITAL SALAMANCA"},"105501","80106015","2020-03-19T21:23:58",2,null,2]
[4,"5",2020,{"$f":"IFERROR(VLOOKUP([1]!Tabla_SERIEA_01_5[[#This Row],[IdEstablecimiento]],[2]Establecimientos!$A$1:$E$175,5,FALSE),0)","v":"105102-HOSPITAL OVALLE"},"105430","80500011","2020-05-26T00:51:50",6,null,6,null,6]
[7,"5",2020,{"$f":"IFERROR(VLOOKUP([1]!Tabla_SERIEA_01_5[[#This Row],[IdEstablecimiento]],[2]Establecimientos!$A$1:$E$175,5,FALSE),0)","v":"04301-OVALLE"},"105819","80401045","2020-08-20T18:15:15",14,14]
[2,"5",2020,{"$f":"IFERROR(VLOOKUP([1]!Tabla_SERIEA_01_5[[#This Row],[IdEstablecimiento]],[2]Establecimientos!$A$1:$E$175,5,FALSE),0)","v":"04301-OVALLE"},"105445","80302047","2020-03-19T20:39:07",0,null,null,11]
[1,"5",2020,{"$f":"IFERROR(VLOOKUP([1]!Tabla_SERIEA_01_5[[#This Row],[IdEstablecimiento]],[2]Establecimientos!$A$1:$E$175,5,FALSE),0)","v":"04101-LA SERENA"},"105478","80106002","2020-03-19T00:11:35",21,null,21,null,21]
[1,"5",2020,{"$f":"IFERROR(VLOOKUP([1]!Tabla_SERIEA_01_5[[#This Row],[IdEstablecimiento]],[2]Establecimientos!$A$1:$E$175,5,FALSE),0)","v":"105108-HOSPITAL LOS VILOS"},"105477","80106017","2020-03-19T00:11:19",15,15,null,null,15]
[5,"5",2020,{"$f":"IFERROR(VLOOKUP([1]!Tabla_SERIEA_01_5[[#This Row],[IdEstablecimiento]],[2]Establecimientos!$A$1:$E$175,5,FALSE),0)","v":"105108-HOSPITAL LOS VILOS"},"105311","80106014","2020-06-12T19:28:20",375,null,375,null,375]
[3,"5",2020,{"$f":"IFERROR(VLOOKUP([1]!Tabla_SERIEA_01_5[[#This Row],[IdEstablecimiento]],[2]Establecimientos!$A$1:$E$175,5,FALSE),0)","v":"04303-MONTE PATRIA"},"105414","81701001","2020-05-26T01:58:51",3,null,3,null,3]
[3,"5",2020,{"$f":"IFERROR(VLOOKUP([1]!Tabla_SERIEA_01_5[[#This Row],[IdEstablecimiento]],[2]Establecimientos!$A$1:$E$175,5,FALSE),0)","v":"04102-COQUIMBO"},"105301","18030000","2020-04-16T21:44:03",10,10,0]
[1,"5",2020,{"$f":"IFERROR(VLOOKUP([1]!Tabla_SERIEA_01_5[[#This Row],[IdEstablecimiento]],[2]Establecimientos!$A$1:$E$175,5,FALSE),0)","v":"04102-COQUIMBO"},"105432","18040200","2020-03-18T23:55:47",10,2,8]
[3,"5",2020,{"$f":"IFERROR(VLOOKUP([1]!Tabla_SERIEA_01_5[[#This Row],[IdEstablecimiento]],[2]Establecimientos!$A$1:$E$175,5,FALSE),0)","v":"04301-OVALLE"},"200366","80106023","2020-04-16T23:10:54",98,null,98,null,1]
[5,"5",2020,{"$f":"IFERROR(VLOOKUP([1]!Tabla_SERIEA_01_5[[#This Row],[IdEstablecimiento]],[2]Establecimientos!$A$1:$E$175,5,FALSE),0)","v":"04203-LOS VILOS"},"105303","80401070","2020-08-20T18:23:50",0,null,null,2]
[4,"5",2020,{"$f":"IFERROR(VLOOKUP([1]!Tabla_SERIEA_01_5[[#This Row],[IdEstablecimiento]],[2]Establecimientos!$A$1:$E$175,5,FALSE),0)","v":"04201-ILLAPEL"},"105491","80106008","2020-05-26T01:09:08",1,null,1]
[10,"5",2020,{"$f":"IFERROR(VLOOKUP([1]!Tabla_SERIEA_01_5[[#This Row],[IdEstablecimiento]],[2]Establecimientos!$A$1:$E$175,5,FALSE),0)","v":"04105-PAIHUANO"},"105413","81701009","2020-11-12T07:20:20",3,null,3,null,3]
[10,"5",2020,{"$f":"IFERROR(VLOOKUP([1]!Tabla_SERIEA_01_5[[#This Row],[IdEstablecimiento]],[2]Establecimientos!$A$1:$E$175,5,FALSE),0)","v":"04201-ILLAPEL"},"105413","80500011","2020-11-12T07:20:20",8,null,8,null,8]
[3,"5",2020,{"$f":"IFERROR(VLOOKUP([1]!Tabla_SERIEA_01_5[[#This Row],[IdEstablecimiento]],[2]Establecimientos!$A$1:$E$175,5,FALSE),0)","v":"04101-LA SERENA"},"105306","80309024","2020-04-16T21:47:00",0,null,null,1]
[3,"5",2020,{"$f":"IFERROR(VLOOKUP([1]!Tabla_SERIEA_01_5[[#This Row],[IdEstablecimiento]],[2]Establecimientos!$A$1:$E$175,5,FALSE),0)","v":"04101-LA SERENA"},"105430","80307011","2020-04-16T22:16:47",2,null,2]
[1,"5",2020,{"$f":"IFERROR(VLOOKUP([1]!Tabla_SERIEA_01_5[[#This Row],[IdEstablecimiento]],[2]Establecimientos!$A$1:$E$175,5,FALSE),0)","v":"04101-LA SERENA"},"105445","80303024","2020-03-18T23:59:50",0,null,null,4]
[2,"5",2020,{"$f":"IFERROR(VLOOKUP([1]!Tabla_SERIEA_01_5[[#This Row],[IdEstablecimiento]],[2]Establecimientos!$A$1:$E$175,5,FALSE),0)","v":"105102-HOSPITAL OVALLE"},"105305","18070300","2020-03-19T18:39:39",13,9,4]
[1,"5",2020,{"$f":"IFERROR(VLOOKUP([1]!Tabla_SERIEA_01_5[[#This Row],[IdEstablecimiento]],[2]Establecimientos!$A$1:$E$175,5,FALSE),0)","v":"04301-OVALLE"},"105308","18011002","2020-03-18T23:43:33",9,0,9]
[7,"5",2020,{"$f":"IFERROR(VLOOKUP([1]!Tabla_SERIEA_01_5[[#This Row],[IdEstablecimiento]],[2]Establecimientos!$A$1:$E$175,5,FALSE),0)","v":"105106-HOSPITAL ANDACOLLO"},"105443","80306011","2020-08-20T17:20:45",0,null,null,1]
[7,"5",2020,{"$f":"IFERROR(VLOOKUP([1]!Tabla_SERIEA_01_5[[#This Row],[IdEstablecimiento]],[2]Establecimientos!$A$1:$E$175,5,FALSE),0)","v":"105106-HOSPITAL ANDACOLLO"},"105443","80106023","2020-08-20T17:20:45",8,null,8,null,8]
[2,"5",2020,{"$f":"IFERROR(VLOOKUP([1]!Tabla_SERIEA_01_5[[#This Row],[IdEstablecimiento]],[2]Establecimientos!$A$1:$E$175,5,FALSE),0)","v":"04301-OVALLE"},"105462","80500011","2020-03-19T21:03:32",11,null,11,null,11]
[9,"5",2020,{"$f":"IFERROR(VLOOKUP([1]!Tabla_SERIEA_01_5[[#This Row],[IdEstablecimiento]],[2]Establecimientos!$A$1:$E$175,5,FALSE),0)","v":"04102-COQUIMBO"},"105473","80106023","2020-10-16T10:18:28",39,null,39,null,39]
[1,"5",2020,{"$f":"IFERROR(VLOOKUP([1]!Tabla_SERIEA_01_5[[#This Row],[IdEstablecimiento]],[2]Establecimientos!$A$1:$E$175,5,FALSE),0)","v":"04301-OVALLE"},"105449","18050100","2020-03-19T00:03:20",10,0,10]
[2,"5",2020,{"$f":"IFERROR(VLOOKUP([1]!Tabla_SERIEA_01_5[[#This Row],[IdEstablecimiento]],[2]Establecimientos!$A$1:$E$175,5,FALSE),0)","v":"105106-HOSPITAL ANDACOLLO"},"105415","80106014","2020-03-19T18:58:23",44,null,44,null,44]
[8,"5",2020,{"$f":"IFERROR(VLOOKUP([1]!Tabla_SERIEA_01_5[[#This Row],[IdEstablecimiento]],[2]Establecimientos!$A$1:$E$175,5,FALSE),0)","v":"105102-HOSPITAL OVALLE"},"105309","80302076","2020-09-16T16:39:13",0,null,null,8]
[8,"5",2020,{"$f":"IFERROR(VLOOKUP([1]!Tabla_SERIEA_01_5[[#This Row],[IdEstablecimiento]],[2]Establecimientos!$A$1:$E$175,5,FALSE),0)","v":"04301-OVALLE"},"105447","80106002","2020-09-16T17:06:03",12,null,12,null,12]
[10,"5",2020,{"$f":"IFERROR(VLOOKUP([1]!Tabla_SERIEA_01_5[[#This Row],[IdEstablecimiento]],[2]Establecimientos!$A$1:$E$175,5,FALSE),0)","v":"04301-OVALLE"},"200742","80106022","2020-11-12T08:32:05",3,3]
[10,"5",2020,{"$f":"IFERROR(VLOOKUP([1]!Tabla_SERIEA_01_5[[#This Row],[IdEstablecimiento]],[2]Establecimientos!$A$1:$E$175,5,FALSE),0)","v":"04301-OVALLE"},"200742","18050100","2020-11-12T08:32:05",16,16,0]
[11,"5",2020,{"$f":"IFERROR(VLOOKUP([1]!Tabla_SERIEA_01_5[[#This Row],[IdEstablecimiento]],[2]Establecimientos!$A$1:$E$175,5,FALSE),0)","v":"04301-OVALLE"},"105506","18090000","2020-12-11T15:43:02",4,4,0]
[11,"5",2020,{"$f":"IFERROR(VLOOKUP([1]!Tabla_SERIEA_01_5[[#This Row],[IdEstablecimiento]],[2]Establecimientos!$A$1:$E$175,5,FALSE),0)","v":"105102-HOSPITAL OVALLE"},"105509","80309024","2020-12-11T15:43:52",0,null,null,1]
[11,"5",2020,{"$f":"IFERROR(VLOOKUP([1]!Tabla_SERIEA_01_5[[#This Row],[IdEstablecimiento]],[2]Establecimientos!$A$1:$E$175,5,FALSE),0)","v":"04302-COMBARBALÁ"},"105510","18050200","2020-12-11T15:44:09",2,0,2]
[11,"5",2020,{"$f":"IFERROR(VLOOKUP([1]!Tabla_SERIEA_01_5[[#This Row],[IdEstablecimiento]],[2]Establecimientos!$A$1:$E$175,5,FALSE),0)","v":"04305-RIO HURTADO"},"105700","80301038","2020-12-11T15:44:47",0,null,null,23]
[11,"5",2020,{"$f":"IFERROR(VLOOKUP([1]!Tabla_SERIEA_01_5[[#This Row],[IdEstablecimiento]],[2]Establecimientos!$A$1:$E$175,5,FALSE),0)","v":"04203-LOS VILOS"},"105700","80307011","2020-12-11T15:44:47",68,null,68]
[11,"5",2020,{"$f":"IFERROR(VLOOKUP([1]!Tabla_SERIEA_01_5[[#This Row],[IdEstablecimiento]],[2]Establecimientos!$A$1:$E$175,5,FALSE),0)","v":"04305-RIO HURTADO"},"105702","80302068","2020-12-11T15:48:24",0,null,null,28]
[11,"5",2020,{"$f":"IFERROR(VLOOKUP([1]!Tabla_SERIEA_01_5[[#This Row],[IdEstablecimiento]],[2]Establecimientos!$A$1:$E$175,5,FALSE),0)","v":"04201-ILLAPEL"},"105722","80106022","2020-12-11T15:55:22",3,null,3,null,3]
[11,"5",2020,{"$f":"IFERROR(VLOOKUP([1]!Tabla_SERIEA_01_5[[#This Row],[IdEstablecimiento]],[2]Establecimientos!$A$1:$E$175,5,FALSE),0)","v":"04201-ILLAPEL"},"105801","81602222","2020-12-11T15:55:59",13,13,null,13]
[11,"5",2020,{"$f":"IFERROR(VLOOKUP([1]!Tabla_SERIEA_01_5[[#This Row],[IdEstablecimiento]],[2]Establecimientos!$A$1:$E$175,5,FALSE),0)","v":"04303-MONTE PATRIA"},"105809","80106013","2020-12-11T15:57:17",2,2,null,null,2]
[11,"5",2020,{"$f":"IFERROR(VLOOKUP([1]!Tabla_SERIEA_01_5[[#This Row],[IdEstablecimiento]],[2]Establecimientos!$A$1:$E$175,5,FALSE),0)","v":"04301-OVALLE"},"105822","80401013","2020-12-11T15:58:32",28,28]
[11,"5",2020,{"$f":"IFERROR(VLOOKUP([1]!Tabla_SERIEA_01_5[[#This Row],[IdEstablecimiento]],[2]Establecimientos!$A$1:$E$175,5,FALSE),0)","v":"04303-MONTE PATRIA"},"200273","80302032","2020-12-11T16:01:10",0,null,null,10]
[11,"5",2020,{"$f":"IFERROR(VLOOKUP([1]!Tabla_SERIEA_01_5[[#This Row],[IdEstablecimiento]],[2]Establecimientos!$A$1:$E$175,5,FALSE),0)","v":"04303-MONTE PATRIA"},"200273","80500014","2020-12-11T16:01:10",0,{"$nulls":4},2]
[11,"5",2020,{"$f":"IFERROR(VLOOKUP([1]!Tabla_SERIEA_01_5[[#This Row],[IdEstablecimiento]],[2]Establecimientos!$A$1:$E$175,5,FALSE),0)","v":"04202-CANELA"},"200366","81701001","2020-12-11T16:01:45",15,null,15]
[11,"5",2020,{"$f":"IFERROR(VLOOKUP([1]!Tabla_SERIEA_01_5[[#This Row],[IdEstablecimiento]],[2]Establecimientos!$A$1:$E$175,5,FALSE),0)","v":"04301-OVALLE"},"200366","80307011","2020-12-11T16:01:45",0,null,null,249]
[11,"5",2020,{"$f":"IFERROR(VLOOKUP([1]!Tabla_SERIEA_01_5[[#This Row],[IdEstablecimiento]],[2]Establecimientos!$A$1:$E$175,5,FALSE),0)","v":"105104-HOSPITAL SALAMANCA"},"200402","80302013","2020-12-11T16:02:22",0,null,null,2]
[11,"5",2020,{"$f":"IFERROR(VLOOKUP([1]!Tabla_SERIEA_01_5[[#This Row],[IdEstablecimiento]],[2]Establecimientos!$A$1:$E$175,5,FALSE),0)","v":"04303-MONTE PATRIA"},"200402","80303026","2020-12-11T16:02:22",0,null,null,5]
[11,"5",2020,{"$f":"IFERROR(VLOOKUP([1]!Tabla_SERIEA_01_5[[#This Row],[IdEstablecimiento]],[2]Establecimientos!$A$1:$E$175,5,FALSE),0)","v":"04301-OVALLE"},"200494","80302048","2020-12-11T16:02:39",0,null,null,13]
[11,"5",2020,{"$f":"IFERROR(VLOOKUP([1]!Tabla_SERIEA_01_5[[#This Row],[IdEstablecimiento]],[2]Establecimientos!$A$1:$E$175,5,FALSE),0)","v":"04102-COQUIMBO"},"200494","80305019","2020-12-11T16:02:39",0,null,null,2]
[11,"5",2020,{"$f":"IFERROR(VLOOKUP([1]!Tabla_SERIEA_01_5[[#This Row],[IdEstablecimiento]],[2]Establecimientos!$A$1:$E$175,5,FALSE),0)","v":"105108-HOSPITAL LOS VILOS"},"200499","81701001","2020-12-11T16:02:59",33,9,24,9,24]
[11,"5",2020,{"$f":"IFERROR(VLOOKUP([1]!Tabla_SERIEA_01_5[[#This Row],[IdEstablecimiento]],[2]Establecimientos!$A$1:$E$175,5,FALSE),0)","v":"04101-LA SERENA"},"200499","80302024","2020-12-11T16:02:59",0,null,null,12]
[11,"5",2020,{"$f":"IFERROR(VLOOKUP([1]!Tabla_SERIEA_01_5[[#This Row],[IdEstablecimiento]],[2]Establecimientos!$A$1:$E$175,5,FALSE),0)","v":"04302-COMBARBALÁ"},"200499","80303027","2020-12-11T16:02:59",0,null,null,23]
[11,"5",2020,{"$f":"IFERROR(VLOOKUP([1]!Tabla_SERIEA_01_5[[#This Row],[IdEstablecimiento]],[2]Establecimientos!$A$1:$E$175,5,FALSE),0)","v":"04301-OVALLE"},"200499","18400600","2020-12-11T16:02:59",2,0,2]
[11,"5",2020,{"$f":"IFERROR(VLOOKUP([1]!Tabla_SERIEA_01_5[[#This Row],[IdEstablecimiento]],[2]Establecimientos!$A$1:$E$175,5,FALSE),0)","v":"04106-VICUÑA"},"200538","81701001","2020-12-11T16:03:16",11,null,11,null,11]
[11,"5",2020,{"$f":"IFERROR(VLOOKUP([1]!Tabla_SERIEA_01_5[[#This Row],[IdEstablecimiento]],[2]Establecimientos!$A$1:$E$175,5,FALSE),0)","v":"04106-VICUÑA"},"200538","80106017","2020-12-11T16:03:16",23,null,23,null,23]
[11,"5",2020,{"$f":"IFERROR(VLOOKUP([1]!Tabla_SERIEA_01_5[[#This Row],[IdEstablecimiento]],[2]Establecimientos!$A$1:$E$175,5,FALSE),0)","v":"105101-HOSPITAL COQUIMBO"},"200569","80307011","2020-12-11T16:03:34",262,null,262]
[11,"5",2020,{"$f":"IFERROR(VLOOKUP([1]!Tabla_SERIEA_01_5[[#This Row],[IdEstablecimiento]],[2]Establecimientos!$A$1:$E$175,5,FALSE),0)","v":"04102-COQUIMBO"},"200607","80301045","2020-12-11T16:03:55",0,null,null,51]
[11,"5",2020,{"$f":"IFERROR(VLOOKUP([1]!Tabla_SERIEA_01_5[[#This Row],[IdEstablecimiento]],[2]Establecimientos!$A$1:$E$175,5,FALSE),0)","v":"04204-SALAMANCA"},"200848","18700100","2020-12-11T16:06:30",91,13,75,3]
[11,"5",2020,{"$f":"IFERROR(VLOOKUP([1]!Tabla_SERIEA_01_5[[#This Row],[IdEstablecimiento]],[2]Establecimientos!$A$1:$E$175,5,FALSE),0)","v":"04305-RIO HURTADO"},"200928","81602222","2020-12-11T16:06:47",10,10,null,10]
[11,"5",2020,{"$f":"IFERROR(VLOOKUP([1]!Tabla_SERIEA_01_5[[#This Row],[IdEstablecimiento]],[2]Establecimientos!$A$1:$E$175,5,FALSE),0)","v":"04202-CANELA"},"105701","80106002","2020-12-11T16:15:56",0,{"$nulls":3},11]
[11,"5",2020,{"$f":"IFERROR(VLOOKUP([1]!Tabla_SERIEA_01_5[[#This Row],[IdEstablecimiento]],[2]Establecimientos!$A$1:$E$175,5,FALSE),0)","v":"105104-HOSPITAL SALAMANCA"},"105701","80305019","2020-12-11T16:15:56",0,null,null,1]
[10,"5",2020,{"$f":"IFERROR(VLOOKUP([1]!Tabla_SERIEA_01_5[[#This Row],[IdEstablecimiento]],[2]Establecimientos!$A$1:$E$175,5,FALSE),0)","v":"04303-MONTE PATRIA"},"105313","80301041","2020-11-12T07:10:36",0,null,null,125]
[10,"5",2020,{"$f":"IFERROR(VLOOKUP([1]!Tabla_SERIEA_01_5[[#This Row],[IdEstablecimiento]],[2]Establecimientos!$A$1:$E$175,5,FALSE),0)","v":"04101-LA SERENA"},"105313","80306169","2020-11-12T07:10:36",0,null,null,2]
[10,"5",2020,{"$f":"IFERROR(VLOOKUP([1]!Tabla_SERIEA_01_5[[#This Row],[IdEstablecimiento]],[2]Establecimientos!$A$1:$E$175,5,FALSE),0)","v":"04202-CANELA"},"105313","80305019","2020-11-12T07:10:36",0,null,null,2]
[10,"5",2020,{"$f":"IFERROR(VLOOKUP([1]!Tabla_SERIEA_01_5[[#This Row],[IdEstablecimiento]],[2]Establecimientos!$A$1:$E$175,5,FALSE),0)","v":"04301-OVALLE"},"105302","18020900","2020-11-12T07:06:54",3,0,3]
[9,"5",2020,{"$f":"IFERROR(VLOOKUP([1]!Tabla_SERIEA_01_5[[#This Row],[IdEstablecimiento]],[2]Establecimientos!$A$1:$E$175,5,FALSE),0)","v":"04101-LA SERENA"},"105453","81701001","2020-10-16T09:58:48",11,null,11]
[9,"5",2020,{"$f":"IFERROR(VLOOKUP([1]!Tabla_SERIEA_01_5[[#This Row],[IdEstablecimiento]],[2]Establecimientos!$A$1:$E$175,5,FALSE),0)","v":"04101-LA SERENA"},"105453","18400400","2020-10-16T09:58:48",23,0,23]
[9,"5",2020,{"$f":"IFERROR(VLOOKUP([1]!Tabla_SERIEA_01_5[[#This Row],[IdEstablecimiento]],[2]Establecimientos!$A$1:$E$175,5,FALSE),0)","v":"04201-ILLAPEL"},"105455","80106023","2020-10-16T10:02:39",7,null,7]
[9,"5",2020,{"$f":"IFERROR(VLOOKUP([1]!Tabla_SERIEA_01_5[[#This Row],[IdEstablecimiento]],[2]Establecimientos!$A$1:$E$175,5,FALSE),0)","v":"04202-CANELA"},"105456","80106010","2020-10-16T10:03:00",1,null,1]
[10,"5",2020,{"$f":"IFERROR(VLOOKUP([1]!Tabla_SERIEA_01_5[[#This Row],[IdEstablecimiento]],[2]Establecimientos!$A$1:$E$175,5,FALSE),0)","v":"04102-COQUIMBO"},"105308","80306038","2020-11-12T07:09:09",0,null,null,30]
[10,"5",2020,{"$f":"IFERROR(VLOOKUP([1]!Tabla_SERIEA_01_5[[#This Row],[IdEstablecimiento]],[2]Establecimientos!$A$1:$E$175,5,FALSE),0)","v":"04101-LA SERENA"},"105308","18400400","2020-11-12T07:09:09",5,0,5]
[10,"5",2020,{"$f":"IFERROR(VLOOKUP([1]!Tabla_SERIEA_01_5[[#This Row],[IdEstablecimiento]],[2]Establecimientos!$A$1:$E$175,5,FALSE),0)","v":"04201-ILLAPEL"},"105309","80302005","2020-11-12T07:09:27",0,null,null,147]
[10,"5",2020,{"$f":"IFERROR(VLOOKUP([1]!Tabla_SERIEA_01_5[[#This Row],[IdEstablecimiento]],[2]Establecimientos!$A$1:$E$175,5,FALSE),0)","v":"04301-OVALLE"},"105311","18040200","2020-11-12T07:10:02",4,0,4]
[10,"5",2020,{"$f":"IFERROR(VLOOKUP([1]!Tabla_SERIEA_01_5[[#This Row],[IdEstablecimiento]],[2]Establecimientos!$A$1:$E$175,5,FALSE),0)","v":"04201-ILLAPEL"},"105312","81701009","2020-11-12T07:10:18",63,null,63,null,63]
[10,"5",2020,{"$f":"IFERROR(VLOOKUP([1]!Tabla_SERIEA_01_5[[#This Row],[IdEstablecimiento]],[2]Establecimientos!$A$1:$E$175,5,FALSE),0)","v":"04301-OVALLE"},"105312","18050300","2020-11-12T07:10:18",2,0,2]
[10,"5",2020,{"$f":"IFERROR(VLOOKUP([1]!Tabla_SERIEA_01_5[[#This Row],[IdEstablecimiento]],[2]Establecimientos!$A$1:$E$175,5,FALSE),0)","v":"04101-LA SERENA"},"105400","80106002","2020-11-12T07:17:37",5,null,5,null,5]
[10,"5",2020,{"$f":"IFERROR(VLOOKUP([1]!Tabla_SERIEA_01_5[[#This Row],[IdEstablecimiento]],[2]Establecimientos!$A$1:$E$175,5,FALSE),0)","v":"105104-HOSPITAL SALAMANCA"},"105402","80301038","2020-11-12T07:18:23",0,null,null,2]
[10,"5",2020,{"$f":"IFERROR(VLOOKUP([1]!Tabla_SERIEA_01_5[[#This Row],[IdEstablecimiento]],[2]Establecimientos!$A$1:$E$175,5,FALSE),0)","v":"04305-RIO HURTADO"},"105402","80302013","2020-11-12T07:18:23",0,null,null,4]
[10,"5",2020,{"$f":"IFERROR(VLOOKUP([1]!Tabla_SERIEA_01_5[[#This Row],[IdEstablecimiento]],[2]Establecimientos!$A$1:$E$175,5,FALSE),0)","v":"04203-LOS VILOS"},"105402","18050200","2020-11-12T07:18:23",10,0,10]
[10,"5",2020,{"$f":"IFERROR(VLOOKUP([1]!Tabla_SERIEA_01_5[[#This Row],[IdEstablecimiento]],[2]Establecimientos!$A$1:$E$175,5,FALSE),0)","v":"105106-HOSPITAL ANDACOLLO"},"105404","80500011","2020-11-12T07:18:39",2,null,2,null,1]
[10,"5",2020,{"$f":"IFERROR(VLOOKUP([1]!Tabla_SERIEA_01_5[[#This Row],[IdEstablecimiento]],[2]Establecimientos!$A$1:$E$175,5,FALSE),0)","v":"04101-LA SERENA"},"105405","80106013","2020-11-12T07:18:57",4,null,4,null,1]
[10,"5",2020,{"$f":"IFERROR(VLOOKUP([1]!Tabla_SERIEA_01_5[[#This Row],[IdEstablecimiento]],[2]Establecimientos!$A$1:$E$175,5,FALSE),0)","v":"04101-LA SERENA"},"105405","80306042","2020-11-12T07:18:57",0,null,null,3]
[10,"5",2020,{"$f":"IFERROR(VLOOKUP([1]!Tabla_SERIEA_01_5[[#This Row],[IdEstablecimiento]],[2]Establecimientos!$A$1:$E$175,5,FALSE),0)","v":"105105-HOSPITAL COMBARBALÁ"},"105432","18020500","2020-11-12T07:24:20",20,0,20]
[10,"5",2020,{"$f":"IFERROR(VLOOKUP([1]!Tabla_SERIEA_01_5[[#This Row],[IdEstablecimiento]],[2]Establecimientos!$A$1:$E$175,5,FALSE),0)","v":"04102-COQUIMBO"},"105436","80307011","2020-11-12T07:26:27",20,null,20]
[9,"5",2020,{"$f":"IFERROR(VLOOKUP([1]!Tabla_SERIEA_01_5[[#This Row],[IdEstablecimiento]],[2]Establecimientos!$A$1:$E$175,5,FALSE),0)","v":"04102-COQUIMBO"},"105405","80302032","2020-10-16T09:23:04",0,null,null,16]
[10,"5",2020,{"$f":"IFERROR(VLOOKUP([1]!Tabla_SERIEA_01_5[[#This Row],[IdEstablecimiento]],[2]Establecimientos!$A$1:$E$175,5,FALSE),0)","v":"04202-CANELA"},"105302","80302023","2020-11-12T07:06:54",0,null,null,175]
[10,"5",2020,{"$f":"IFERROR(VLOOKUP([1]!Tabla_SERIEA_01_5[[#This Row],[IdEstablecimiento]],[2]Establecimientos!$A$1:$E$175,5,FALSE),0)","v":"04102-COQUIMBO"},"105302","80303024","2020-11-12T07:06:54",0,null,null,93]
[10,"5",2020,{"$f":"IFERROR(VLOOKUP([1]!Tabla_SERIEA_01_5[[#This Row],[IdEstablecimiento]],[2]Establecimientos!$A$1:$E$175,5,FALSE),0)","v":"04101-LA SERENA"},"105303","80303027","2020-11-12T07:07:11",0,null,null,3]
[11,"5",2020,{"$f":"IFERROR(VLOOKUP([1]!Tabla_SERIEA_01_5[[#This Row],[IdEstablecimiento]],[2]Establecimientos!$A$1:$E$175,5,FALSE),0)","v":"04302-COMBARBALÁ"},"105486","81602231","2020-12-11T15:35:32",1,null,1,null,1]
[11,"5",2020,{"$f":"IFERROR(VLOOKUP([1]!Tabla_SERIEA_01_5[[#This Row],[IdEstablecimiento]],[2]Establecimientos!$A$1:$E$175,5,FALSE),0)","v":"04101-LA SERENA"},"105486","80106023","2020-12-11T15:35:32",1,null,1,null,1]
[11,"5",2020,{"$f":"IFERROR(VLOOKUP([1]!Tabla_SERIEA_01_5[[#This Row],[IdEstablecimiento]],[2]Establecimientos!$A$1:$E$175,5,FALSE),0)","v":"04101-LA SERENA"},"105503","80309022","2020-12-11T15:42:05",0,null,null,20]
[11,"5",2020,{"$f":"IFERROR(VLOOKUP([1]!Tabla_SERIEA_01_5[[#This Row],[IdEstablecimiento]],[2]Establecimientos!$A$1:$E$175,5,FALSE),0)","v":"04102-COQUIMBO"},"105503","18020500","2020-12-11T15:42:05",3,0,3]
[7,"5",2020,{"$f":"IFERROR(VLOOKUP([1]!Tabla_SERIEA_01_5[[#This Row],[IdEstablecimiento]],[2]Establecimientos!$A$1:$E$175,5,FALSE),0)","v":"04303-MONTE PATRIA"},"105318","80106015","2020-08-20T16:55:09",68,51,17,null,68]
[2,"5",2020,{"$f":"IFERROR(VLOOKUP([1]!Tabla_SERIEA_01_5[[#This Row],[IdEstablecimiento]],[2]Establecimientos!$A$1:$E$175,5,FALSE),0)","v":"04303-MONTE PATRIA"},"105475","80307011","2020-03-19T21:07:22",33,33]
[2,"5",2020,{"$f":"IFERROR(VLOOKUP([1]!Tabla_SERIEA_01_5[[#This Row],[IdEstablecimiento]],[2]Establecimientos!$A$1:$E$175,5,FALSE),0)","v":"04303-MONTE PATRIA"},"105475","18050100","2020-03-19T21:07:22",4,4,0]
[3,"5",2020,{"$f":"IFERROR(VLOOKUP([1]!Tabla_SERIEA_01_5[[#This Row],[IdEstablecimiento]],[2]Establecimientos!$A$1:$E$175,5,FALSE),0)","v":"04202-CANELA"},"105325","80302005","2020-04-16T21:59:08",0,null,null,4]
[10,"5",2020,{"$f":"IFERROR(VLOOKUP([1]!Tabla_SERIEA_01_5[[#This Row],[IdEstablecimiento]],[2]Establecimientos!$A$1:$E$175,5,FALSE),0)","v":"04102-COQUIMBO"},"105322","80306026","2020-11-12T07:15:37",12,null,12]
[10,"5",2020,{"$f":"IFERROR(VLOOKUP([1]!Tabla_SERIEA_01_5[[#This Row],[IdEstablecimiento]],[2]Establecimientos!$A$1:$E$175,5,FALSE),0)","v":"04204-SALAMANCA"},"105322","18090100","2020-11-12T07:15:37",1238,0,1238]
[3,"5",2020,{"$f":"IFERROR(VLOOKUP([1]!Tabla_SERIEA_01_5[[#This Row],[IdEstablecimiento]],[2]Establecimientos!$A$1:$E$175,5,FALSE),0)","v":"04303-MONTE PATRIA"},"105409","80307011","2020-05-26T01:57:33",11,null,11,11]
[9,"5",2020,{"$f":"IFERROR(VLOOKUP([1]!Tabla_SERIEA_01_5[[#This Row],[IdEstablecimiento]],[2]Establecimientos!$A$1:$E$175,5,FALSE),0)","v":"04101-LA SERENA"},"200737","18050100","2020-10-16T10:55:59",11,11,0]
[2,"5",2020,{"$f":"IFERROR(VLOOKUP([1]!Tabla_SERIEA_01_5[[#This Row],[IdEstablecimiento]],[2]Establecimientos!$A$1:$E$175,5,FALSE),0)","v":"04303-MONTE PATRIA"},"200499","81701009","2020-03-19T21:32:31",136,null,136,null,136]
[3,"5",2020,{"$f":"IFERROR(VLOOKUP([1]!Tabla_SERIEA_01_5[[#This Row],[IdEstablecimiento]],[2]Establecimientos!$A$1:$E$175,5,FALSE),0)","v":"04105-PAIHUANO"},"105321","80307011","2020-04-16T21:58:05",84,null,84]
[3,"5",2020,{"$f":"IFERROR(VLOOKUP([1]!Tabla_SERIEA_01_5[[#This Row],[IdEstablecimiento]],[2]Establecimientos!$A$1:$E$175,5,FALSE),0)","v":"04303-MONTE PATRIA"},"200258","18020500","2020-04-16T23:10:21",26,0,26]
[1,"5",2020,{"$f":"IFERROR(VLOOKUP([1]!Tabla_SERIEA_01_5[[#This Row],[IdEstablecimiento]],[2]Establecimientos!$A$1:$E$175,5,FALSE),0)","v":"04201-ILLAPEL"},"105722","81701001","2020-03-19T00:44:43",65,null,65,null,65]
[2,"5",2020,{"$f":"IFERROR(VLOOKUP([1]!Tabla_SERIEA_01_5[[#This Row],[IdEstablecimiento]],[2]Establecimientos!$A$1:$E$175,5,FALSE),0)","v":"04303-MONTE PATRIA"},"105306","81301025","2020-03-19T18:40:00",1,1,null,null,1]
[3,"5",2020,{"$f":"IFERROR(VLOOKUP([1]!Tabla_SERIEA_01_5[[#This Row],[IdEstablecimiento]],[2]Establecimientos!$A$1:$E$175,5,FALSE),0)","v":"04303-MONTE PATRIA"},"105304","80303027","2020-05-26T01:55:50",0,null,null,8]
[8,"5",2020,{"$f":"IFERROR(VLOOKUP([1]!Tabla_SERIEA_01_5[[#This Row],[IdEstablecimiento]],[2]Establecimientos!$A$1:$E$175,5,FALSE),0)","v":"04102-COQUIMBO"},"105468","80309022","2020-09-16T17:23:11",0,null,null,1]
[8,"5",2020,{"$f":"IFERROR(VLOOKUP([1]!Tabla_SERIEA_01_5[[#This Row],[IdEstablecimiento]],[2]Establecimientos!$A$1:$E$175,5,FALSE),0)","v":"04303-MONTE PATRIA"},"105315","80106014","2020-09-16T16:40:58",69,null,69,null,69]
[2,"5",2020,{"$f":"IFERROR(VLOOKUP([1]!Tabla_SERIEA_01_5[[#This Row],[IdEstablecimiento]],[2]Establecimientos!$A$1:$E$175,5,FALSE),0)","v":"105101-HOSPITAL COQUIMBO"},"105322","18050100","2020-03-19T18:51:53",601,125,476]
[4,"5",2020,{"$f":"IFERROR(VLOOKUP([1]!Tabla_SERIEA_01_5[[#This Row],[IdEstablecimiento]],[2]Establecimientos!$A$1:$E$175,5,FALSE),0)","v":"04303-MONTE PATRIA"},"105303","80301036","2020-05-26T00:37:39",0,null,null,32]
[5,"5",2020,{"$f":"IFERROR(VLOOKUP([1]!Tabla_SERIEA_01_5[[#This Row],[IdEstablecimiento]],[2]Establecimientos!$A$1:$E$175,5,FALSE),0)","v":"04302-COMBARBALÁ"},"200499","80302023","2020-06-12T20:40:09",0,null,null,29]
[6,"5",2020,{"$f":"IFERROR(VLOOKUP([1]!Tabla_SERIEA_01_5[[#This Row],[IdEstablecimiento]],[2]Establecimientos!$A$1:$E$175,5,FALSE),0)","v":"04101-LA SERENA"},"105306","18020500","2020-07-20T22:55:41",43,43,0]
[6,"5",2020,{"$f":"IFERROR(VLOOKUP([1]!Tabla_SERIEA_01_5[[#This Row],[IdEstablecimiento]],[2]Establecimientos!$A$1:$E$175,5,FALSE),0)","v":"04202-CANELA"},"105302","80500011","2020-07-20T22:54:23",57,40,17,null,57]
[6,"5",2020,{"$f":"IFERROR(VLOOKUP([1]!Tabla_SERIEA_01_5[[#This Row],[IdEstablecimiento]],[2]Establecimientos!$A$1:$E$175,5,FALSE),0)","v":"105105-HOSPITAL COMBARBALÁ"},"105302","18040100","2020-07-20T22:54:23",8,1,7]
[3,"5",2020,{"$f":"IFERROR(VLOOKUP([1]!Tabla_SERIEA_01_5[[#This Row],[IdEstablecimiento]],[2]Establecimientos!$A$1:$E$175,5,FALSE),0)","v":"04303-MONTE PATRIA"},"105305","80307011","2020-04-16T21:46:35",205,null,205]
[2,"5",2020,{"$f":"IFERROR(VLOOKUP([1]!Tabla_SERIEA_01_5[[#This Row],[IdEstablecimiento]],[2]Establecimientos!$A$1:$E$175,5,FALSE),0)","v":"04301-OVALLE"},"105480","80106014","2020-03-19T21:08:47",51,null,51,null,51]
[2,"5",2020,{"$f":"IFERROR(VLOOKUP([1]!Tabla_SERIEA_01_5[[#This Row],[IdEstablecimiento]],[2]Establecimientos!$A$1:$E$175,5,FALSE),0)","v":"04303-MONTE PATRIA"},"105401","80309022","2020-03-19T18:53:39",0,null,null,17]
[2,"5",2020,{"$f":"IFERROR(VLOOKUP([1]!Tabla_SERIEA_01_5[[#This Row],[IdEstablecimiento]],[2]Establecimientos!$A$1:$E$175,5,FALSE),0)","v":"04301-OVALLE"},"105487","80401009","2020-03-19T21:15:57",0,null,null,2]
[1,"5",2020,{"$f":"IFERROR(VLOOKUP([1]!Tabla_SERIEA_01_5[[#This Row],[IdEstablecimiento]],[2]Establecimientos!$A$1:$E$175,5,FALSE),0)","v":"04101-LA SERENA"},"105487","80106014","2020-03-19T00:37:06",203,null,203,null,203]
[6,"5",2020,{"$f":"IFERROR(VLOOKUP([1]!Tabla_SERIEA_01_5[[#This Row],[IdEstablecimiento]],[2]Establecimientos!$A$1:$E$175,5,FALSE),0)","v":"105101-HOSPITAL COQUIMBO"},"105303","80302005","2020-07-20T22:54:38",0,null,null,55]
[10,"5",2020,{"$f":"IFERROR(VLOOKUP([1]!Tabla_SERIEA_01_5[[#This Row],[IdEstablecimiento]],[2]Establecimientos!$A$1:$E$175,5,FALSE),0)","v":"04101-LA SERENA"},"105308","80302023","2020-11-12T07:09:09",0,null,null,141]
[10,"5",2020,{"$f":"IFERROR(VLOOKUP([1]!Tabla_SERIEA_01_5[[#This Row],[IdEstablecimiento]],[2]Establecimientos!$A$1:$E$175,5,FALSE),0)","v":"04101-LA SERENA"},"105308","80303026","2020-11-12T07:09:09",0,null,null,55]
[4,"5",2020,{"$f":"IFERROR(VLOOKUP([1]!Tabla_SERIEA_01_5[[#This Row],[IdEstablecimiento]],[2]Establecimientos!$A$1:$E$175,5,FALSE),0)","v":"04304-PUNITAQUI"},"105701","80303024","2020-05-26T01:15:08",0,null,null,4]
[2,"5",2020,{"$f":"IFERROR(VLOOKUP([1]!Tabla_SERIEA_01_5[[#This Row],[IdEstablecimiento]],[2]Establecimientos!$A$1:$E$175,5,FALSE),0)","v":"04101-LA SERENA"},"105301","80302013","2020-03-19T18:32:12",0,null,null,19]
[5,"5",2020,{"$f":"IFERROR(VLOOKUP([1]!Tabla_SERIEA_01_5[[#This Row],[IdEstablecimiento]],[2]Establecimientos!$A$1:$E$175,5,FALSE),0)","v":"105101-HOSPITAL COQUIMBO"},"200494","80303024","2020-06-12T20:39:48",0,null,null,22]
[5,"5",2020,{"$f":"IFERROR(VLOOKUP([1]!Tabla_SERIEA_01_5[[#This Row],[IdEstablecimiento]],[2]Establecimientos!$A$1:$E$175,5,FALSE),0)","v":"04301-OVALLE"},"105325","80302013","2020-06-12T19:31:48",0,null,null,38]
[2,"5",2020,{"$f":"IFERROR(VLOOKUP([1]!Tabla_SERIEA_01_5[[#This Row],[IdEstablecimiento]],[2]Establecimientos!$A$1:$E$175,5,FALSE),0)","v":"04303-MONTE PATRIA"},"105311","80106022","2020-03-19T18:44:53",4,null,4,null,4]
[8,"5",2020,{"$f":"IFERROR(VLOOKUP([1]!Tabla_SERIEA_01_5[[#This Row],[IdEstablecimiento]],[2]Establecimientos!$A$1:$E$175,5,FALSE),0)","v":"105105-HOSPITAL COMBARBALÁ"},"105451","18050100","2020-09-16T17:07:21",1,0,1]
[2,"5",2020,{"$f":"IFERROR(VLOOKUP([1]!Tabla_SERIEA_01_5[[#This Row],[IdEstablecimiento]],[2]Establecimientos!$A$1:$E$175,5,FALSE),0)","v":"105105-HOSPITAL COMBARBALÁ"},"200607","81701009","2020-05-26T01:52:20",5,0,5,0,5]
[3,"5",2020,{"$f":"IFERROR(VLOOKUP([1]!Tabla_SERIEA_01_5[[#This Row],[IdEstablecimiento]],[2]Establecimientos!$A$1:$E$175,5,FALSE),0)","v":"04106-VICUÑA"},"200538","80301036","2020-04-16T23:12:13",0,null,null,1]
[1,"5",2020,{"$f":"IFERROR(VLOOKUP([1]!Tabla_SERIEA_01_5[[#This Row],[IdEstablecimiento]],[2]Establecimientos!$A$1:$E$175,5,FALSE),0)","v":"04101-LA SERENA"},"105322","80302060","2020-03-18T23:48:24",25,null,25]
[6,"5",2020,{"$f":"IFERROR(VLOOKUP([1]!Tabla_SERIEA_01_5[[#This Row],[IdEstablecimiento]],[2]Establecimientos!$A$1:$E$175,5,FALSE),0)","v":"04303-MONTE PATRIA"},"105306","80302059","2020-07-20T22:55:41",0,null,null,9]
[3,"5",2020,{"$f":"IFERROR(VLOOKUP([1]!Tabla_SERIEA_01_5[[#This Row],[IdEstablecimiento]],[2]Establecimientos!$A$1:$E$175,5,FALSE),0)","v":"04101-LA SERENA"},"105326","81707002","2020-04-16T21:59:23",0,{"$nulls":3},9]
[7,"5",2020,{"$f":"IFERROR(VLOOKUP([1]!Tabla_SERIEA_01_5[[#This Row],[IdEstablecimiento]],[2]Establecimientos!$A$1:$E$175,5,FALSE),0)","v":"04303-MONTE PATRIA"},"105445","80106002","2020-08-20T17:21:34",23,null,23,null,23]
[7,"5",2020,{"$f":"IFERROR(VLOOKUP([1]!Tabla_SERIEA_01_5[[#This Row],[IdEstablecimiento]],[2]Establecimientos!$A$1:$E$175,5,FALSE),0)","v":"04102-COQUIMBO"},"105489","80106015","2020-08-20T17:44:43",1,null,1,null,1]
[8,"5",2020,{"$f":"IFERROR(VLOOKUP([1]!Tabla_SERIEA_01_5[[#This Row],[IdEstablecimiento]],[2]Establecimientos!$A$1:$E$175,5,FALSE),0)","v":"04102-COQUIMBO"},"200366","80301059","2020-09-16T17:49:27",0,null,null,1]
[5,"5",2020,{"$f":"IFERROR(VLOOKUP([1]!Tabla_SERIEA_01_5[[#This Row],[IdEstablecimiento]],[2]Establecimientos!$A$1:$E$175,5,FALSE),0)","v":"04304-PUNITAQUI"},"105437","80106002","2020-06-12T19:42:38",10,null,10,null,10]
[5,"5",2020,{"$f":"IFERROR(VLOOKUP([1]!Tabla_SERIEA_01_5[[#This Row],[IdEstablecimiento]],[2]Establecimientos!$A$1:$E$175,5,FALSE),0)","v":"04303-MONTE PATRIA"},"105440","81602221","2020-06-12T19:43:09",6,null,6,null,6]
[8,"5",2020,{"$f":"IFERROR(VLOOKUP([1]!Tabla_SERIEA_01_5[[#This Row],[IdEstablecimiento]],[2]Establecimientos!$A$1:$E$175,5,FALSE),0)","v":"04303-MONTE PATRIA"},"105817","18020300","2020-09-16T17:44:44",23,23,0]
[2,"5",2020,{"$f":"IFERROR(VLOOKUP([1]!Tabla_SERIEA_01_5[[#This Row],[IdEstablecimiento]],[2]Establecimientos!$A$1:$E$175,5,FALSE),0)","v":"04303-MONTE PATRIA"},"105305","18020300","2020-03-19T18:39:39",129,87,42]
[8,"5",2020,{"$f":"IFERROR(VLOOKUP([1]!Tabla_SERIEA_01_5[[#This Row],[IdEstablecimiento]],[2]Establecimientos!$A$1:$E$175,5,FALSE),0)","v":"04101-LA SERENA"},"105315","18020500","2020-09-16T16:40:58",15,0,15]
[9,"5",2020,{"$f":"IFERROR(VLOOKUP([1]!Tabla_SERIEA_01_5[[#This Row],[IdEstablecimiento]],[2]Establecimientos!$A$1:$E$175,5,FALSE),0)","v":"04303-MONTE PATRIA"},"105306","80302067","2020-10-16T09:14:08",0,null,null,1]
[9,"5",2020,{"$f":"IFERROR(VLOOKUP([1]!Tabla_SERIEA_01_5[[#This Row],[IdEstablecimiento]],[2]Establecimientos!$A$1:$E$175,5,FALSE),0)","v":"04303-MONTE PATRIA"},"105306","80302060","2020-10-16T09:14:08",0,null,null,8]
[2,"5",2020,{"$f":"IFERROR(VLOOKUP([1]!Tabla_SERIEA_01_5[[#This Row],[IdEstablecimiento]],[2]Establecimientos!$A$1:$E$175,5,FALSE),0)","v":"04303-MONTE PATRIA"},"105304","80303024","2020-05-26T01:53:32",0,null,null,711]
[3,"5",2020,{"$f":"IFERROR(VLOOKUP([1]!Tabla_SERIEA_01_5[[#This Row],[IdEstablecimiento]],[2]Establecimientos!$A$1:$E$175,5,FALSE),0)","v":"105102-HOSPITAL OVALLE"},"105309","81701009","2020-04-16T21:47:46",20,0,20,null,20]
[3,"5",2020,{"$f":"IFERROR(VLOOKUP([1]!Tabla_SERIEA_01_5[[#This Row],[IdEstablecimiento]],[2]Establecimientos!$A$1:$E$175,5,FALSE),0)","v":"04102-COQUIMBO"},"105321","81707030","2020-04-16T21:58:05",123,123,null,null,5]
[7,"5",2020,{"$f":"IFERROR(VLOOKUP([1]!Tabla_SERIEA_01_5[[#This Row],[IdEstablecimiento]],[2]Establecimientos!$A$1:$E$175,5,FALSE),0)","v":"04302-COMBARBALÁ"},"105310","80106013","2020-08-20T16:53:05",2,null,2,null,2]
[1,"5",2020,{"$f":"IFERROR(VLOOKUP([1]!Tabla_SERIEA_01_5[[#This Row],[IdEstablecimiento]],[2]Establecimientos!$A$1:$E$175,5,FALSE),0)","v":"04303-MONTE PATRIA"},"105309","80106002","2020-03-18T23:44:23",95,6,89,null,95]
[7,"5",2020,{"$f":"IFERROR(VLOOKUP([1]!Tabla_SERIEA_01_5[[#This Row],[IdEstablecimiento]],[2]Establecimientos!$A$1:$E$175,5,FALSE),0)","v":"105107-HOSPITAL VICUÑA"},"105448","80309010","2020-08-20T17:22:26",0,null,null,19]
[2,"5",2020,{"$f":"IFERROR(VLOOKUP([1]!Tabla_SERIEA_01_5[[#This Row],[IdEstablecimiento]],[2]Establecimientos!$A$1:$E$175,5,FALSE),0)","v":"04303-MONTE PATRIA"},"105469","80309013","2020-03-19T21:05:48",0,null,null,17]
[2,"5",2020,{"$f":"IFERROR(VLOOKUP([1]!Tabla_SERIEA_01_5[[#This Row],[IdEstablecimiento]],[2]Establecimientos!$A$1:$E$175,5,FALSE),0)","v":"04303-MONTE PATRIA"},"105326","80302005","2020-03-19T18:53:04",0,null,null,88]
[8,"5",2020,{"$f":"IFERROR(VLOOKUP([1]!Tabla_SERIEA_01_5[[#This Row],[IdEstablecimiento]],[2]Establecimientos!$A$1:$E$175,5,FALSE),0)","v":"04301-OVALLE"},"105312","80106015","2020-09-16T16:40:06",62,null,62,null,62]
[10,"5",2020,{"$f":"IFERROR(VLOOKUP([1]!Tabla_SERIEA_01_5[[#This Row],[IdEstablecimiento]],[2]Establecimientos!$A$1:$E$175,5,FALSE),0)","v":"04303-MONTE PATRIA"},"105322","80301086","2020-11-12T07:15:37",19,null,19]
[10,"5",2020,{"$f":"IFERROR(VLOOKUP([1]!Tabla_SERIEA_01_5[[#This Row],[IdEstablecimiento]],[2]Establecimientos!$A$1:$E$175,5,FALSE),0)","v":"04303-MONTE PATRIA"},"105322","81701009","2020-11-12T07:15:37",7,null,7,null,7]
[6,"5",2020,{"$f":"IFERROR(VLOOKUP([1]!Tabla_SERIEA_01_5[[#This Row],[IdEstablecimiento]],[2]Establecimientos!$A$1:$E$175,5,FALSE),0)","v":"04101-LA SERENA"},"105315","18020500","2020-07-20T22:58:12",10,0,10]
[3,"5",2020,{"$f":"IFERROR(VLOOKUP([1]!Tabla_SERIEA_01_5[[#This Row],[IdEstablecimiento]],[2]Establecimientos!$A$1:$E$175,5,FALSE),0)","v":"04101-LA SERENA"},"105415","80106002","2020-04-16T22:12:21",31,null,31,null,31]
[1,"5",2020,{"$f":"IFERROR(VLOOKUP([1]!Tabla_SERIEA_01_5[[#This Row],[IdEstablecimiento]],[2]Establecimientos!$A$1:$E$175,5,FALSE),0)","v":"04303-MONTE PATRIA"},"200538","80302057","2020-03-19T00:47:45",0,null,null,42]
[2,"5",2020,{"$f":"IFERROR(VLOOKUP([1]!Tabla_SERIEA_01_5[[#This Row],[IdEstablecimiento]],[2]Establecimientos!$A$1:$E$175,5,FALSE),0)","v":"105101-HOSPITAL COQUIMBO"},"105326","80309024","2020-03-19T18:53:04",0,null,null,166]
[2,"5",2020,{"$f":"IFERROR(VLOOKUP([1]!Tabla_SERIEA_01_5[[#This Row],[IdEstablecimiento]],[2]Establecimientos!$A$1:$E$175,5,FALSE),0)","v":"04101-LA SERENA"},"105414","81707030","2020-03-19T18:58:07",3,null,3,null,3]
[2,"5",2020,{"$f":"IFERROR(VLOOKUP([1]!Tabla_SERIEA_01_5[[#This Row],[IdEstablecimiento]],[2]Establecimientos!$A$1:$E$175,5,FALSE),0)","v":"04101-LA SERENA"},"105492","80106010","2020-03-19T21:18:07",1,null,1]
[5,"5",2020,{"$f":"IFERROR(VLOOKUP([1]!Tabla_SERIEA_01_5[[#This Row],[IdEstablecimiento]],[2]Establecimientos!$A$1:$E$175,5,FALSE),0)","v":"04101-LA SERENA"},"105308","80106007","2020-06-12T19:27:03",1,null,1,null,1]
[2,"5",2020,{"$f":"IFERROR(VLOOKUP([1]!Tabla_SERIEA_01_5[[#This Row],[IdEstablecimiento]],[2]Establecimientos!$A$1:$E$175,5,FALSE),0)","v":"04101-LA SERENA"},"105419","18400900","2020-03-19T18:59:51",4,2,2]
[9,"5",2020,{"$f":"IFERROR(VLOOKUP([1]!Tabla_SERIEA_01_5[[#This Row],[IdEstablecimiento]],[2]Establecimientos!$A$1:$E$175,5,FALSE),0)","v":"105105-HOSPITAL COMBARBALÁ"},"105321","80302032","2020-10-16T09:19:19",0,null,null,49]
[9,"5",2020,{"$f":"IFERROR(VLOOKUP([1]!Tabla_SERIEA_01_5[[#This Row],[IdEstablecimiento]],[2]Establecimientos!$A$1:$E$175,5,FALSE),0)","v":"04101-LA SERENA"},"105321","80106015","2020-10-16T09:19:19",54,51,3,null,4]
[8,"5",2020,{"$f":"IFERROR(VLOOKUP([1]!Tabla_SERIEA_01_5[[#This Row],[IdEstablecimiento]],[2]Establecimientos!$A$1:$E$175,5,FALSE),0)","v":"04301-OVALLE"},"105315","81701009","2020-09-16T16:40:58",9,null,9,null,9]
[3,"5",2020,{"$f":"IFERROR(VLOOKUP([1]!Tabla_SERIEA_01_5[[#This Row],[IdEstablecimiento]],[2]Establecimientos!$A$1:$E$175,5,FALSE),0)","v":"04202-CANELA"},"105300","80401051","2020-04-16T21:43:47",0,null,null,30]
[2,"5",2020,{"$f":"IFERROR(VLOOKUP([1]!Tabla_SERIEA_01_5[[#This Row],[IdEstablecimiento]],[2]Establecimientos!$A$1:$E$175,5,FALSE),0)","v":"04101-LA SERENA"},"200499","18020900","2020-03-19T21:32:31",6,0,6]
[1,"5",2020,{"$f":"IFERROR(VLOOKUP([1]!Tabla_SERIEA_01_5[[#This Row],[IdEstablecimiento]],[2]Establecimientos!$A$1:$E$175,5,FALSE),0)","v":"105101-HOSPITAL COQUIMBO"},"105304","80309028","2020-05-26T01:48:33",0,null,null,4]
[6,"5",2020,{"$f":"IFERROR(VLOOKUP([1]!Tabla_SERIEA_01_5[[#This Row],[IdEstablecimiento]],[2]Establecimientos!$A$1:$E$175,5,FALSE),0)","v":"04101-LA SERENA"},"105305","80401048","2020-07-20T22:55:21",1,1]
[9,"5",2020,{"$f":"IFERROR(VLOOKUP([1]!Tabla_SERIEA_01_5[[#This Row],[IdEstablecimiento]],[2]Establecimientos!$A$1:$E$175,5,FALSE),0)","v":"04101-LA SERENA"},"105825","18020800","2020-10-16T10:45:01",1,1,0]
[1,"5",2020,{"$f":"IFERROR(VLOOKUP([1]!Tabla_SERIEA_01_5[[#This Row],[IdEstablecimiento]],[2]Establecimientos!$A$1:$E$175,5,FALSE),0)","v":"04106-VICUÑA"},"105318","18020500","2020-03-18T23:46:52",326,0,326]
[4,"5",2020,{"$f":"IFERROR(VLOOKUP([1]!Tabla_SERIEA_01_5[[#This Row],[IdEstablecimiento]],[2]Establecimientos!$A$1:$E$175,5,FALSE),0)","v":"04101-LA SERENA"},"105477","80106017","2020-05-26T01:05:29",5,5,null,null,5]
[5,"5",2020,{"$f":"IFERROR(VLOOKUP([1]!Tabla_SERIEA_01_5[[#This Row],[IdEstablecimiento]],[2]Establecimientos!$A$1:$E$175,5,FALSE),0)","v":"04101-LA SERENA"},"105446","80106013","2020-06-12T19:44:58",2,null,2,null,2]
[1,"5",2020,{"$f":"IFERROR(VLOOKUP([1]!Tabla_SERIEA_01_5[[#This Row],[IdEstablecimiento]],[2]Establecimientos!$A$1:$E$175,5,FALSE),0)","v":"105106-HOSPITAL ANDACOLLO"},"105310","18050100","2020-03-18T23:44:39",42,0,42]
[2,"5",2020,{"$f":"IFERROR(VLOOKUP([1]!Tabla_SERIEA_01_5[[#This Row],[IdEstablecimiento]],[2]Establecimientos!$A$1:$E$175,5,FALSE),0)","v":"04101-LA SERENA"},"105430","80106014","2020-03-19T19:04:40",32,null,32,null,32]
[5,"5",2020,{"$f":"IFERROR(VLOOKUP([1]!Tabla_SERIEA_01_5[[#This Row],[IdEstablecimiento]],[2]Establecimientos!$A$1:$E$175,5,FALSE),0)","v":"04201-ILLAPEL"},"105443","80302032","2020-06-12T19:44:06",0,null,null,1]
[10,"5",2020,{"$f":"IFERROR(VLOOKUP([1]!Tabla_SERIEA_01_5[[#This Row],[IdEstablecimiento]],[2]Establecimientos!$A$1:$E$175,5,FALSE),0)","v":"04101-LA SERENA"},"105322","80302063","2020-11-12T07:15:37",29,null,29]
[10,"5",2020,{"$f":"IFERROR(VLOOKUP([1]!Tabla_SERIEA_01_5[[#This Row],[IdEstablecimiento]],[2]Establecimientos!$A$1:$E$175,5,FALSE),0)","v":"04102-COQUIMBO"},"105322","80106014","2020-11-12T07:15:37",252,null,252,null,252]
[1,"5",2020,{"$f":"IFERROR(VLOOKUP([1]!Tabla_SERIEA_01_5[[#This Row],[IdEstablecimiento]],[2]Establecimientos!$A$1:$E$175,5,FALSE),0)","v":"04101-LA SERENA"},"105402","80106002","2020-03-18T23:50:17",11,null,11,null,11]
[7,"5",2020,{"$f":"IFERROR(VLOOKUP([1]!Tabla_SERIEA_01_5[[#This Row],[IdEstablecimiento]],[2]Establecimientos!$A$1:$E$175,5,FALSE),0)","v":"04101-LA SERENA"},"105318","81601115","2020-08-20T16:55:09",15,null,15,null,15]
[9,"5",2020,{"$f":"IFERROR(VLOOKUP([1]!Tabla_SERIEA_01_5[[#This Row],[IdEstablecimiento]],[2]Establecimientos!$A$1:$E$175,5,FALSE),0)","v":"04101-LA SERENA"},"105322","80308044","2020-10-16T09:19:38",1,null,1]
[9,"5",2020,{"$f":"IFERROR(VLOOKUP([1]!Tabla_SERIEA_01_5[[#This Row],[IdEstablecimiento]],[2]Establecimientos!$A$1:$E$175,5,FALSE),0)","v":"04303-MONTE PATRIA"},"105322","80301086","2020-10-16T09:19:38",86,null,86]
[4,"5",2020,{"$f":"IFERROR(VLOOKUP([1]!Tabla_SERIEA_01_5[[#This Row],[IdEstablecimiento]],[2]Establecimientos!$A$1:$E$175,5,FALSE),0)","v":"04101-LA SERENA"},"200538","80301045","2020-05-26T01:18:55",0,null,null,26]
[9,"5",2020,{"$f":"IFERROR(VLOOKUP([1]!Tabla_SERIEA_01_5[[#This Row],[IdEstablecimiento]],[2]Establecimientos!$A$1:$E$175,5,FALSE),0)","v":"04203-LOS VILOS"},"105322","80303024","2020-10-16T09:19:38",431,null,431]
[1,"5",2020,{"$f":"IFERROR(VLOOKUP([1]!Tabla_SERIEA_01_5[[#This Row],[IdEstablecimiento]],[2]Establecimientos!$A$1:$E$175,5,FALSE),0)","v":"04101-LA SERENA"},"105302","80106002","2020-03-18T23:40:57",331,45,286,null,331]
[3,"5",2020,{"$f":"IFERROR(VLOOKUP([1]!Tabla_SERIEA_01_5[[#This Row],[IdEstablecimiento]],[2]Establecimientos!$A$1:$E$175,5,FALSE),0)","v":"04201-ILLAPEL"},"105306","18400600","2020-04-16T21:47:00",8,8,0]
[1,"5",2020,{"$f":"IFERROR(VLOOKUP([1]!Tabla_SERIEA_01_5[[#This Row],[IdEstablecimiento]],[2]Establecimientos!$A$1:$E$175,5,FALSE),0)","v":"04204-SALAMANCA"},"105436","80500011","2020-03-18T23:56:56",5,null,5,null,5]
[4,"5",2020,{"$f":"IFERROR(VLOOKUP([1]!Tabla_SERIEA_01_5[[#This Row],[IdEstablecimiento]],[2]Establecimientos!$A$1:$E$175,5,FALSE),0)","v":"04102-COQUIMBO"},"105701","80302005","2020-05-26T01:15:08",0,null,null,1]
[6,"5",2020,{"$f":"IFERROR(VLOOKUP([1]!Tabla_SERIEA_01_5[[#This Row],[IdEstablecimiento]],[2]Establecimientos!$A$1:$E$175,5,FALSE),0)","v":"105101-HOSPITAL COQUIMBO"},"105325","80307012","2020-07-20T23:00:28",3,null,3,3]
[2,"5",2020,{"$f":"IFERROR(VLOOKUP([1]!Tabla_SERIEA_01_5[[#This Row],[IdEstablecimiento]],[2]Establecimientos!$A$1:$E$175,5,FALSE),0)","v":"04102-COQUIMBO"},"105414","18011002","2020-03-19T18:58:07",1,0,1]
[5,"5",2020,{"$f":"IFERROR(VLOOKUP([1]!Tabla_SERIEA_01_5[[#This Row],[IdEstablecimiento]],[2]Establecimientos!$A$1:$E$175,5,FALSE),0)","v":"04302-COMBARBALÁ"},"105307","18090100","2020-06-12T19:26:45",138,0,138]
[6,"5",2020,{"$f":"IFERROR(VLOOKUP([1]!Tabla_SERIEA_01_5[[#This Row],[IdEstablecimiento]],[2]Establecimientos!$A$1:$E$175,5,FALSE),0)","v":"04102-COQUIMBO"},"105413","18050100","2020-07-20T23:06:25",1,0,1]
[6,"5",2020,{"$f":"IFERROR(VLOOKUP([1]!Tabla_SERIEA_01_5[[#This Row],[IdEstablecimiento]],[2]Establecimientos!$A$1:$E$175,5,FALSE),0)","v":"04102-COQUIMBO"},"105321","80302068","2020-07-20T22:59:16",0,null,null,51]
[8,"5",2020,{"$f":"IFERROR(VLOOKUP([1]!Tabla_SERIEA_01_5[[#This Row],[IdEstablecimiento]],[2]Establecimientos!$A$1:$E$175,5,FALSE),0)","v":"04102-COQUIMBO"},"105448","80302076","2020-09-16T17:06:26",0,null,null,1]
[1,"5",2020,{"$f":"IFERROR(VLOOKUP([1]!Tabla_SERIEA_01_5[[#This Row],[IdEstablecimiento]],[2]Establecimientos!$A$1:$E$175,5,FALSE),0)","v":"04102-COQUIMBO"},"105443","80106010","2020-03-18T23:59:04",2,null,2,null,2]
[3,"5",2020,{"$f":"IFERROR(VLOOKUP([1]!Tabla_SERIEA_01_5[[#This Row],[IdEstablecimiento]],[2]Establecimientos!$A$1:$E$175,5,FALSE),0)","v":"105104-HOSPITAL SALAMANCA"},"105318","80106015","2020-04-16T21:57:05",67,50,17,null,67]
[10,"5",2020,{"$f":"IFERROR(VLOOKUP([1]!Tabla_SERIEA_01_5[[#This Row],[IdEstablecimiento]],[2]Establecimientos!$A$1:$E$175,5,FALSE),0)","v":"04102-COQUIMBO"},"105471","80303026","2020-11-12T07:52:42",0,null,null,1]
[5,"5",2020,{"$f":"IFERROR(VLOOKUP([1]!Tabla_SERIEA_01_5[[#This Row],[IdEstablecimiento]],[2]Establecimientos!$A$1:$E$175,5,FALSE),0)","v":"04102-COQUIMBO"},"105452","18040200","2020-06-12T19:51:41",3,null,3]
[6,"5",2020,{"$f":"IFERROR(VLOOKUP([1]!Tabla_SERIEA_01_5[[#This Row],[IdEstablecimiento]],[2]Establecimientos!$A$1:$E$175,5,FALSE),0)","v":"04101-LA SERENA"},"105700","18050100","2020-07-21T00:01:00",16,0,16]
[9,"5",2020,{"$f":"IFERROR(VLOOKUP([1]!Tabla_SERIEA_01_5[[#This Row],[IdEstablecimiento]],[2]Establecimientos!$A$1:$E$175,5,FALSE),0)","v":"04102-COQUIMBO"},"105303","80306042","2020-10-16T09:01:41",0,null,null,39]
[6,"5",2020,{"$f":"IFERROR(VLOOKUP([1]!Tabla_SERIEA_01_5[[#This Row],[IdEstablecimiento]],[2]Establecimientos!$A$1:$E$175,5,FALSE),0)","v":"04304-PUNITAQUI"},"105473","80306011","2020-07-20T23:36:14",0,null,null,2]
[6,"5",2020,{"$f":"IFERROR(VLOOKUP([1]!Tabla_SERIEA_01_5[[#This Row],[IdEstablecimiento]],[2]Establecimientos!$A$1:$E$175,5,FALSE),0)","v":"04102-COQUIMBO"},"105473","80106022","2020-07-20T23:36:14",2,null,2,null,2]
[1,"5",2020,{"$f":"IFERROR(VLOOKUP([1]!Tabla_SERIEA_01_5[[#This Row],[IdEstablecimiento]],[2]Establecimientos!$A$1:$E$175,5,FALSE),0)","v":"04201-ILLAPEL"},"105701","80302005","2020-03-19T00:43:59",0,null,null,5]
[8,"5",2020,{"$f":"IFERROR(VLOOKUP([1]!Tabla_SERIEA_01_5[[#This Row],[IdEstablecimiento]],[2]Establecimientos!$A$1:$E$175,5,FALSE),0)","v":"105101-HOSPITAL COQUIMBO"},"200494","80302035","2020-09-16T17:52:38",0,null,null,1]
[9,"5",2020,{"$f":"IFERROR(VLOOKUP([1]!Tabla_SERIEA_01_5[[#This Row],[IdEstablecimiento]],[2]Establecimientos!$A$1:$E$175,5,FALSE),0)","v":"04102-COQUIMBO"},"105325","80302048","2020-10-16T09:20:29",0,null,null,29]
[7,"5",2020,{"$f":"IFERROR(VLOOKUP([1]!Tabla_SERIEA_01_5[[#This Row],[IdEstablecimiento]],[2]Establecimientos!$A$1:$E$175,5,FALSE),0)","v":"04102-COQUIMBO"},"105322","80301086","2020-08-20T16:56:37",9,null,9]
[3,"5",2020,{"$f":"IFERROR(VLOOKUP([1]!Tabla_SERIEA_01_5[[#This Row],[IdEstablecimiento]],[2]Establecimientos!$A$1:$E$175,5,FALSE),0)","v":"04102-COQUIMBO"},"105702","80106022","2020-04-16T23:09:10",2,null,2]
[7,"5",2020,{"$f":"IFERROR(VLOOKUP([1]!Tabla_SERIEA_01_5[[#This Row],[IdEstablecimiento]],[2]Establecimientos!$A$1:$E$175,5,FALSE),0)","v":"04102-COQUIMBO"},"105503","80309013","2020-08-20T18:02:09",0,null,null,3]
[3,"5",2020,{"$f":"IFERROR(VLOOKUP([1]!Tabla_SERIEA_01_5[[#This Row],[IdEstablecimiento]],[2]Establecimientos!$A$1:$E$175,5,FALSE),0)","v":"105108-HOSPITAL LOS VILOS"},"105416","80500008","2020-04-16T22:13:12",1,null,1,null,1]
[5,"5",2020,{"$f":"IFERROR(VLOOKUP([1]!Tabla_SERIEA_01_5[[#This Row],[IdEstablecimiento]],[2]Establecimientos!$A$1:$E$175,5,FALSE),0)","v":"04102-COQUIMBO"},"105311","18090200","2020-06-12T19:28:20",47,0]
[3,"5",2020,{"$f":"IFERROR(VLOOKUP([1]!Tabla_SERIEA_01_5[[#This Row],[IdEstablecimiento]],[2]Establecimientos!$A$1:$E$175,5,FALSE),0)","v":"04301-OVALLE"},"105307","81707030","2020-04-16T21:47:17",75,75,null,null,75]
[9,"5",2020,{"$f":"IFERROR(VLOOKUP([1]!Tabla_SERIEA_01_5[[#This Row],[IdEstablecimiento]],[2]Establecimientos!$A$1:$E$175,5,FALSE),0)","v":"04304-PUNITAQUI"},"105322","80306051","2020-10-16T09:19:38",5,null,5]
[3,"5",2020,{"$f":"IFERROR(VLOOKUP([1]!Tabla_SERIEA_01_5[[#This Row],[IdEstablecimiento]],[2]Establecimientos!$A$1:$E$175,5,FALSE),0)","v":"105104-HOSPITAL SALAMANCA"},"105405","80303028","2020-04-16T22:01:00",0,null,null,4]
[2,"5",2020,{"$f":"IFERROR(VLOOKUP([1]!Tabla_SERIEA_01_5[[#This Row],[IdEstablecimiento]],[2]Establecimientos!$A$1:$E$175,5,FALSE),0)","v":"04304-PUNITAQUI"},"105434","18020300","2020-03-19T19:07:41",1,0,1]
[5,"5",2020,{"$f":"IFERROR(VLOOKUP([1]!Tabla_SERIEA_01_5[[#This Row],[IdEstablecimiento]],[2]Establecimientos!$A$1:$E$175,5,FALSE),0)","v":"04102-COQUIMBO"},"105503","18020500","2020-06-12T20:27:28",1,0,1]
[10,"5",2020,{"$f":"IFERROR(VLOOKUP([1]!Tabla_SERIEA_01_5[[#This Row],[IdEstablecimiento]],[2]Establecimientos!$A$1:$E$175,5,FALSE),0)","v":"105108-HOSPITAL LOS VILOS"},"105323","80305019","2020-11-12T07:16:27",0,null,null,20]
[10,"5",2020,{"$f":"IFERROR(VLOOKUP([1]!Tabla_SERIEA_01_5[[#This Row],[IdEstablecimiento]],[2]Establecimientos!$A$1:$E$175,5,FALSE),0)","v":"04105-PAIHUANO"},"105401","80302040","2020-11-12T07:17:56",0,null,null,2]
[2,"5",2020,{"$f":"IFERROR(VLOOKUP([1]!Tabla_SERIEA_01_5[[#This Row],[IdEstablecimiento]],[2]Establecimientos!$A$1:$E$175,5,FALSE),0)","v":"04106-VICUÑA"},"105303","80308004","2020-03-19T18:33:11",0,null,null,16]
[6,"5",2020,{"$f":"IFERROR(VLOOKUP([1]!Tabla_SERIEA_01_5[[#This Row],[IdEstablecimiento]],[2]Establecimientos!$A$1:$E$175,5,FALSE),0)","v":"04204-SALAMANCA"},"105321","80302023","2020-07-20T22:59:16",0,null,null,52]
[6,"5",2020,{"$f":"IFERROR(VLOOKUP([1]!Tabla_SERIEA_01_5[[#This Row],[IdEstablecimiento]],[2]Establecimientos!$A$1:$E$175,5,FALSE),0)","v":"04301-OVALLE"},"105457","80500011","2020-07-20T23:30:32",6,null,6]
[6,"5",2020,{"$f":"IFERROR(VLOOKUP([1]!Tabla_SERIEA_01_5[[#This Row],[IdEstablecimiento]],[2]Establecimientos!$A$1:$E$175,5,FALSE),0)","v":"105100-HOSPITAL LA SERENA"},"105701","80301038","2020-07-21T00:01:22",0,null,null,9]
[10,"5",2020,{"$f":"IFERROR(VLOOKUP([1]!Tabla_SERIEA_01_5[[#This Row],[IdEstablecimiento]],[2]Establecimientos!$A$1:$E$175,5,FALSE),0)","v":"04301-OVALLE"},"105306","81602221","2020-11-12T07:08:32",1,null,1,null,1]
[10,"5",2020,{"$f":"IFERROR(VLOOKUP([1]!Tabla_SERIEA_01_5[[#This Row],[IdEstablecimiento]],[2]Establecimientos!$A$1:$E$175,5,FALSE),0)","v":"04102-COQUIMBO"},"105304","18020400","2020-11-12T07:07:49",1,0,1]
[3,"5",2020,{"$f":"IFERROR(VLOOKUP([1]!Tabla_SERIEA_01_5[[#This Row],[IdEstablecimiento]],[2]Establecimientos!$A$1:$E$175,5,FALSE),0)","v":"04102-COQUIMBO"},"105472","18050100","2020-04-16T22:48:55",12,0,12]
[7,"5",2020,{"$f":"IFERROR(VLOOKUP([1]!Tabla_SERIEA_01_5[[#This Row],[IdEstablecimiento]],[2]Establecimientos!$A$1:$E$175,5,FALSE),0)","v":"105102-HOSPITAL OVALLE"},"105509","80303024","2020-08-20T18:10:41",0,null,null,1]
[7,"5",2020,{"$f":"IFERROR(VLOOKUP([1]!Tabla_SERIEA_01_5[[#This Row],[IdEstablecimiento]],[2]Establecimientos!$A$1:$E$175,5,FALSE),0)","v":"04301-OVALLE"},"105509","80306038","2020-08-20T18:10:41",0,null,null,2]
[1,"5",2020,{"$f":"IFERROR(VLOOKUP([1]!Tabla_SERIEA_01_5[[#This Row],[IdEstablecimiento]],[2]Establecimientos!$A$1:$E$175,5,FALSE),0)","v":"04101-LA SERENA"},"105441","80106013","2020-03-18T23:58:04",2,null,2,null,2]
[9,"5",2020,{"$f":"IFERROR(VLOOKUP([1]!Tabla_SERIEA_01_5[[#This Row],[IdEstablecimiento]],[2]Establecimientos!$A$1:$E$175,5,FALSE),0)","v":"105102-HOSPITAL OVALLE"},"105322","18050300","2020-10-16T09:19:38",1,0,1]
[8,"5",2020,{"$f":"IFERROR(VLOOKUP([1]!Tabla_SERIEA_01_5[[#This Row],[IdEstablecimiento]],[2]Establecimientos!$A$1:$E$175,5,FALSE),0)","v":"04201-ILLAPEL"},"105321","80302048","2020-09-16T16:42:14",0,null,null,8]
[1,"5",2020,{"$f":"IFERROR(VLOOKUP([1]!Tabla_SERIEA_01_5[[#This Row],[IdEstablecimiento]],[2]Establecimientos!$A$1:$E$175,5,FALSE),0)","v":"04201-ILLAPEL"},"105431","81701009","2020-03-18T23:55:30",15,null,15,null,15]
[8,"5",2020,{"$f":"IFERROR(VLOOKUP([1]!Tabla_SERIEA_01_5[[#This Row],[IdEstablecimiento]],[2]Establecimientos!$A$1:$E$175,5,FALSE),0)","v":"105105-HOSPITAL COMBARBALÁ"},"105308","80302047","2020-09-16T16:38:57",0,null,null,108]
[3,"5",2020,{"$f":"IFERROR(VLOOKUP([1]!Tabla_SERIEA_01_5[[#This Row],[IdEstablecimiento]],[2]Establecimientos!$A$1:$E$175,5,FALSE),0)","v":"04201-ILLAPEL"},"200607","80307011","2020-05-26T02:01:24",182,null,182]
[3,"5",2020,{"$f":"IFERROR(VLOOKUP([1]!Tabla_SERIEA_01_5[[#This Row],[IdEstablecimiento]],[2]Establecimientos!$A$1:$E$175,5,FALSE),0)","v":"04101-LA SERENA"},"105509","80307011","2020-04-16T23:07:54",0,null,null,6]
[3,"5",2020,{"$f":"IFERROR(VLOOKUP([1]!Tabla_SERIEA_01_5[[#This Row],[IdEstablecimiento]],[2]Establecimientos!$A$1:$E$175,5,FALSE),0)","v":"04204-SALAMANCA"},"105510","82001015","2020-04-16T23:08:09",1,null,1,null,1]
[5,"5",2020,{"$f":"IFERROR(VLOOKUP([1]!Tabla_SERIEA_01_5[[#This Row],[IdEstablecimiento]],[2]Establecimientos!$A$1:$E$175,5,FALSE),0)","v":"04302-COMBARBALÁ"},"105819","80401059","2020-06-12T20:34:27",6,6]
[7,"5",2020,{"$f":"IFERROR(VLOOKUP([1]!Tabla_SERIEA_01_5[[#This Row],[IdEstablecimiento]],[2]Establecimientos!$A$1:$E$175,5,FALSE),0)","v":"04101-LA SERENA"},"105458","81701001","2020-08-20T17:26:27",12,null,12]
[7,"5",2020,{"$f":"IFERROR(VLOOKUP([1]!Tabla_SERIEA_01_5[[#This Row],[IdEstablecimiento]],[2]Establecimientos!$A$1:$E$175,5,FALSE),0)","v":"105106-HOSPITAL ANDACOLLO"},"105308","80106015","2020-08-20T16:52:29",45,null,45,null,45]
[10,"5",2020,{"$f":"IFERROR(VLOOKUP([1]!Tabla_SERIEA_01_5[[#This Row],[IdEstablecimiento]],[2]Establecimientos!$A$1:$E$175,5,FALSE),0)","v":"04301-OVALLE"},"105435","80307011","2020-11-12T07:26:03",30,null,30]
[1,"5",2020,{"$f":"IFERROR(VLOOKUP([1]!Tabla_SERIEA_01_5[[#This Row],[IdEstablecimiento]],[2]Establecimientos!$A$1:$E$175,5,FALSE),0)","v":"04303-MONTE PATRIA"},"105468","80302023","2020-03-19T00:08:57",0,null,null,11]
[10,"5",2020,{"$f":"IFERROR(VLOOKUP([1]!Tabla_SERIEA_01_5[[#This Row],[IdEstablecimiento]],[2]Establecimientos!$A$1:$E$175,5,FALSE),0)","v":"04101-LA SERENA"},"105305","80401032","2020-11-12T07:08:16",2,null,2]
[10,"5",2020,{"$f":"IFERROR(VLOOKUP([1]!Tabla_SERIEA_01_5[[#This Row],[IdEstablecimiento]],[2]Establecimientos!$A$1:$E$175,5,FALSE),0)","v":"04303-MONTE PATRIA"},"105305","80301036","2020-11-12T07:08:16",0,null,null,68]
[1,"5",2020,{"$f":"IFERROR(VLOOKUP([1]!Tabla_SERIEA_01_5[[#This Row],[IdEstablecimiento]],[2]Establecimientos!$A$1:$E$175,5,FALSE),0)","v":"04101-LA SERENA"},"105317","81701009","2020-03-18T23:46:37",142,null,142]
[7,"5",2020,{"$f":"IFERROR(VLOOKUP([1]!Tabla_SERIEA_01_5[[#This Row],[IdEstablecimiento]],[2]Establecimientos!$A$1:$E$175,5,FALSE),0)","v":"04302-COMBARBALÁ"},"200494","80301041","2020-08-20T18:19:15",0,null,null,45]
[8,"5",2020,{"$f":"IFERROR(VLOOKUP([1]!Tabla_SERIEA_01_5[[#This Row],[IdEstablecimiento]],[2]Establecimientos!$A$1:$E$175,5,FALSE),0)","v":"04106-VICUÑA"},"105303","80301059","2020-09-16T16:36:43",0,null,null,5]
[6,"5",2020,{"$f":"IFERROR(VLOOKUP([1]!Tabla_SERIEA_01_5[[#This Row],[IdEstablecimiento]],[2]Establecimientos!$A$1:$E$175,5,FALSE),0)","v":"04303-MONTE PATRIA"},"105700","80309022","2020-07-21T00:01:00",0,null,null,30]
[9,"5",2020,{"$f":"IFERROR(VLOOKUP([1]!Tabla_SERIEA_01_5[[#This Row],[IdEstablecimiento]],[2]Establecimientos!$A$1:$E$175,5,FALSE),0)","v":"04102-COQUIMBO"},"105475","80106010","2020-10-16T10:19:41",2,2,null,null,2]
[6,"5",2020,{"$f":"IFERROR(VLOOKUP([1]!Tabla_SERIEA_01_5[[#This Row],[IdEstablecimiento]],[2]Establecimientos!$A$1:$E$175,5,FALSE),0)","v":"04102-COQUIMBO"},"105511","80302057","2020-07-21T00:00:38",0,null,null,6]
[2,"5",2020,{"$f":"IFERROR(VLOOKUP([1]!Tabla_SERIEA_01_5[[#This Row],[IdEstablecimiento]],[2]Establecimientos!$A$1:$E$175,5,FALSE),0)","v":"105107-HOSPITAL VICUÑA"},"105440","81707030","2020-03-19T19:11:03",6,null,6,null,6]
[2,"5",2020,{"$f":"IFERROR(VLOOKUP([1]!Tabla_SERIEA_01_5[[#This Row],[IdEstablecimiento]],[2]Establecimientos!$A$1:$E$175,5,FALSE),0)","v":"04302-COMBARBALÁ"},"105440","80106015","2020-03-19T19:11:03",25,null,25,null,25]
[9,"5",2020,{"$f":"IFERROR(VLOOKUP([1]!Tabla_SERIEA_01_5[[#This Row],[IdEstablecimiento]],[2]Establecimientos!$A$1:$E$175,5,FALSE),0)","v":"04102-COQUIMBO"},"105305","80401031","2020-10-16T09:13:49",19,17,2]
[2,"5",2020,{"$f":"IFERROR(VLOOKUP([1]!Tabla_SERIEA_01_5[[#This Row],[IdEstablecimiento]],[2]Establecimientos!$A$1:$E$175,5,FALSE),0)","v":"105106-HOSPITAL ANDACOLLO"},"105467","80106020","2020-03-19T21:05:16",1,null,1,null,1]
[1,"5",2020,{"$f":"IFERROR(VLOOKUP([1]!Tabla_SERIEA_01_5[[#This Row],[IdEstablecimiento]],[2]Establecimientos!$A$1:$E$175,5,FALSE),0)","v":"04101-LA SERENA"},"105411","18400900","2020-03-18T23:51:55",3,null,3]
[6,"5",2020,{"$f":"IFERROR(VLOOKUP([1]!Tabla_SERIEA_01_5[[#This Row],[IdEstablecimiento]],[2]Establecimientos!$A$1:$E$175,5,FALSE),0)","v":"04301-OVALLE"},"105504","18090000","2020-07-20T23:58:23",9,0,9]
[2,"5",2020,{"$f":"IFERROR(VLOOKUP([1]!Tabla_SERIEA_01_5[[#This Row],[IdEstablecimiento]],[2]Establecimientos!$A$1:$E$175,5,FALSE),0)","v":"04101-LA SERENA"},"105722","18020500","2020-03-19T21:29:26",171,0,171]
[2,"5",2020,{"$f":"IFERROR(VLOOKUP([1]!Tabla_SERIEA_01_5[[#This Row],[IdEstablecimiento]],[2]Establecimientos!$A$1:$E$175,5,FALSE),0)","v":"105106-HOSPITAL ANDACOLLO"},"105301","80306051","2020-03-19T18:32:12",0,null,null,1]
[8,"5",2020,{"$f":"IFERROR(VLOOKUP([1]!Tabla_SERIEA_01_5[[#This Row],[IdEstablecimiento]],[2]Establecimientos!$A$1:$E$175,5,FALSE),0)","v":"04202-CANELA"},"105307","80301072","2020-09-16T16:38:24",2,null,2]
[2,"5",2020,{"$f":"IFERROR(VLOOKUP([1]!Tabla_SERIEA_01_5[[#This Row],[IdEstablecimiento]],[2]Establecimientos!$A$1:$E$175,5,FALSE),0)","v":"04102-COQUIMBO"},"105510","80106017","2020-03-19T21:26:45",8,null,8,null,8]
[2,"5",2020,{"$f":"IFERROR(VLOOKUP([1]!Tabla_SERIEA_01_5[[#This Row],[IdEstablecimiento]],[2]Establecimientos!$A$1:$E$175,5,FALSE),0)","v":"04102-COQUIMBO"},"105306","18400700","2020-03-19T18:40:00",1160]
[2,"5",2020,{"$f":"IFERROR(VLOOKUP([1]!Tabla_SERIEA_01_5[[#This Row],[IdEstablecimiento]],[2]Establecimientos!$A$1:$E$175,5,FALSE),0)","v":"04102-COQUIMBO"},"105325","80106023","2020-03-19T18:52:46",177,null,177,null,177]
[3,"5",2020,{"$f":"IFERROR(VLOOKUP([1]!Tabla_SERIEA_01_5[[#This Row],[IdEstablecimiento]],[2]Establecimientos!$A$1:$E$175,5,FALSE),0)","v":"105102-HOSPITAL OVALLE"},"105444","80401010","2020-04-16T22:20:14",0,null,null,2]
[5,"5",2020,{"$f":"IFERROR(VLOOKUP([1]!Tabla_SERIEA_01_5[[#This Row],[IdEstablecimiento]],[2]Establecimientos!$A$1:$E$175,5,FALSE),0)","v":"04204-SALAMANCA"},"105819","80106022","2020-06-12T20:34:27",7,7,null,null,7]
[7,"5",2020,{"$f":"IFERROR(VLOOKUP([1]!Tabla_SERIEA_01_5[[#This Row],[IdEstablecimiento]],[2]Establecimientos!$A$1:$E$175,5,FALSE),0)","v":"04106-VICUÑA"},"200494","81602222","2020-08-20T18:19:15",4,4,null,4]
[9,"5",2020,{"$f":"IFERROR(VLOOKUP([1]!Tabla_SERIEA_01_5[[#This Row],[IdEstablecimiento]],[2]Establecimientos!$A$1:$E$175,5,FALSE),0)","v":"04101-LA SERENA"},"105476","80106007","2020-10-16T10:20:49",1,1,null,null,1]
[8,"5",2020,{"$f":"IFERROR(VLOOKUP([1]!Tabla_SERIEA_01_5[[#This Row],[IdEstablecimiento]],[2]Establecimientos!$A$1:$E$175,5,FALSE),0)","v":"105108-HOSPITAL LOS VILOS"},"105321","18020500","2020-09-16T16:42:14",50,48,2]
[9,"5",2020,{"$f":"IFERROR(VLOOKUP([1]!Tabla_SERIEA_01_5[[#This Row],[IdEstablecimiento]],[2]Establecimientos!$A$1:$E$175,5,FALSE),0)","v":"04101-LA SERENA"},"105304","80301038","2020-10-16T09:13:28",0,null,null,119]
[9,"5",2020,{"$f":"IFERROR(VLOOKUP([1]!Tabla_SERIEA_01_5[[#This Row],[IdEstablecimiento]],[2]Establecimientos!$A$1:$E$175,5,FALSE),0)","v":"105108-HOSPITAL LOS VILOS"},"105313","80301083","2020-10-16T09:17:19",0,null,null,3]
[4,"5",2020,{"$f":"IFERROR(VLOOKUP([1]!Tabla_SERIEA_01_5[[#This Row],[IdEstablecimiento]],[2]Establecimientos!$A$1:$E$175,5,FALSE),0)","v":"04302-COMBARBALÁ"},"105310","81301025","2020-05-26T00:41:59",1,null,1,null,1]
[7,"5",2020,{"$f":"IFERROR(VLOOKUP([1]!Tabla_SERIEA_01_5[[#This Row],[IdEstablecimiento]],[2]Establecimientos!$A$1:$E$175,5,FALSE),0)","v":"04101-LA SERENA"},"200720","80106017","2020-08-20T18:21:12",15,15,null,null,15]
[7,"5",2020,{"$f":"IFERROR(VLOOKUP([1]!Tabla_SERIEA_01_5[[#This Row],[IdEstablecimiento]],[2]Establecimientos!$A$1:$E$175,5,FALSE),0)","v":"04204-SALAMANCA"},"200720","80106013","2020-08-20T18:21:12",13,13,null,13]
[10,"5",2020,{"$f":"IFERROR(VLOOKUP([1]!Tabla_SERIEA_01_5[[#This Row],[IdEstablecimiento]],[2]Establecimientos!$A$1:$E$175,5,FALSE),0)","v":"04101-LA SERENA"},"105309","80302030","2020-11-12T07:09:27",0,null,null,5]
[2,"5",2020,{"$f":"IFERROR(VLOOKUP([1]!Tabla_SERIEA_01_5[[#This Row],[IdEstablecimiento]],[2]Establecimientos!$A$1:$E$175,5,FALSE),0)","v":"04301-OVALLE"},"200402","80302032","2020-03-19T21:31:55",0,null,null,20]
[3,"5",2020,{"$f":"IFERROR(VLOOKUP([1]!Tabla_SERIEA_01_5[[#This Row],[IdEstablecimiento]],[2]Establecimientos!$A$1:$E$175,5,FALSE),0)","v":"04102-COQUIMBO"},"105477","80106006","2020-04-16T22:50:15",3,3,null,null,3]
[10,"5",2020,{"$f":"IFERROR(VLOOKUP([1]!Tabla_SERIEA_01_5[[#This Row],[IdEstablecimiento]],[2]Establecimientos!$A$1:$E$175,5,FALSE),0)","v":"04304-PUNITAQUI"},"105479","80309013","2020-11-12T07:56:09",0,null,null,20]
[7,"5",2020,{"$f":"IFERROR(VLOOKUP([1]!Tabla_SERIEA_01_5[[#This Row],[IdEstablecimiento]],[2]Establecimientos!$A$1:$E$175,5,FALSE),0)","v":"04104-LA HIGUERA"},"105447","80301036","2020-08-20T17:22:08",0,null,null,14]
[3,"5",2020,{"$f":"IFERROR(VLOOKUP([1]!Tabla_SERIEA_01_5[[#This Row],[IdEstablecimiento]],[2]Establecimientos!$A$1:$E$175,5,FALSE),0)","v":"04204-SALAMANCA"},"105467","80309022","2020-04-16T22:47:14",0,null,null,13]
[9,"5",2020,{"$f":"IFERROR(VLOOKUP([1]!Tabla_SERIEA_01_5[[#This Row],[IdEstablecimiento]],[2]Establecimientos!$A$1:$E$175,5,FALSE),0)","v":"04302-COMBARBALÁ"},"105443","18050100","2020-10-16T09:45:59",15,0,15]
[9,"5",2020,{"$f":"IFERROR(VLOOKUP([1]!Tabla_SERIEA_01_5[[#This Row],[IdEstablecimiento]],[2]Establecimientos!$A$1:$E$175,5,FALSE),0)","v":"04302-COMBARBALÁ"},"105444","80301041","2020-10-16T09:46:17",0,null,null,29]
[4,"5",2020,{"$f":"IFERROR(VLOOKUP([1]!Tabla_SERIEA_01_5[[#This Row],[IdEstablecimiento]],[2]Establecimientos!$A$1:$E$175,5,FALSE),0)","v":"04303-MONTE PATRIA"},"200494","18700100","2020-05-26T01:18:18",4,1,3]
[1,"5",2020,{"$f":"IFERROR(VLOOKUP([1]!Tabla_SERIEA_01_5[[#This Row],[IdEstablecimiento]],[2]Establecimientos!$A$1:$E$175,5,FALSE),0)","v":"04102-COQUIMBO"},"105478","80302023","2020-03-19T00:11:35",0,null,null,24]
[5,"5",2020,{"$f":"IFERROR(VLOOKUP([1]!Tabla_SERIEA_01_5[[#This Row],[IdEstablecimiento]],[2]Establecimientos!$A$1:$E$175,5,FALSE),0)","v":"04201-ILLAPEL"},"105312","80500008","2020-06-12T19:28:36",1,null,1,null,1]
[3,"5",2020,{"$f":"IFERROR(VLOOKUP([1]!Tabla_SERIEA_01_5[[#This Row],[IdEstablecimiento]],[2]Establecimientos!$A$1:$E$175,5,FALSE),0)","v":"105107-HOSPITAL VICUÑA"},"105307","80401059","2020-04-16T21:47:17",7,7]
[2,"5",2020,{"$f":"IFERROR(VLOOKUP([1]!Tabla_SERIEA_01_5[[#This Row],[IdEstablecimiento]],[2]Establecimientos!$A$1:$E$175,5,FALSE),0)","v":"04101-LA SERENA"},"105506","80106015","2020-03-19T21:25:09",19,19,null,null,19]
[6,"5",2020,{"$f":"IFERROR(VLOOKUP([1]!Tabla_SERIEA_01_5[[#This Row],[IdEstablecimiento]],[2]Establecimientos!$A$1:$E$175,5,FALSE),0)","v":"04203-LOS VILOS"},"105301","80500011","2020-07-20T22:54:01",153,53,100,null,453]
[3,"5",2020,{"$f":"IFERROR(VLOOKUP([1]!Tabla_SERIEA_01_5[[#This Row],[IdEstablecimiento]],[2]Establecimientos!$A$1:$E$175,5,FALSE),0)","v":"04101-LA SERENA"},"105702","80106002","2020-04-16T23:09:10",12,null,12]
[1,"5",2020,{"$f":"IFERROR(VLOOKUP([1]!Tabla_SERIEA_01_5[[#This Row],[IdEstablecimiento]],[2]Establecimientos!$A$1:$E$175,5,FALSE),0)","v":"04101-LA SERENA"},"105460","80500011","2020-03-19T00:06:52",8,null,8,null,8]
[3,"5",2020,{"$f":"IFERROR(VLOOKUP([1]!Tabla_SERIEA_01_5[[#This Row],[IdEstablecimiento]],[2]Establecimientos!$A$1:$E$175,5,FALSE),0)","v":"04101-LA SERENA"},"105324","18020300","2020-04-16T21:58:51",4,2,2]
[1,"5",2020,{"$f":"IFERROR(VLOOKUP([1]!Tabla_SERIEA_01_5[[#This Row],[IdEstablecimiento]],[2]Establecimientos!$A$1:$E$175,5,FALSE),0)","v":"105105-HOSPITAL COMBARBALÁ"},"105440","80500011","2020-03-18T23:57:46",75,null,75,null,75]
[6,"5",2020,{"$f":"IFERROR(VLOOKUP([1]!Tabla_SERIEA_01_5[[#This Row],[IdEstablecimiento]],[2]Establecimientos!$A$1:$E$175,5,FALSE),0)","v":"04102-COQUIMBO"},"105425","81701009","2020-07-20T23:09:12",11,null,11,null,11]
[6,"5",2020,{"$f":"IFERROR(VLOOKUP([1]!Tabla_SERIEA_01_5[[#This Row],[IdEstablecimiento]],[2]Establecimientos!$A$1:$E$175,5,FALSE),0)","v":"105106-HOSPITAL ANDACOLLO"},"105410","80309022","2020-07-20T23:05:40",0,null,null,5]
[5,"5",2020,{"$f":"IFERROR(VLOOKUP([1]!Tabla_SERIEA_01_5[[#This Row],[IdEstablecimiento]],[2]Establecimientos!$A$1:$E$175,5,FALSE),0)","v":"04101-LA SERENA"},"105317","18020300","2020-06-12T19:29:52",4,3,1]
[10,"5",2020,{"$f":"IFERROR(VLOOKUP([1]!Tabla_SERIEA_01_5[[#This Row],[IdEstablecimiento]],[2]Establecimientos!$A$1:$E$175,5,FALSE),0)","v":"04304-PUNITAQUI"},"105472","81701001","2020-11-12T07:53:01",5,null,5,null,5]
[1,"5",2020,{"$f":"IFERROR(VLOOKUP([1]!Tabla_SERIEA_01_5[[#This Row],[IdEstablecimiento]],[2]Establecimientos!$A$1:$E$175,5,FALSE),0)","v":"105101-HOSPITAL COQUIMBO"},"105309","80106007","2020-03-18T23:44:23",1,0,1,0,1]
[1,"5",2020,{"$f":"IFERROR(VLOOKUP([1]!Tabla_SERIEA_01_5[[#This Row],[IdEstablecimiento]],[2]Establecimientos!$A$1:$E$175,5,FALSE),0)","v":"105101-HOSPITAL COQUIMBO"},"105451","80106014","2020-03-19T00:03:51",19,null,19,null,19]
[6,"5",2020,{"$f":"IFERROR(VLOOKUP([1]!Tabla_SERIEA_01_5[[#This Row],[IdEstablecimiento]],[2]Establecimientos!$A$1:$E$175,5,FALSE),0)","v":"04301-OVALLE"},"105307","80106022","2020-07-20T22:55:57",2,null,2,null,2]
[6,"5",2020,{"$f":"IFERROR(VLOOKUP([1]!Tabla_SERIEA_01_5[[#This Row],[IdEstablecimiento]],[2]Establecimientos!$A$1:$E$175,5,FALSE),0)","v":"04305-RIO HURTADO"},"105452","80106007","2020-07-20T23:26:20",1,null,1]
[3,"5",2020,{"$f":"IFERROR(VLOOKUP([1]!Tabla_SERIEA_01_5[[#This Row],[IdEstablecimiento]],[2]Establecimientos!$A$1:$E$175,5,FALSE),0)","v":"04305-RIO HURTADO"},"105477","18020300","2020-04-16T22:50:15",6,6,0]
[5,"5",2020,{"$f":"IFERROR(VLOOKUP([1]!Tabla_SERIEA_01_5[[#This Row],[IdEstablecimiento]],[2]Establecimientos!$A$1:$E$175,5,FALSE),0)","v":"04106-VICUÑA"},"105302","80301038","2020-06-12T19:24:31",0,null,null,66]
[3,"5",2020,{"$f":"IFERROR(VLOOKUP([1]!Tabla_SERIEA_01_5[[#This Row],[IdEstablecimiento]],[2]Establecimientos!$A$1:$E$175,5,FALSE),0)","v":"04301-OVALLE"},"105461","80106002","2020-04-16T22:45:26",10,null,10,null,10]
[6,"5",2020,{"$f":"IFERROR(VLOOKUP([1]!Tabla_SERIEA_01_5[[#This Row],[IdEstablecimiento]],[2]Establecimientos!$A$1:$E$175,5,FALSE),0)","v":"04201-ILLAPEL"},"200607","18400700","2020-07-21T00:08:27",2878]
[8,"5",2020,{"$f":"IFERROR(VLOOKUP([1]!Tabla_SERIEA_01_5[[#This Row],[IdEstablecimiento]],[2]Establecimientos!$A$1:$E$175,5,FALSE),0)","v":"04106-VICUÑA"},"105802","80106022","2020-09-16T17:45:22",4,4,null,null,4]
[8,"5",2020,{"$f":"IFERROR(VLOOKUP([1]!Tabla_SERIEA_01_5[[#This Row],[IdEstablecimiento]],[2]Establecimientos!$A$1:$E$175,5,FALSE),0)","v":"04106-VICUÑA"},"105822","80106006","2020-09-16T17:47:08",3,3,null,null,3]
[9,"5",2020,{"$f":"IFERROR(VLOOKUP([1]!Tabla_SERIEA_01_5[[#This Row],[IdEstablecimiento]],[2]Establecimientos!$A$1:$E$175,5,FALSE),0)","v":"04102-COQUIMBO"},"105445","80309022","2020-10-16T09:47:44",0,null,null,8]
[3,"5",2020,{"$f":"IFERROR(VLOOKUP([1]!Tabla_SERIEA_01_5[[#This Row],[IdEstablecimiento]],[2]Establecimientos!$A$1:$E$175,5,FALSE),0)","v":"04301-OVALLE"},"105324","80106013","2020-04-16T21:58:51",3,2,1,null,3]
[2,"5",2020,{"$f":"IFERROR(VLOOKUP([1]!Tabla_SERIEA_01_5[[#This Row],[IdEstablecimiento]],[2]Establecimientos!$A$1:$E$175,5,FALSE),0)","v":"04101-LA SERENA"},"105317","18030000","2020-03-19T18:50:04",17,17,0]
[10,"5",2020,{"$f":"IFERROR(VLOOKUP([1]!Tabla_SERIEA_01_5[[#This Row],[IdEstablecimiento]],[2]Establecimientos!$A$1:$E$175,5,FALSE),0)","v":"04106-VICUÑA"},"105309","80500011","2020-11-12T07:09:27",20,null,20,null,20]
[10,"5",2020,{"$f":"IFERROR(VLOOKUP([1]!Tabla_SERIEA_01_5[[#This Row],[IdEstablecimiento]],[2]Establecimientos!$A$1:$E$175,5,FALSE),0)","v":"04102-COQUIMBO"},"105479","80302005","2020-11-12T07:56:09",0,null,null,17]
[8,"5",2020,{"$f":"IFERROR(VLOOKUP([1]!Tabla_SERIEA_01_5[[#This Row],[IdEstablecimiento]],[2]Establecimientos!$A$1:$E$175,5,FALSE),0)","v":"04101-LA SERENA"},"105306","80309024","2020-09-16T16:38:05",0,null,null,113]
[3,"5",2020,{"$f":"IFERROR(VLOOKUP([1]!Tabla_SERIEA_01_5[[#This Row],[IdEstablecimiento]],[2]Establecimientos!$A$1:$E$175,5,FALSE),0)","v":"04101-LA SERENA"},"105485","80306011","2020-04-16T22:52:14",0,null,null,22]
[6,"5",2020,{"$f":"IFERROR(VLOOKUP([1]!Tabla_SERIEA_01_5[[#This Row],[IdEstablecimiento]],[2]Establecimientos!$A$1:$E$175,5,FALSE),0)","v":"04302-COMBARBALÁ"},"105302","80301036","2020-07-20T22:54:23",0,null,null,68]
[3,"5",2020,{"$f":"IFERROR(VLOOKUP([1]!Tabla_SERIEA_01_5[[#This Row],[IdEstablecimiento]],[2]Establecimientos!$A$1:$E$175,5,FALSE),0)","v":"04301-OVALLE"},"200607","81701001","2020-05-26T02:01:24",119,15,104,0,119]
[1,"5",2020,{"$f":"IFERROR(VLOOKUP([1]!Tabla_SERIEA_01_5[[#This Row],[IdEstablecimiento]],[2]Establecimientos!$A$1:$E$175,5,FALSE),0)","v":"105106-HOSPITAL ANDACOLLO"},"105479","80302067","2020-03-19T00:11:50",0,null,null,2]
[7,"5",2020,{"$f":"IFERROR(VLOOKUP([1]!Tabla_SERIEA_01_5[[#This Row],[IdEstablecimiento]],[2]Establecimientos!$A$1:$E$175,5,FALSE),0)","v":"04302-COMBARBALÁ"},"105300","82107003","2020-08-20T16:32:08",3,3,null,3]
[3,"5",2020,{"$f":"IFERROR(VLOOKUP([1]!Tabla_SERIEA_01_5[[#This Row],[IdEstablecimiento]],[2]Establecimientos!$A$1:$E$175,5,FALSE),0)","v":"04104-LA HIGUERA"},"200366","80106022","2020-04-16T23:10:54",2,null,2]
[7,"5",2020,{"$f":"IFERROR(VLOOKUP([1]!Tabla_SERIEA_01_5[[#This Row],[IdEstablecimiento]],[2]Establecimientos!$A$1:$E$175,5,FALSE),0)","v":"04301-OVALLE"},"105303","18020500","2020-08-20T16:51:02",19,18,1]
[2,"5",2020,{"$f":"IFERROR(VLOOKUP([1]!Tabla_SERIEA_01_5[[#This Row],[IdEstablecimiento]],[2]Establecimientos!$A$1:$E$175,5,FALSE),0)","v":"105101-HOSPITAL COQUIMBO"},"105318","80106002","2020-03-19T18:50:20",215,17,198,null,215]
[5,"5",2020,{"$f":"IFERROR(VLOOKUP([1]!Tabla_SERIEA_01_5[[#This Row],[IdEstablecimiento]],[2]Establecimientos!$A$1:$E$175,5,FALSE),0)","v":"04101-LA SERENA"},"105702","80302005","2020-06-12T20:32:35",0,null,null,3]
[8,"5",2020,{"$f":"IFERROR(VLOOKUP([1]!Tabla_SERIEA_01_5[[#This Row],[IdEstablecimiento]],[2]Establecimientos!$A$1:$E$175,5,FALSE),0)","v":"04303-MONTE PATRIA"},"105306","82001015","2020-09-16T16:38:05",1,1,null,null,1]
[3,"5",2020,{"$f":"IFERROR(VLOOKUP([1]!Tabla_SERIEA_01_5[[#This Row],[IdEstablecimiento]],[2]Establecimientos!$A$1:$E$175,5,FALSE),0)","v":"04301-OVALLE"},"105508","80106002","2020-04-16T23:07:24",10,null,10,null,10]
[5,"5",2020,{"$f":"IFERROR(VLOOKUP([1]!Tabla_SERIEA_01_5[[#This Row],[IdEstablecimiento]],[2]Establecimientos!$A$1:$E$175,5,FALSE),0)","v":"04202-CANELA"},"105471","80106017","2020-06-12T20:10:16",6,null,6,null,6]
[4,"5",2020,{"$f":"IFERROR(VLOOKUP([1]!Tabla_SERIEA_01_5[[#This Row],[IdEstablecimiento]],[2]Establecimientos!$A$1:$E$175,5,FALSE),0)","v":"04303-MONTE PATRIA"},"105507","80106017","2020-05-26T01:13:09",4,null,4,null,4]
[4,"5",2020,{"$f":"IFERROR(VLOOKUP([1]!Tabla_SERIEA_01_5[[#This Row],[IdEstablecimiento]],[2]Establecimientos!$A$1:$E$175,5,FALSE),0)","v":"04303-MONTE PATRIA"},"200499","80302005","2020-05-26T01:18:37",0,null,null,13]
[10,"5",2020,{"$f":"IFERROR(VLOOKUP([1]!Tabla_SERIEA_01_5[[#This Row],[IdEstablecimiento]],[2]Establecimientos!$A$1:$E$175,5,FALSE),0)","v":"04101-LA SERENA"},"105305","18040200","2020-11-12T07:08:16",10,null,10]
[3,"5",2020,{"$f":"IFERROR(VLOOKUP([1]!Tabla_SERIEA_01_5[[#This Row],[IdEstablecimiento]],[2]Establecimientos!$A$1:$E$175,5,FALSE),0)","v":"04101-LA SERENA"},"105503","80401009","2020-05-26T01:59:49",5,null,5,5]
[1,"5",2020,{"$f":"IFERROR(VLOOKUP([1]!Tabla_SERIEA_01_5[[#This Row],[IdEstablecimiento]],[2]Establecimientos!$A$1:$E$175,5,FALSE),0)","v":"04102-COQUIMBO"},"105305","82101001","2020-03-18T23:42:06",2,2,0,0,2]
[1,"5",2020,{"$f":"IFERROR(VLOOKUP([1]!Tabla_SERIEA_01_5[[#This Row],[IdEstablecimiento]],[2]Establecimientos!$A$1:$E$175,5,FALSE),0)","v":"04102-COQUIMBO"},"105307","80106007","2020-03-18T23:43:16",15,15,null,15]
[3,"5",2020,{"$f":"IFERROR(VLOOKUP([1]!Tabla_SERIEA_01_5[[#This Row],[IdEstablecimiento]],[2]Establecimientos!$A$1:$E$175,5,FALSE),0)","v":"105105-HOSPITAL COMBARBALÁ"},"105317","80500008","2020-04-16T21:56:39",23,null,23,null,23]
[2,"5",2020,{"$f":"IFERROR(VLOOKUP([1]!Tabla_SERIEA_01_5[[#This Row],[IdEstablecimiento]],[2]Establecimientos!$A$1:$E$175,5,FALSE),0)","v":"04201-ILLAPEL"},"105459","80106013","2020-03-19T21:02:25",1,null,1,null,1]
[2,"5",2020,{"$f":"IFERROR(VLOOKUP([1]!Tabla_SERIEA_01_5[[#This Row],[IdEstablecimiento]],[2]Establecimientos!$A$1:$E$175,5,FALSE),0)","v":"04303-MONTE PATRIA"},"105307","80306038","2020-03-19T18:40:25",163,null,163]
[2,"5",2020,{"$f":"IFERROR(VLOOKUP([1]!Tabla_SERIEA_01_5[[#This Row],[IdEstablecimiento]],[2]Establecimientos!$A$1:$E$175,5,FALSE),0)","v":"04303-MONTE PATRIA"},"105322","18090200","2020-03-19T18:51:53",626]
[1,"5",2020,{"$f":"IFERROR(VLOOKUP([1]!Tabla_SERIEA_01_5[[#This Row],[IdEstablecimiento]],[2]Establecimientos!$A$1:$E$175,5,FALSE),0)","v":"105107-HOSPITAL VICUÑA"},"105322","80302034","2020-03-18T23:48:24",3028,null,3028]
[5,"5",2020,{"$f":"IFERROR(VLOOKUP([1]!Tabla_SERIEA_01_5[[#This Row],[IdEstablecimiento]],[2]Establecimientos!$A$1:$E$175,5,FALSE),0)","v":"04102-COQUIMBO"},"105405","80302032","2020-06-12T19:35:18",0,null,null,7]
[9,"5",2020,{"$f":"IFERROR(VLOOKUP([1]!Tabla_SERIEA_01_5[[#This Row],[IdEstablecimiento]],[2]Establecimientos!$A$1:$E$175,5,FALSE),0)","v":"04202-CANELA"},"105326","80106014","2020-10-16T09:20:45",201,null,201,null,201]
[5,"5",2020,{"$f":"IFERROR(VLOOKUP([1]!Tabla_SERIEA_01_5[[#This Row],[IdEstablecimiento]],[2]Establecimientos!$A$1:$E$175,5,FALSE),0)","v":"105104-HOSPITAL SALAMANCA"},"105411","80106015","2020-06-12T19:36:51",2,null,2,null,2]
[6,"5",2020,{"$f":"IFERROR(VLOOKUP([1]!Tabla_SERIEA_01_5[[#This Row],[IdEstablecimiento]],[2]Establecimientos!$A$1:$E$175,5,FALSE),0)","v":"04101-LA SERENA"},"105459","80106023","2020-07-20T23:31:12",13,null,13,null,13]
[5,"5",2020,{"$f":"IFERROR(VLOOKUP([1]!Tabla_SERIEA_01_5[[#This Row],[IdEstablecimiento]],[2]Establecimientos!$A$1:$E$175,5,FALSE),0)","v":"105101-HOSPITAL COQUIMBO"},"105819","18020700","2020-06-12T20:34:27",7,7,0]
[7,"5",2020,{"$f":"IFERROR(VLOOKUP([1]!Tabla_SERIEA_01_5[[#This Row],[IdEstablecimiento]],[2]Establecimientos!$A$1:$E$175,5,FALSE),0)","v":"04101-LA SERENA"},"105819","80401056","2020-08-20T18:15:15",1,1]
[7,"5",2020,{"$f":"IFERROR(VLOOKUP([1]!Tabla_SERIEA_01_5[[#This Row],[IdEstablecimiento]],[2]Establecimientos!$A$1:$E$175,5,FALSE),0)","v":"105102-HOSPITAL OVALLE"},"105819","80401060","2020-08-20T18:15:15",34,34]
[2,"5",2020,{"$f":"IFERROR(VLOOKUP([1]!Tabla_SERIEA_01_5[[#This Row],[IdEstablecimiento]],[2]Establecimientos!$A$1:$E$175,5,FALSE),0)","v":"04106-VICUÑA"},"105400","80309010","2020-03-19T18:53:22",0,null,null,19]
[1,"5",2020,{"$f":"IFERROR(VLOOKUP([1]!Tabla_SERIEA_01_5[[#This Row],[IdEstablecimiento]],[2]Establecimientos!$A$1:$E$175,5,FALSE),0)","v":"04303-MONTE PATRIA"},"105458","80106023","2020-03-19T00:06:20",15,null,15]
[2,"5",2020,{"$f":"IFERROR(VLOOKUP([1]!Tabla_SERIEA_01_5[[#This Row],[IdEstablecimiento]],[2]Establecimientos!$A$1:$E$175,5,FALSE),0)","v":"04104-LA HIGUERA"},"105473","18050100","2020-03-19T21:06:50",105,0,105]
[6,"5",2020,{"$f":"IFERROR(VLOOKUP([1]!Tabla_SERIEA_01_5[[#This Row],[IdEstablecimiento]],[2]Establecimientos!$A$1:$E$175,5,FALSE),0)","v":"04303-MONTE PATRIA"},"105300","80306011","2020-07-20T22:53:25",0,null,null,26]
[7,"5",2020,{"$f":"IFERROR(VLOOKUP([1]!Tabla_SERIEA_01_5[[#This Row],[IdEstablecimiento]],[2]Establecimientos!$A$1:$E$175,5,FALSE),0)","v":"04301-OVALLE"},"105480","18020500","2020-08-20T17:41:43",11,0,11]
[6,"5",2020,{"$f":"IFERROR(VLOOKUP([1]!Tabla_SERIEA_01_5[[#This Row],[IdEstablecimiento]],[2]Establecimientos!$A$1:$E$175,5,FALSE),0)","v":"04101-LA SERENA"},"105307","80500009","2020-07-20T22:55:57",4,null,4,null,4]
[6,"5",2020,{"$f":"IFERROR(VLOOKUP([1]!Tabla_SERIEA_01_5[[#This Row],[IdEstablecimiento]],[2]Establecimientos!$A$1:$E$175,5,FALSE),0)","v":"04106-VICUÑA"},"105307","18011001","2020-07-20T22:55:57",8,0,8]
[7,"5",2020,{"$f":"IFERROR(VLOOKUP([1]!Tabla_SERIEA_01_5[[#This Row],[IdEstablecimiento]],[2]Establecimientos!$A$1:$E$175,5,FALSE),0)","v":"04201-ILLAPEL"},"105482","80106015","2020-08-20T17:42:15",10,null,10,null,10]
[1,"5",2020,{"$f":"IFERROR(VLOOKUP([1]!Tabla_SERIEA_01_5[[#This Row],[IdEstablecimiento]],[2]Establecimientos!$A$1:$E$175,5,FALSE),0)","v":"04102-COQUIMBO"},"105301","18050100","2020-03-18T23:40:40",223,77,146]
[6,"5",2020,{"$f":"IFERROR(VLOOKUP([1]!Tabla_SERIEA_01_5[[#This Row],[IdEstablecimiento]],[2]Establecimientos!$A$1:$E$175,5,FALSE),0)","v":"04102-COQUIMBO"},"105311","81901019","2020-07-20T22:57:05",3,null,3,null,3]
[5,"5",2020,{"$f":"IFERROR(VLOOKUP([1]!Tabla_SERIEA_01_5[[#This Row],[IdEstablecimiento]],[2]Establecimientos!$A$1:$E$175,5,FALSE),0)","v":"04102-COQUIMBO"},"105501","80106023","2020-06-12T20:27:12",3,null,3]
[8,"5",2020,{"$f":"IFERROR(VLOOKUP([1]!Tabla_SERIEA_01_5[[#This Row],[IdEstablecimiento]],[2]Establecimientos!$A$1:$E$175,5,FALSE),0)","v":"04301-OVALLE"},"105819","80401059","2020-09-16T17:46:22",5,5]
[4,"5",2020,{"$f":"IFERROR(VLOOKUP([1]!Tabla_SERIEA_01_5[[#This Row],[IdEstablecimiento]],[2]Establecimientos!$A$1:$E$175,5,FALSE),0)","v":"04301-OVALLE"},"105305","18020900","2020-09-17T11:40:08",1,0,1]
[4,"5",2020,{"$f":"IFERROR(VLOOKUP([1]!Tabla_SERIEA_01_5[[#This Row],[IdEstablecimiento]],[2]Establecimientos!$A$1:$E$175,5,FALSE),0)","v":"04301-OVALLE"},"105314","80302057","2020-06-12T20:56:37",0,null,null,1]
[6,"5",2020,{"$f":"IFERROR(VLOOKUP([1]!Tabla_SERIEA_01_5[[#This Row],[IdEstablecimiento]],[2]Establecimientos!$A$1:$E$175,5,FALSE),0)","v":"04204-SALAMANCA"},"105325","80303026","2020-07-20T23:00:28",0,null,null,30]
[6,"5",2020,{"$f":"IFERROR(VLOOKUP([1]!Tabla_SERIEA_01_5[[#This Row],[IdEstablecimiento]],[2]Establecimientos!$A$1:$E$175,5,FALSE),0)","v":"04301-OVALLE"},"105452","80106008","2020-07-20T23:26:20",2,null,2]
[8,"5",2020,{"$f":"IFERROR(VLOOKUP([1]!Tabla_SERIEA_01_5[[#This Row],[IdEstablecimiento]],[2]Establecimientos!$A$1:$E$175,5,FALSE),0)","v":"04303-MONTE PATRIA"},"105307","80302040","2020-09-16T16:38:24",5,null,5]
[8,"5",2020,{"$f":"IFERROR(VLOOKUP([1]!Tabla_SERIEA_01_5[[#This Row],[IdEstablecimiento]],[2]Establecimientos!$A$1:$E$175,5,FALSE),0)","v":"04106-VICUÑA"},"105405","80301086","2020-09-16T16:45:42",0,null,null,9]
[8,"5",2020,{"$f":"IFERROR(VLOOKUP([1]!Tabla_SERIEA_01_5[[#This Row],[IdEstablecimiento]],[2]Establecimientos!$A$1:$E$175,5,FALSE),0)","v":"04204-SALAMANCA"},"105470","80302067","2020-09-16T17:23:48",0,null,null,1]
[8,"5",2020,{"$f":"IFERROR(VLOOKUP([1]!Tabla_SERIEA_01_5[[#This Row],[IdEstablecimiento]],[2]Establecimientos!$A$1:$E$175,5,FALSE),0)","v":"04106-VICUÑA"},"105702","80303026","2020-09-16T17:39:14",0,null,null,14]
[5,"5",2020,{"$f":"IFERROR(VLOOKUP([1]!Tabla_SERIEA_01_5[[#This Row],[IdEstablecimiento]],[2]Establecimientos!$A$1:$E$175,5,FALSE),0)","v":"04304-PUNITAQUI"},"105441","80106017","2020-06-12T19:43:26",9,null,9,null,9]
[5,"5",2020,{"$f":"IFERROR(VLOOKUP([1]!Tabla_SERIEA_01_5[[#This Row],[IdEstablecimiento]],[2]Establecimientos!$A$1:$E$175,5,FALSE),0)","v":"04101-LA SERENA"},"105310","18700140","2020-06-12T19:28:04",null,null,2,{"$nulls":3},2]
[2,"5",2020,{"$f":"IFERROR(VLOOKUP([1]!Tabla_SERIEA_01_5[[#This Row],[IdEstablecimiento]],[2]Establecimientos!$A$1:$E$175,5,FALSE),0)","v":"04106-VICUÑA"},"105435","18020500","2020-03-19T19:08:35",66,0,66]
[1,"5",2020,{"$f":"IFERROR(VLOOKUP([1]!Tabla_SERIEA_01_5[[#This Row],[IdEstablecimiento]],[2]Establecimientos!$A$1:$E$175,5,FALSE),0)","v":"04201-ILLAPEL"},"200494","18030000","2020-03-19T00:47:01",22,18,4]
[9,"5",2020,{"$f":"IFERROR(VLOOKUP([1]!Tabla_SERIEA_01_5[[#This Row],[IdEstablecimiento]],[2]Establecimientos!$A$1:$E$175,5,FALSE),0)","v":"04106-VICUÑA"},"105819","80401014","2020-10-16T10:44:18",2,2]
[4,"5",2020,{"$f":"IFERROR(VLOOKUP([1]!Tabla_SERIEA_01_5[[#This Row],[IdEstablecimiento]],[2]Establecimientos!$A$1:$E$175,5,FALSE),0)","v":"04101-LA SERENA"},"105309","80306169","2020-05-26T00:41:44",0,null,null,5]
[6,"5",2020,{"$f":"IFERROR(VLOOKUP([1]!Tabla_SERIEA_01_5[[#This Row],[IdEstablecimiento]],[2]Establecimientos!$A$1:$E$175,5,FALSE),0)","v":"04101-LA SERENA"},"105819","80106020","2020-07-21T00:03:08",91,91]
[6,"5",2020,{"$f":"IFERROR(VLOOKUP([1]!Tabla_SERIEA_01_5[[#This Row],[IdEstablecimiento]],[2]Establecimientos!$A$1:$E$175,5,FALSE),0)","v":"04101-LA SERENA"},"105819","18011001","2020-07-21T00:03:08",161,161,0]
[8,"5",2020,{"$f":"IFERROR(VLOOKUP([1]!Tabla_SERIEA_01_5[[#This Row],[IdEstablecimiento]],[2]Establecimientos!$A$1:$E$175,5,FALSE),0)","v":"04301-OVALLE"},"200402","80500008","2020-09-16T17:50:32",1,null,1,null,1]
[10,"5",2020,{"$f":"IFERROR(VLOOKUP([1]!Tabla_SERIEA_01_5[[#This Row],[IdEstablecimiento]],[2]Establecimientos!$A$1:$E$175,5,FALSE),0)","v":"04106-VICUÑA"},"105411","80106006","2020-11-12T07:20:05",30,null,30,null,30]
[4,"5",2020,{"$f":"IFERROR(VLOOKUP([1]!Tabla_SERIEA_01_5[[#This Row],[IdEstablecimiento]],[2]Establecimientos!$A$1:$E$175,5,FALSE),0)","v":"04305-RIO HURTADO"},"105465","18400900","2020-05-26T01:01:32",2,null,2]
[4,"5",2020,{"$f":"IFERROR(VLOOKUP([1]!Tabla_SERIEA_01_5[[#This Row],[IdEstablecimiento]],[2]Establecimientos!$A$1:$E$175,5,FALSE),0)","v":"04305-RIO HURTADO"},"105466","80106014","2020-05-26T01:01:51",14,null,14,null,14]
[2,"5",2020,{"$f":"IFERROR(VLOOKUP([1]!Tabla_SERIEA_01_5[[#This Row],[IdEstablecimiento]],[2]Establecimientos!$A$1:$E$175,5,FALSE),0)","v":"04204-SALAMANCA"},"200366","80106002","2020-05-26T01:53:13",157,null,157]
[2,"5",2020,{"$f":"IFERROR(VLOOKUP([1]!Tabla_SERIEA_01_5[[#This Row],[IdEstablecimiento]],[2]Establecimientos!$A$1:$E$175,5,FALSE),0)","v":"04102-COQUIMBO"},"105436","80106002","2020-03-19T19:09:10",1,null,1,null,1]
[1,"5",2020,{"$f":"IFERROR(VLOOKUP([1]!Tabla_SERIEA_01_5[[#This Row],[IdEstablecimiento]],[2]Establecimientos!$A$1:$E$175,5,FALSE),0)","v":"105102-HOSPITAL OVALLE"},"105307","18010601","2020-03-18T23:43:16",548,0,548]
[5,"5",2020,{"$f":"IFERROR(VLOOKUP([1]!Tabla_SERIEA_01_5[[#This Row],[IdEstablecimiento]],[2]Establecimientos!$A$1:$E$175,5,FALSE),0)","v":"105101-HOSPITAL COQUIMBO"},"105309","80309010","2020-06-12T19:27:18",0,null,null,5]
[6,"5",2020,{"$f":"IFERROR(VLOOKUP([1]!Tabla_SERIEA_01_5[[#This Row],[IdEstablecimiento]],[2]Establecimientos!$A$1:$E$175,5,FALSE),0)","v":"04303-MONTE PATRIA"},"105404","80303024","2020-07-20T23:04:35",0,null,null,3]
[10,"5",2020,{"$f":"IFERROR(VLOOKUP([1]!Tabla_SERIEA_01_5[[#This Row],[IdEstablecimiento]],[2]Establecimientos!$A$1:$E$175,5,FALSE),0)","v":"04204-SALAMANCA"},"105442","80106014","2020-11-12T07:29:09",31,null,31,null,31]
[10,"5",2020,{"$f":"IFERROR(VLOOKUP([1]!Tabla_SERIEA_01_5[[#This Row],[IdEstablecimiento]],[2]Establecimientos!$A$1:$E$175,5,FALSE),0)","v":"105101-HOSPITAL COQUIMBO"},"105459","18050100","2020-11-12T07:48:04",3,0,3]
[10,"5",2020,{"$f":"IFERROR(VLOOKUP([1]!Tabla_SERIEA_01_5[[#This Row],[IdEstablecimiento]],[2]Establecimientos!$A$1:$E$175,5,FALSE),0)","v":"105101-HOSPITAL COQUIMBO"},"105460","80106002","2020-11-12T07:48:28",10,null,10,null,10]
[10,"5",2020,{"$f":"IFERROR(VLOOKUP([1]!Tabla_SERIEA_01_5[[#This Row],[IdEstablecimiento]],[2]Establecimientos!$A$1:$E$175,5,FALSE),0)","v":"04301-OVALLE"},"105444","80106002","2020-11-12T07:29:45",2,null,2,null,2]
[10,"5",2020,{"$f":"IFERROR(VLOOKUP([1]!Tabla_SERIEA_01_5[[#This Row],[IdEstablecimiento]],[2]Establecimientos!$A$1:$E$175,5,FALSE),0)","v":"04102-COQUIMBO"},"105478","80302047","2020-11-12T07:55:47",0,null,null,11]
[10,"5",2020,{"$f":"IFERROR(VLOOKUP([1]!Tabla_SERIEA_01_5[[#This Row],[IdEstablecimiento]],[2]Establecimientos!$A$1:$E$175,5,FALSE),0)","v":"04102-COQUIMBO"},"105479","80302032","2020-11-12T07:56:09",0,null,null,16]
[10,"5",2020,{"$f":"IFERROR(VLOOKUP([1]!Tabla_SERIEA_01_5[[#This Row],[IdEstablecimiento]],[2]Establecimientos!$A$1:$E$175,5,FALSE),0)","v":"04204-SALAMANCA"},"105445","80106015","2020-11-12T07:30:05",6,null,6,null,6]
[9,"5",2020,{"$f":"IFERROR(VLOOKUP([1]!Tabla_SERIEA_01_5[[#This Row],[IdEstablecimiento]],[2]Establecimientos!$A$1:$E$175,5,FALSE),0)","v":"04106-VICUÑA"},"105323","18020200","2020-10-16T09:19:55",1,1,0]
[10,"5",2020,{"$f":"IFERROR(VLOOKUP([1]!Tabla_SERIEA_01_5[[#This Row],[IdEstablecimiento]],[2]Establecimientos!$A$1:$E$175,5,FALSE),0)","v":"105101-HOSPITAL COQUIMBO"},"105447","80106014","2020-11-12T07:40:42",26,null,26,null,26]
[10,"5",2020,{"$f":"IFERROR(VLOOKUP([1]!Tabla_SERIEA_01_5[[#This Row],[IdEstablecimiento]],[2]Establecimientos!$A$1:$E$175,5,FALSE),0)","v":"04102-COQUIMBO"},"105480","80301041","2020-11-12T07:56:26",0,null,null,17]
[10,"5",2020,{"$f":"IFERROR(VLOOKUP([1]!Tabla_SERIEA_01_5[[#This Row],[IdEstablecimiento]],[2]Establecimientos!$A$1:$E$175,5,FALSE),0)","v":"105102-HOSPITAL OVALLE"},"105480","80301085","2020-11-12T07:56:26",0,null,null,6]
[10,"5",2020,{"$f":"IFERROR(VLOOKUP([1]!Tabla_SERIEA_01_5[[#This Row],[IdEstablecimiento]],[2]Establecimientos!$A$1:$E$175,5,FALSE),0)","v":"04105-PAIHUANO"},"105448","80303024","2020-11-12T07:41:05",0,null,null,4]
[10,"5",2020,{"$f":"IFERROR(VLOOKUP([1]!Tabla_SERIEA_01_5[[#This Row],[IdEstablecimiento]],[2]Establecimientos!$A$1:$E$175,5,FALSE),0)","v":"04106-VICUÑA"},"105480","80306048","2020-11-12T07:56:26",0,null,null,1]
[9,"5",2020,{"$f":"IFERROR(VLOOKUP([1]!Tabla_SERIEA_01_5[[#This Row],[IdEstablecimiento]],[2]Establecimientos!$A$1:$E$175,5,FALSE),0)","v":"04102-COQUIMBO"},"105427","80106013","2020-10-16T09:35:22",1,null,1,null,1]
[9,"5",2020,{"$f":"IFERROR(VLOOKUP([1]!Tabla_SERIEA_01_5[[#This Row],[IdEstablecimiento]],[2]Establecimientos!$A$1:$E$175,5,FALSE),0)","v":"04102-COQUIMBO"},"105401","80106014","2020-10-16T09:21:23",27,null,27,null,27]
[5,"5",2020,{"$f":"IFERROR(VLOOKUP([1]!Tabla_SERIEA_01_5[[#This Row],[IdEstablecimiento]],[2]Establecimientos!$A$1:$E$175,5,FALSE),0)","v":"04204-SALAMANCA"},"105472","18050100","2020-06-12T20:11:27",11,0,11]
[9,"5",2020,{"$f":"IFERROR(VLOOKUP([1]!Tabla_SERIEA_01_5[[#This Row],[IdEstablecimiento]],[2]Establecimientos!$A$1:$E$175,5,FALSE),0)","v":"04102-COQUIMBO"},"105430","80106015","2020-10-16T09:36:29",3,null,3,null,3]
[5,"5",2020,{"$f":"IFERROR(VLOOKUP([1]!Tabla_SERIEA_01_5[[#This Row],[IdEstablecimiento]],[2]Establecimientos!$A$1:$E$175,5,FALSE),0)","v":"04201-ILLAPEL"},"105322","80106002","2020-06-12T19:31:00",155,null,155,null,155]
[5,"5",2020,{"$f":"IFERROR(VLOOKUP([1]!Tabla_SERIEA_01_5[[#This Row],[IdEstablecimiento]],[2]Establecimientos!$A$1:$E$175,5,FALSE),0)","v":"04203-LOS VILOS"},"105322","80302013","2020-06-12T19:31:00",6,null,6]
[9,"5",2020,{"$f":"IFERROR(VLOOKUP([1]!Tabla_SERIEA_01_5[[#This Row],[IdEstablecimiento]],[2]Establecimientos!$A$1:$E$175,5,FALSE),0)","v":"04102-COQUIMBO"},"105432","80106013","2020-10-16T09:37:17",3,null,3,null,3]
[6,"5",2020,{"$f":"IFERROR(VLOOKUP([1]!Tabla_SERIEA_01_5[[#This Row],[IdEstablecimiento]],[2]Establecimientos!$A$1:$E$175,5,FALSE),0)","v":"04101-LA SERENA"},"105318","18020500","2020-07-20T22:58:43",18,2,16]
[9,"5",2020,{"$f":"IFERROR(VLOOKUP([1]!Tabla_SERIEA_01_5[[#This Row],[IdEstablecimiento]],[2]Establecimientos!$A$1:$E$175,5,FALSE),0)","v":"04301-OVALLE"},"105435","80106017","2020-10-16T09:38:26",15,null,15,null,15]
[9,"5",2020,{"$f":"IFERROR(VLOOKUP([1]!Tabla_SERIEA_01_5[[#This Row],[IdEstablecimiento]],[2]Establecimientos!$A$1:$E$175,5,FALSE),0)","v":"105102-HOSPITAL OVALLE"},"105435","80500009","2020-10-16T09:38:26",2,null,2,null,2]
[1,"5",2020,{"$f":"IFERROR(VLOOKUP([1]!Tabla_SERIEA_01_5[[#This Row],[IdEstablecimiento]],[2]Establecimientos!$A$1:$E$175,5,FALSE),0)","v":"04101-LA SERENA"},"105322","80301041","2020-03-18T23:48:24",1233,null,1233]
[9,"5",2020,{"$f":"IFERROR(VLOOKUP([1]!Tabla_SERIEA_01_5[[#This Row],[IdEstablecimiento]],[2]Establecimientos!$A$1:$E$175,5,FALSE),0)","v":"04202-CANELA"},"105468","80106014","2020-10-16T10:10:14",42,null,42,null,42]
[10,"5",2020,{"$f":"IFERROR(VLOOKUP([1]!Tabla_SERIEA_01_5[[#This Row],[IdEstablecimiento]],[2]Establecimientos!$A$1:$E$175,5,FALSE),0)","v":"04101-LA SERENA"},"105300","80302022","2020-11-12T07:01:17",0,null,null,187]
[10,"5",2020,{"$f":"IFERROR(VLOOKUP([1]!Tabla_SERIEA_01_5[[#This Row],[IdEstablecimiento]],[2]Establecimientos!$A$1:$E$175,5,FALSE),0)","v":"105104-HOSPITAL SALAMANCA"},"105300","80302047","2020-11-12T07:01:17",0,null,null,247]
[2,"5",2020,{"$f":"IFERROR(VLOOKUP([1]!Tabla_SERIEA_01_5[[#This Row],[IdEstablecimiento]],[2]Establecimientos!$A$1:$E$175,5,FALSE),0)","v":"105101-HOSPITAL COQUIMBO"},"105411","81602222","2020-03-19T18:57:31",1,null,1,null,1]
[10,"5",2020,{"$f":"IFERROR(VLOOKUP([1]!Tabla_SERIEA_01_5[[#This Row],[IdEstablecimiento]],[2]Establecimientos!$A$1:$E$175,5,FALSE),0)","v":"04204-SALAMANCA"},"105301","80309022","2020-11-12T07:05:58",0,null,null,263]
[3,"5",2020,{"$f":"IFERROR(VLOOKUP([1]!Tabla_SERIEA_01_5[[#This Row],[IdEstablecimiento]],[2]Establecimientos!$A$1:$E$175,5,FALSE),0)","v":"04101-LA SERENA"},"105487","80309010","2020-04-16T22:52:42",0,null,null,66]
[3,"5",2020,{"$f":"IFERROR(VLOOKUP([1]!Tabla_SERIEA_01_5[[#This Row],[IdEstablecimiento]],[2]Establecimientos!$A$1:$E$175,5,FALSE),0)","v":"105108-HOSPITAL LOS VILOS"},"105304","80302013","2020-05-26T01:55:50",0,null,null,22]
[9,"5",2020,{"$f":"IFERROR(VLOOKUP([1]!Tabla_SERIEA_01_5[[#This Row],[IdEstablecimiento]],[2]Establecimientos!$A$1:$E$175,5,FALSE),0)","v":"105101-HOSPITAL COQUIMBO"},"105469","80306007","2020-10-16T10:10:49",0,null,null,1]
[9,"5",2020,{"$f":"IFERROR(VLOOKUP([1]!Tabla_SERIEA_01_5[[#This Row],[IdEstablecimiento]],[2]Establecimientos!$A$1:$E$175,5,FALSE),0)","v":"04101-LA SERENA"},"105470","80106014","2020-10-16T10:12:24",7,null,7,null,7]
[6,"5",2020,{"$f":"IFERROR(VLOOKUP([1]!Tabla_SERIEA_01_5[[#This Row],[IdEstablecimiento]],[2]Establecimientos!$A$1:$E$175,5,FALSE),0)","v":"04201-ILLAPEL"},"105452","80306059","2020-07-20T23:26:20",0,null,null,13]
[6,"5",2020,{"$f":"IFERROR(VLOOKUP([1]!Tabla_SERIEA_01_5[[#This Row],[IdEstablecimiento]],[2]Establecimientos!$A$1:$E$175,5,FALSE),0)","v":"04201-ILLAPEL"},"105452","81701001","2020-07-20T23:26:20",1,null,1]
[1,"5",2020,{"$f":"IFERROR(VLOOKUP([1]!Tabla_SERIEA_01_5[[#This Row],[IdEstablecimiento]],[2]Establecimientos!$A$1:$E$175,5,FALSE),0)","v":"04102-COQUIMBO"},"105488","81701009","2020-03-19T00:37:25",3,null,3,null,3]
[10,"5",2020,{"$f":"IFERROR(VLOOKUP([1]!Tabla_SERIEA_01_5[[#This Row],[IdEstablecimiento]],[2]Establecimientos!$A$1:$E$175,5,FALSE),0)","v":"105102-HOSPITAL OVALLE"},"105701","80302047","2020-11-12T09:44:48",0,null,null,30]
[10,"5",2020,{"$f":"IFERROR(VLOOKUP([1]!Tabla_SERIEA_01_5[[#This Row],[IdEstablecimiento]],[2]Establecimientos!$A$1:$E$175,5,FALSE),0)","v":"105101-HOSPITAL COQUIMBO"},"105822","80401049","2020-11-12T09:45:29",1,1]
[10,"5",2020,{"$f":"IFERROR(VLOOKUP([1]!Tabla_SERIEA_01_5[[#This Row],[IdEstablecimiento]],[2]Establecimientos!$A$1:$E$175,5,FALSE),0)","v":"04305-RIO HURTADO"},"105822","80401009","2020-11-12T09:45:29",79,79]
[10,"5",2020,{"$f":"IFERROR(VLOOKUP([1]!Tabla_SERIEA_01_5[[#This Row],[IdEstablecimiento]],[2]Establecimientos!$A$1:$E$175,5,FALSE),0)","v":"04106-VICUÑA"},"105822","18020500","2020-11-12T09:45:29",121,121,0]
[1,"5",2020,{"$f":"IFERROR(VLOOKUP([1]!Tabla_SERIEA_01_5[[#This Row],[IdEstablecimiento]],[2]Establecimientos!$A$1:$E$175,5,FALSE),0)","v":"04101-LA SERENA"},"105306","80302042","2020-03-18T23:42:22",0,null,null,2]
[9,"5",2020,{"$f":"IFERROR(VLOOKUP([1]!Tabla_SERIEA_01_5[[#This Row],[IdEstablecimiento]],[2]Establecimientos!$A$1:$E$175,5,FALSE),0)","v":"04101-LA SERENA"},"105471","81602221","2020-10-16T10:12:52",2,null,2]
[9,"5",2020,{"$f":"IFERROR(VLOOKUP([1]!Tabla_SERIEA_01_5[[#This Row],[IdEstablecimiento]],[2]Establecimientos!$A$1:$E$175,5,FALSE),0)","v":"04102-COQUIMBO"},"105308","80306061","2020-10-16T09:14:43",0,null,null,12]
[9,"5",2020,{"$f":"IFERROR(VLOOKUP([1]!Tabla_SERIEA_01_5[[#This Row],[IdEstablecimiento]],[2]Establecimientos!$A$1:$E$175,5,FALSE),0)","v":"04201-ILLAPEL"},"105308","80106014","2020-10-16T09:14:43",269,null,269,null,269]
[7,"5",2020,{"$f":"IFERROR(VLOOKUP([1]!Tabla_SERIEA_01_5[[#This Row],[IdEstablecimiento]],[2]Establecimientos!$A$1:$E$175,5,FALSE),0)","v":"105101-HOSPITAL COQUIMBO"},"105319","80106017","2020-09-16T18:48:41",90,9,81,null,90]
[10,"5",2020,{"$f":"IFERROR(VLOOKUP([1]!Tabla_SERIEA_01_5[[#This Row],[IdEstablecimiento]],[2]Establecimientos!$A$1:$E$175,5,FALSE),0)","v":"105106-HOSPITAL ANDACOLLO"},"105458","18040200","2020-11-12T09:51:19",3,1,2]
[8,"5",2020,{"$f":"IFERROR(VLOOKUP([1]!Tabla_SERIEA_01_5[[#This Row],[IdEstablecimiento]],[2]Establecimientos!$A$1:$E$175,5,FALSE),0)","v":"04101-LA SERENA"},"105302","18400600","2020-11-13T14:31:47",7,0,7]
[10,"5",2020,{"$f":"IFERROR(VLOOKUP([1]!Tabla_SERIEA_01_5[[#This Row],[IdEstablecimiento]],[2]Establecimientos!$A$1:$E$175,5,FALSE),0)","v":"04102-COQUIMBO"},"200928","80106014","2020-11-13T13:49:18",554,554,null,null,554]
[9,"5",2020,{"$f":"IFERROR(VLOOKUP([1]!Tabla_SERIEA_01_5[[#This Row],[IdEstablecimiento]],[2]Establecimientos!$A$1:$E$175,5,FALSE),0)","v":"105102-HOSPITAL OVALLE"},"105309","80309022","2020-10-16T09:15:06",0,null,null,62]
[8,"5",2020,{"$f":"IFERROR(VLOOKUP([1]!Tabla_SERIEA_01_5[[#This Row],[IdEstablecimiento]],[2]Establecimientos!$A$1:$E$175,5,FALSE),0)","v":"04102-COQUIMBO"},"105499","80303026","2020-11-13T14:32:28",0,null,null,1]
[8,"5",2020,{"$f":"IFERROR(VLOOKUP([1]!Tabla_SERIEA_01_5[[#This Row],[IdEstablecimiento]],[2]Establecimientos!$A$1:$E$175,5,FALSE),0)","v":"04102-COQUIMBO"},"105499","80106013","2020-11-13T14:32:28",2,null,2,null,2]
[6,"5",2020,{"$f":"IFERROR(VLOOKUP([1]!Tabla_SERIEA_01_5[[#This Row],[IdEstablecimiento]],[2]Establecimientos!$A$1:$E$175,5,FALSE),0)","v":"04102-COQUIMBO"},"105326","80301041","2020-11-13T14:39:18",0,null,null,46]
[2,"5",2020,{"$f":"IFERROR(VLOOKUP([1]!Tabla_SERIEA_01_5[[#This Row],[IdEstablecimiento]],[2]Establecimientos!$A$1:$E$175,5,FALSE),0)","v":"04105-PAIHUANO"},"105486","81701001","2020-11-13T14:51:33",19,null,19,null,19]
[9,"5",2020,{"$f":"IFERROR(VLOOKUP([1]!Tabla_SERIEA_01_5[[#This Row],[IdEstablecimiento]],[2]Establecimientos!$A$1:$E$175,5,FALSE),0)","v":"04102-COQUIMBO"},"105309","80301034","2020-10-16T09:15:06",0,null,null,4]
[5,"5",2020,{"$f":"IFERROR(VLOOKUP([1]!Tabla_SERIEA_01_5[[#This Row],[IdEstablecimiento]],[2]Establecimientos!$A$1:$E$175,5,FALSE),0)","v":"04301-OVALLE"},"105410","18020500","2020-06-12T19:36:17",8,0,8]
[2,"5",2020,{"$f":"IFERROR(VLOOKUP([1]!Tabla_SERIEA_01_5[[#This Row],[IdEstablecimiento]],[2]Establecimientos!$A$1:$E$175,5,FALSE),0)","v":"04106-VICUÑA"},"105452","80302067","2020-03-19T20:42:56",0,null,null,55]
[8,"5",2020,{"$f":"IFERROR(VLOOKUP([1]!Tabla_SERIEA_01_5[[#This Row],[IdEstablecimiento]],[2]Establecimientos!$A$1:$E$175,5,FALSE),0)","v":"04202-CANELA"},"200538","18020500","2020-09-16T17:53:58",38,0,38]
[5,"5",2020,{"$f":"IFERROR(VLOOKUP([1]!Tabla_SERIEA_01_5[[#This Row],[IdEstablecimiento]],[2]Establecimientos!$A$1:$E$175,5,FALSE),0)","v":"04204-SALAMANCA"},"200607","80307011","2020-06-12T20:42:21",36,null,36]
[8,"5",2020,{"$f":"IFERROR(VLOOKUP([1]!Tabla_SERIEA_01_5[[#This Row],[IdEstablecimiento]],[2]Establecimientos!$A$1:$E$175,5,FALSE),0)","v":"04201-ILLAPEL"},"200538","80301085","2020-09-16T17:53:58",0,null,null,6]
[7,"5",2020,{"$f":"IFERROR(VLOOKUP([1]!Tabla_SERIEA_01_5[[#This Row],[IdEstablecimiento]],[2]Establecimientos!$A$1:$E$175,5,FALSE),0)","v":"04104-LA HIGUERA"},"105305","80106013","2020-08-20T16:51:36",8,8,null,8]
[10,"5",2020,{"$f":"IFERROR(VLOOKUP([1]!Tabla_SERIEA_01_5[[#This Row],[IdEstablecimiento]],[2]Establecimientos!$A$1:$E$175,5,FALSE),0)","v":"04303-MONTE PATRIA"},"105409","80309013","2020-11-12T07:19:28",0,null,null,3]
[5,"5",2020,{"$f":"IFERROR(VLOOKUP([1]!Tabla_SERIEA_01_5[[#This Row],[IdEstablecimiento]],[2]Establecimientos!$A$1:$E$175,5,FALSE),0)","v":"04101-LA SERENA"},"105313","80302063","2020-06-12T19:28:53",0,null,null,116]
[2,"5",2020,{"$f":"IFERROR(VLOOKUP([1]!Tabla_SERIEA_01_5[[#This Row],[IdEstablecimiento]],[2]Establecimientos!$A$1:$E$175,5,FALSE),0)","v":"04301-OVALLE"},"105313","80307012","2020-03-19T18:45:31",55,null,55]
[4,"5",2020,{"$f":"IFERROR(VLOOKUP([1]!Tabla_SERIEA_01_5[[#This Row],[IdEstablecimiento]],[2]Establecimientos!$A$1:$E$175,5,FALSE),0)","v":"04301-OVALLE"},"105435","80106007","2020-05-26T00:53:23",3,null,3,null,3]
[8,"5",2020,{"$f":"IFERROR(VLOOKUP([1]!Tabla_SERIEA_01_5[[#This Row],[IdEstablecimiento]],[2]Establecimientos!$A$1:$E$175,5,FALSE),0)","v":"04102-COQUIMBO"},"105301","80302023","2020-09-16T16:36:19",0,null,null,204]
[8,"5",2020,{"$f":"IFERROR(VLOOKUP([1]!Tabla_SERIEA_01_5[[#This Row],[IdEstablecimiento]],[2]Establecimientos!$A$1:$E$175,5,FALSE),0)","v":"04102-COQUIMBO"},"105510","18070300","2020-10-16T08:57:14",4,{"$nulls":4},3,1]
[8,"5",2020,{"$f":"IFERROR(VLOOKUP([1]!Tabla_SERIEA_01_5[[#This Row],[IdEstablecimiento]],[2]Establecimientos!$A$1:$E$175,5,FALSE),0)","v":"04201-ILLAPEL"},"105722","80307012","2020-10-16T08:57:56",3,null,3]
[3,"5",2020,{"$f":"IFERROR(VLOOKUP([1]!Tabla_SERIEA_01_5[[#This Row],[IdEstablecimiento]],[2]Establecimientos!$A$1:$E$175,5,FALSE),0)","v":"04101-LA SERENA"},"105304","18020300","2020-05-26T01:55:50",74,38,36]
[6,"5",2020,{"$f":"IFERROR(VLOOKUP([1]!Tabla_SERIEA_01_5[[#This Row],[IdEstablecimiento]],[2]Establecimientos!$A$1:$E$175,5,FALSE),0)","v":"04102-COQUIMBO"},"105491","80106008","2020-07-20T23:44:28",1,null,1]
[5,"5",2020,{"$f":"IFERROR(VLOOKUP([1]!Tabla_SERIEA_01_5[[#This Row],[IdEstablecimiento]],[2]Establecimientos!$A$1:$E$175,5,FALSE),0)","v":"04101-LA SERENA"},"105303","80302024","2020-08-20T18:23:50",0,null,null,1]
[8,"5",2020,{"$f":"IFERROR(VLOOKUP([1]!Tabla_SERIEA_01_5[[#This Row],[IdEstablecimiento]],[2]Establecimientos!$A$1:$E$175,5,FALSE),0)","v":"04106-VICUÑA"},"105301","80303024","2020-09-16T16:36:19",0,null,null,88]
[5,"5",2020,{"$f":"IFERROR(VLOOKUP([1]!Tabla_SERIEA_01_5[[#This Row],[IdEstablecimiento]],[2]Establecimientos!$A$1:$E$175,5,FALSE),0)","v":"105101-HOSPITAL COQUIMBO"},"105486","81701009","2020-06-12T20:22:29",2,null,2,null,2]
[9,"5",2020,{"$f":"IFERROR(VLOOKUP([1]!Tabla_SERIEA_01_5[[#This Row],[IdEstablecimiento]],[2]Establecimientos!$A$1:$E$175,5,FALSE),0)","v":"04301-OVALLE"},"105305","80306042","2020-10-16T09:13:49",0,null,null,46]
[5,"5",2020,{"$f":"IFERROR(VLOOKUP([1]!Tabla_SERIEA_01_5[[#This Row],[IdEstablecimiento]],[2]Establecimientos!$A$1:$E$175,5,FALSE),0)","v":"04104-LA HIGUERA"},"105500","18050100","2020-06-12T21:06:45",32,32,0]
[10,"5",2020,{"$f":"IFERROR(VLOOKUP([1]!Tabla_SERIEA_01_5[[#This Row],[IdEstablecimiento]],[2]Establecimientos!$A$1:$E$175,5,FALSE),0)","v":"04102-COQUIMBO"},"105487","80106002","2020-11-12T08:00:57",79,null,79,null,79]
[2,"5",2020,{"$f":"IFERROR(VLOOKUP([1]!Tabla_SERIEA_01_5[[#This Row],[IdEstablecimiento]],[2]Establecimientos!$A$1:$E$175,5,FALSE),0)","v":"04101-LA SERENA"},"105445","18090200","2020-03-19T20:39:07",4]
[5,"5",2020,{"$f":"IFERROR(VLOOKUP([1]!Tabla_SERIEA_01_5[[#This Row],[IdEstablecimiento]],[2]Establecimientos!$A$1:$E$175,5,FALSE),0)","v":"105105-HOSPITAL COMBARBALÁ"},"200494","80500011","2020-06-12T20:39:48",110,70,40,null,110]
[4,"5",2020,{"$f":"IFERROR(VLOOKUP([1]!Tabla_SERIEA_01_5[[#This Row],[IdEstablecimiento]],[2]Establecimientos!$A$1:$E$175,5,FALSE),0)","v":"04101-LA SERENA"},"105307","80404006","2020-05-26T00:41:15",4,null,4]
[2,"5",2020,{"$f":"IFERROR(VLOOKUP([1]!Tabla_SERIEA_01_5[[#This Row],[IdEstablecimiento]],[2]Establecimientos!$A$1:$E$175,5,FALSE),0)","v":"04301-OVALLE"},"105311","18400900","2020-03-19T18:44:53",31,6,25]
[5,"5",2020,{"$f":"IFERROR(VLOOKUP([1]!Tabla_SERIEA_01_5[[#This Row],[IdEstablecimiento]],[2]Establecimientos!$A$1:$E$175,5,FALSE),0)","v":"04301-OVALLE"},"105404","80309022","2020-06-12T19:35:03",0,null,null,4]
[5,"5",2020,{"$f":"IFERROR(VLOOKUP([1]!Tabla_SERIEA_01_5[[#This Row],[IdEstablecimiento]],[2]Establecimientos!$A$1:$E$175,5,FALSE),0)","v":"04201-ILLAPEL"},"105305","80106023","2020-06-12T19:26:13",4,null,4,null,4]
[10,"5",2020,{"$f":"IFERROR(VLOOKUP([1]!Tabla_SERIEA_01_5[[#This Row],[IdEstablecimiento]],[2]Establecimientos!$A$1:$E$175,5,FALSE),0)","v":"04106-VICUÑA"},"105427","18020500","2020-11-12T07:22:37",10,0,10]
[10,"5",2020,{"$f":"IFERROR(VLOOKUP([1]!Tabla_SERIEA_01_5[[#This Row],[IdEstablecimiento]],[2]Establecimientos!$A$1:$E$175,5,FALSE),0)","v":"04203-LOS VILOS"},"105430","80106002","2020-11-12T07:23:47",9,null,9,null,9]
[10,"5",2020,{"$f":"IFERROR(VLOOKUP([1]!Tabla_SERIEA_01_5[[#This Row],[IdEstablecimiento]],[2]Establecimientos!$A$1:$E$175,5,FALSE),0)","v":"04201-ILLAPEL"},"105307","18011002","2020-11-12T07:08:48",10,0,10]
[1,"5",2020,{"$f":"IFERROR(VLOOKUP([1]!Tabla_SERIEA_01_5[[#This Row],[IdEstablecimiento]],[2]Establecimientos!$A$1:$E$175,5,FALSE),0)","v":"04303-MONTE PATRIA"},"200494","81602242","2020-03-19T00:47:01",3,3,null,3]
[1,"5",2020,{"$f":"IFERROR(VLOOKUP([1]!Tabla_SERIEA_01_5[[#This Row],[IdEstablecimiento]],[2]Establecimientos!$A$1:$E$175,5,FALSE),0)","v":"04102-COQUIMBO"},"105323","80309023","2020-03-18T23:48:41",0,null,null,1]
[3,"5",2020,{"$f":"IFERROR(VLOOKUP([1]!Tabla_SERIEA_01_5[[#This Row],[IdEstablecimiento]],[2]Establecimientos!$A$1:$E$175,5,FALSE),0)","v":"04202-CANELA"},"105504","80401010","2020-04-16T22:59:37",0,null,null,3]
[4,"5",2020,{"$f":"IFERROR(VLOOKUP([1]!Tabla_SERIEA_01_5[[#This Row],[IdEstablecimiento]],[2]Establecimientos!$A$1:$E$175,5,FALSE),0)","v":"04101-LA SERENA"},"105722","18400900","2020-05-26T01:16:11",12,6,6]
[6,"5",2020,{"$f":"IFERROR(VLOOKUP([1]!Tabla_SERIEA_01_5[[#This Row],[IdEstablecimiento]],[2]Establecimientos!$A$1:$E$175,5,FALSE),0)","v":"105106-HOSPITAL ANDACOLLO"},"105305","80303028","2020-07-20T22:55:21",0,null,null,2]
[10,"5",2020,{"$f":"IFERROR(VLOOKUP([1]!Tabla_SERIEA_01_5[[#This Row],[IdEstablecimiento]],[2]Establecimientos!$A$1:$E$175,5,FALSE),0)","v":"04301-OVALLE"},"105452","80106008","2020-11-12T09:48:56",3,null,3]
[10,"5",2020,{"$f":"IFERROR(VLOOKUP([1]!Tabla_SERIEA_01_5[[#This Row],[IdEstablecimiento]],[2]Establecimientos!$A$1:$E$175,5,FALSE),0)","v":"04305-RIO HURTADO"},"105452","80305070","2020-11-12T09:48:56",0,null,null,17]
[2,"5",2020,{"$f":"IFERROR(VLOOKUP([1]!Tabla_SERIEA_01_5[[#This Row],[IdEstablecimiento]],[2]Establecimientos!$A$1:$E$175,5,FALSE),0)","v":"04202-CANELA"},"105487","80106010","2020-03-19T21:15:57",1,null,1,null,1]
[1,"5",2020,{"$f":"IFERROR(VLOOKUP([1]!Tabla_SERIEA_01_5[[#This Row],[IdEstablecimiento]],[2]Establecimientos!$A$1:$E$175,5,FALSE),0)","v":"04301-OVALLE"},"105504","80309022","2020-03-19T00:41:06",0,null,null,14]
[1,"5",2020,{"$f":"IFERROR(VLOOKUP([1]!Tabla_SERIEA_01_5[[#This Row],[IdEstablecimiento]],[2]Establecimientos!$A$1:$E$175,5,FALSE),0)","v":"04102-COQUIMBO"},"105504","80106002","2020-03-19T00:41:06",6,null,6,null,6]
[2,"5",2020,{"$f":"IFERROR(VLOOKUP([1]!Tabla_SERIEA_01_5[[#This Row],[IdEstablecimiento]],[2]Establecimientos!$A$1:$E$175,5,FALSE),0)","v":"105104-HOSPITAL SALAMANCA"},"200607","80302047","2020-05-26T01:52:20",0,null,null,314]
[6,"5",2020,{"$f":"IFERROR(VLOOKUP([1]!Tabla_SERIEA_01_5[[#This Row],[IdEstablecimiento]],[2]Establecimientos!$A$1:$E$175,5,FALSE),0)","v":"04303-MONTE PATRIA"},"200607","81701001","2020-07-21T00:08:27",18,18,0,0,18]
[3,"5",2020,{"$f":"IFERROR(VLOOKUP([1]!Tabla_SERIEA_01_5[[#This Row],[IdEstablecimiento]],[2]Establecimientos!$A$1:$E$175,5,FALSE),0)","v":"04102-COQUIMBO"},"105305","80106002","2020-04-16T21:46:35",277,27,250,27,250]
[6,"5",2020,{"$f":"IFERROR(VLOOKUP([1]!Tabla_SERIEA_01_5[[#This Row],[IdEstablecimiento]],[2]Establecimientos!$A$1:$E$175,5,FALSE),0)","v":"105104-HOSPITAL SALAMANCA"},"105302","80302063","2020-07-20T22:54:23",0,null,null,28]
[6,"5",2020,{"$f":"IFERROR(VLOOKUP([1]!Tabla_SERIEA_01_5[[#This Row],[IdEstablecimiento]],[2]Establecimientos!$A$1:$E$175,5,FALSE),0)","v":"04102-COQUIMBO"},"105302","80106014","2020-07-20T22:54:23",335,253,82,null,335]
[3,"5",2020,{"$f":"IFERROR(VLOOKUP([1]!Tabla_SERIEA_01_5[[#This Row],[IdEstablecimiento]],[2]Establecimientos!$A$1:$E$175,5,FALSE),0)","v":"105100-HOSPITAL LA SERENA"},"105485","80303024","2020-04-16T22:52:14",0,null,null,9]
[2,"5",2020,{"$f":"IFERROR(VLOOKUP([1]!Tabla_SERIEA_01_5[[#This Row],[IdEstablecimiento]],[2]Establecimientos!$A$1:$E$175,5,FALSE),0)","v":"04201-ILLAPEL"},"105452","80106022","2020-03-19T20:42:56",1,null,1]
[7,"5",2020,{"$f":"IFERROR(VLOOKUP([1]!Tabla_SERIEA_01_5[[#This Row],[IdEstablecimiento]],[2]Establecimientos!$A$1:$E$175,5,FALSE),0)","v":"04101-LA SERENA"},"105484","80106020","2020-08-20T17:42:47",1,null,1,null,1]
[4,"5",2020,{"$f":"IFERROR(VLOOKUP([1]!Tabla_SERIEA_01_5[[#This Row],[IdEstablecimiento]],[2]Establecimientos!$A$1:$E$175,5,FALSE),0)","v":"105106-HOSPITAL ANDACOLLO"},"105322","80309013","2020-05-26T00:44:30",118,null,118]
[1,"5",2020,{"$f":"IFERROR(VLOOKUP([1]!Tabla_SERIEA_01_5[[#This Row],[IdEstablecimiento]],[2]Establecimientos!$A$1:$E$175,5,FALSE),0)","v":"04301-OVALLE"},"105308","80305070","2020-03-18T23:43:33",0,null,null,14]
[3,"5",2020,{"$f":"IFERROR(VLOOKUP([1]!Tabla_SERIEA_01_5[[#This Row],[IdEstablecimiento]],[2]Establecimientos!$A$1:$E$175,5,FALSE),0)","v":"04201-ILLAPEL"},"105300","80106002","2020-04-16T21:43:47",147,46,101,null,147]
[3,"5",2020,{"$f":"IFERROR(VLOOKUP([1]!Tabla_SERIEA_01_5[[#This Row],[IdEstablecimiento]],[2]Establecimientos!$A$1:$E$175,5,FALSE),0)","v":"04201-ILLAPEL"},"105462","18400600","2020-04-16T22:45:45",1,0,1]
[8,"5",2020,{"$f":"IFERROR(VLOOKUP([1]!Tabla_SERIEA_01_5[[#This Row],[IdEstablecimiento]],[2]Establecimientos!$A$1:$E$175,5,FALSE),0)","v":"04301-OVALLE"},"105479","80302060","2020-09-16T17:26:57",0,null,null,2]
[5,"5",2020,{"$f":"IFERROR(VLOOKUP([1]!Tabla_SERIEA_01_5[[#This Row],[IdEstablecimiento]],[2]Establecimientos!$A$1:$E$175,5,FALSE),0)","v":"04102-COQUIMBO"},"105302","80302047","2020-06-12T19:24:31",0,null,null,161]
[1,"5",2020,{"$f":"IFERROR(VLOOKUP([1]!Tabla_SERIEA_01_5[[#This Row],[IdEstablecimiento]],[2]Establecimientos!$A$1:$E$175,5,FALSE),0)","v":"04301-OVALLE"},"200499","80306051","2020-04-17T20:26:29",0,null,null,7]
[7,"5",2020,{"$f":"IFERROR(VLOOKUP([1]!Tabla_SERIEA_01_5[[#This Row],[IdEstablecimiento]],[2]Establecimientos!$A$1:$E$175,5,FALSE),0)","v":"04101-LA SERENA"},"105470","80106002","2020-08-20T17:33:53",12,null,12,null,12]
[5,"5",2020,{"$f":"IFERROR(VLOOKUP([1]!Tabla_SERIEA_01_5[[#This Row],[IdEstablecimiento]],[2]Establecimientos!$A$1:$E$175,5,FALSE),0)","v":"04204-SALAMANCA"},"105404","80302005","2020-06-12T19:35:03",0,null,null,3]
[9,"5",2020,{"$f":"IFERROR(VLOOKUP([1]!Tabla_SERIEA_01_5[[#This Row],[IdEstablecimiento]],[2]Establecimientos!$A$1:$E$175,5,FALSE),0)","v":"105102-HOSPITAL OVALLE"},"105415","80106020","2020-10-16T09:30:45",1,null,1,null,1]
[2,"5",2020,{"$f":"IFERROR(VLOOKUP([1]!Tabla_SERIEA_01_5[[#This Row],[IdEstablecimiento]],[2]Establecimientos!$A$1:$E$175,5,FALSE),0)","v":"04301-OVALLE"},"105301","80401051","2020-03-19T18:32:12",0,null,null,7]
[5,"5",2020,{"$f":"IFERROR(VLOOKUP([1]!Tabla_SERIEA_01_5[[#This Row],[IdEstablecimiento]],[2]Establecimientos!$A$1:$E$175,5,FALSE),0)","v":"04301-OVALLE"},"200494","81602221","2020-06-12T20:39:48",3,2,1,3]
[9,"5",2020,{"$f":"IFERROR(VLOOKUP([1]!Tabla_SERIEA_01_5[[#This Row],[IdEstablecimiento]],[2]Establecimientos!$A$1:$E$175,5,FALSE),0)","v":"04301-OVALLE"},"105417","18070300","2020-10-16T09:31:22",2,{"$nulls":4},2]
[5,"5",2020,{"$f":"IFERROR(VLOOKUP([1]!Tabla_SERIEA_01_5[[#This Row],[IdEstablecimiento]],[2]Establecimientos!$A$1:$E$175,5,FALSE),0)","v":"04101-LA SERENA"},"105314","80302067","2020-06-12T21:06:01",0,null,null,29]
[9,"5",2020,{"$f":"IFERROR(VLOOKUP([1]!Tabla_SERIEA_01_5[[#This Row],[IdEstablecimiento]],[2]Establecimientos!$A$1:$E$175,5,FALSE),0)","v":"04102-COQUIMBO"},"105314","80309010","2020-10-16T09:17:42",0,null,null,54]
[9,"5",2020,{"$f":"IFERROR(VLOOKUP([1]!Tabla_SERIEA_01_5[[#This Row],[IdEstablecimiento]],[2]Establecimientos!$A$1:$E$175,5,FALSE),0)","v":"04102-COQUIMBO"},"105314","80309022","2020-10-16T09:17:42",0,null,null,551]
[4,"5",2020,{"$f":"IFERROR(VLOOKUP([1]!Tabla_SERIEA_01_5[[#This Row],[IdEstablecimiento]],[2]Establecimientos!$A$1:$E$175,5,FALSE),0)","v":"04102-COQUIMBO"},"105409","80106015","2020-05-26T00:47:53",2,null,2,null,2]
[1,"5",2020,{"$f":"IFERROR(VLOOKUP([1]!Tabla_SERIEA_01_5[[#This Row],[IdEstablecimiento]],[2]Establecimientos!$A$1:$E$175,5,FALSE),0)","v":"04301-OVALLE"},"105313","80309022","2020-03-18T23:45:25",0,null,null,433]
[8,"5",2020,{"$f":"IFERROR(VLOOKUP([1]!Tabla_SERIEA_01_5[[#This Row],[IdEstablecimiento]],[2]Establecimientos!$A$1:$E$175,5,FALSE),0)","v":"04102-COQUIMBO"},"105478","80302060","2020-09-16T17:26:37",0,null,null,1]
[5,"5",2020,{"$f":"IFERROR(VLOOKUP([1]!Tabla_SERIEA_01_5[[#This Row],[IdEstablecimiento]],[2]Establecimientos!$A$1:$E$175,5,FALSE),0)","v":"04201-ILLAPEL"},"105456","80106023","2020-06-12T19:57:43",4,null,4]
[10,"5",2020,{"$f":"IFERROR(VLOOKUP([1]!Tabla_SERIEA_01_5[[#This Row],[IdEstablecimiento]],[2]Establecimientos!$A$1:$E$175,5,FALSE),0)","v":"04102-COQUIMBO"},"200538","80106002","2020-11-12T08:28:52",32,null,32,null,32]
[10,"5",2020,{"$f":"IFERROR(VLOOKUP([1]!Tabla_SERIEA_01_5[[#This Row],[IdEstablecimiento]],[2]Establecimientos!$A$1:$E$175,5,FALSE),0)","v":"105101-HOSPITAL COQUIMBO"},"200538","80307012","2020-11-12T08:28:52",0,null,null,5]
[2,"5",2020,{"$f":"IFERROR(VLOOKUP([1]!Tabla_SERIEA_01_5[[#This Row],[IdEstablecimiento]],[2]Establecimientos!$A$1:$E$175,5,FALSE),0)","v":"04202-CANELA"},"105401","80106005","2020-03-19T18:53:39",18,null,18,null,18]
[2,"5",2020,{"$f":"IFERROR(VLOOKUP([1]!Tabla_SERIEA_01_5[[#This Row],[IdEstablecimiento]],[2]Establecimientos!$A$1:$E$175,5,FALSE),0)","v":"04102-COQUIMBO"},"105499","80302040","2020-03-19T21:23:26",0,null,null,2]
[7,"5",2020,{"$f":"IFERROR(VLOOKUP([1]!Tabla_SERIEA_01_5[[#This Row],[IdEstablecimiento]],[2]Establecimientos!$A$1:$E$175,5,FALSE),0)","v":"04203-LOS VILOS"},"105411","80309013","2020-08-20T17:04:26",0,null,null,5]
[6,"5",2020,{"$f":"IFERROR(VLOOKUP([1]!Tabla_SERIEA_01_5[[#This Row],[IdEstablecimiento]],[2]Establecimientos!$A$1:$E$175,5,FALSE),0)","v":"04101-LA SERENA"},"105323","81301025","2020-07-20T22:59:51",1,1,0,0,1]
[6,"5",2020,{"$f":"IFERROR(VLOOKUP([1]!Tabla_SERIEA_01_5[[#This Row],[IdEstablecimiento]],[2]Establecimientos!$A$1:$E$175,5,FALSE),0)","v":"04106-VICUÑA"},"105431","18020500","2020-07-20T23:10:37",11,0,11]
[6,"5",2020,{"$f":"IFERROR(VLOOKUP([1]!Tabla_SERIEA_01_5[[#This Row],[IdEstablecimiento]],[2]Establecimientos!$A$1:$E$175,5,FALSE),0)","v":"04106-VICUÑA"},"105410","18070300","2020-07-20T23:05:40",6,{"$nulls":4},2,4]
[8,"5",2020,{"$f":"IFERROR(VLOOKUP([1]!Tabla_SERIEA_01_5[[#This Row],[IdEstablecimiento]],[2]Establecimientos!$A$1:$E$175,5,FALSE),0)","v":"105107-HOSPITAL VICUÑA"},"105321","80301059","2020-09-16T16:42:14",0,null,null,2]
[4,"5",2020,{"$f":"IFERROR(VLOOKUP([1]!Tabla_SERIEA_01_5[[#This Row],[IdEstablecimiento]],[2]Establecimientos!$A$1:$E$175,5,FALSE),0)","v":"04301-OVALLE"},"105314","80309010","2020-06-12T20:56:37",0,null,null,3]
[4,"5",2020,{"$f":"IFERROR(VLOOKUP([1]!Tabla_SERIEA_01_5[[#This Row],[IdEstablecimiento]],[2]Establecimientos!$A$1:$E$175,5,FALSE),0)","v":"04106-VICUÑA"},"105306","80306169","2020-05-26T01:20:09",0,null,null,13]
[4,"5",2020,{"$f":"IFERROR(VLOOKUP([1]!Tabla_SERIEA_01_5[[#This Row],[IdEstablecimiento]],[2]Establecimientos!$A$1:$E$175,5,FALSE),0)","v":"04106-VICUÑA"},"200499","80303026","2020-05-26T01:18:37",0,null,null,7]
[3,"5",2020,{"$f":"IFERROR(VLOOKUP([1]!Tabla_SERIEA_01_5[[#This Row],[IdEstablecimiento]],[2]Establecimientos!$A$1:$E$175,5,FALSE),0)","v":"04301-OVALLE"},"105305","80401002","2020-04-16T21:46:35",13,0,13]
[2,"5",2020,{"$f":"IFERROR(VLOOKUP([1]!Tabla_SERIEA_01_5[[#This Row],[IdEstablecimiento]],[2]Establecimientos!$A$1:$E$175,5,FALSE),0)","v":"04102-COQUIMBO"},"105312","80106014","2020-03-19T18:45:12",389,null,389,null,389]
[7,"5",2020,{"$f":"IFERROR(VLOOKUP([1]!Tabla_SERIEA_01_5[[#This Row],[IdEstablecimiento]],[2]Establecimientos!$A$1:$E$175,5,FALSE),0)","v":"04201-ILLAPEL"},"105302","80309022","2020-08-20T16:50:43",0,null,null,116]
[7,"5",2020,{"$f":"IFERROR(VLOOKUP([1]!Tabla_SERIEA_01_5[[#This Row],[IdEstablecimiento]],[2]Establecimientos!$A$1:$E$175,5,FALSE),0)","v":"04201-ILLAPEL"},"105302","80301038","2020-08-20T16:50:43",0,null,null,83]
[1,"5",2020,{"$f":"IFERROR(VLOOKUP([1]!Tabla_SERIEA_01_5[[#This Row],[IdEstablecimiento]],[2]Establecimientos!$A$1:$E$175,5,FALSE),0)","v":"04204-SALAMANCA"},"105411","81707030","2020-03-18T23:51:55",1,null,1,null,1]
[5,"5",2020,{"$f":"IFERROR(VLOOKUP([1]!Tabla_SERIEA_01_5[[#This Row],[IdEstablecimiento]],[2]Establecimientos!$A$1:$E$175,5,FALSE),0)","v":"04305-RIO HURTADO"},"105311","81701009","2020-06-12T19:28:20",378,null,378,null,378]
[5,"5",2020,{"$f":"IFERROR(VLOOKUP([1]!Tabla_SERIEA_01_5[[#This Row],[IdEstablecimiento]],[2]Establecimientos!$A$1:$E$175,5,FALSE),0)","v":"04305-RIO HURTADO"},"105311","80106007","2020-06-12T19:28:20",3,null,3,null,3]
[9,"5",2020,{"$f":"IFERROR(VLOOKUP([1]!Tabla_SERIEA_01_5[[#This Row],[IdEstablecimiento]],[2]Establecimientos!$A$1:$E$175,5,FALSE),0)","v":"04301-OVALLE"},"105314","80303028","2020-10-16T09:17:42",0,null,null,1]
[7,"5",2020,{"$f":"IFERROR(VLOOKUP([1]!Tabla_SERIEA_01_5[[#This Row],[IdEstablecimiento]],[2]Establecimientos!$A$1:$E$175,5,FALSE),0)","v":"04301-OVALLE"},"105496","18050100","2020-08-20T17:47:15",3,0,3]
[9,"5",2020,{"$f":"IFERROR(VLOOKUP([1]!Tabla_SERIEA_01_5[[#This Row],[IdEstablecimiento]],[2]Establecimientos!$A$1:$E$175,5,FALSE),0)","v":"04201-ILLAPEL"},"200366","80106015","2020-10-16T10:48:42",2,null,2]
[5,"5",2020,{"$f":"IFERROR(VLOOKUP([1]!Tabla_SERIEA_01_5[[#This Row],[IdEstablecimiento]],[2]Establecimientos!$A$1:$E$175,5,FALSE),0)","v":"04304-PUNITAQUI"},"105451","80500011","2020-06-12T19:51:24",4,null,4,null,4]
[1,"5",2020,{"$f":"IFERROR(VLOOKUP([1]!Tabla_SERIEA_01_5[[#This Row],[IdEstablecimiento]],[2]Establecimientos!$A$1:$E$175,5,FALSE),0)","v":"04302-COMBARBALÁ"},"200499","81701001","2020-04-17T20:26:29",147,null,147,null,147,147]
[1,"5",2020,{"$f":"IFERROR(VLOOKUP([1]!Tabla_SERIEA_01_5[[#This Row],[IdEstablecimiento]],[2]Establecimientos!$A$1:$E$175,5,FALSE),0)","v":"04102-COQUIMBO"},"105321","80302063","2020-03-18T23:48:07",0,null,null,62]
[1,"5",2020,{"$f":"IFERROR(VLOOKUP([1]!Tabla_SERIEA_01_5[[#This Row],[IdEstablecimiento]],[2]Establecimientos!$A$1:$E$175,5,FALSE),0)","v":"04201-ILLAPEL"},"105325","80307011","2020-03-18T23:49:12",0,null,null,685]
[6,"5",2020,{"$f":"IFERROR(VLOOKUP([1]!Tabla_SERIEA_01_5[[#This Row],[IdEstablecimiento]],[2]Establecimientos!$A$1:$E$175,5,FALSE),0)","v":"04105-PAIHUANO"},"105471","80309024","2020-07-20T23:35:31",0,null,null,3]
[6,"5",2020,{"$f":"IFERROR(VLOOKUP([1]!Tabla_SERIEA_01_5[[#This Row],[IdEstablecimiento]],[2]Establecimientos!$A$1:$E$175,5,FALSE),0)","v":"04101-LA SERENA"},"105323","80308005","2020-07-20T22:59:51",0,null,null,1]
[2,"5",2020,{"$f":"IFERROR(VLOOKUP([1]!Tabla_SERIEA_01_5[[#This Row],[IdEstablecimiento]],[2]Establecimientos!$A$1:$E$175,5,FALSE),0)","v":"04101-LA SERENA"},"105483","81701009","2020-03-19T21:14:22",7,null,7,null,7]
[7,"5",2020,{"$f":"IFERROR(VLOOKUP([1]!Tabla_SERIEA_01_5[[#This Row],[IdEstablecimiento]],[2]Establecimientos!$A$1:$E$175,5,FALSE),0)","v":"04304-PUNITAQUI"},"105471","80302048","2020-08-20T17:34:09",0,null,null,1]
[6,"5",2020,{"$f":"IFERROR(VLOOKUP([1]!Tabla_SERIEA_01_5[[#This Row],[IdEstablecimiento]],[2]Establecimientos!$A$1:$E$175,5,FALSE),0)","v":"04101-LA SERENA"},"105411","80309013","2020-07-20T23:06:03",0,null,null,2]
[9,"5",2020,{"$f":"IFERROR(VLOOKUP([1]!Tabla_SERIEA_01_5[[#This Row],[IdEstablecimiento]],[2]Establecimientos!$A$1:$E$175,5,FALSE),0)","v":"04301-OVALLE"},"105305","80401013","2020-10-16T09:13:49",16,13,3]
[6,"5",2020,{"$f":"IFERROR(VLOOKUP([1]!Tabla_SERIEA_01_5[[#This Row],[IdEstablecimiento]],[2]Establecimientos!$A$1:$E$175,5,FALSE),0)","v":"105105-HOSPITAL COMBARBALÁ"},"105474","80307011","2020-07-20T23:36:33",0,null,null,1]
[8,"5",2020,{"$f":"IFERROR(VLOOKUP([1]!Tabla_SERIEA_01_5[[#This Row],[IdEstablecimiento]],[2]Establecimientos!$A$1:$E$175,5,FALSE),0)","v":"04102-COQUIMBO"},"105826","80106002","2020-09-16T17:47:55",9,9,null,null,9]
[6,"5",2020,{"$f":"IFERROR(VLOOKUP([1]!Tabla_SERIEA_01_5[[#This Row],[IdEstablecimiento]],[2]Establecimientos!$A$1:$E$175,5,FALSE),0)","v":"105101-HOSPITAL COQUIMBO"},"105511","80309013","2020-07-21T00:00:38",0,null,null,3]
[7,"5",2020,{"$f":"IFERROR(VLOOKUP([1]!Tabla_SERIEA_01_5[[#This Row],[IdEstablecimiento]],[2]Establecimientos!$A$1:$E$175,5,FALSE),0)","v":"04305-RIO HURTADO"},"105309","80302057","2020-08-20T16:52:47",0,null,null,26]
[10,"5",2020,{"$f":"IFERROR(VLOOKUP([1]!Tabla_SERIEA_01_5[[#This Row],[IdEstablecimiento]],[2]Establecimientos!$A$1:$E$175,5,FALSE),0)","v":"04101-LA SERENA"},"200720","18050100","2020-11-12T08:30:01",75,75,0]
[10,"5",2020,{"$f":"IFERROR(VLOOKUP([1]!Tabla_SERIEA_01_5[[#This Row],[IdEstablecimiento]],[2]Establecimientos!$A$1:$E$175,5,FALSE),0)","v":"04301-OVALLE"},"200721","80500011","2020-11-12T08:30:19",36,36,null,null,36]
[3,"5",2020,{"$f":"IFERROR(VLOOKUP([1]!Tabla_SERIEA_01_5[[#This Row],[IdEstablecimiento]],[2]Establecimientos!$A$1:$E$175,5,FALSE),0)","v":"04101-LA SERENA"},"105319","80309013","2020-04-16T21:57:23",0,null,null,13]
[1,"5",2020,{"$f":"IFERROR(VLOOKUP([1]!Tabla_SERIEA_01_5[[#This Row],[IdEstablecimiento]],[2]Establecimientos!$A$1:$E$175,5,FALSE),0)","v":"105106-HOSPITAL ANDACOLLO"},"105300","80302068","2020-03-18T23:40:23",0,null,null,555]
[8,"5",2020,{"$f":"IFERROR(VLOOKUP([1]!Tabla_SERIEA_01_5[[#This Row],[IdEstablecimiento]],[2]Establecimientos!$A$1:$E$175,5,FALSE),0)","v":"105106-HOSPITAL ANDACOLLO"},"105410","80106014","2020-09-16T16:46:36",10,null,10,null,10]
[10,"5",2020,{"$f":"IFERROR(VLOOKUP([1]!Tabla_SERIEA_01_5[[#This Row],[IdEstablecimiento]],[2]Establecimientos!$A$1:$E$175,5,FALSE),0)","v":"04101-LA SERENA"},"105307","80401151","2020-11-12T07:08:48",10,null,10,10]
[5,"5",2020,{"$f":"IFERROR(VLOOKUP([1]!Tabla_SERIEA_01_5[[#This Row],[IdEstablecimiento]],[2]Establecimientos!$A$1:$E$175,5,FALSE),0)","v":"04102-COQUIMBO"},"105303","80306059","2020-08-20T18:23:50",0,null,null,1]
[3,"5",2020,{"$f":"IFERROR(VLOOKUP([1]!Tabla_SERIEA_01_5[[#This Row],[IdEstablecimiento]],[2]Establecimientos!$A$1:$E$175,5,FALSE),0)","v":"04201-ILLAPEL"},"105303","81602231","2020-04-16T21:45:28",3,null,3]
[6,"5",2020,{"$f":"IFERROR(VLOOKUP([1]!Tabla_SERIEA_01_5[[#This Row],[IdEstablecimiento]],[2]Establecimientos!$A$1:$E$175,5,FALSE),0)","v":"04101-LA SERENA"},"105472","80106023","2020-07-20T23:35:54",2,null,2,null,2]
[6,"5",2020,{"$f":"IFERROR(VLOOKUP([1]!Tabla_SERIEA_01_5[[#This Row],[IdEstablecimiento]],[2]Establecimientos!$A$1:$E$175,5,FALSE),0)","v":"04301-OVALLE"},"105480","80302032","2020-07-20T23:38:44",0,null,null,20]
[3,"5",2020,{"$f":"IFERROR(VLOOKUP([1]!Tabla_SERIEA_01_5[[#This Row],[IdEstablecimiento]],[2]Establecimientos!$A$1:$E$175,5,FALSE),0)","v":"04201-ILLAPEL"},"105323","80306059","2020-04-16T21:58:36",0,null,null,11]
[7,"5",2020,{"$f":"IFERROR(VLOOKUP([1]!Tabla_SERIEA_01_5[[#This Row],[IdEstablecimiento]],[2]Establecimientos!$A$1:$E$175,5,FALSE),0)","v":"04204-SALAMANCA"},"105456","80106002","2020-08-20T17:25:34",26,null,26]
[8,"5",2020,{"$f":"IFERROR(VLOOKUP([1]!Tabla_SERIEA_01_5[[#This Row],[IdEstablecimiento]],[2]Establecimientos!$A$1:$E$175,5,FALSE),0)","v":"04101-LA SERENA"},"105801","18040100","2020-09-16T17:43:53",1,null,1]
[10,"5",2020,{"$f":"IFERROR(VLOOKUP([1]!Tabla_SERIEA_01_5[[#This Row],[IdEstablecimiento]],[2]Establecimientos!$A$1:$E$175,5,FALSE),0)","v":"04303-MONTE PATRIA"},"105307","80302059","2020-11-12T07:08:48",21,null,21]
[10,"5",2020,{"$f":"IFERROR(VLOOKUP([1]!Tabla_SERIEA_01_5[[#This Row],[IdEstablecimiento]],[2]Establecimientos!$A$1:$E$175,5,FALSE),0)","v":"04204-SALAMANCA"},"105307","80500014","2020-11-12T07:08:48",10,null,10,null,null,10]
[8,"5",2020,{"$f":"IFERROR(VLOOKUP([1]!Tabla_SERIEA_01_5[[#This Row],[IdEstablecimiento]],[2]Establecimientos!$A$1:$E$175,5,FALSE),0)","v":"04101-LA SERENA"},"105306","18040100","2020-09-16T16:38:05",7,1,6]
[5,"5",2020,{"$f":"IFERROR(VLOOKUP([1]!Tabla_SERIEA_01_5[[#This Row],[IdEstablecimiento]],[2]Establecimientos!$A$1:$E$175,5,FALSE),0)","v":"04101-LA SERENA"},"105468","18050100","2020-06-12T20:09:11",9,0,9]
[10,"5",2020,{"$f":"IFERROR(VLOOKUP([1]!Tabla_SERIEA_01_5[[#This Row],[IdEstablecimiento]],[2]Establecimientos!$A$1:$E$175,5,FALSE),0)","v":"04101-LA SERENA"},"200402","80302063","2020-11-12T08:27:05",0,null,null,3]
[4,"5",2020,{"$f":"IFERROR(VLOOKUP([1]!Tabla_SERIEA_01_5[[#This Row],[IdEstablecimiento]],[2]Establecimientos!$A$1:$E$175,5,FALSE),0)","v":"04106-VICUÑA"},"200494","80306011","2020-05-26T01:18:18",0,null,null,19]
[9,"5",2020,{"$f":"IFERROR(VLOOKUP([1]!Tabla_SERIEA_01_5[[#This Row],[IdEstablecimiento]],[2]Establecimientos!$A$1:$E$175,5,FALSE),0)","v":"04302-COMBARBALÁ"},"105447","80307012","2020-10-16T09:48:25",0,null,null,1]
[9,"5",2020,{"$f":"IFERROR(VLOOKUP([1]!Tabla_SERIEA_01_5[[#This Row],[IdEstablecimiento]],[2]Establecimientos!$A$1:$E$175,5,FALSE),0)","v":"04202-CANELA"},"105449","80106002","2020-10-16T09:49:04",2,null,2,null,2]
[9,"5",2020,{"$f":"IFERROR(VLOOKUP([1]!Tabla_SERIEA_01_5[[#This Row],[IdEstablecimiento]],[2]Establecimientos!$A$1:$E$175,5,FALSE),0)","v":"04102-COQUIMBO"},"200607","80302040","2020-10-16T10:54:56",0,null,null,2]
[9,"5",2020,{"$f":"IFERROR(VLOOKUP([1]!Tabla_SERIEA_01_5[[#This Row],[IdEstablecimiento]],[2]Establecimientos!$A$1:$E$175,5,FALSE),0)","v":"04102-COQUIMBO"},"200607","80106013","2020-10-16T10:54:56",15,15,0,15,0]
[3,"5",2020,{"$f":"IFERROR(VLOOKUP([1]!Tabla_SERIEA_01_5[[#This Row],[IdEstablecimiento]],[2]Establecimientos!$A$1:$E$175,5,FALSE),0)","v":"04201-ILLAPEL"},"200402","80301041","2020-04-16T23:11:25",0,null,null,10]
[11,"5",2020,{"$f":"IFERROR(VLOOKUP([1]!Tabla_SERIEA_01_5[[#This Row],[IdEstablecimiento]],[2]Establecimientos!$A$1:$E$175,5,FALSE),0)","v":"04305-RIO HURTADO"},"105308","81901022","2020-12-11T14:50:47",1,null,1,null,1]
[11,"5",2020,{"$f":"IFERROR(VLOOKUP([1]!Tabla_SERIEA_01_5[[#This Row],[IdEstablecimiento]],[2]Establecimientos!$A$1:$E$175,5,FALSE),0)","v":"04301-OVALLE"},"105308","18020800","2020-12-11T14:50:47",1,0,1]
[11,"5",2020,{"$f":"IFERROR(VLOOKUP([1]!Tabla_SERIEA_01_5[[#This Row],[IdEstablecimiento]],[2]Establecimientos!$A$1:$E$175,5,FALSE),0)","v":"04303-MONTE PATRIA"},"105309","80309010","2020-12-11T14:51:06",0,null,null,54]
[11,"5",2020,{"$f":"IFERROR(VLOOKUP([1]!Tabla_SERIEA_01_5[[#This Row],[IdEstablecimiento]],[2]Establecimientos!$A$1:$E$175,5,FALSE),0)","v":"04102-COQUIMBO"},"105309","81901019","2020-12-11T14:51:06",6,null,6,null,6]
[11,"5",2020,{"$f":"IFERROR(VLOOKUP([1]!Tabla_SERIEA_01_5[[#This Row],[IdEstablecimiento]],[2]Establecimientos!$A$1:$E$175,5,FALSE),0)","v":"04304-PUNITAQUI"},"105309","80302060","2020-12-11T14:51:06",0,null,null,6]
[11,"5",2020,{"$f":"IFERROR(VLOOKUP([1]!Tabla_SERIEA_01_5[[#This Row],[IdEstablecimiento]],[2]Establecimientos!$A$1:$E$175,5,FALSE),0)","v":"04302-COMBARBALÁ"},"105309","18020900","2020-12-11T14:51:06",1,0,1]
[11,"5",2020,{"$f":"IFERROR(VLOOKUP([1]!Tabla_SERIEA_01_5[[#This Row],[IdEstablecimiento]],[2]Establecimientos!$A$1:$E$175,5,FALSE),0)","v":"04101-LA SERENA"},"105310","18020300","2020-12-11T14:51:21",2,0,2]
[11,"5",2020,{"$f":"IFERROR(VLOOKUP([1]!Tabla_SERIEA_01_5[[#This Row],[IdEstablecimiento]],[2]Establecimientos!$A$1:$E$175,5,FALSE),0)","v":"04304-PUNITAQUI"},"105311","81701009","2020-12-11T14:51:36",424,null,424,null,424]
[6,"5",2020,{"$f":"IFERROR(VLOOKUP([1]!Tabla_SERIEA_01_5[[#This Row],[IdEstablecimiento]],[2]Establecimientos!$A$1:$E$175,5,FALSE),0)","v":"04305-RIO HURTADO"},"105411","80500008","2020-07-20T23:06:03",1,null,1,null,1]
[3,"5",2020,{"$f":"IFERROR(VLOOKUP([1]!Tabla_SERIEA_01_5[[#This Row],[IdEstablecimiento]],[2]Establecimientos!$A$1:$E$175,5,FALSE),0)","v":"04102-COQUIMBO"},"105321","80303024","2020-04-16T21:58:05",0,null,null,43]
[2,"5",2020,{"$f":"IFERROR(VLOOKUP([1]!Tabla_SERIEA_01_5[[#This Row],[IdEstablecimiento]],[2]Establecimientos!$A$1:$E$175,5,FALSE),0)","v":"04102-COQUIMBO"},"105431","81701009","2020-03-19T19:05:14",12,null,12,null,12]
[6,"5",2020,{"$f":"IFERROR(VLOOKUP([1]!Tabla_SERIEA_01_5[[#This Row],[IdEstablecimiento]],[2]Establecimientos!$A$1:$E$175,5,FALSE),0)","v":"04105-PAIHUANO"},"105449","80301041","2020-07-20T23:22:20",0,null,null,1]
[4,"5",2020,{"$f":"IFERROR(VLOOKUP([1]!Tabla_SERIEA_01_5[[#This Row],[IdEstablecimiento]],[2]Establecimientos!$A$1:$E$175,5,FALSE),0)","v":"105101-HOSPITAL COQUIMBO"},"105305","80401055","2020-09-17T11:40:08",4,4,0]
[7,"5",2020,{"$f":"IFERROR(VLOOKUP([1]!Tabla_SERIEA_01_5[[#This Row],[IdEstablecimiento]],[2]Establecimientos!$A$1:$E$175,5,FALSE),0)","v":"04106-VICUÑA"},"105448","81701009","2020-08-20T17:22:26",35,null,35,null,35]
[3,"5",2020,{"$f":"IFERROR(VLOOKUP([1]!Tabla_SERIEA_01_5[[#This Row],[IdEstablecimiento]],[2]Establecimientos!$A$1:$E$175,5,FALSE),0)","v":"04303-MONTE PATRIA"},"105302","80302067","2020-04-16T21:45:12",0,null,null,289]
[1,"5",2020,{"$f":"IFERROR(VLOOKUP([1]!Tabla_SERIEA_01_5[[#This Row],[IdEstablecimiento]],[2]Establecimientos!$A$1:$E$175,5,FALSE),0)","v":"04201-ILLAPEL"},"105324","18400700","2020-03-18T23:48:56",672]
[1,"5",2020,{"$f":"IFERROR(VLOOKUP([1]!Tabla_SERIEA_01_5[[#This Row],[IdEstablecimiento]],[2]Establecimientos!$A$1:$E$175,5,FALSE),0)","v":"04102-COQUIMBO"},"105314","81701009","2020-03-18T23:45:40",20,20,null,null,20]
[9,"5",2020,{"$f":"IFERROR(VLOOKUP([1]!Tabla_SERIEA_01_5[[#This Row],[IdEstablecimiento]],[2]Establecimientos!$A$1:$E$175,5,FALSE),0)","v":"04102-COQUIMBO"},"105322","80106002","2020-10-16T09:19:38",255,null,255,null,255]
[9,"5",2020,{"$f":"IFERROR(VLOOKUP([1]!Tabla_SERIEA_01_5[[#This Row],[IdEstablecimiento]],[2]Establecimientos!$A$1:$E$175,5,FALSE),0)","v":"04301-OVALLE"},"105322","80302034","2020-10-16T09:19:38",618,null,618]
[9,"5",2020,{"$f":"IFERROR(VLOOKUP([1]!Tabla_SERIEA_01_5[[#This Row],[IdEstablecimiento]],[2]Establecimientos!$A$1:$E$175,5,FALSE),0)","v":"105106-HOSPITAL ANDACOLLO"},"105303","81707030","2020-10-16T09:01:41",2,2,null,2]
[1,"5",2020,{"$f":"IFERROR(VLOOKUP([1]!Tabla_SERIEA_01_5[[#This Row],[IdEstablecimiento]],[2]Establecimientos!$A$1:$E$175,5,FALSE),0)","v":"04202-CANELA"},"200607","80302068","2020-05-26T01:51:54",0,null,null,378]
[3,"5",2020,{"$f":"IFERROR(VLOOKUP([1]!Tabla_SERIEA_01_5[[#This Row],[IdEstablecimiento]],[2]Establecimientos!$A$1:$E$175,5,FALSE),0)","v":"04105-PAIHUANO"},"105310","80106013","2020-05-26T01:56:15",4,null,4,null,4]
[6,"5",2020,{"$f":"IFERROR(VLOOKUP([1]!Tabla_SERIEA_01_5[[#This Row],[IdEstablecimiento]],[2]Establecimientos!$A$1:$E$175,5,FALSE),0)","v":"105101-HOSPITAL COQUIMBO"},"105413","80106015","2020-07-20T23:06:25",1,null,1,null,1]
[10,"5",2020,{"$f":"IFERROR(VLOOKUP([1]!Tabla_SERIEA_01_5[[#This Row],[IdEstablecimiento]],[2]Establecimientos!$A$1:$E$175,5,FALSE),0)","v":"04301-OVALLE"},"105323","80309028","2020-11-12T07:16:27",0,null,null,2]
[3,"5",2020,{"$f":"IFERROR(VLOOKUP([1]!Tabla_SERIEA_01_5[[#This Row],[IdEstablecimiento]],[2]Establecimientos!$A$1:$E$175,5,FALSE),0)","v":"105107-HOSPITAL VICUÑA"},"105324","80307011","2020-04-16T21:58:51",206,null,206]
[8,"5",2020,{"$f":"IFERROR(VLOOKUP([1]!Tabla_SERIEA_01_5[[#This Row],[IdEstablecimiento]],[2]Establecimientos!$A$1:$E$175,5,FALSE),0)","v":"04201-ILLAPEL"},"105307","80306059","2020-09-16T16:38:24",8,null,8]
[2,"5",2020,{"$f":"IFERROR(VLOOKUP([1]!Tabla_SERIEA_01_5[[#This Row],[IdEstablecimiento]],[2]Establecimientos!$A$1:$E$175,5,FALSE),0)","v":"105101-HOSPITAL COQUIMBO"},"105315","18020900","2020-03-19T18:49:44",4,0,4]
[8,"5",2020,{"$f":"IFERROR(VLOOKUP([1]!Tabla_SERIEA_01_5[[#This Row],[IdEstablecimiento]],[2]Establecimientos!$A$1:$E$175,5,FALSE),0)","v":"04201-ILLAPEL"},"105480","80302076","2020-09-16T17:27:16",0,null,null,9]
[5,"5",2020,{"$f":"IFERROR(VLOOKUP([1]!Tabla_SERIEA_01_5[[#This Row],[IdEstablecimiento]],[2]Establecimientos!$A$1:$E$175,5,FALSE),0)","v":"04303-MONTE PATRIA"},"105318","80106008","2020-06-12T19:30:14",1,0,1,null,1]
[3,"5",2020,{"$f":"IFERROR(VLOOKUP([1]!Tabla_SERIEA_01_5[[#This Row],[IdEstablecimiento]],[2]Establecimientos!$A$1:$E$175,5,FALSE),0)","v":"105105-HOSPITAL COMBARBALÁ"},"200402","80307011","2020-04-16T23:11:25",67,null,67]
[10,"5",2020,{"$f":"IFERROR(VLOOKUP([1]!Tabla_SERIEA_01_5[[#This Row],[IdEstablecimiento]],[2]Establecimientos!$A$1:$E$175,5,FALSE),0)","v":"04101-LA SERENA"},"105510","80106017","2020-11-12T08:08:08",8,null,8,null,8]
[2,"5",2020,{"$f":"IFERROR(VLOOKUP([1]!Tabla_SERIEA_01_5[[#This Row],[IdEstablecimiento]],[2]Establecimientos!$A$1:$E$175,5,FALSE),0)","v":"04102-COQUIMBO"},"105405","80309013","2020-04-17T20:28:42",0,null,null,54]
[6,"5",2020,{"$f":"IFERROR(VLOOKUP([1]!Tabla_SERIEA_01_5[[#This Row],[IdEstablecimiento]],[2]Establecimientos!$A$1:$E$175,5,FALSE),0)","v":"105101-HOSPITAL COQUIMBO"},"200607","80500009","2020-07-21T00:08:27",5,0,5,0,5]
[8,"5",2020,{"$f":"IFERROR(VLOOKUP([1]!Tabla_SERIEA_01_5[[#This Row],[IdEstablecimiento]],[2]Establecimientos!$A$1:$E$175,5,FALSE),0)","v":"04301-OVALLE"},"105445","80302034","2020-09-16T18:37:00",0,null,null,5]
[8,"5",2020,{"$f":"IFERROR(VLOOKUP([1]!Tabla_SERIEA_01_5[[#This Row],[IdEstablecimiento]],[2]Establecimientos!$A$1:$E$175,5,FALSE),0)","v":"105105-HOSPITAL COMBARBALÁ"},"105445","80303024","2020-09-16T18:37:00",0,null,null,2]
[6,"5",2020,{"$f":"IFERROR(VLOOKUP([1]!Tabla_SERIEA_01_5[[#This Row],[IdEstablecimiento]],[2]Establecimientos!$A$1:$E$175,5,FALSE),0)","v":"105104-HOSPITAL SALAMANCA"},"105319","80301045","2020-07-20T22:58:58",0,null,null,45]
[5,"5",2020,{"$f":"IFERROR(VLOOKUP([1]!Tabla_SERIEA_01_5[[#This Row],[IdEstablecimiento]],[2]Establecimientos!$A$1:$E$175,5,FALSE),0)","v":"04102-COQUIMBO"},"105319","80500008","2020-06-12T19:30:29",1,null,1,null,1]
[6,"5",2020,{"$f":"IFERROR(VLOOKUP([1]!Tabla_SERIEA_01_5[[#This Row],[IdEstablecimiento]],[2]Establecimientos!$A$1:$E$175,5,FALSE),0)","v":"04203-LOS VILOS"},"105449","80302057","2020-07-20T23:22:20",0,null,null,6]
[6,"5",2020,{"$f":"IFERROR(VLOOKUP([1]!Tabla_SERIEA_01_5[[#This Row],[IdEstablecimiento]],[2]Establecimientos!$A$1:$E$175,5,FALSE),0)","v":"04301-OVALLE"},"105325","80500009","2020-07-20T23:00:28",31,null,31,null,31]
[2,"5",2020,{"$f":"IFERROR(VLOOKUP([1]!Tabla_SERIEA_01_5[[#This Row],[IdEstablecimiento]],[2]Establecimientos!$A$1:$E$175,5,FALSE),0)","v":"04201-ILLAPEL"},"105313","18400700","2020-03-19T18:45:31",699]
[2,"5",2020,{"$f":"IFERROR(VLOOKUP([1]!Tabla_SERIEA_01_5[[#This Row],[IdEstablecimiento]],[2]Establecimientos!$A$1:$E$175,5,FALSE),0)","v":"04101-LA SERENA"},"105469","80301036","2020-03-19T21:05:48",0,null,null,1]
[2,"5",2020,{"$f":"IFERROR(VLOOKUP([1]!Tabla_SERIEA_01_5[[#This Row],[IdEstablecimiento]],[2]Establecimientos!$A$1:$E$175,5,FALSE),0)","v":"105105-HOSPITAL COMBARBALÁ"},"200367","18090000","2020-03-19T21:31:36",26,0,26]
[2,"5",2020,{"$f":"IFERROR(VLOOKUP([1]!Tabla_SERIEA_01_5[[#This Row],[IdEstablecimiento]],[2]Establecimientos!$A$1:$E$175,5,FALSE),0)","v":"04106-VICUÑA"},"200402","80302005","2020-03-19T21:31:55",0,null,null,4]
[4,"5",2020,{"$f":"IFERROR(VLOOKUP([1]!Tabla_SERIEA_01_5[[#This Row],[IdEstablecimiento]],[2]Establecimientos!$A$1:$E$175,5,FALSE),0)","v":"105107-HOSPITAL VICUÑA"},"105472","81701001","2020-05-26T01:03:58",3,null,3,null,3]
[1,"5",2020,{"$f":"IFERROR(VLOOKUP([1]!Tabla_SERIEA_01_5[[#This Row],[IdEstablecimiento]],[2]Establecimientos!$A$1:$E$175,5,FALSE),0)","v":"04303-MONTE PATRIA"},"105325","80305019","2020-03-18T23:49:12",0,null,null,9]
[5,"5",2020,{"$f":"IFERROR(VLOOKUP([1]!Tabla_SERIEA_01_5[[#This Row],[IdEstablecimiento]],[2]Establecimientos!$A$1:$E$175,5,FALSE),0)","v":"04305-RIO HURTADO"},"105446","18050100","2020-06-12T19:44:58",9,0,9]
[7,"5",2020,{"$f":"IFERROR(VLOOKUP([1]!Tabla_SERIEA_01_5[[#This Row],[IdEstablecimiento]],[2]Establecimientos!$A$1:$E$175,5,FALSE),0)","v":"04305-RIO HURTADO"},"105445","80106015","2020-08-20T17:21:34",5,null,5,null,5]
[10,"5",2020,{"$f":"IFERROR(VLOOKUP([1]!Tabla_SERIEA_01_5[[#This Row],[IdEstablecimiento]],[2]Establecimientos!$A$1:$E$175,5,FALSE),0)","v":"04102-COQUIMBO"},"105306","80106013","2020-11-12T07:08:32",1,null,1,null,1]
[10,"5",2020,{"$f":"IFERROR(VLOOKUP([1]!Tabla_SERIEA_01_5[[#This Row],[IdEstablecimiento]],[2]Establecimientos!$A$1:$E$175,5,FALSE),0)","v":"04101-LA SERENA"},"105472","80309022","2020-11-12T07:53:01",0,null,null,8]
[3,"5",2020,{"$f":"IFERROR(VLOOKUP([1]!Tabla_SERIEA_01_5[[#This Row],[IdEstablecimiento]],[2]Establecimientos!$A$1:$E$175,5,FALSE),0)","v":"105106-HOSPITAL ANDACOLLO"},"105474","80309013","2020-04-16T22:49:25",0,null,null,4]
[5,"5",2020,{"$f":"IFERROR(VLOOKUP([1]!Tabla_SERIEA_01_5[[#This Row],[IdEstablecimiento]],[2]Establecimientos!$A$1:$E$175,5,FALSE),0)","v":"105101-HOSPITAL COQUIMBO"},"105309","81701009","2020-06-12T19:27:18",2,2,0,null,2]
[2,"5",2020,{"$f":"IFERROR(VLOOKUP([1]!Tabla_SERIEA_01_5[[#This Row],[IdEstablecimiento]],[2]Establecimientos!$A$1:$E$175,5,FALSE),0)","v":"04204-SALAMANCA"},"105469","80301059","2020-03-19T21:05:48",0,null,null,1]
[8,"5",2020,{"$f":"IFERROR(VLOOKUP([1]!Tabla_SERIEA_01_5[[#This Row],[IdEstablecimiento]],[2]Establecimientos!$A$1:$E$175,5,FALSE),0)","v":"04303-MONTE PATRIA"},"105480","80306081","2020-09-16T17:27:16",0,null,null,1]
[2,"5",2020,{"$f":"IFERROR(VLOOKUP([1]!Tabla_SERIEA_01_5[[#This Row],[IdEstablecimiento]],[2]Establecimientos!$A$1:$E$175,5,FALSE),0)","v":"04303-MONTE PATRIA"},"105323","18070300","2020-03-19T18:52:10",13,13]
[9,"5",2020,{"$f":"IFERROR(VLOOKUP([1]!Tabla_SERIEA_01_5[[#This Row],[IdEstablecimiento]],[2]Establecimientos!$A$1:$E$175,5,FALSE),0)","v":"04301-OVALLE"},"105304","80302040","2020-10-16T09:13:28",0,null,null,42]
[4,"5",2020,{"$f":"IFERROR(VLOOKUP([1]!Tabla_SERIEA_01_5[[#This Row],[IdEstablecimiento]],[2]Establecimientos!$A$1:$E$175,5,FALSE),0)","v":"04102-COQUIMBO"},"105300","80306061","2020-05-26T00:36:31",0,null,null,13]
[8,"5",2020,{"$f":"IFERROR(VLOOKUP([1]!Tabla_SERIEA_01_5[[#This Row],[IdEstablecimiento]],[2]Establecimientos!$A$1:$E$175,5,FALSE),0)","v":"04301-OVALLE"},"200366","80301034","2020-09-16T17:49:27",0,null,null,5]
[7,"5",2020,{"$f":"IFERROR(VLOOKUP([1]!Tabla_SERIEA_01_5[[#This Row],[IdEstablecimiento]],[2]Establecimientos!$A$1:$E$175,5,FALSE),0)","v":"04301-OVALLE"},"105503","80302005","2020-08-20T18:02:09",0,null,null,1]
[4,"5",2020,{"$f":"IFERROR(VLOOKUP([1]!Tabla_SERIEA_01_5[[#This Row],[IdEstablecimiento]],[2]Establecimientos!$A$1:$E$175,5,FALSE),0)","v":"04101-LA SERENA"},"105476","80106017","2020-05-26T01:05:09",3,3,null,null,3]
[1,"5",2020,{"$f":"IFERROR(VLOOKUP([1]!Tabla_SERIEA_01_5[[#This Row],[IdEstablecimiento]],[2]Establecimientos!$A$1:$E$175,5,FALSE),0)","v":"04106-VICUÑA"},"105322","18050100","2020-03-18T23:48:24",604,118,486]
[7,"5",2020,{"$f":"IFERROR(VLOOKUP([1]!Tabla_SERIEA_01_5[[#This Row],[IdEstablecimiento]],[2]Establecimientos!$A$1:$E$175,5,FALSE),0)","v":"105102-HOSPITAL OVALLE"},"105405","80308001","2020-08-20T17:02:12",0,null,null,1]
[3,"5",2020,{"$f":"IFERROR(VLOOKUP([1]!Tabla_SERIEA_01_5[[#This Row],[IdEstablecimiento]],[2]Establecimientos!$A$1:$E$175,5,FALSE),0)","v":"04102-COQUIMBO"},"105326","18040200","2020-04-16T21:59:23",1,null,1]
[3,"5",2020,{"$f":"IFERROR(VLOOKUP([1]!Tabla_SERIEA_01_5[[#This Row],[IdEstablecimiento]],[2]Establecimientos!$A$1:$E$175,5,FALSE),0)","v":"04102-COQUIMBO"},"105307","81601115","2020-04-16T21:47:17",9,null,9,null,9]
[3,"5",2020,{"$f":"IFERROR(VLOOKUP([1]!Tabla_SERIEA_01_5[[#This Row],[IdEstablecimiento]],[2]Establecimientos!$A$1:$E$175,5,FALSE),0)","v":"04102-COQUIMBO"},"200607","18070300","2020-05-26T02:01:24",3,3,0,0,0,0,0]
[2,"5",2020,{"$f":"IFERROR(VLOOKUP([1]!Tabla_SERIEA_01_5[[#This Row],[IdEstablecimiento]],[2]Establecimientos!$A$1:$E$175,5,FALSE),0)","v":"105101-HOSPITAL COQUIMBO"},"105400","18020500","2020-03-19T18:53:22",10,0,10]
[8,"5",2020,{"$f":"IFERROR(VLOOKUP([1]!Tabla_SERIEA_01_5[[#This Row],[IdEstablecimiento]],[2]Establecimientos!$A$1:$E$175,5,FALSE),0)","v":"105102-HOSPITAL OVALLE"},"105511","80301015","2020-09-16T17:38:09",0,null,null,1]
[3,"5",2020,{"$f":"IFERROR(VLOOKUP([1]!Tabla_SERIEA_01_5[[#This Row],[IdEstablecimiento]],[2]Establecimientos!$A$1:$E$175,5,FALSE),0)","v":"04101-LA SERENA"},"105300","18020700","2020-04-16T21:43:47",4,4,0]
[2,"5",2020,{"$f":"IFERROR(VLOOKUP([1]!Tabla_SERIEA_01_5[[#This Row],[IdEstablecimiento]],[2]Establecimientos!$A$1:$E$175,5,FALSE),0)","v":"04302-COMBARBALÁ"},"105402","80309013","2020-03-19T18:54:23",0,null,null,11]
[4,"5",2020,{"$f":"IFERROR(VLOOKUP([1]!Tabla_SERIEA_01_5[[#This Row],[IdEstablecimiento]],[2]Establecimientos!$A$1:$E$175,5,FALSE),0)","v":"04201-ILLAPEL"},"105300","80500009","2020-05-26T00:36:31",1,0,1,null,1]
[7,"5",2020,{"$f":"IFERROR(VLOOKUP([1]!Tabla_SERIEA_01_5[[#This Row],[IdEstablecimiento]],[2]Establecimientos!$A$1:$E$175,5,FALSE),0)","v":"04201-ILLAPEL"},"200499","80302013","2020-08-20T18:19:32",0,null,null,4]
[7,"5",2020,{"$f":"IFERROR(VLOOKUP([1]!Tabla_SERIEA_01_5[[#This Row],[IdEstablecimiento]],[2]Establecimientos!$A$1:$E$175,5,FALSE),0)","v":"04106-VICUÑA"},"200499","80302040","2020-08-20T18:19:32",0,null,null,2]
[2,"5",2020,{"$f":"IFERROR(VLOOKUP([1]!Tabla_SERIEA_01_5[[#This Row],[IdEstablecimiento]],[2]Establecimientos!$A$1:$E$175,5,FALSE),0)","v":"04303-MONTE PATRIA"},"105471","80302047","2020-03-19T21:06:20",0,null,null,48]
[7,"5",2020,{"$f":"IFERROR(VLOOKUP([1]!Tabla_SERIEA_01_5[[#This Row],[IdEstablecimiento]],[2]Establecimientos!$A$1:$E$175,5,FALSE),0)","v":"04101-LA SERENA"},"200499","80106020","2020-08-20T18:19:32",7,7,null,null,7]
[8,"5",2020,{"$f":"IFERROR(VLOOKUP([1]!Tabla_SERIEA_01_5[[#This Row],[IdEstablecimiento]],[2]Establecimientos!$A$1:$E$175,5,FALSE),0)","v":"105108-HOSPITAL LOS VILOS"},"105305","80401059","2020-09-16T16:37:47",5,4,1]
[8,"5",2020,{"$f":"IFERROR(VLOOKUP([1]!Tabla_SERIEA_01_5[[#This Row],[IdEstablecimiento]],[2]Establecimientos!$A$1:$E$175,5,FALSE),0)","v":"105108-HOSPITAL LOS VILOS"},"105305","80309013","2020-09-16T16:37:47",0,null,null,66]
[8,"5",2020,{"$f":"IFERROR(VLOOKUP([1]!Tabla_SERIEA_01_5[[#This Row],[IdEstablecimiento]],[2]Establecimientos!$A$1:$E$175,5,FALSE),0)","v":"04302-COMBARBALÁ"},"105464","80106014","2020-09-16T17:21:42",32,null,32,null,32]
[3,"5",2020,{"$f":"IFERROR(VLOOKUP([1]!Tabla_SERIEA_01_5[[#This Row],[IdEstablecimiento]],[2]Establecimientos!$A$1:$E$175,5,FALSE),0)","v":"04303-MONTE PATRIA"},"200607","80401151","2020-05-26T02:01:24",0,null,null,36]
[5,"5",2020,{"$f":"IFERROR(VLOOKUP([1]!Tabla_SERIEA_01_5[[#This Row],[IdEstablecimiento]],[2]Establecimientos!$A$1:$E$175,5,FALSE),0)","v":"04301-OVALLE"},"105323","80301059","2020-06-12T19:31:15",0,null,null,1]
[4,"5",2020,{"$f":"IFERROR(VLOOKUP([1]!Tabla_SERIEA_01_5[[#This Row],[IdEstablecimiento]],[2]Establecimientos!$A$1:$E$175,5,FALSE),0)","v":"105101-HOSPITAL COQUIMBO"},"105467","80301045","2020-05-26T01:02:08",0,null,null,1]
[5,"5",2020,{"$f":"IFERROR(VLOOKUP([1]!Tabla_SERIEA_01_5[[#This Row],[IdEstablecimiento]],[2]Establecimientos!$A$1:$E$175,5,FALSE),0)","v":"04101-LA SERENA"},"105305","80302068","2020-06-12T19:26:13",0,null,null,22]
[10,"5",2020,{"$f":"IFERROR(VLOOKUP([1]!Tabla_SERIEA_01_5[[#This Row],[IdEstablecimiento]],[2]Establecimientos!$A$1:$E$175,5,FALSE),0)","v":"04301-OVALLE"},"105305","80302024","2020-11-12T07:08:16",0,null,null,2]
[9,"5",2020,{"$f":"IFERROR(VLOOKUP([1]!Tabla_SERIEA_01_5[[#This Row],[IdEstablecimiento]],[2]Establecimientos!$A$1:$E$175,5,FALSE),0)","v":"04101-LA SERENA"},"105304","80302068","2020-10-16T09:13:28",0,null,null,106]
[9,"5",2020,{"$f":"IFERROR(VLOOKUP([1]!Tabla_SERIEA_01_5[[#This Row],[IdEstablecimiento]],[2]Establecimientos!$A$1:$E$175,5,FALSE),0)","v":"04204-SALAMANCA"},"105304","80302032","2020-10-16T09:13:28",0,null,null,87]
[4,"5",2020,{"$f":"IFERROR(VLOOKUP([1]!Tabla_SERIEA_01_5[[#This Row],[IdEstablecimiento]],[2]Establecimientos!$A$1:$E$175,5,FALSE),0)","v":"04201-ILLAPEL"},"105479","80106015","2020-05-26T01:06:04",1,null,1,null,1]
[1,"5",2020,{"$f":"IFERROR(VLOOKUP([1]!Tabla_SERIEA_01_5[[#This Row],[IdEstablecimiento]],[2]Establecimientos!$A$1:$E$175,5,FALSE),0)","v":"04201-ILLAPEL"},"105472","80302047","2020-03-19T00:10:02",0,null,null,21]
[8,"5",2020,{"$f":"IFERROR(VLOOKUP([1]!Tabla_SERIEA_01_5[[#This Row],[IdEstablecimiento]],[2]Establecimientos!$A$1:$E$175,5,FALSE),0)","v":"105105-HOSPITAL COMBARBALÁ"},"105319","80106017","2020-09-16T16:41:54",104,null,104,null,104]
[9,"5",2020,{"$f":"IFERROR(VLOOKUP([1]!Tabla_SERIEA_01_5[[#This Row],[IdEstablecimiento]],[2]Establecimientos!$A$1:$E$175,5,FALSE),0)","v":"04204-SALAMANCA"},"105326","80302047","2020-10-16T09:20:45",0,null,null,95]
[3,"5",2020,{"$f":"IFERROR(VLOOKUP([1]!Tabla_SERIEA_01_5[[#This Row],[IdEstablecimiento]],[2]Establecimientos!$A$1:$E$175,5,FALSE),0)","v":"04204-SALAMANCA"},"105315","18020900","2020-04-16T21:56:22",1,0,1]
[2,"5",2020,{"$f":"IFERROR(VLOOKUP([1]!Tabla_SERIEA_01_5[[#This Row],[IdEstablecimiento]],[2]Establecimientos!$A$1:$E$175,5,FALSE),0)","v":"04201-ILLAPEL"},"105325","80401051","2020-03-19T18:52:46",0,null,null,4]
[1,"5",2020,{"$f":"IFERROR(VLOOKUP([1]!Tabla_SERIEA_01_5[[#This Row],[IdEstablecimiento]],[2]Establecimientos!$A$1:$E$175,5,FALSE),0)","v":"04101-LA SERENA"},"105511","80306061","2020-03-19T00:43:21",0,null,null,1]
[1,"5",2020,{"$f":"IFERROR(VLOOKUP([1]!Tabla_SERIEA_01_5[[#This Row],[IdEstablecimiento]],[2]Establecimientos!$A$1:$E$175,5,FALSE),0)","v":"04204-SALAMANCA"},"105321","80302067","2020-03-18T23:48:07",0,null,null,252]
[3,"5",2020,{"$f":"IFERROR(VLOOKUP([1]!Tabla_SERIEA_01_5[[#This Row],[IdEstablecimiento]],[2]Establecimientos!$A$1:$E$175,5,FALSE),0)","v":"04201-ILLAPEL"},"105700","80302048","2020-04-16T23:08:40",0,null,null,7]
[1,"5",2020,{"$f":"IFERROR(VLOOKUP([1]!Tabla_SERIEA_01_5[[#This Row],[IdEstablecimiento]],[2]Establecimientos!$A$1:$E$175,5,FALSE),0)","v":"04303-MONTE PATRIA"},"105469","80309013","2020-03-19T00:09:13",0,null,null,20]
[1,"5",2020,{"$f":"IFERROR(VLOOKUP([1]!Tabla_SERIEA_01_5[[#This Row],[IdEstablecimiento]],[2]Establecimientos!$A$1:$E$175,5,FALSE),0)","v":"04202-CANELA"},"105459","18020500","2020-03-19T00:06:35",3,0,3]
[8,"5",2020,{"$f":"IFERROR(VLOOKUP([1]!Tabla_SERIEA_01_5[[#This Row],[IdEstablecimiento]],[2]Establecimientos!$A$1:$E$175,5,FALSE),0)","v":"04101-LA SERENA"},"105819","80106010","2020-09-16T17:46:22",5,5,null,5]
[8,"5",2020,{"$f":"IFERROR(VLOOKUP([1]!Tabla_SERIEA_01_5[[#This Row],[IdEstablecimiento]],[2]Establecimientos!$A$1:$E$175,5,FALSE),0)","v":"105600-COSAM Tierras Blancas (CESAM)"},"105822","80401032","2020-09-16T17:47:08",19,19]
[1,"5",2020,{"$f":"IFERROR(VLOOKUP([1]!Tabla_SERIEA_01_5[[#This Row],[IdEstablecimiento]],[2]Establecimientos!$A$1:$E$175,5,FALSE),0)","v":"04303-MONTE PATRIA"},"105301","80404002","2020-03-18T23:40:40",26,null,26]
[3,"5",2020,{"$f":"IFERROR(VLOOKUP([1]!Tabla_SERIEA_01_5[[#This Row],[IdEstablecimiento]],[2]Establecimientos!$A$1:$E$175,5,FALSE),0)","v":"105106-HOSPITAL ANDACOLLO"},"200366","80302012","2020-04-16T23:10:54",0,null,null,1]
[7,"5",2020,{"$f":"IFERROR(VLOOKUP([1]!Tabla_SERIEA_01_5[[#This Row],[IdEstablecimiento]],[2]Establecimientos!$A$1:$E$175,5,FALSE),0)","v":"105108-HOSPITAL LOS VILOS"},"105304","80302047","2020-08-20T16:51:19",0,null,null,86]
[7,"5",2020,{"$f":"IFERROR(VLOOKUP([1]!Tabla_SERIEA_01_5[[#This Row],[IdEstablecimiento]],[2]Establecimientos!$A$1:$E$175,5,FALSE),0)","v":"04202-CANELA"},"105458","80106008","2020-08-20T17:26:27",4,null,4]
[7,"5",2020,{"$f":"IFERROR(VLOOKUP([1]!Tabla_SERIEA_01_5[[#This Row],[IdEstablecimiento]],[2]Establecimientos!$A$1:$E$175,5,FALSE),0)","v":"04201-ILLAPEL"},"200720","80401060","2020-08-20T18:21:12",21,21]
[4,"5",2020,{"$f":"IFERROR(VLOOKUP([1]!Tabla_SERIEA_01_5[[#This Row],[IdEstablecimiento]],[2]Establecimientos!$A$1:$E$175,5,FALSE),0)","v":"04301-OVALLE"},"105302","80309022","2020-05-26T00:37:25",0,null,null,62]
[4,"5",2020,{"$f":"IFERROR(VLOOKUP([1]!Tabla_SERIEA_01_5[[#This Row],[IdEstablecimiento]],[2]Establecimientos!$A$1:$E$175,5,FALSE),0)","v":"04102-COQUIMBO"},"105302","80301059","2020-05-26T00:37:25",0,null,null,9]
[2,"5",2020,{"$f":"IFERROR(VLOOKUP([1]!Tabla_SERIEA_01_5[[#This Row],[IdEstablecimiento]],[2]Establecimientos!$A$1:$E$175,5,FALSE),0)","v":"04102-COQUIMBO"},"105467","80302076","2020-03-19T21:05:16",0,null,null,21]
[5,"5",2020,{"$f":"IFERROR(VLOOKUP([1]!Tabla_SERIEA_01_5[[#This Row],[IdEstablecimiento]],[2]Establecimientos!$A$1:$E$175,5,FALSE),0)","v":"105102-HOSPITAL OVALLE"},"105442","80106002","2020-06-12T19:43:46",8,null,8,null,8]
[9,"5",2020,{"$f":"IFERROR(VLOOKUP([1]!Tabla_SERIEA_01_5[[#This Row],[IdEstablecimiento]],[2]Establecimientos!$A$1:$E$175,5,FALSE),0)","v":"04301-OVALLE"},"105306","80305070","2020-10-16T09:14:08",0,null,null,4]
[9,"5",2020,{"$f":"IFERROR(VLOOKUP([1]!Tabla_SERIEA_01_5[[#This Row],[IdEstablecimiento]],[2]Establecimientos!$A$1:$E$175,5,FALSE),0)","v":"04301-OVALLE"},"105306","18030000","2020-10-16T09:14:08",1,0,1]
[1,"5",2020,{"$f":"IFERROR(VLOOKUP([1]!Tabla_SERIEA_01_5[[#This Row],[IdEstablecimiento]],[2]Establecimientos!$A$1:$E$175,5,FALSE),0)","v":"04101-LA SERENA"},"105470","18090000","2020-03-19T00:09:28",8,0,8]
[8,"5",2020,{"$f":"IFERROR(VLOOKUP([1]!Tabla_SERIEA_01_5[[#This Row],[IdEstablecimiento]],[2]Establecimientos!$A$1:$E$175,5,FALSE),0)","v":"04305-RIO HURTADO"},"105484","18050200","2020-09-16T17:28:37",6,0,6]
[5,"5",2020,{"$f":"IFERROR(VLOOKUP([1]!Tabla_SERIEA_01_5[[#This Row],[IdEstablecimiento]],[2]Establecimientos!$A$1:$E$175,5,FALSE),0)","v":"04303-MONTE PATRIA"},"105319","80301041","2020-06-12T19:30:29",0,null,null,122]
[4,"5",2020,{"$f":"IFERROR(VLOOKUP([1]!Tabla_SERIEA_01_5[[#This Row],[IdEstablecimiento]],[2]Establecimientos!$A$1:$E$175,5,FALSE),0)","v":"105101-HOSPITAL COQUIMBO"},"105315","80106014","2020-05-26T00:43:15",117,87,30,null,107]
[1,"5",2020,{"$f":"IFERROR(VLOOKUP([1]!Tabla_SERIEA_01_5[[#This Row],[IdEstablecimiento]],[2]Establecimientos!$A$1:$E$175,5,FALSE),0)","v":"04101-LA SERENA"},"105485","80106002","2020-03-19T00:36:35",3,null,3,null,3]
[5,"5",2020,{"$f":"IFERROR(VLOOKUP([1]!Tabla_SERIEA_01_5[[#This Row],[IdEstablecimiento]],[2]Establecimientos!$A$1:$E$175,5,FALSE),0)","v":"04201-ILLAPEL"},"105313","18400700","2020-06-12T19:28:53",1200]
[2,"5",2020,{"$f":"IFERROR(VLOOKUP([1]!Tabla_SERIEA_01_5[[#This Row],[IdEstablecimiento]],[2]Establecimientos!$A$1:$E$175,5,FALSE),0)","v":"04301-OVALLE"},"105410","80500011","2020-03-19T18:56:58",15,null,15,null,15]
[2,"5",2020,{"$f":"IFERROR(VLOOKUP([1]!Tabla_SERIEA_01_5[[#This Row],[IdEstablecimiento]],[2]Establecimientos!$A$1:$E$175,5,FALSE),0)","v":"04106-VICUÑA"},"105410","18050100","2020-03-19T18:56:58",18,0,18]
[1,"5",2020,{"$f":"IFERROR(VLOOKUP([1]!Tabla_SERIEA_01_5[[#This Row],[IdEstablecimiento]],[2]Establecimientos!$A$1:$E$175,5,FALSE),0)","v":"105101-HOSPITAL COQUIMBO"},"105400","80309014","2020-03-18T23:49:45",0,null,null,2]
[7,"5",2020,{"$f":"IFERROR(VLOOKUP([1]!Tabla_SERIEA_01_5[[#This Row],[IdEstablecimiento]],[2]Establecimientos!$A$1:$E$175,5,FALSE),0)","v":"04101-LA SERENA"},"200494","80309028","2020-08-20T18:19:15",0,null,null,1]
[5,"5",2020,{"$f":"IFERROR(VLOOKUP([1]!Tabla_SERIEA_01_5[[#This Row],[IdEstablecimiento]],[2]Establecimientos!$A$1:$E$175,5,FALSE),0)","v":"105101-HOSPITAL COQUIMBO"},"105300","80106017","2020-06-12T19:23:50",108,4,104,null,108]
[5,"5",2020,{"$f":"IFERROR(VLOOKUP([1]!Tabla_SERIEA_01_5[[#This Row],[IdEstablecimiento]],[2]Establecimientos!$A$1:$E$175,5,FALSE),0)","v":"04302-COMBARBALÁ"},"105300","80302068","2020-06-12T19:23:50",0,null,null,68]
[4,"5",2020,{"$f":"IFERROR(VLOOKUP([1]!Tabla_SERIEA_01_5[[#This Row],[IdEstablecimiento]],[2]Establecimientos!$A$1:$E$175,5,FALSE),0)","v":"105101-HOSPITAL COQUIMBO"},"105308","80106017","2020-05-26T00:41:30",18,null,18,null,18]
[4,"5",2020,{"$f":"IFERROR(VLOOKUP([1]!Tabla_SERIEA_01_5[[#This Row],[IdEstablecimiento]],[2]Establecimientos!$A$1:$E$175,5,FALSE),0)","v":"04204-SALAMANCA"},"200499","80302034","2020-05-26T01:18:37",0,null,null,11]
[2,"5",2020,{"$f":"IFERROR(VLOOKUP([1]!Tabla_SERIEA_01_5[[#This Row],[IdEstablecimiento]],[2]Establecimientos!$A$1:$E$175,5,FALSE),0)","v":"105104-HOSPITAL SALAMANCA"},"105479","80106002","2020-03-19T21:08:24",12,null,12,null,12]
[4,"5",2020,{"$f":"IFERROR(VLOOKUP([1]!Tabla_SERIEA_01_5[[#This Row],[IdEstablecimiento]],[2]Establecimientos!$A$1:$E$175,5,FALSE),0)","v":"04101-LA SERENA"},"105477","80500011","2020-05-26T01:05:29",50,50,null,null,50]
[1,"5",2020,{"$f":"IFERROR(VLOOKUP([1]!Tabla_SERIEA_01_5[[#This Row],[IdEstablecimiento]],[2]Establecimientos!$A$1:$E$175,5,FALSE),0)","v":"04101-LA SERENA"},"105469","80106013","2020-03-19T00:09:13",5,null,5,null,5]
[3,"5",2020,{"$f":"IFERROR(VLOOKUP([1]!Tabla_SERIEA_01_5[[#This Row],[IdEstablecimiento]],[2]Establecimientos!$A$1:$E$175,5,FALSE),0)","v":"04301-OVALLE"},"105309","80301045","2020-04-16T21:47:46",0,null,null,100]
[8,"5",2020,{"$f":"IFERROR(VLOOKUP([1]!Tabla_SERIEA_01_5[[#This Row],[IdEstablecimiento]],[2]Establecimientos!$A$1:$E$175,5,FALSE),0)","v":"04102-COQUIMBO"},"105485","81701001","2020-09-16T17:28:56",6,null,6,null,6]
[9,"5",2020,{"$f":"IFERROR(VLOOKUP([1]!Tabla_SERIEA_01_5[[#This Row],[IdEstablecimiento]],[2]Establecimientos!$A$1:$E$175,5,FALSE),0)","v":"105106-HOSPITAL ANDACOLLO"},"105313","80302063","2020-10-16T09:17:19",0,null,null,60]
[8,"5",2020,{"$f":"IFERROR(VLOOKUP([1]!Tabla_SERIEA_01_5[[#This Row],[IdEstablecimiento]],[2]Establecimientos!$A$1:$E$175,5,FALSE),0)","v":"04204-SALAMANCA"},"105326","80302032","2020-09-16T16:43:59",0,null,null,79]
[9,"5",2020,{"$f":"IFERROR(VLOOKUP([1]!Tabla_SERIEA_01_5[[#This Row],[IdEstablecimiento]],[2]Establecimientos!$A$1:$E$175,5,FALSE),0)","v":"04201-ILLAPEL"},"105443","80301045","2020-10-16T09:45:59",0,null,null,15]
[7,"5",2020,{"$f":"IFERROR(VLOOKUP([1]!Tabla_SERIEA_01_5[[#This Row],[IdEstablecimiento]],[2]Establecimientos!$A$1:$E$175,5,FALSE),0)","v":"04202-CANELA"},"105304","80302048","2020-08-20T16:51:19",0,null,null,25]
[3,"5",2020,{"$f":"IFERROR(VLOOKUP([1]!Tabla_SERIEA_01_5[[#This Row],[IdEstablecimiento]],[2]Establecimientos!$A$1:$E$175,5,FALSE),0)","v":"04101-LA SERENA"},"200607","80301045","2020-05-26T02:01:24",0,null,null,97]
[2,"5",2020,{"$f":"IFERROR(VLOOKUP([1]!Tabla_SERIEA_01_5[[#This Row],[IdEstablecimiento]],[2]Establecimientos!$A$1:$E$175,5,FALSE),0)","v":"04106-VICUÑA"},"105405","80302067","2020-04-17T20:28:42",0,null,null,110]
[2,"5",2020,{"$f":"IFERROR(VLOOKUP([1]!Tabla_SERIEA_01_5[[#This Row],[IdEstablecimiento]],[2]Establecimientos!$A$1:$E$175,5,FALSE),0)","v":"04301-OVALLE"},"105499","18020500","2020-03-19T21:23:26",7,0,7]
[11,"5",2020,{"$f":"IFERROR(VLOOKUP([1]!Tabla_SERIEA_01_5[[#This Row],[IdEstablecimiento]],[2]Establecimientos!$A$1:$E$175,5,FALSE),0)","v":"04301-OVALLE"},"105300","81602204","2020-12-11T14:48:10",5,null,5,5]
[1,"5",2020,{"$f":"IFERROR(VLOOKUP([1]!Tabla_SERIEA_01_5[[#This Row],[IdEstablecimiento]],[2]Establecimientos!$A$1:$E$175,5,FALSE),0)","v":"04301-OVALLE"},"105304","80308005","2020-05-26T01:48:33",0,null,null,11]
[5,"5",2020,{"$f":"IFERROR(VLOOKUP([1]!Tabla_SERIEA_01_5[[#This Row],[IdEstablecimiento]],[2]Establecimientos!$A$1:$E$175,5,FALSE),0)","v":"04106-VICUÑA"},"105442","18050100","2020-06-12T19:43:46",8,0,8]
[1,"5",2020,{"$f":"IFERROR(VLOOKUP([1]!Tabla_SERIEA_01_5[[#This Row],[IdEstablecimiento]],[2]Establecimientos!$A$1:$E$175,5,FALSE),0)","v":"105101-HOSPITAL COQUIMBO"},"105309","80404005","2020-03-18T23:44:23",8,null,8]
[2,"5",2020,{"$f":"IFERROR(VLOOKUP([1]!Tabla_SERIEA_01_5[[#This Row],[IdEstablecimiento]],[2]Establecimientos!$A$1:$E$175,5,FALSE),0)","v":"04303-MONTE PATRIA"},"105485","80302034","2020-03-19T21:15:26",0,null,null,28]
[5,"5",2020,{"$f":"IFERROR(VLOOKUP([1]!Tabla_SERIEA_01_5[[#This Row],[IdEstablecimiento]],[2]Establecimientos!$A$1:$E$175,5,FALSE),0)","v":"04101-LA SERENA"},"105314","80301045","2020-06-12T21:06:01",0,null,null,121]
[2,"5",2020,{"$f":"IFERROR(VLOOKUP([1]!Tabla_SERIEA_01_5[[#This Row],[IdEstablecimiento]],[2]Establecimientos!$A$1:$E$175,5,FALSE),0)","v":"105105-HOSPITAL COMBARBALÁ"},"105480","80301086","2020-03-19T21:08:47",0,null,null,1]
[5,"5",2020,{"$f":"IFERROR(VLOOKUP([1]!Tabla_SERIEA_01_5[[#This Row],[IdEstablecimiento]],[2]Establecimientos!$A$1:$E$175,5,FALSE),0)","v":"04301-OVALLE"},"105304","80302057","2020-06-12T19:25:36",0,null,null,19]
[2,"5",2020,{"$f":"IFERROR(VLOOKUP([1]!Tabla_SERIEA_01_5[[#This Row],[IdEstablecimiento]],[2]Establecimientos!$A$1:$E$175,5,FALSE),0)","v":"04301-OVALLE"},"105473","80302067","2020-03-19T21:06:50",0,null,null,7]
[2,"5",2020,{"$f":"IFERROR(VLOOKUP([1]!Tabla_SERIEA_01_5[[#This Row],[IdEstablecimiento]],[2]Establecimientos!$A$1:$E$175,5,FALSE),0)","v":"04301-OVALLE"},"105473","80302034","2020-03-19T21:06:50",0,null,null,39]
[8,"5",2020,{"$f":"IFERROR(VLOOKUP([1]!Tabla_SERIEA_01_5[[#This Row],[IdEstablecimiento]],[2]Establecimientos!$A$1:$E$175,5,FALSE),0)","v":"04101-LA SERENA"},"200273","80500008","2020-09-16T17:49:55",1,null,1,null,1]
[2,"5",2020,{"$f":"IFERROR(VLOOKUP([1]!Tabla_SERIEA_01_5[[#This Row],[IdEstablecimiento]],[2]Establecimientos!$A$1:$E$175,5,FALSE),0)","v":"105108-HOSPITAL LOS VILOS"},"105447","80303024","2020-03-19T20:39:47",0,null,null,11]
[1,"5",2020,{"$f":"IFERROR(VLOOKUP([1]!Tabla_SERIEA_01_5[[#This Row],[IdEstablecimiento]],[2]Establecimientos!$A$1:$E$175,5,FALSE),0)","v":"04301-OVALLE"},"200494","80500011","2020-03-19T00:47:01",249,179,70,null,249]
[2,"5",2020,{"$f":"IFERROR(VLOOKUP([1]!Tabla_SERIEA_01_5[[#This Row],[IdEstablecimiento]],[2]Establecimientos!$A$1:$E$175,5,FALSE),0)","v":"04302-COMBARBALÁ"},"105313","80303024","2020-03-19T18:45:31",0,null,null,237]
[9,"5",2020,{"$f":"IFERROR(VLOOKUP([1]!Tabla_SERIEA_01_5[[#This Row],[IdEstablecimiento]],[2]Establecimientos!$A$1:$E$175,5,FALSE),0)","v":"04102-COQUIMBO"},"105325","80301041","2020-10-16T09:20:29",0,null,null,88]
[10,"5",2020,{"$f":"IFERROR(VLOOKUP([1]!Tabla_SERIEA_01_5[[#This Row],[IdEstablecimiento]],[2]Establecimientos!$A$1:$E$175,5,FALSE),0)","v":"04301-OVALLE"},"105310","80500009","2020-11-12T07:09:43",2,null,2,null,2]
[8,"5",2020,{"$f":"IFERROR(VLOOKUP([1]!Tabla_SERIEA_01_5[[#This Row],[IdEstablecimiento]],[2]Establecimientos!$A$1:$E$175,5,FALSE),0)","v":"04101-LA SERENA"},"105471","80302076","2020-09-16T17:24:08",0,null,null,5]
[8,"5",2020,{"$f":"IFERROR(VLOOKUP([1]!Tabla_SERIEA_01_5[[#This Row],[IdEstablecimiento]],[2]Establecimientos!$A$1:$E$175,5,FALSE),0)","v":"04301-OVALLE"},"105471","80306011","2020-09-16T17:24:08",0,null,null,5]
[2,"5",2020,{"$f":"IFERROR(VLOOKUP([1]!Tabla_SERIEA_01_5[[#This Row],[IdEstablecimiento]],[2]Establecimientos!$A$1:$E$175,5,FALSE),0)","v":"105101-HOSPITAL COQUIMBO"},"200499","80302034","2020-03-19T21:32:31",0,null,null,119]
[3,"5",2020,{"$f":"IFERROR(VLOOKUP([1]!Tabla_SERIEA_01_5[[#This Row],[IdEstablecimiento]],[2]Establecimientos!$A$1:$E$175,5,FALSE),0)","v":"105108-HOSPITAL LOS VILOS"},"105326","80302057","2020-04-16T21:59:23",0,null,null,9]
[4,"5",2020,{"$f":"IFERROR(VLOOKUP([1]!Tabla_SERIEA_01_5[[#This Row],[IdEstablecimiento]],[2]Establecimientos!$A$1:$E$175,5,FALSE),0)","v":"105101-HOSPITAL COQUIMBO"},"105455","80106010","2020-05-26T00:58:07",4,null,4]
[5,"5",2020,{"$f":"IFERROR(VLOOKUP([1]!Tabla_SERIEA_01_5[[#This Row],[IdEstablecimiento]],[2]Establecimientos!$A$1:$E$175,5,FALSE),0)","v":"04105-PAIHUANO"},"105413","80500011","2020-06-12T19:37:06",4,null,4,null,4]
[5,"5",2020,{"$f":"IFERROR(VLOOKUP([1]!Tabla_SERIEA_01_5[[#This Row],[IdEstablecimiento]],[2]Establecimientos!$A$1:$E$175,5,FALSE),0)","v":"04102-COQUIMBO"},"105722","81701009","2020-06-12T20:33:19",28,null,28,null,28]
[6,"5",2020,{"$f":"IFERROR(VLOOKUP([1]!Tabla_SERIEA_01_5[[#This Row],[IdEstablecimiento]],[2]Establecimientos!$A$1:$E$175,5,FALSE),0)","v":"04303-MONTE PATRIA"},"105314","80301086","2020-07-20T22:57:52",0,null,null,7]
[2,"5",2020,{"$f":"IFERROR(VLOOKUP([1]!Tabla_SERIEA_01_5[[#This Row],[IdEstablecimiento]],[2]Establecimientos!$A$1:$E$175,5,FALSE),0)","v":"105102-HOSPITAL OVALLE"},"105402","18050100","2020-03-19T18:54:23",23,0,23]
[1,"5",2020,{"$f":"IFERROR(VLOOKUP([1]!Tabla_SERIEA_01_5[[#This Row],[IdEstablecimiento]],[2]Establecimientos!$A$1:$E$175,5,FALSE),0)","v":"105102-HOSPITAL OVALLE"},"200402","80301036","2020-03-19T00:46:43",0,null,null,8]
[9,"5",2020,{"$f":"IFERROR(VLOOKUP([1]!Tabla_SERIEA_01_5[[#This Row],[IdEstablecimiento]],[2]Establecimientos!$A$1:$E$175,5,FALSE),0)","v":"105100-HOSPITAL LA SERENA"},"105301","80302013","2020-10-16T09:00:31",0,null,null,8]
[8,"5",2020,{"$f":"IFERROR(VLOOKUP([1]!Tabla_SERIEA_01_5[[#This Row],[IdEstablecimiento]],[2]Establecimientos!$A$1:$E$175,5,FALSE),0)","v":"04102-COQUIMBO"},"200494","81707030","2020-09-16T17:52:38",5,null,5,null,5]
[8,"5",2020,{"$f":"IFERROR(VLOOKUP([1]!Tabla_SERIEA_01_5[[#This Row],[IdEstablecimiento]],[2]Establecimientos!$A$1:$E$175,5,FALSE),0)","v":"04101-LA SERENA"},"200494","80106010","2020-09-16T17:52:38",2,null,2,null,2]
[1,"5",2020,{"$f":"IFERROR(VLOOKUP([1]!Tabla_SERIEA_01_5[[#This Row],[IdEstablecimiento]],[2]Establecimientos!$A$1:$E$175,5,FALSE),0)","v":"04301-OVALLE"},"105469","81602222","2020-03-19T00:09:13",2,null,2,null,2]
[7,"5",2020,{"$f":"IFERROR(VLOOKUP([1]!Tabla_SERIEA_01_5[[#This Row],[IdEstablecimiento]],[2]Establecimientos!$A$1:$E$175,5,FALSE),0)","v":"04301-OVALLE"},"105319","80401054","2020-09-16T18:48:41",72,72]
[3,"5",2020,{"$f":"IFERROR(VLOOKUP([1]!Tabla_SERIEA_01_5[[#This Row],[IdEstablecimiento]],[2]Establecimientos!$A$1:$E$175,5,FALSE),0)","v":"04301-OVALLE"},"105317","18020300","2020-04-16T21:56:39",27,26,1]
[7,"5",2020,{"$f":"IFERROR(VLOOKUP([1]!Tabla_SERIEA_01_5[[#This Row],[IdEstablecimiento]],[2]Establecimientos!$A$1:$E$175,5,FALSE),0)","v":"04303-MONTE PATRIA"},"105325","80306011","2020-08-20T16:59:30",0,null,null,39]
[7,"5",2020,{"$f":"IFERROR(VLOOKUP([1]!Tabla_SERIEA_01_5[[#This Row],[IdEstablecimiento]],[2]Establecimientos!$A$1:$E$175,5,FALSE),0)","v":"04203-LOS VILOS"},"105325","80106022","2020-08-20T16:59:30",8,2,6,null,8]
[9,"5",2020,{"$f":"IFERROR(VLOOKUP([1]!Tabla_SERIEA_01_5[[#This Row],[IdEstablecimiento]],[2]Establecimientos!$A$1:$E$175,5,FALSE),0)","v":"04102-COQUIMBO"},"105301","18050100","2020-10-16T09:00:31",162,0,162]
[3,"5",2020,{"$f":"IFERROR(VLOOKUP([1]!Tabla_SERIEA_01_5[[#This Row],[IdEstablecimiento]],[2]Establecimientos!$A$1:$E$175,5,FALSE),0)","v":"04301-OVALLE"},"105325","80302048","2020-04-16T21:59:08",0,null,null,43]
[2,"5",2020,{"$f":"IFERROR(VLOOKUP([1]!Tabla_SERIEA_01_5[[#This Row],[IdEstablecimiento]],[2]Establecimientos!$A$1:$E$175,5,FALSE),0)","v":"04301-OVALLE"},"105315","80307011","2020-03-19T18:49:44",311,null,311]
[1,"5",2020,{"$f":"IFERROR(VLOOKUP([1]!Tabla_SERIEA_01_5[[#This Row],[IdEstablecimiento]],[2]Establecimientos!$A$1:$E$175,5,FALSE),0)","v":"105101-HOSPITAL COQUIMBO"},"200499","18400900","2020-04-17T20:26:29",56,12,44]
[5,"5",2020,{"$f":"IFERROR(VLOOKUP([1]!Tabla_SERIEA_01_5[[#This Row],[IdEstablecimiento]],[2]Establecimientos!$A$1:$E$175,5,FALSE),0)","v":"04104-LA HIGUERA"},"105496","80106015","2020-06-12T20:25:44",2,null,2,null,2]
[5,"5",2020,{"$f":"IFERROR(VLOOKUP([1]!Tabla_SERIEA_01_5[[#This Row],[IdEstablecimiento]],[2]Establecimientos!$A$1:$E$175,5,FALSE),0)","v":"04301-OVALLE"},"105410","80106013","2020-06-12T19:36:17",1,null,1,null,1]
[9,"5",2020,{"$f":"IFERROR(VLOOKUP([1]!Tabla_SERIEA_01_5[[#This Row],[IdEstablecimiento]],[2]Establecimientos!$A$1:$E$175,5,FALSE),0)","v":"04101-LA SERENA"},"105325","80306042","2020-10-16T09:20:29",0,null,null,56]
[7,"5",2020,{"$f":"IFERROR(VLOOKUP([1]!Tabla_SERIEA_01_5[[#This Row],[IdEstablecimiento]],[2]Establecimientos!$A$1:$E$175,5,FALSE),0)","v":"04201-ILLAPEL"},"105325","18400600","2020-08-20T16:59:30",22,0,22]
[7,"5",2020,{"$f":"IFERROR(VLOOKUP([1]!Tabla_SERIEA_01_5[[#This Row],[IdEstablecimiento]],[2]Establecimientos!$A$1:$E$175,5,FALSE),0)","v":"04102-COQUIMBO"},"105460","18050100","2020-08-20T17:27:50",37,0,37]
[3,"5",2020,{"$f":"IFERROR(VLOOKUP([1]!Tabla_SERIEA_01_5[[#This Row],[IdEstablecimiento]],[2]Establecimientos!$A$1:$E$175,5,FALSE),0)","v":"04301-OVALLE"},"105409","18070300","2020-05-26T01:57:33",3,{"$nulls":4},1,2]
[2,"5",2020,{"$f":"IFERROR(VLOOKUP([1]!Tabla_SERIEA_01_5[[#This Row],[IdEstablecimiento]],[2]Establecimientos!$A$1:$E$175,5,FALSE),0)","v":"04302-COMBARBALÁ"},"105468","80302043","2020-03-19T21:05:32",0,null,null,21]
[4,"5",2020,{"$f":"IFERROR(VLOOKUP([1]!Tabla_SERIEA_01_5[[#This Row],[IdEstablecimiento]],[2]Establecimientos!$A$1:$E$175,5,FALSE),0)","v":"04301-OVALLE"},"105300","80106013","2020-05-26T00:36:31",1,1,null,null,1]
[5,"5",2020,{"$f":"IFERROR(VLOOKUP([1]!Tabla_SERIEA_01_5[[#This Row],[IdEstablecimiento]],[2]Establecimientos!$A$1:$E$175,5,FALSE),0)","v":"04102-COQUIMBO"},"105305","80106002","2020-06-12T19:26:13",230,19,211,19,211]
[2,"5",2020,{"$f":"IFERROR(VLOOKUP([1]!Tabla_SERIEA_01_5[[#This Row],[IdEstablecimiento]],[2]Establecimientos!$A$1:$E$175,5,FALSE),0)","v":"04301-OVALLE"},"105428","80106017","2020-03-19T19:04:11",10,null,10,null,10]
[8,"5",2020,{"$f":"IFERROR(VLOOKUP([1]!Tabla_SERIEA_01_5[[#This Row],[IdEstablecimiento]],[2]Establecimientos!$A$1:$E$175,5,FALSE),0)","v":"04302-COMBARBALÁ"},"105401","80302068","2020-09-16T16:44:46",0,null,null,6]
[8,"5",2020,{"$f":"IFERROR(VLOOKUP([1]!Tabla_SERIEA_01_5[[#This Row],[IdEstablecimiento]],[2]Establecimientos!$A$1:$E$175,5,FALSE),0)","v":"105101-HOSPITAL COQUIMBO"},"105401","80302034","2020-09-16T16:44:46",0,null,null,6]
[8,"5",2020,{"$f":"IFERROR(VLOOKUP([1]!Tabla_SERIEA_01_5[[#This Row],[IdEstablecimiento]],[2]Establecimientos!$A$1:$E$175,5,FALSE),0)","v":"04102-COQUIMBO"},"105485","18050100","2020-09-16T17:28:56",18,0,18]
[4,"5",2020,{"$f":"IFERROR(VLOOKUP([1]!Tabla_SERIEA_01_5[[#This Row],[IdEstablecimiento]],[2]Establecimientos!$A$1:$E$175,5,FALSE),0)","v":"04301-OVALLE"},"105307","80302005","2020-05-26T00:41:15",8,null,8]
[4,"5",2020,{"$f":"IFERROR(VLOOKUP([1]!Tabla_SERIEA_01_5[[#This Row],[IdEstablecimiento]],[2]Establecimientos!$A$1:$E$175,5,FALSE),0)","v":"04301-OVALLE"},"105307","81602221","2020-05-26T00:41:15",9,9,null,9]
[8,"5",2020,{"$f":"IFERROR(VLOOKUP([1]!Tabla_SERIEA_01_5[[#This Row],[IdEstablecimiento]],[2]Establecimientos!$A$1:$E$175,5,FALSE),0)","v":"04304-PUNITAQUI"},"105307","18090100","2020-09-16T16:38:24",342,0,342]
[2,"5",2020,{"$f":"IFERROR(VLOOKUP([1]!Tabla_SERIEA_01_5[[#This Row],[IdEstablecimiento]],[2]Establecimientos!$A$1:$E$175,5,FALSE),0)","v":"04303-MONTE PATRIA"},"105326","80306011","2020-03-19T18:53:04",0,null,null,87]
[8,"5",2020,{"$f":"IFERROR(VLOOKUP([1]!Tabla_SERIEA_01_5[[#This Row],[IdEstablecimiento]],[2]Establecimientos!$A$1:$E$175,5,FALSE),0)","v":"04102-COQUIMBO"},"105700","80301041","2020-09-16T17:38:33",0,null,null,22]
[2,"5",2020,{"$f":"IFERROR(VLOOKUP([1]!Tabla_SERIEA_01_5[[#This Row],[IdEstablecimiento]],[2]Establecimientos!$A$1:$E$175,5,FALSE),0)","v":"04203-LOS VILOS"},"105313","18090000","2020-03-19T18:45:31",174,0,174]
[1,"5",2020,{"$f":"IFERROR(VLOOKUP([1]!Tabla_SERIEA_01_5[[#This Row],[IdEstablecimiento]],[2]Establecimientos!$A$1:$E$175,5,FALSE),0)","v":"04301-OVALLE"},"105468","80302047","2020-03-19T00:08:57",0,null,null,18]
[11,"5",2020,{"$f":"IFERROR(VLOOKUP([1]!Tabla_SERIEA_01_5[[#This Row],[IdEstablecimiento]],[2]Establecimientos!$A$1:$E$175,5,FALSE),0)","v":"04301-OVALLE"},"105312","80106015","2020-12-11T14:51:50",73,null,73,null,73]
[6,"5",2020,{"$f":"IFERROR(VLOOKUP([1]!Tabla_SERIEA_01_5[[#This Row],[IdEstablecimiento]],[2]Establecimientos!$A$1:$E$175,5,FALSE),0)","v":"04204-SALAMANCA"},"200720","80401045","2020-07-21T00:08:54",5,5]
[6,"5",2020,{"$f":"IFERROR(VLOOKUP([1]!Tabla_SERIEA_01_5[[#This Row],[IdEstablecimiento]],[2]Establecimientos!$A$1:$E$175,5,FALSE),0)","v":"04102-COQUIMBO"},"105497","80106014","2020-07-20T23:47:22",6,null,6,null,6]
[2,"5",2020,{"$f":"IFERROR(VLOOKUP([1]!Tabla_SERIEA_01_5[[#This Row],[IdEstablecimiento]],[2]Establecimientos!$A$1:$E$175,5,FALSE),0)","v":"04105-PAIHUANO"},"105312","80500011","2020-03-19T18:45:12",15,null,15,null,15]
[2,"5",2020,{"$f":"IFERROR(VLOOKUP([1]!Tabla_SERIEA_01_5[[#This Row],[IdEstablecimiento]],[2]Establecimientos!$A$1:$E$175,5,FALSE),0)","v":"04201-ILLAPEL"},"105319","80306011","2020-03-19T18:50:36",0,null,null,50]
[5,"5",2020,{"$f":"IFERROR(VLOOKUP([1]!Tabla_SERIEA_01_5[[#This Row],[IdEstablecimiento]],[2]Establecimientos!$A$1:$E$175,5,FALSE),0)","v":"04304-PUNITAQUI"},"105306","80302059","2020-06-12T19:26:28",0,null,null,6]
[4,"5",2020,{"$f":"IFERROR(VLOOKUP([1]!Tabla_SERIEA_01_5[[#This Row],[IdEstablecimiento]],[2]Establecimientos!$A$1:$E$175,5,FALSE),0)","v":"04102-COQUIMBO"},"105313","18050100","2020-05-26T00:42:45",178,2,176]
[11,"5",2020,{"$f":"IFERROR(VLOOKUP([1]!Tabla_SERIEA_01_5[[#This Row],[IdEstablecimiento]],[2]Establecimientos!$A$1:$E$175,5,FALSE),0)","v":"04301-OVALLE"},"105504","80106002","2020-12-11T15:42:20",6,null,6,null,6]
[3,"5",2020,{"$f":"IFERROR(VLOOKUP([1]!Tabla_SERIEA_01_5[[#This Row],[IdEstablecimiento]],[2]Establecimientos!$A$1:$E$175,5,FALSE),0)","v":"105104-HOSPITAL SALAMANCA"},"105414","80401009","2020-05-26T01:58:51",11,null,11,11]
[7,"5",2020,{"$f":"IFERROR(VLOOKUP([1]!Tabla_SERIEA_01_5[[#This Row],[IdEstablecimiento]],[2]Establecimientos!$A$1:$E$175,5,FALSE),0)","v":"04101-LA SERENA"},"105321","80308004","2020-08-20T16:56:18",0,null,null,3]
[3,"5",2020,{"$f":"IFERROR(VLOOKUP([1]!Tabla_SERIEA_01_5[[#This Row],[IdEstablecimiento]],[2]Establecimientos!$A$1:$E$175,5,FALSE),0)","v":"105108-HOSPITAL LOS VILOS"},"105303","80305019","2020-04-16T21:45:28",0,null,null,3]
[1,"5",2020,{"$f":"IFERROR(VLOOKUP([1]!Tabla_SERIEA_01_5[[#This Row],[IdEstablecimiento]],[2]Establecimientos!$A$1:$E$175,5,FALSE),0)","v":"04106-VICUÑA"},"105305","80301036","2020-03-18T23:42:06",0,null,null,166]
[12,"5",2020,{"$f":"IFERROR(VLOOKUP([1]!Tabla_SERIEA_01_5[[#This Row],[IdEstablecimiento]],[2]Establecimientos!$A$1:$E$175,5,FALSE),0)","v":"04301-OVALLE"},"105301","80302005","2021-01-18T11:30:56",0,null,null,87]
[12,"5",2020,{"$f":"IFERROR(VLOOKUP([1]!Tabla_SERIEA_01_5[[#This Row],[IdEstablecimiento]],[2]Establecimientos!$A$1:$E$175,5,FALSE),0)","v":"04301-OVALLE"},"105301","18020900","2021-01-18T11:30:56",1,0,1]
[12,"5",2020,{"$f":"IFERROR(VLOOKUP([1]!Tabla_SERIEA_01_5[[#This Row],[IdEstablecimiento]],[2]Establecimientos!$A$1:$E$175,5,FALSE),0)","v":"04203-LOS VILOS"},"105822","80401032","2021-01-18T14:40:35",36,36]
[12,"5",2020,{"$f":"IFERROR(VLOOKUP([1]!Tabla_SERIEA_01_5[[#This Row],[IdEstablecimiento]],[2]Establecimientos!$A$1:$E$175,5,FALSE),0)","v":"04301-OVALLE"},"105825","81602222","2021-01-18T14:42:15",19,19,null,19]
[12,"5",2020,{"$f":"IFERROR(VLOOKUP([1]!Tabla_SERIEA_01_5[[#This Row],[IdEstablecimiento]],[2]Establecimientos!$A$1:$E$175,5,FALSE),0)","v":"04101-LA SERENA"},"105825","18050100","2021-01-18T14:42:15",57,57,0]
[12,"5",2020,{"$f":"IFERROR(VLOOKUP([1]!Tabla_SERIEA_01_5[[#This Row],[IdEstablecimiento]],[2]Establecimientos!$A$1:$E$175,5,FALSE),0)","v":"04303-MONTE PATRIA"},"105817","80106015","2021-01-18T14:35:45",66,66,null,null,66]
[12,"5",2020,{"$f":"IFERROR(VLOOKUP([1]!Tabla_SERIEA_01_5[[#This Row],[IdEstablecimiento]],[2]Establecimientos!$A$1:$E$175,5,FALSE),0)","v":"04303-MONTE PATRIA"},"105817","18050300","2021-01-18T14:35:45",2,2,0]
[12,"5",2020,{"$f":"IFERROR(VLOOKUP([1]!Tabla_SERIEA_01_5[[#This Row],[IdEstablecimiento]],[2]Establecimientos!$A$1:$E$175,5,FALSE),0)","v":"105104-HOSPITAL SALAMANCA"},"105819","80106013","2021-01-18T14:39:58",6,6,null,null,6]
[12,"5",2020,{"$f":"IFERROR(VLOOKUP([1]!Tabla_SERIEA_01_5[[#This Row],[IdEstablecimiento]],[2]Establecimientos!$A$1:$E$175,5,FALSE),0)","v":"105108-HOSPITAL LOS VILOS"},"105819","18050100","2021-01-18T14:39:58",102,102,0]
[12,"5",2020,{"$f":"IFERROR(VLOOKUP([1]!Tabla_SERIEA_01_5[[#This Row],[IdEstablecimiento]],[2]Establecimientos!$A$1:$E$175,5,FALSE),0)","v":"105100-HOSPITAL LA SERENA"},"105822","80106020","2021-01-18T14:40:35",32,32,null,null,32]
[12,"5",2020,{"$f":"IFERROR(VLOOKUP([1]!Tabla_SERIEA_01_5[[#This Row],[IdEstablecimiento]],[2]Establecimientos!$A$1:$E$175,5,FALSE),0)","v":"04101-LA SERENA"},"105823","80500011","2021-01-18T14:41:05",44,44,null,null,44]
[12,"5",2020,{"$f":"IFERROR(VLOOKUP([1]!Tabla_SERIEA_01_5[[#This Row],[IdEstablecimiento]],[2]Establecimientos!$A$1:$E$175,5,FALSE),0)","v":"105107-HOSPITAL VICUÑA"},"200258","18020500","2021-01-18T14:43:23",5,0,5]
[12,"5",2020,{"$f":"IFERROR(VLOOKUP([1]!Tabla_SERIEA_01_5[[#This Row],[IdEstablecimiento]],[2]Establecimientos!$A$1:$E$175,5,FALSE),0)","v":"105104-HOSPITAL SALAMANCA"},"200273","80303027","2021-01-18T14:44:14",0,null,null,4]
[12,"5",2020,{"$f":"IFERROR(VLOOKUP([1]!Tabla_SERIEA_01_5[[#This Row],[IdEstablecimiento]],[2]Establecimientos!$A$1:$E$175,5,FALSE),0)","v":"04106-VICUÑA"},"200366","80301034","2021-01-18T14:44:37",0,null,null,17]
[12,"5",2020,{"$f":"IFERROR(VLOOKUP([1]!Tabla_SERIEA_01_5[[#This Row],[IdEstablecimiento]],[2]Establecimientos!$A$1:$E$175,5,FALSE),0)","v":"04102-COQUIMBO"},"200366","80306061","2021-01-18T14:44:37",0,null,null,12]
[12,"5",2020,{"$f":"IFERROR(VLOOKUP([1]!Tabla_SERIEA_01_5[[#This Row],[IdEstablecimiento]],[2]Establecimientos!$A$1:$E$175,5,FALSE),0)","v":"04105-PAIHUANO"},"200366","80306011","2021-01-18T14:44:37",0,null,null,76]
[12,"5",2020,{"$f":"IFERROR(VLOOKUP([1]!Tabla_SERIEA_01_5[[#This Row],[IdEstablecimiento]],[2]Establecimientos!$A$1:$E$175,5,FALSE),0)","v":"04102-COQUIMBO"},"200494","80301015","2021-01-18T14:46:27",7,null,7]
[12,"5",2020,{"$f":"IFERROR(VLOOKUP([1]!Tabla_SERIEA_01_5[[#This Row],[IdEstablecimiento]],[2]Establecimientos!$A$1:$E$175,5,FALSE),0)","v":"04301-OVALLE"},"200494","80106017","2021-01-18T14:46:27",295,null,295,null,295]
[12,"5",2020,{"$f":"IFERROR(VLOOKUP([1]!Tabla_SERIEA_01_5[[#This Row],[IdEstablecimiento]],[2]Establecimientos!$A$1:$E$175,5,FALSE),0)","v":"04102-COQUIMBO"},"200494","80106014","2021-01-18T14:46:27",312,null,312,null,312]
[12,"5",2020,{"$f":"IFERROR(VLOOKUP([1]!Tabla_SERIEA_01_5[[#This Row],[IdEstablecimiento]],[2]Establecimientos!$A$1:$E$175,5,FALSE),0)","v":"04301-OVALLE"},"200494","80500011","2021-01-18T14:46:27",32,null,32,null,32]
[12,"5",2020,{"$f":"IFERROR(VLOOKUP([1]!Tabla_SERIEA_01_5[[#This Row],[IdEstablecimiento]],[2]Establecimientos!$A$1:$E$175,5,FALSE),0)","v":"04301-OVALLE"},"200499","80404006","2021-01-18T14:46:57",6,null,6]
[12,"5",2020,{"$f":"IFERROR(VLOOKUP([1]!Tabla_SERIEA_01_5[[#This Row],[IdEstablecimiento]],[2]Establecimientos!$A$1:$E$175,5,FALSE),0)","v":"04102-COQUIMBO"},"200499","81707030","2021-01-18T14:46:57",2,2,null,2]
[12,"5",2020,{"$f":"IFERROR(VLOOKUP([1]!Tabla_SERIEA_01_5[[#This Row],[IdEstablecimiento]],[2]Establecimientos!$A$1:$E$175,5,FALSE),0)","v":"105105-HOSPITAL COMBARBALÁ"},"200499","80302060","2021-01-18T14:46:57",0,null,null,19]
[12,"5",2020,{"$f":"IFERROR(VLOOKUP([1]!Tabla_SERIEA_01_5[[#This Row],[IdEstablecimiento]],[2]Establecimientos!$A$1:$E$175,5,FALSE),0)","v":"04201-ILLAPEL"},"200499","80306042","2021-01-18T14:46:57",0,null,null,21]
[12,"5",2020,{"$f":"IFERROR(VLOOKUP([1]!Tabla_SERIEA_01_5[[#This Row],[IdEstablecimiento]],[2]Establecimientos!$A$1:$E$175,5,FALSE),0)","v":"04102-COQUIMBO"},"200538","80308004","2021-01-18T14:47:49",0,null,null,2]
[12,"5",2020,{"$f":"IFERROR(VLOOKUP([1]!Tabla_SERIEA_01_5[[#This Row],[IdEstablecimiento]],[2]Establecimientos!$A$1:$E$175,5,FALSE),0)","v":"04303-MONTE PATRIA"},"200538","80307012","2021-01-18T14:47:49",0,null,null,5]
[12,"5",2020,{"$f":"IFERROR(VLOOKUP([1]!Tabla_SERIEA_01_5[[#This Row],[IdEstablecimiento]],[2]Establecimientos!$A$1:$E$175,5,FALSE),0)","v":"04102-COQUIMBO"},"200538","18090000","2021-01-18T14:47:49",25,0,25]
[12,"5",2020,{"$f":"IFERROR(VLOOKUP([1]!Tabla_SERIEA_01_5[[#This Row],[IdEstablecimiento]],[2]Establecimientos!$A$1:$E$175,5,FALSE),0)","v":"04102-COQUIMBO"},"200538","18050100","2021-01-18T14:47:49",15,0,15]
[12,"5",2020,{"$f":"IFERROR(VLOOKUP([1]!Tabla_SERIEA_01_5[[#This Row],[IdEstablecimiento]],[2]Establecimientos!$A$1:$E$175,5,FALSE),0)","v":"04102-COQUIMBO"},"200569","81701001","2021-01-18T14:48:22",51,null,51,null,51]
[12,"5",2020,{"$f":"IFERROR(VLOOKUP([1]!Tabla_SERIEA_01_5[[#This Row],[IdEstablecimiento]],[2]Establecimientos!$A$1:$E$175,5,FALSE),0)","v":"04101-LA SERENA"},"200569","81701009","2021-01-18T14:48:22",2,null,2,null,2]
[12,"5",2020,{"$f":"IFERROR(VLOOKUP([1]!Tabla_SERIEA_01_5[[#This Row],[IdEstablecimiento]],[2]Establecimientos!$A$1:$E$175,5,FALSE),0)","v":"04101-LA SERENA"},"200569","80106002","2021-01-18T14:48:22",291,null,291,null,291]
[12,"5",2020,{"$f":"IFERROR(VLOOKUP([1]!Tabla_SERIEA_01_5[[#This Row],[IdEstablecimiento]],[2]Establecimientos!$A$1:$E$175,5,FALSE),0)","v":"04101-LA SERENA"},"200569","80106017","2021-01-18T14:48:22",142,null,142,null,142]
[12,"5",2020,{"$f":"IFERROR(VLOOKUP([1]!Tabla_SERIEA_01_5[[#This Row],[IdEstablecimiento]],[2]Establecimientos!$A$1:$E$175,5,FALSE),0)","v":"04102-COQUIMBO"},"200569","80106014","2021-01-18T14:48:22",178,null,178,null,178]
[12,"5",2020,{"$f":"IFERROR(VLOOKUP([1]!Tabla_SERIEA_01_5[[#This Row],[IdEstablecimiento]],[2]Establecimientos!$A$1:$E$175,5,FALSE),0)","v":"04102-COQUIMBO"},"200569","80106015","2021-01-18T14:48:22",2,null,2,null,2]
[12,"5",2020,{"$f":"IFERROR(VLOOKUP([1]!Tabla_SERIEA_01_5[[#This Row],[IdEstablecimiento]],[2]Establecimientos!$A$1:$E$175,5,FALSE),0)","v":"04102-COQUIMBO"},"200569","80106022","2021-01-18T14:48:22",1,null,1,null,1]
[12,"5",2020,{"$f":"IFERROR(VLOOKUP([1]!Tabla_SERIEA_01_5[[#This Row],[IdEstablecimiento]],[2]Establecimientos!$A$1:$E$175,5,FALSE),0)","v":"04101-LA SERENA"},"200569","80106023","2021-01-18T14:48:22",1,null,1,null,1]
[12,"5",2020,{"$f":"IFERROR(VLOOKUP([1]!Tabla_SERIEA_01_5[[#This Row],[IdEstablecimiento]],[2]Establecimientos!$A$1:$E$175,5,FALSE),0)","v":"04101-LA SERENA"},"200569","80307011","2021-01-18T14:48:22",310,null,310]
[12,"5",2020,{"$f":"IFERROR(VLOOKUP([1]!Tabla_SERIEA_01_5[[#This Row],[IdEstablecimiento]],[2]Establecimientos!$A$1:$E$175,5,FALSE),0)","v":"04105-PAIHUANO"},"200569","80307012","2021-01-18T14:48:22",7,null,7]
[12,"5",2020,{"$f":"IFERROR(VLOOKUP([1]!Tabla_SERIEA_01_5[[#This Row],[IdEstablecimiento]],[2]Establecimientos!$A$1:$E$175,5,FALSE),0)","v":"04101-LA SERENA"},"200569","80500001","2021-01-18T14:48:22",2,null,2,null,2]
[12,"5",2020,{"$f":"IFERROR(VLOOKUP([1]!Tabla_SERIEA_01_5[[#This Row],[IdEstablecimiento]],[2]Establecimientos!$A$1:$E$175,5,FALSE),0)","v":"04101-LA SERENA"},"200569","80500008","2021-01-18T14:48:22",2,null,2,null,2]
[12,"5",2020,{"$f":"IFERROR(VLOOKUP([1]!Tabla_SERIEA_01_5[[#This Row],[IdEstablecimiento]],[2]Establecimientos!$A$1:$E$175,5,FALSE),0)","v":"04101-LA SERENA"},"200569","18020500","2021-01-18T14:48:22",53,0,53]
[12,"5",2020,{"$f":"IFERROR(VLOOKUP([1]!Tabla_SERIEA_01_5[[#This Row],[IdEstablecimiento]],[2]Establecimientos!$A$1:$E$175,5,FALSE),0)","v":"04101-LA SERENA"},"200569","18090000","2021-01-18T14:48:22",1,0,1]
[12,"5",2020,{"$f":"IFERROR(VLOOKUP([1]!Tabla_SERIEA_01_5[[#This Row],[IdEstablecimiento]],[2]Establecimientos!$A$1:$E$175,5,FALSE),0)","v":"105104-HOSPITAL SALAMANCA"},"200569","18050100","2021-01-18T14:48:22",291,0,291]
[12,"5",2020,{"$f":"IFERROR(VLOOKUP([1]!Tabla_SERIEA_01_5[[#This Row],[IdEstablecimiento]],[2]Establecimientos!$A$1:$E$175,5,FALSE),0)","v":"105104-HOSPITAL SALAMANCA"},"200569","18400900","2021-01-18T14:48:22",7,3,4]
[12,"5",2020,{"$f":"IFERROR(VLOOKUP([1]!Tabla_SERIEA_01_5[[#This Row],[IdEstablecimiento]],[2]Establecimientos!$A$1:$E$175,5,FALSE),0)","v":"04101-LA SERENA"},"200569","18090200","2021-01-18T14:48:22",86]
[12,"5",2020,{"$f":"IFERROR(VLOOKUP([1]!Tabla_SERIEA_01_5[[#This Row],[IdEstablecimiento]],[2]Establecimientos!$A$1:$E$175,5,FALSE),0)","v":"04101-LA SERENA"},"200569","18700100","2021-01-18T14:48:22",47,4,37,6]
[12,"5",2020,{"$f":"IFERROR(VLOOKUP([1]!Tabla_SERIEA_01_5[[#This Row],[IdEstablecimiento]],[2]Establecimientos!$A$1:$E$175,5,FALSE),0)","v":"04101-LA SERENA"},"200607","80401151","2021-01-18T14:48:46",0,null,null,37]
[12,"5",2020,{"$f":"IFERROR(VLOOKUP([1]!Tabla_SERIEA_01_5[[#This Row],[IdEstablecimiento]],[2]Establecimientos!$A$1:$E$175,5,FALSE),0)","v":"04101-LA SERENA"},"200607","80309013","2021-01-18T14:48:46",0,null,null,16]
[12,"5",2020,{"$f":"IFERROR(VLOOKUP([1]!Tabla_SERIEA_01_5[[#This Row],[IdEstablecimiento]],[2]Establecimientos!$A$1:$E$175,5,FALSE),0)","v":"04101-LA SERENA"},"200607","80309022","2021-01-18T14:48:46",0,null,null,38]
[12,"5",2020,{"$f":"IFERROR(VLOOKUP([1]!Tabla_SERIEA_01_5[[#This Row],[IdEstablecimiento]],[2]Establecimientos!$A$1:$E$175,5,FALSE),0)","v":"04101-LA SERENA"},"200607","80401070","2021-01-18T14:48:46",0,null,null,8]
[12,"5",2020,{"$f":"IFERROR(VLOOKUP([1]!Tabla_SERIEA_01_5[[#This Row],[IdEstablecimiento]],[2]Establecimientos!$A$1:$E$175,5,FALSE),0)","v":"04101-LA SERENA"},"200607","80301015","2021-01-18T14:48:46",3,null,3]
[12,"5",2020,{"$f":"IFERROR(VLOOKUP([1]!Tabla_SERIEA_01_5[[#This Row],[IdEstablecimiento]],[2]Establecimientos!$A$1:$E$175,5,FALSE),0)","v":"04101-LA SERENA"},"200607","80301034","2021-01-18T14:48:46",3,null,3]
[12,"5",2020,{"$f":"IFERROR(VLOOKUP([1]!Tabla_SERIEA_01_5[[#This Row],[IdEstablecimiento]],[2]Establecimientos!$A$1:$E$175,5,FALSE),0)","v":"04101-LA SERENA"},"200607","80301036","2021-01-18T14:48:46",0,null,null,17]
[12,"5",2020,{"$f":"IFERROR(VLOOKUP([1]!Tabla_SERIEA_01_5[[#This Row],[IdEstablecimiento]],[2]Establecimientos!$A$1:$E$175,5,FALSE),0)","v":"04101-LA SERENA"},"200607","80301038","2021-01-18T14:48:46",0,null,null,17]
[12,"5",2020,{"$f":"IFERROR(VLOOKUP([1]!Tabla_SERIEA_01_5[[#This Row],[IdEstablecimiento]],[2]Establecimientos!$A$1:$E$175,5,FALSE),0)","v":"04101-LA SERENA"},"200607","80301041","2021-01-18T14:48:46",0,null,null,17]
[12,"5",2020,{"$f":"IFERROR(VLOOKUP([1]!Tabla_SERIEA_01_5[[#This Row],[IdEstablecimiento]],[2]Establecimientos!$A$1:$E$175,5,FALSE),0)","v":"04101-LA SERENA"},"200607","80301045","2021-01-18T14:48:46",0,null,null,22]
[12,"5",2020,{"$f":"IFERROR(VLOOKUP([1]!Tabla_SERIEA_01_5[[#This Row],[IdEstablecimiento]],[2]Establecimientos!$A$1:$E$175,5,FALSE),0)","v":"04101-LA SERENA"},"200607","80404003","2021-01-18T14:48:46",0,null,null,12]
[12,"5",2020,{"$f":"IFERROR(VLOOKUP([1]!Tabla_SERIEA_01_5[[#This Row],[IdEstablecimiento]],[2]Establecimientos!$A$1:$E$175,5,FALSE),0)","v":"04101-LA SERENA"},"200607","80306059","2021-01-18T14:48:46",0,null,null,1]
[12,"5",2020,{"$f":"IFERROR(VLOOKUP([1]!Tabla_SERIEA_01_5[[#This Row],[IdEstablecimiento]],[2]Establecimientos!$A$1:$E$175,5,FALSE),0)","v":"04101-LA SERENA"},"200607","80306061","2021-01-18T14:48:46",5,null,5]
[12,"5",2020,{"$f":"IFERROR(VLOOKUP([1]!Tabla_SERIEA_01_5[[#This Row],[IdEstablecimiento]],[2]Establecimientos!$A$1:$E$175,5,FALSE),0)","v":"04101-LA SERENA"},"200607","80301059","2021-01-18T14:48:46",0,null,null,2]
[12,"5",2020,{"$f":"IFERROR(VLOOKUP([1]!Tabla_SERIEA_01_5[[#This Row],[IdEstablecimiento]],[2]Establecimientos!$A$1:$E$175,5,FALSE),0)","v":"04101-LA SERENA"},"200607","80301085","2021-01-18T14:48:46",0,null,null,2]
[12,"5",2020,{"$f":"IFERROR(VLOOKUP([1]!Tabla_SERIEA_01_5[[#This Row],[IdEstablecimiento]],[2]Establecimientos!$A$1:$E$175,5,FALSE),0)","v":"04101-LA SERENA"},"200607","80301086","2021-01-18T14:48:46",0,null,null,22]
[12,"5",2020,{"$f":"IFERROR(VLOOKUP([1]!Tabla_SERIEA_01_5[[#This Row],[IdEstablecimiento]],[2]Establecimientos!$A$1:$E$175,5,FALSE),0)","v":"04301-OVALLE"},"200607","80302005","2021-01-18T14:48:46",0,null,null,16]
[12,"5",2020,{"$f":"IFERROR(VLOOKUP([1]!Tabla_SERIEA_01_5[[#This Row],[IdEstablecimiento]],[2]Establecimientos!$A$1:$E$175,5,FALSE),0)","v":"04301-OVALLE"},"200607","81701001","2021-01-18T14:48:46",195,null,195,null,195]
[12,"5",2020,{"$f":"IFERROR(VLOOKUP([1]!Tabla_SERIEA_01_5[[#This Row],[IdEstablecimiento]],[2]Establecimientos!$A$1:$E$175,5,FALSE),0)","v":"04301-OVALLE"},"200607","80106002","2021-01-18T14:48:46",185,null,185,null,185]
[12,"5",2020,{"$f":"IFERROR(VLOOKUP([1]!Tabla_SERIEA_01_5[[#This Row],[IdEstablecimiento]],[2]Establecimientos!$A$1:$E$175,5,FALSE),0)","v":"04301-OVALLE"},"200607","80106017","2021-01-18T14:48:46",205,null,205,null,205]
[12,"5",2020,{"$f":"IFERROR(VLOOKUP([1]!Tabla_SERIEA_01_5[[#This Row],[IdEstablecimiento]],[2]Establecimientos!$A$1:$E$175,5,FALSE),0)","v":"105101-HOSPITAL COQUIMBO"},"200607","80302013","2021-01-18T14:48:46",0,null,null,2]
[12,"5",2020,{"$f":"IFERROR(VLOOKUP([1]!Tabla_SERIEA_01_5[[#This Row],[IdEstablecimiento]],[2]Establecimientos!$A$1:$E$175,5,FALSE),0)","v":"105101-HOSPITAL COQUIMBO"},"200607","80302067","2021-01-18T14:48:46",0,null,null,11]
[12,"5",2020,{"$f":"IFERROR(VLOOKUP([1]!Tabla_SERIEA_01_5[[#This Row],[IdEstablecimiento]],[2]Establecimientos!$A$1:$E$175,5,FALSE),0)","v":"105101-HOSPITAL COQUIMBO"},"200607","80302068","2021-01-18T14:48:46",0,null,null,9]
[12,"5",2020,{"$f":"IFERROR(VLOOKUP([1]!Tabla_SERIEA_01_5[[#This Row],[IdEstablecimiento]],[2]Establecimientos!$A$1:$E$175,5,FALSE),0)","v":"105107-HOSPITAL VICUÑA"},"200607","80302023","2021-01-18T14:48:46",0,null,null,19]
[12,"5",2020,{"$f":"IFERROR(VLOOKUP([1]!Tabla_SERIEA_01_5[[#This Row],[IdEstablecimiento]],[2]Establecimientos!$A$1:$E$175,5,FALSE),0)","v":"105101-HOSPITAL COQUIMBO"},"200607","80302032","2021-01-18T14:48:46",0,null,null,20]
[12,"5",2020,{"$f":"IFERROR(VLOOKUP([1]!Tabla_SERIEA_01_5[[#This Row],[IdEstablecimiento]],[2]Establecimientos!$A$1:$E$175,5,FALSE),0)","v":"105101-HOSPITAL COQUIMBO"},"200607","80302034","2021-01-18T14:48:46",0,null,null,14]
[12,"5",2020,{"$f":"IFERROR(VLOOKUP([1]!Tabla_SERIEA_01_5[[#This Row],[IdEstablecimiento]],[2]Establecimientos!$A$1:$E$175,5,FALSE),0)","v":"105101-HOSPITAL COQUIMBO"},"200607","80302040","2021-01-18T14:48:46",0,null,null,1]
[12,"5",2020,{"$f":"IFERROR(VLOOKUP([1]!Tabla_SERIEA_01_5[[#This Row],[IdEstablecimiento]],[2]Establecimientos!$A$1:$E$175,5,FALSE),0)","v":"105101-HOSPITAL COQUIMBO"},"200607","80302047","2021-01-18T14:48:46",0,null,null,32]
[12,"5",2020,{"$f":"IFERROR(VLOOKUP([1]!Tabla_SERIEA_01_5[[#This Row],[IdEstablecimiento]],[2]Establecimientos!$A$1:$E$175,5,FALSE),0)","v":"105101-HOSPITAL COQUIMBO"},"200607","80302048","2021-01-18T14:48:46",0,null,null,9]
[12,"5",2020,{"$f":"IFERROR(VLOOKUP([1]!Tabla_SERIEA_01_5[[#This Row],[IdEstablecimiento]],[2]Establecimientos!$A$1:$E$175,5,FALSE),0)","v":"105101-HOSPITAL COQUIMBO"},"200607","80302057","2021-01-18T14:48:46",0,null,null,13]
[12,"5",2020,{"$f":"IFERROR(VLOOKUP([1]!Tabla_SERIEA_01_5[[#This Row],[IdEstablecimiento]],[2]Establecimientos!$A$1:$E$175,5,FALSE),0)","v":"04301-OVALLE"},"200607","80302076","2021-01-18T14:48:46",0,null,null,1]
[12,"5",2020,{"$f":"IFERROR(VLOOKUP([1]!Tabla_SERIEA_01_5[[#This Row],[IdEstablecimiento]],[2]Establecimientos!$A$1:$E$175,5,FALSE),0)","v":"105101-HOSPITAL COQUIMBO"},"200607","80302063","2021-01-18T14:48:46",0,null,null,3]
[12,"5",2020,{"$f":"IFERROR(VLOOKUP([1]!Tabla_SERIEA_01_5[[#This Row],[IdEstablecimiento]],[2]Establecimientos!$A$1:$E$175,5,FALSE),0)","v":"04102-COQUIMBO"},"200607","80302064","2021-01-18T14:48:46",0,null,null,12]
[12,"5",2020,{"$f":"IFERROR(VLOOKUP([1]!Tabla_SERIEA_01_5[[#This Row],[IdEstablecimiento]],[2]Establecimientos!$A$1:$E$175,5,FALSE),0)","v":"105101-HOSPITAL COQUIMBO"},"200607","80303024","2021-01-18T14:48:46",0,null,null,31]
[12,"5",2020,{"$f":"IFERROR(VLOOKUP([1]!Tabla_SERIEA_01_5[[#This Row],[IdEstablecimiento]],[2]Establecimientos!$A$1:$E$175,5,FALSE),0)","v":"105101-HOSPITAL COQUIMBO"},"200607","80303026","2021-01-18T14:48:46",0,null,null,4]
[12,"5",2020,{"$f":"IFERROR(VLOOKUP([1]!Tabla_SERIEA_01_5[[#This Row],[IdEstablecimiento]],[2]Establecimientos!$A$1:$E$175,5,FALSE),0)","v":"04102-COQUIMBO"},"200607","80303028","2021-01-18T14:48:46",0,null,null,4]
[12,"5",2020,{"$f":"IFERROR(VLOOKUP([1]!Tabla_SERIEA_01_5[[#This Row],[IdEstablecimiento]],[2]Establecimientos!$A$1:$E$175,5,FALSE),0)","v":"04102-COQUIMBO"},"200607","80306011","2021-01-18T14:48:46",0,null,null,21]
[12,"5",2020,{"$f":"IFERROR(VLOOKUP([1]!Tabla_SERIEA_01_5[[#This Row],[IdEstablecimiento]],[2]Establecimientos!$A$1:$E$175,5,FALSE),0)","v":"04102-COQUIMBO"},"200607","80306016","2021-01-18T14:48:46",0,null,null,1]
[12,"5",2020,{"$f":"IFERROR(VLOOKUP([1]!Tabla_SERIEA_01_5[[#This Row],[IdEstablecimiento]],[2]Establecimientos!$A$1:$E$175,5,FALSE),0)","v":"04102-COQUIMBO"},"200607","80106014","2021-01-18T14:48:46",280,null,280,null,280]
[12,"5",2020,{"$f":"IFERROR(VLOOKUP([1]!Tabla_SERIEA_01_5[[#This Row],[IdEstablecimiento]],[2]Establecimientos!$A$1:$E$175,5,FALSE),0)","v":"04102-COQUIMBO"},"200607","80106023","2021-01-18T14:48:46",9,null,9,null,9]
[12,"5",2020,{"$f":"IFERROR(VLOOKUP([1]!Tabla_SERIEA_01_5[[#This Row],[IdEstablecimiento]],[2]Establecimientos!$A$1:$E$175,5,FALSE),0)","v":"04102-COQUIMBO"},"200607","80307011","2021-01-18T14:48:46",56,null,56]
[12,"5",2020,{"$f":"IFERROR(VLOOKUP([1]!Tabla_SERIEA_01_5[[#This Row],[IdEstablecimiento]],[2]Establecimientos!$A$1:$E$175,5,FALSE),0)","v":"105105-HOSPITAL COMBARBALÁ"},"200607","80500008","2021-01-18T14:48:46",6,null,6,null,6]
[12,"5",2020,{"$f":"IFERROR(VLOOKUP([1]!Tabla_SERIEA_01_5[[#This Row],[IdEstablecimiento]],[2]Establecimientos!$A$1:$E$175,5,FALSE),0)","v":"04305-RIO HURTADO"},"200607","80500009","2021-01-18T14:48:46",5,null,5,null,5]
[12,"5",2020,{"$f":"IFERROR(VLOOKUP([1]!Tabla_SERIEA_01_5[[#This Row],[IdEstablecimiento]],[2]Establecimientos!$A$1:$E$175,5,FALSE),0)","v":"04305-RIO HURTADO"},"200607","80500011","2021-01-18T14:48:46",27,null,27,null,27]
[12,"5",2020,{"$f":"IFERROR(VLOOKUP([1]!Tabla_SERIEA_01_5[[#This Row],[IdEstablecimiento]],[2]Establecimientos!$A$1:$E$175,5,FALSE),0)","v":"04305-RIO HURTADO"},"200607","80306042","2021-01-18T14:48:46",0,null,null,12]
[12,"5",2020,{"$f":"IFERROR(VLOOKUP([1]!Tabla_SERIEA_01_5[[#This Row],[IdEstablecimiento]],[2]Establecimientos!$A$1:$E$175,5,FALSE),0)","v":"04305-RIO HURTADO"},"200607","80305019","2021-01-18T14:48:46",0,null,null,1]
[12,"5",2020,{"$f":"IFERROR(VLOOKUP([1]!Tabla_SERIEA_01_5[[#This Row],[IdEstablecimiento]],[2]Establecimientos!$A$1:$E$175,5,FALSE),0)","v":"04305-RIO HURTADO"},"200607","18010100","2021-01-18T14:48:46",6,0,6]
[12,"5",2020,{"$f":"IFERROR(VLOOKUP([1]!Tabla_SERIEA_01_5[[#This Row],[IdEstablecimiento]],[2]Establecimientos!$A$1:$E$175,5,FALSE),0)","v":"04106-VICUÑA"},"200607","18010601","2021-01-18T14:48:46",5,0,5]
[12,"5",2020,{"$f":"IFERROR(VLOOKUP([1]!Tabla_SERIEA_01_5[[#This Row],[IdEstablecimiento]],[2]Establecimientos!$A$1:$E$175,5,FALSE),0)","v":"04106-VICUÑA"},"200607","18020500","2021-01-18T14:48:46",195,0,195]
[12,"5",2020,{"$f":"IFERROR(VLOOKUP([1]!Tabla_SERIEA_01_5[[#This Row],[IdEstablecimiento]],[2]Establecimientos!$A$1:$E$175,5,FALSE),0)","v":"04201-ILLAPEL"},"200607","18090000","2021-01-18T14:48:46",9,0,9]
[12,"5",2020,{"$f":"IFERROR(VLOOKUP([1]!Tabla_SERIEA_01_5[[#This Row],[IdEstablecimiento]],[2]Establecimientos!$A$1:$E$175,5,FALSE),0)","v":"04201-ILLAPEL"},"200607","18050100","2021-01-18T14:48:46",185,0,185]
[12,"5",2020,{"$f":"IFERROR(VLOOKUP([1]!Tabla_SERIEA_01_5[[#This Row],[IdEstablecimiento]],[2]Establecimientos!$A$1:$E$175,5,FALSE),0)","v":"04201-ILLAPEL"},"200607","18400900","2021-01-18T14:48:46",27,3,24]
[12,"5",2020,{"$f":"IFERROR(VLOOKUP([1]!Tabla_SERIEA_01_5[[#This Row],[IdEstablecimiento]],[2]Establecimientos!$A$1:$E$175,5,FALSE),0)","v":"04201-ILLAPEL"},"200607","18700100","2021-01-18T14:48:46",279,8,251,20]
[12,"5",2020,{"$f":"IFERROR(VLOOKUP([1]!Tabla_SERIEA_01_5[[#This Row],[IdEstablecimiento]],[2]Establecimientos!$A$1:$E$175,5,FALSE),0)","v":"04201-ILLAPEL"},"200721","81701001","2021-01-18T14:50:16",36,36,null,null,36]
[12,"5",2020,{"$f":"IFERROR(VLOOKUP([1]!Tabla_SERIEA_01_5[[#This Row],[IdEstablecimiento]],[2]Establecimientos!$A$1:$E$175,5,FALSE),0)","v":"04201-ILLAPEL"},"200721","81801023","2021-01-18T14:50:16",7,7,null,null,7]
[12,"5",2020,{"$f":"IFERROR(VLOOKUP([1]!Tabla_SERIEA_01_5[[#This Row],[IdEstablecimiento]],[2]Establecimientos!$A$1:$E$175,5,FALSE),0)","v":"04303-MONTE PATRIA"},"200721","81901019","2021-01-18T14:50:16",4,4,null,null,4]
[12,"5",2020,{"$f":"IFERROR(VLOOKUP([1]!Tabla_SERIEA_01_5[[#This Row],[IdEstablecimiento]],[2]Establecimientos!$A$1:$E$175,5,FALSE),0)","v":"04303-MONTE PATRIA"},"200721","81901022","2021-01-18T14:50:16",4,4,null,null,4]
[12,"5",2020,{"$f":"IFERROR(VLOOKUP([1]!Tabla_SERIEA_01_5[[#This Row],[IdEstablecimiento]],[2]Establecimientos!$A$1:$E$175,5,FALSE),0)","v":"04303-MONTE PATRIA"},"200721","81602221","2021-01-18T14:50:16",10,10,null,null,10]
[12,"5",2020,{"$f":"IFERROR(VLOOKUP([1]!Tabla_SERIEA_01_5[[#This Row],[IdEstablecimiento]],[2]Establecimientos!$A$1:$E$175,5,FALSE),0)","v":"04303-MONTE PATRIA"},"200721","81602222","2021-01-18T14:50:16",8,8,null,8]
[12,"5",2020,{"$f":"IFERROR(VLOOKUP([1]!Tabla_SERIEA_01_5[[#This Row],[IdEstablecimiento]],[2]Establecimientos!$A$1:$E$175,5,FALSE),0)","v":"04303-MONTE PATRIA"},"200721","80106002","2021-01-18T14:50:16",44,44,null,null,44]
[12,"5",2020,{"$f":"IFERROR(VLOOKUP([1]!Tabla_SERIEA_01_5[[#This Row],[IdEstablecimiento]],[2]Establecimientos!$A$1:$E$175,5,FALSE),0)","v":"04303-MONTE PATRIA"},"200721","80106005","2021-01-18T14:50:16",378,378,null,null,378]
[12,"5",2020,{"$f":"IFERROR(VLOOKUP([1]!Tabla_SERIEA_01_5[[#This Row],[IdEstablecimiento]],[2]Establecimientos!$A$1:$E$175,5,FALSE),0)","v":"04303-MONTE PATRIA"},"200721","80106017","2021-01-18T14:50:16",16,16,null,null,16]
[12,"5",2020,{"$f":"IFERROR(VLOOKUP([1]!Tabla_SERIEA_01_5[[#This Row],[IdEstablecimiento]],[2]Establecimientos!$A$1:$E$175,5,FALSE),0)","v":"04303-MONTE PATRIA"},"200721","80106007","2021-01-18T14:50:16",3,3,null,3,0]
[12,"5",2020,{"$f":"IFERROR(VLOOKUP([1]!Tabla_SERIEA_01_5[[#This Row],[IdEstablecimiento]],[2]Establecimientos!$A$1:$E$175,5,FALSE),0)","v":"04303-MONTE PATRIA"},"200721","80106008","2021-01-18T14:50:16",2,2,null,2,0]
[12,"5",2020,{"$f":"IFERROR(VLOOKUP([1]!Tabla_SERIEA_01_5[[#This Row],[IdEstablecimiento]],[2]Establecimientos!$A$1:$E$175,5,FALSE),0)","v":"04303-MONTE PATRIA"},"200721","80106013","2021-01-18T14:50:16",6,6,null,null,6]
[12,"5",2020,{"$f":"IFERROR(VLOOKUP([1]!Tabla_SERIEA_01_5[[#This Row],[IdEstablecimiento]],[2]Establecimientos!$A$1:$E$175,5,FALSE),0)","v":"04303-MONTE PATRIA"},"200721","80106014","2021-01-18T14:50:16",378,378,null,null,378]
[12,"5",2020,{"$f":"IFERROR(VLOOKUP([1]!Tabla_SERIEA_01_5[[#This Row],[IdEstablecimiento]],[2]Establecimientos!$A$1:$E$175,5,FALSE),0)","v":"04303-MONTE PATRIA"},"200721","80106015","2021-01-18T14:50:16",35,35,null,null,35]
[12,"5",2020,{"$f":"IFERROR(VLOOKUP([1]!Tabla_SERIEA_01_5[[#This Row],[IdEstablecimiento]],[2]Establecimientos!$A$1:$E$175,5,FALSE),0)","v":"04303-MONTE PATRIA"},"200721","80106022","2021-01-18T14:50:16",11,11,null,null,11]
[12,"5",2020,{"$f":"IFERROR(VLOOKUP([1]!Tabla_SERIEA_01_5[[#This Row],[IdEstablecimiento]],[2]Establecimientos!$A$1:$E$175,5,FALSE),0)","v":"04303-MONTE PATRIA"},"200721","80500011","2021-01-18T14:50:16",54,54]
[12,"5",2020,{"$f":"IFERROR(VLOOKUP([1]!Tabla_SERIEA_01_5[[#This Row],[IdEstablecimiento]],[2]Establecimientos!$A$1:$E$175,5,FALSE),0)","v":"04303-MONTE PATRIA"},"200721","18020500","2021-01-18T14:50:16",36,36,0]
[12,"5",2020,{"$f":"IFERROR(VLOOKUP([1]!Tabla_SERIEA_01_5[[#This Row],[IdEstablecimiento]],[2]Establecimientos!$A$1:$E$175,5,FALSE),0)","v":"04303-MONTE PATRIA"},"200721","18020600","2021-01-18T14:50:16",7,7,0]
[12,"5",2020,{"$f":"IFERROR(VLOOKUP([1]!Tabla_SERIEA_01_5[[#This Row],[IdEstablecimiento]],[2]Establecimientos!$A$1:$E$175,5,FALSE),0)","v":"04303-MONTE PATRIA"},"200721","18020700","2021-01-18T14:50:16",8,8,0]
[12,"5",2020,{"$f":"IFERROR(VLOOKUP([1]!Tabla_SERIEA_01_5[[#This Row],[IdEstablecimiento]],[2]Establecimientos!$A$1:$E$175,5,FALSE),0)","v":"04303-MONTE PATRIA"},"200721","18030000","2021-01-18T14:50:16",18,18,0]
[12,"5",2020,{"$f":"IFERROR(VLOOKUP([1]!Tabla_SERIEA_01_5[[#This Row],[IdEstablecimiento]],[2]Establecimientos!$A$1:$E$175,5,FALSE),0)","v":"04303-MONTE PATRIA"},"200721","18040100","2021-01-18T14:50:16",18,18]
[12,"5",2020,{"$f":"IFERROR(VLOOKUP([1]!Tabla_SERIEA_01_5[[#This Row],[IdEstablecimiento]],[2]Establecimientos!$A$1:$E$175,5,FALSE),0)","v":"04303-MONTE PATRIA"},"200721","18050100","2021-01-18T14:50:16",44,44,0]
[12,"5",2020,{"$f":"IFERROR(VLOOKUP([1]!Tabla_SERIEA_01_5[[#This Row],[IdEstablecimiento]],[2]Establecimientos!$A$1:$E$175,5,FALSE),0)","v":"105101-HOSPITAL COQUIMBO"},"200721","18050200","2021-01-18T14:50:16",378,378,0]
[12,"5",2020,{"$f":"IFERROR(VLOOKUP([1]!Tabla_SERIEA_01_5[[#This Row],[IdEstablecimiento]],[2]Establecimientos!$A$1:$E$175,5,FALSE),0)","v":"105102-HOSPITAL OVALLE"},"200737","81602221","2021-01-18T14:50:43",5,5,null,null,5]
[12,"5",2020,{"$f":"IFERROR(VLOOKUP([1]!Tabla_SERIEA_01_5[[#This Row],[IdEstablecimiento]],[2]Establecimientos!$A$1:$E$175,5,FALSE),0)","v":"105102-HOSPITAL OVALLE"},"200737","80106002","2021-01-18T14:50:43",12,12,null,null,12]
[12,"5",2020,{"$f":"IFERROR(VLOOKUP([1]!Tabla_SERIEA_01_5[[#This Row],[IdEstablecimiento]],[2]Establecimientos!$A$1:$E$175,5,FALSE),0)","v":"105108-HOSPITAL LOS VILOS"},"200737","80106010","2021-01-18T14:50:43",1,1,null,null,1]
[12,"5",2020,{"$f":"IFERROR(VLOOKUP([1]!Tabla_SERIEA_01_5[[#This Row],[IdEstablecimiento]],[2]Establecimientos!$A$1:$E$175,5,FALSE),0)","v":"105108-HOSPITAL LOS VILOS"},"200737","80106014","2021-01-18T14:50:43",72,72,null,null,72]
[12,"5",2020,{"$f":"IFERROR(VLOOKUP([1]!Tabla_SERIEA_01_5[[#This Row],[IdEstablecimiento]],[2]Establecimientos!$A$1:$E$175,5,FALSE),0)","v":"105102-HOSPITAL OVALLE"},"200737","18030000","2021-01-18T14:50:43",5,5,0]
[12,"5",2020,{"$f":"IFERROR(VLOOKUP([1]!Tabla_SERIEA_01_5[[#This Row],[IdEstablecimiento]],[2]Establecimientos!$A$1:$E$175,5,FALSE),0)","v":"105102-HOSPITAL OVALLE"},"200737","18040100","2021-01-18T14:50:43",5,null,5]
[12,"5",2020,{"$f":"IFERROR(VLOOKUP([1]!Tabla_SERIEA_01_5[[#This Row],[IdEstablecimiento]],[2]Establecimientos!$A$1:$E$175,5,FALSE),0)","v":"105102-HOSPITAL OVALLE"},"200737","18050100","2021-01-18T14:50:43",12,12,0]
[12,"5",2020,{"$f":"IFERROR(VLOOKUP([1]!Tabla_SERIEA_01_5[[#This Row],[IdEstablecimiento]],[2]Establecimientos!$A$1:$E$175,5,FALSE),0)","v":"105102-HOSPITAL OVALLE"},"200741","81701009","2021-01-18T14:51:40",2,2,null,null,2]
[12,"5",2020,{"$f":"IFERROR(VLOOKUP([1]!Tabla_SERIEA_01_5[[#This Row],[IdEstablecimiento]],[2]Establecimientos!$A$1:$E$175,5,FALSE),0)","v":"105102-HOSPITAL OVALLE"},"200741","80106002","2021-01-18T14:51:40",33,33,null,null,33]
[12,"5",2020,{"$f":"IFERROR(VLOOKUP([1]!Tabla_SERIEA_01_5[[#This Row],[IdEstablecimiento]],[2]Establecimientos!$A$1:$E$175,5,FALSE),0)","v":"105102-HOSPITAL OVALLE"},"200741","80106007","2021-01-18T14:51:40",2,2,null,null,2]
[12,"5",2020,{"$f":"IFERROR(VLOOKUP([1]!Tabla_SERIEA_01_5[[#This Row],[IdEstablecimiento]],[2]Establecimientos!$A$1:$E$175,5,FALSE),0)","v":"105108-HOSPITAL LOS VILOS"},"200741","80106014","2021-01-18T14:51:40",27,27,null,null,27]
[12,"5",2020,{"$f":"IFERROR(VLOOKUP([1]!Tabla_SERIEA_01_5[[#This Row],[IdEstablecimiento]],[2]Establecimientos!$A$1:$E$175,5,FALSE),0)","v":"105108-HOSPITAL LOS VILOS"},"200741","80106015","2021-01-18T14:51:40",4,4,null,null,4]
[12,"5",2020,{"$f":"IFERROR(VLOOKUP([1]!Tabla_SERIEA_01_5[[#This Row],[IdEstablecimiento]],[2]Establecimientos!$A$1:$E$175,5,FALSE),0)","v":"105108-HOSPITAL LOS VILOS"},"200741","18020500","2021-01-18T14:51:40",2,2,0]
[12,"5",2020,{"$f":"IFERROR(VLOOKUP([1]!Tabla_SERIEA_01_5[[#This Row],[IdEstablecimiento]],[2]Establecimientos!$A$1:$E$175,5,FALSE),0)","v":"04202-CANELA"},"200741","18050100","2021-01-18T14:51:40",33,33,0]
[12,"5",2020,{"$f":"IFERROR(VLOOKUP([1]!Tabla_SERIEA_01_5[[#This Row],[IdEstablecimiento]],[2]Establecimientos!$A$1:$E$175,5,FALSE),0)","v":"04201-ILLAPEL"},"200742","81701001","2021-01-18T14:52:04",7,7,null,null,7]
[12,"5",2020,{"$f":"IFERROR(VLOOKUP([1]!Tabla_SERIEA_01_5[[#This Row],[IdEstablecimiento]],[2]Establecimientos!$A$1:$E$175,5,FALSE),0)","v":"04201-ILLAPEL"},"200742","80106017","2021-01-18T14:52:04",2,2,null,null,2]
[12,"5",2020,{"$f":"IFERROR(VLOOKUP([1]!Tabla_SERIEA_01_5[[#This Row],[IdEstablecimiento]],[2]Establecimientos!$A$1:$E$175,5,FALSE),0)","v":"04201-ILLAPEL"},"200742","80106014","2021-01-18T14:52:04",75,75,null,null,75]
[12,"5",2020,{"$f":"IFERROR(VLOOKUP([1]!Tabla_SERIEA_01_5[[#This Row],[IdEstablecimiento]],[2]Establecimientos!$A$1:$E$175,5,FALSE),0)","v":"04201-ILLAPEL"},"200742","80106015","2021-01-18T14:52:04",6,6,null,null,6]
[12,"5",2020,{"$f":"IFERROR(VLOOKUP([1]!Tabla_SERIEA_01_5[[#This Row],[IdEstablecimiento]],[2]Establecimientos!$A$1:$E$175,5,FALSE),0)","v":"105101-HOSPITAL COQUIMBO"},"200742","80106020","2021-01-18T14:52:04",5,5,null,null,5]
[12,"5",2020,{"$f":"IFERROR(VLOOKUP([1]!Tabla_SERIEA_01_5[[#This Row],[IdEstablecimiento]],[2]Establecimientos!$A$1:$E$175,5,FALSE),0)","v":"105101-HOSPITAL COQUIMBO"},"200742","80500011","2021-01-18T14:52:04",33,33,null,null,33]
[12,"5",2020,{"$f":"IFERROR(VLOOKUP([1]!Tabla_SERIEA_01_5[[#This Row],[IdEstablecimiento]],[2]Establecimientos!$A$1:$E$175,5,FALSE),0)","v":"105101-HOSPITAL COQUIMBO"},"200742","18020500","2021-01-18T14:52:04",7,7,0]
[12,"5",2020,{"$f":"IFERROR(VLOOKUP([1]!Tabla_SERIEA_01_5[[#This Row],[IdEstablecimiento]],[2]Establecimientos!$A$1:$E$175,5,FALSE),0)","v":"04102-COQUIMBO"},"200742","18400700","2021-01-18T14:52:04",173]
[12,"5",2020,{"$f":"IFERROR(VLOOKUP([1]!Tabla_SERIEA_01_5[[#This Row],[IdEstablecimiento]],[2]Establecimientos!$A$1:$E$175,5,FALSE),0)","v":"04102-COQUIMBO"},"200848","81301025","2021-01-18T14:52:59",2,2,null,2]
[12,"5",2020,{"$f":"IFERROR(VLOOKUP([1]!Tabla_SERIEA_01_5[[#This Row],[IdEstablecimiento]],[2]Establecimientos!$A$1:$E$175,5,FALSE),0)","v":"04102-COQUIMBO"},"200848","81301043","2021-01-18T14:52:59",1,1,null,1]
[12,"5",2020,{"$f":"IFERROR(VLOOKUP([1]!Tabla_SERIEA_01_5[[#This Row],[IdEstablecimiento]],[2]Establecimientos!$A$1:$E$175,5,FALSE),0)","v":"04204-SALAMANCA"},"200848","81701001","2021-01-18T14:52:59",33,33,null,null,33]
[12,"5",2020,{"$f":"IFERROR(VLOOKUP([1]!Tabla_SERIEA_01_5[[#This Row],[IdEstablecimiento]],[2]Establecimientos!$A$1:$E$175,5,FALSE),0)","v":"04204-SALAMANCA"},"200848","80106002","2021-01-18T14:52:59",30,30,null,null,30]
[12,"5",2020,{"$f":"IFERROR(VLOOKUP([1]!Tabla_SERIEA_01_5[[#This Row],[IdEstablecimiento]],[2]Establecimientos!$A$1:$E$175,5,FALSE),0)","v":"04204-SALAMANCA"},"200848","80106017","2021-01-18T14:52:59",8,8,null,null,8]
[12,"5",2020,{"$f":"IFERROR(VLOOKUP([1]!Tabla_SERIEA_01_5[[#This Row],[IdEstablecimiento]],[2]Establecimientos!$A$1:$E$175,5,FALSE),0)","v":"04204-SALAMANCA"},"200848","80106010","2021-01-18T14:52:59",4,4,null,4]
[12,"5",2020,{"$f":"IFERROR(VLOOKUP([1]!Tabla_SERIEA_01_5[[#This Row],[IdEstablecimiento]],[2]Establecimientos!$A$1:$E$175,5,FALSE),0)","v":"04204-SALAMANCA"},"200848","80106013","2021-01-18T14:52:59",17,17,null,17]
[12,"5",2020,{"$f":"IFERROR(VLOOKUP([1]!Tabla_SERIEA_01_5[[#This Row],[IdEstablecimiento]],[2]Establecimientos!$A$1:$E$175,5,FALSE),0)","v":"04204-SALAMANCA"},"200848","80106014","2021-01-18T14:52:59",700,700,null,null,700]
[12,"5",2020,{"$f":"IFERROR(VLOOKUP([1]!Tabla_SERIEA_01_5[[#This Row],[IdEstablecimiento]],[2]Establecimientos!$A$1:$E$175,5,FALSE),0)","v":"04204-SALAMANCA"},"200848","80106015","2021-01-18T14:52:59",98,98,null,null,98]
[12,"5",2020,{"$f":"IFERROR(VLOOKUP([1]!Tabla_SERIEA_01_5[[#This Row],[IdEstablecimiento]],[2]Establecimientos!$A$1:$E$175,5,FALSE),0)","v":"04204-SALAMANCA"},"200848","80106020","2021-01-18T14:52:59",2,2,null,null,2]
[12,"5",2020,{"$f":"IFERROR(VLOOKUP([1]!Tabla_SERIEA_01_5[[#This Row],[IdEstablecimiento]],[2]Establecimientos!$A$1:$E$175,5,FALSE),0)","v":"04204-SALAMANCA"},"200848","80106022","2021-01-18T14:52:59",2,2,null,null,2]
[12,"5",2020,{"$f":"IFERROR(VLOOKUP([1]!Tabla_SERIEA_01_5[[#This Row],[IdEstablecimiento]],[2]Establecimientos!$A$1:$E$175,5,FALSE),0)","v":"04204-SALAMANCA"},"200848","80500011","2021-01-18T14:52:59",144,144,null,null,144]
[12,"5",2020,{"$f":"IFERROR(VLOOKUP([1]!Tabla_SERIEA_01_5[[#This Row],[IdEstablecimiento]],[2]Establecimientos!$A$1:$E$175,5,FALSE),0)","v":"04204-SALAMANCA"},"200848","18020200","2021-01-18T14:52:59",3,3,0]
[12,"5",2020,{"$f":"IFERROR(VLOOKUP([1]!Tabla_SERIEA_01_5[[#This Row],[IdEstablecimiento]],[2]Establecimientos!$A$1:$E$175,5,FALSE),0)","v":"04106-VICUÑA"},"200848","18020500","2021-01-18T14:52:59",33,33,0]
[12,"5",2020,{"$f":"IFERROR(VLOOKUP([1]!Tabla_SERIEA_01_5[[#This Row],[IdEstablecimiento]],[2]Establecimientos!$A$1:$E$175,5,FALSE),0)","v":"04101-LA SERENA"},"200848","18050100","2021-01-18T14:52:59",30,30,0]
[12,"5",2020,{"$f":"IFERROR(VLOOKUP([1]!Tabla_SERIEA_01_5[[#This Row],[IdEstablecimiento]],[2]Establecimientos!$A$1:$E$175,5,FALSE),0)","v":"04101-LA SERENA"},"200848","18400700","2021-01-18T14:52:59",2033]
[12,"5",2020,{"$f":"IFERROR(VLOOKUP([1]!Tabla_SERIEA_01_5[[#This Row],[IdEstablecimiento]],[2]Establecimientos!$A$1:$E$175,5,FALSE),0)","v":"04101-LA SERENA"},"200848","18090200","2021-01-18T14:52:59",14,0]
[12,"5",2020,{"$f":"IFERROR(VLOOKUP([1]!Tabla_SERIEA_01_5[[#This Row],[IdEstablecimiento]],[2]Establecimientos!$A$1:$E$175,5,FALSE),0)","v":"04101-LA SERENA"},"200848","18700100","2021-01-18T14:52:59",83,10,73]
[12,"5",2020,{"$f":"IFERROR(VLOOKUP([1]!Tabla_SERIEA_01_5[[#This Row],[IdEstablecimiento]],[2]Establecimientos!$A$1:$E$175,5,FALSE),0)","v":"04301-OVALLE"},"200928","81701001","2021-01-18T14:53:24",36,36,null,null,36]
[12,"5",2020,{"$f":"IFERROR(VLOOKUP([1]!Tabla_SERIEA_01_5[[#This Row],[IdEstablecimiento]],[2]Establecimientos!$A$1:$E$175,5,FALSE),0)","v":"04301-OVALLE"},"200928","81602221","2021-01-18T14:53:24",3,3,null,3]
[12,"5",2020,{"$f":"IFERROR(VLOOKUP([1]!Tabla_SERIEA_01_5[[#This Row],[IdEstablecimiento]],[2]Establecimientos!$A$1:$E$175,5,FALSE),0)","v":"04101-LA SERENA"},"200928","81602222","2021-01-18T14:53:24",6,6,null,6]
[12,"5",2020,{"$f":"IFERROR(VLOOKUP([1]!Tabla_SERIEA_01_5[[#This Row],[IdEstablecimiento]],[2]Establecimientos!$A$1:$E$175,5,FALSE),0)","v":"04101-LA SERENA"},"200928","80106002","2021-01-18T14:53:24",48,48,null,null,48]
[12,"5",2020,{"$f":"IFERROR(VLOOKUP([1]!Tabla_SERIEA_01_5[[#This Row],[IdEstablecimiento]],[2]Establecimientos!$A$1:$E$175,5,FALSE),0)","v":"04304-PUNITAQUI"},"200928","80106006","2021-01-18T14:53:24",1,1,null,null,1]
[12,"5",2020,{"$f":"IFERROR(VLOOKUP([1]!Tabla_SERIEA_01_5[[#This Row],[IdEstablecimiento]],[2]Establecimientos!$A$1:$E$175,5,FALSE),0)","v":"04304-PUNITAQUI"},"200928","80106017","2021-01-18T14:53:24",17,17,null,null,17]
[12,"5",2020,{"$f":"IFERROR(VLOOKUP([1]!Tabla_SERIEA_01_5[[#This Row],[IdEstablecimiento]],[2]Establecimientos!$A$1:$E$175,5,FALSE),0)","v":"04304-PUNITAQUI"},"200928","80106013","2021-01-18T14:53:24",1,1,null,null,1]
[12,"5",2020,{"$f":"IFERROR(VLOOKUP([1]!Tabla_SERIEA_01_5[[#This Row],[IdEstablecimiento]],[2]Establecimientos!$A$1:$E$175,5,FALSE),0)","v":"04304-PUNITAQUI"},"200928","80106014","2021-01-18T14:53:24",389,389,null,null,389]
[12,"5",2020,{"$f":"IFERROR(VLOOKUP([1]!Tabla_SERIEA_01_5[[#This Row],[IdEstablecimiento]],[2]Establecimientos!$A$1:$E$175,5,FALSE),0)","v":"04304-PUNITAQUI"},"200928","80106015","2021-01-18T14:53:24",109,109,null,null,109]
[12,"5",2020,{"$f":"IFERROR(VLOOKUP([1]!Tabla_SERIEA_01_5[[#This Row],[IdEstablecimiento]],[2]Establecimientos!$A$1:$E$175,5,FALSE),0)","v":"04304-PUNITAQUI"},"200928","80106020","2021-01-18T14:53:24",2,2,null,null,2]
[12,"5",2020,{"$f":"IFERROR(VLOOKUP([1]!Tabla_SERIEA_01_5[[#This Row],[IdEstablecimiento]],[2]Establecimientos!$A$1:$E$175,5,FALSE),0)","v":"04304-PUNITAQUI"},"200928","80106022","2021-01-18T14:53:24",1,1,null,null,1]
[12,"5",2020,{"$f":"IFERROR(VLOOKUP([1]!Tabla_SERIEA_01_5[[#This Row],[IdEstablecimiento]],[2]Establecimientos!$A$1:$E$175,5,FALSE),0)","v":"04102-COQUIMBO"},"200928","80500011","2021-01-18T14:53:24",111,111,null,null,111]
[12,"5",2020,{"$f":"IFERROR(VLOOKUP([1]!Tabla_SERIEA_01_5[[#This Row],[IdEstablecimiento]],[2]Establecimientos!$A$1:$E$175,5,FALSE),0)","v":"04201-ILLAPEL"},"200928","18020500","2021-01-18T14:53:24",36,36,0]
[12,"5",2020,{"$f":"IFERROR(VLOOKUP([1]!Tabla_SERIEA_01_5[[#This Row],[IdEstablecimiento]],[2]Establecimientos!$A$1:$E$175,5,FALSE),0)","v":"04201-ILLAPEL"},"200928","18030000","2021-01-18T14:53:24",9,9,0]
[12,"5",2020,{"$f":"IFERROR(VLOOKUP([1]!Tabla_SERIEA_01_5[[#This Row],[IdEstablecimiento]],[2]Establecimientos!$A$1:$E$175,5,FALSE),0)","v":"04201-ILLAPEL"},"200928","18040100","2021-01-18T14:53:24",9,1,8]
[12,"5",2020,{"$f":"IFERROR(VLOOKUP([1]!Tabla_SERIEA_01_5[[#This Row],[IdEstablecimiento]],[2]Establecimientos!$A$1:$E$175,5,FALSE),0)","v":"04101-LA SERENA"},"200928","18050100","2021-01-18T14:53:24",48,48,0]
[12,"5",2020,{"$f":"IFERROR(VLOOKUP([1]!Tabla_SERIEA_01_5[[#This Row],[IdEstablecimiento]],[2]Establecimientos!$A$1:$E$175,5,FALSE),0)","v":"105108-HOSPITAL LOS VILOS"},"200928","18050300","2021-01-18T14:53:24",1,1,0]
[12,"5",2020,{"$f":"IFERROR(VLOOKUP([1]!Tabla_SERIEA_01_5[[#This Row],[IdEstablecimiento]],[2]Establecimientos!$A$1:$E$175,5,FALSE),0)","v":"04102-COQUIMBO"},"200928","18400700","2021-01-18T14:53:24",1039]
[12,"5",2020,{"$f":"IFERROR(VLOOKUP([1]!Tabla_SERIEA_01_5[[#This Row],[IdEstablecimiento]],[2]Establecimientos!$A$1:$E$175,5,FALSE),0)","v":"105104-HOSPITAL SALAMANCA"},"200928","18700100","2021-01-18T14:53:24",128,22,96,10]
[12,"5",2020,{"$f":"IFERROR(VLOOKUP([1]!Tabla_SERIEA_01_5[[#This Row],[IdEstablecimiento]],[2]Establecimientos!$A$1:$E$175,5,FALSE),0)","v":"04101-LA SERENA"},"105306","80309013","2021-01-18T15:22:50",0,null,null,59]
[12,"5",2020,{"$f":"IFERROR(VLOOKUP([1]!Tabla_SERIEA_01_5[[#This Row],[IdEstablecimiento]],[2]Establecimientos!$A$1:$E$175,5,FALSE),0)","v":"04101-LA SERENA"},"105306","80309022","2021-01-18T15:22:50",0,null,null,132]
[12,"5",2020,{"$f":"IFERROR(VLOOKUP([1]!Tabla_SERIEA_01_5[[#This Row],[IdEstablecimiento]],[2]Establecimientos!$A$1:$E$175,5,FALSE),0)","v":"04101-LA SERENA"},"105306","80309024","2021-01-18T15:22:50",0,null,null,1]
[12,"5",2020,{"$f":"IFERROR(VLOOKUP([1]!Tabla_SERIEA_01_5[[#This Row],[IdEstablecimiento]],[2]Establecimientos!$A$1:$E$175,5,FALSE),0)","v":"04101-LA SERENA"},"105306","80309028","2021-01-18T15:22:50",0,null,null,14]
[12,"5",2020,{"$f":"IFERROR(VLOOKUP([1]!Tabla_SERIEA_01_5[[#This Row],[IdEstablecimiento]],[2]Establecimientos!$A$1:$E$175,5,FALSE),0)","v":"04101-LA SERENA"},"105306","80301014","2021-01-18T15:22:50",0,null,null,1]
[12,"5",2020,{"$f":"IFERROR(VLOOKUP([1]!Tabla_SERIEA_01_5[[#This Row],[IdEstablecimiento]],[2]Establecimientos!$A$1:$E$175,5,FALSE),0)","v":"105104-HOSPITAL SALAMANCA"},"105306","80301015","2021-01-18T15:22:50",0,null,null,1]
[12,"5",2020,{"$f":"IFERROR(VLOOKUP([1]!Tabla_SERIEA_01_5[[#This Row],[IdEstablecimiento]],[2]Establecimientos!$A$1:$E$175,5,FALSE),0)","v":"105104-HOSPITAL SALAMANCA"},"105306","80301034","2021-01-18T15:22:50",0,null,null,2]
[12,"5",2020,{"$f":"IFERROR(VLOOKUP([1]!Tabla_SERIEA_01_5[[#This Row],[IdEstablecimiento]],[2]Establecimientos!$A$1:$E$175,5,FALSE),0)","v":"105102-HOSPITAL OVALLE"},"105306","80301041","2021-01-18T15:22:50",0,null,null,37]
[12,"5",2020,{"$f":"IFERROR(VLOOKUP([1]!Tabla_SERIEA_01_5[[#This Row],[IdEstablecimiento]],[2]Establecimientos!$A$1:$E$175,5,FALSE),0)","v":"04201-ILLAPEL"},"105306","80301045","2021-01-18T15:22:50",0,null,null,131]
[12,"5",2020,{"$f":"IFERROR(VLOOKUP([1]!Tabla_SERIEA_01_5[[#This Row],[IdEstablecimiento]],[2]Establecimientos!$A$1:$E$175,5,FALSE),0)","v":"04201-ILLAPEL"},"105306","80306061","2021-01-18T15:22:50",0,null,null,4]
[12,"5",2020,{"$f":"IFERROR(VLOOKUP([1]!Tabla_SERIEA_01_5[[#This Row],[IdEstablecimiento]],[2]Establecimientos!$A$1:$E$175,5,FALSE),0)","v":"04201-ILLAPEL"},"105306","80301059","2021-01-18T15:22:50",0,null,null,23]
[12,"5",2020,{"$f":"IFERROR(VLOOKUP([1]!Tabla_SERIEA_01_5[[#This Row],[IdEstablecimiento]],[2]Establecimientos!$A$1:$E$175,5,FALSE),0)","v":"04201-ILLAPEL"},"105306","80301085","2021-01-18T15:22:50",0,null,null,23]
[12,"5",2020,{"$f":"IFERROR(VLOOKUP([1]!Tabla_SERIEA_01_5[[#This Row],[IdEstablecimiento]],[2]Establecimientos!$A$1:$E$175,5,FALSE),0)","v":"04201-ILLAPEL"},"105306","80302005","2021-01-18T15:22:50",0,null,null,21]
[12,"5",2020,{"$f":"IFERROR(VLOOKUP([1]!Tabla_SERIEA_01_5[[#This Row],[IdEstablecimiento]],[2]Establecimientos!$A$1:$E$175,5,FALSE),0)","v":"04201-ILLAPEL"},"105306","80302008","2021-01-18T15:22:50",0,null,null,2]
[12,"5",2020,{"$f":"IFERROR(VLOOKUP([1]!Tabla_SERIEA_01_5[[#This Row],[IdEstablecimiento]],[2]Establecimientos!$A$1:$E$175,5,FALSE),0)","v":"04201-ILLAPEL"},"105306","81701001","2021-01-18T15:22:50",15,null,15,null,15]
[12,"5",2020,{"$f":"IFERROR(VLOOKUP([1]!Tabla_SERIEA_01_5[[#This Row],[IdEstablecimiento]],[2]Establecimientos!$A$1:$E$175,5,FALSE),0)","v":"04105-PAIHUANO"},"105306","81602221","2021-01-18T15:22:50",2,null,2,null,2]
[12,"5",2020,{"$f":"IFERROR(VLOOKUP([1]!Tabla_SERIEA_01_5[[#This Row],[IdEstablecimiento]],[2]Establecimientos!$A$1:$E$175,5,FALSE),0)","v":"04202-CANELA"},"105306","80106002","2021-01-18T15:22:50",6,null,6,null,6]
[12,"5",2020,{"$f":"IFERROR(VLOOKUP([1]!Tabla_SERIEA_01_5[[#This Row],[IdEstablecimiento]],[2]Establecimientos!$A$1:$E$175,5,FALSE),0)","v":"04105-PAIHUANO"},"105306","80302013","2021-01-18T15:22:50",0,null,null,1]
[12,"5",2020,{"$f":"IFERROR(VLOOKUP([1]!Tabla_SERIEA_01_5[[#This Row],[IdEstablecimiento]],[2]Establecimientos!$A$1:$E$175,5,FALSE),0)","v":"04105-PAIHUANO"},"105306","80302015","2021-01-18T15:22:50",0,null,null,22]
[12,"5",2020,{"$f":"IFERROR(VLOOKUP([1]!Tabla_SERIEA_01_5[[#This Row],[IdEstablecimiento]],[2]Establecimientos!$A$1:$E$175,5,FALSE),0)","v":"04302-COMBARBALÁ"},"105306","80302067","2021-01-18T15:22:50",0,null,null,3]
[12,"5",2020,{"$f":"IFERROR(VLOOKUP([1]!Tabla_SERIEA_01_5[[#This Row],[IdEstablecimiento]],[2]Establecimientos!$A$1:$E$175,5,FALSE),0)","v":"04302-COMBARBALÁ"},"105306","80302023","2021-01-18T15:22:50",0,null,null,111]
[12,"5",2020,{"$f":"IFERROR(VLOOKUP([1]!Tabla_SERIEA_01_5[[#This Row],[IdEstablecimiento]],[2]Establecimientos!$A$1:$E$175,5,FALSE),0)","v":"04302-COMBARBALÁ"},"105306","80302026","2021-01-18T15:22:50",0,null,null,1]
[12,"5",2020,{"$f":"IFERROR(VLOOKUP([1]!Tabla_SERIEA_01_5[[#This Row],[IdEstablecimiento]],[2]Establecimientos!$A$1:$E$175,5,FALSE),0)","v":"105105-HOSPITAL COMBARBALÁ"},"105306","80302030","2021-01-18T15:22:50",0,null,null,1]
[12,"5",2020,{"$f":"IFERROR(VLOOKUP([1]!Tabla_SERIEA_01_5[[#This Row],[IdEstablecimiento]],[2]Establecimientos!$A$1:$E$175,5,FALSE),0)","v":"105105-HOSPITAL COMBARBALÁ"},"105306","80302032","2021-01-18T15:22:50",0,null,null,65]
[12,"5",2020,{"$f":"IFERROR(VLOOKUP([1]!Tabla_SERIEA_01_5[[#This Row],[IdEstablecimiento]],[2]Establecimientos!$A$1:$E$175,5,FALSE),0)","v":"105105-HOSPITAL COMBARBALÁ"},"105306","80302034","2021-01-18T15:22:50",0,null,null,112]
[12,"5",2020,{"$f":"IFERROR(VLOOKUP([1]!Tabla_SERIEA_01_5[[#This Row],[IdEstablecimiento]],[2]Establecimientos!$A$1:$E$175,5,FALSE),0)","v":"04104-LA HIGUERA"},"105306","80302042","2021-01-18T15:22:50",0,null,null,3]
[12,"5",2020,{"$f":"IFERROR(VLOOKUP([1]!Tabla_SERIEA_01_5[[#This Row],[IdEstablecimiento]],[2]Establecimientos!$A$1:$E$175,5,FALSE),0)","v":"105101-HOSPITAL COQUIMBO"},"105306","80302047","2021-01-18T15:22:50",0,null,null,107]
[12,"5",2020,{"$f":"IFERROR(VLOOKUP([1]!Tabla_SERIEA_01_5[[#This Row],[IdEstablecimiento]],[2]Establecimientos!$A$1:$E$175,5,FALSE),0)","v":"105101-HOSPITAL COQUIMBO"},"105306","80302048","2021-01-18T15:22:50",0,null,null,9]
[12,"5",2020,{"$f":"IFERROR(VLOOKUP([1]!Tabla_SERIEA_01_5[[#This Row],[IdEstablecimiento]],[2]Establecimientos!$A$1:$E$175,5,FALSE),0)","v":"105106-HOSPITAL ANDACOLLO"},"105306","80302057","2021-01-18T15:22:50",0,null,null,79]
[12,"5",2020,{"$f":"IFERROR(VLOOKUP([1]!Tabla_SERIEA_01_5[[#This Row],[IdEstablecimiento]],[2]Establecimientos!$A$1:$E$175,5,FALSE),0)","v":"105106-HOSPITAL ANDACOLLO"},"105306","80302059","2021-01-18T15:22:50",0,null,null,4]
[12,"5",2020,{"$f":"IFERROR(VLOOKUP([1]!Tabla_SERIEA_01_5[[#This Row],[IdEstablecimiento]],[2]Establecimientos!$A$1:$E$175,5,FALSE),0)","v":"105101-HOSPITAL COQUIMBO"},"105306","80302060","2021-01-18T15:22:50",0,null,null,7]
[12,"5",2020,{"$f":"IFERROR(VLOOKUP([1]!Tabla_SERIEA_01_5[[#This Row],[IdEstablecimiento]],[2]Establecimientos!$A$1:$E$175,5,FALSE),0)","v":"105101-HOSPITAL COQUIMBO"},"105306","80302076","2021-01-18T15:22:50",0,null,null,111]
[12,"5",2020,{"$f":"IFERROR(VLOOKUP([1]!Tabla_SERIEA_01_5[[#This Row],[IdEstablecimiento]],[2]Establecimientos!$A$1:$E$175,5,FALSE),0)","v":"105101-HOSPITAL COQUIMBO"},"105306","80302064","2021-01-18T15:22:50",0,null,null,5]
[12,"5",2020,{"$f":"IFERROR(VLOOKUP([1]!Tabla_SERIEA_01_5[[#This Row],[IdEstablecimiento]],[2]Establecimientos!$A$1:$E$175,5,FALSE),0)","v":"105101-HOSPITAL COQUIMBO"},"105306","80303024","2021-01-18T15:22:50",0,null,null,41]
[12,"5",2020,{"$f":"IFERROR(VLOOKUP([1]!Tabla_SERIEA_01_5[[#This Row],[IdEstablecimiento]],[2]Establecimientos!$A$1:$E$175,5,FALSE),0)","v":"105101-HOSPITAL COQUIMBO"},"105306","80303026","2021-01-18T15:22:50",0,null,null,35]
[12,"5",2020,{"$f":"IFERROR(VLOOKUP([1]!Tabla_SERIEA_01_5[[#This Row],[IdEstablecimiento]],[2]Establecimientos!$A$1:$E$175,5,FALSE),0)","v":"04101-LA SERENA"},"105306","80306011","2021-01-18T15:22:50",0,null,null,23]
[12,"5",2020,{"$f":"IFERROR(VLOOKUP([1]!Tabla_SERIEA_01_5[[#This Row],[IdEstablecimiento]],[2]Establecimientos!$A$1:$E$175,5,FALSE),0)","v":"04101-LA SERENA"},"105306","80106013","2021-01-18T15:22:50",1,null,1,null,1]
[12,"5",2020,{"$f":"IFERROR(VLOOKUP([1]!Tabla_SERIEA_01_5[[#This Row],[IdEstablecimiento]],[2]Establecimientos!$A$1:$E$175,5,FALSE),0)","v":"04101-LA SERENA"},"105306","80106014","2021-01-18T15:22:50",28,null,28,null,28]
[12,"5",2020,{"$f":"IFERROR(VLOOKUP([1]!Tabla_SERIEA_01_5[[#This Row],[IdEstablecimiento]],[2]Establecimientos!$A$1:$E$175,5,FALSE),0)","v":"105105-HOSPITAL COMBARBALÁ"},"105306","80106015","2021-01-18T15:22:50",2,null,2,null,2]
[12,"5",2020,{"$f":"IFERROR(VLOOKUP([1]!Tabla_SERIEA_01_5[[#This Row],[IdEstablecimiento]],[2]Establecimientos!$A$1:$E$175,5,FALSE),0)","v":"105108-HOSPITAL LOS VILOS"},"105306","80106022","2021-01-18T15:22:50",1,null,1,null,1]
[12,"5",2020,{"$f":"IFERROR(VLOOKUP([1]!Tabla_SERIEA_01_5[[#This Row],[IdEstablecimiento]],[2]Establecimientos!$A$1:$E$175,5,FALSE),0)","v":"105108-HOSPITAL LOS VILOS"},"105306","80307011","2021-01-18T15:22:50",193,null,193]
[12,"5",2020,{"$f":"IFERROR(VLOOKUP([1]!Tabla_SERIEA_01_5[[#This Row],[IdEstablecimiento]],[2]Establecimientos!$A$1:$E$175,5,FALSE),0)","v":"105108-HOSPITAL LOS VILOS"},"105306","80307012","2021-01-18T15:22:50",5,null,5]
[12,"5",2020,{"$f":"IFERROR(VLOOKUP([1]!Tabla_SERIEA_01_5[[#This Row],[IdEstablecimiento]],[2]Establecimientos!$A$1:$E$175,5,FALSE),0)","v":"105108-HOSPITAL LOS VILOS"},"105306","80306042","2021-01-18T15:22:50",0,null,null,15]
[12,"5",2020,{"$f":"IFERROR(VLOOKUP([1]!Tabla_SERIEA_01_5[[#This Row],[IdEstablecimiento]],[2]Establecimientos!$A$1:$E$175,5,FALSE),0)","v":"04101-LA SERENA"},"105306","80305070","2021-01-18T15:22:50",0,null,null,12]
[12,"5",2020,{"$f":"IFERROR(VLOOKUP([1]!Tabla_SERIEA_01_5[[#This Row],[IdEstablecimiento]],[2]Establecimientos!$A$1:$E$175,5,FALSE),0)","v":"04101-LA SERENA"},"105306","80305019","2021-01-18T15:22:50",0,null,null,8]
[12,"5",2020,{"$f":"IFERROR(VLOOKUP([1]!Tabla_SERIEA_01_5[[#This Row],[IdEstablecimiento]],[2]Establecimientos!$A$1:$E$175,5,FALSE),0)","v":"04101-LA SERENA"},"105306","80305030","2021-01-18T15:22:50",0,null,null,14]
[12,"5",2020,{"$f":"IFERROR(VLOOKUP([1]!Tabla_SERIEA_01_5[[#This Row],[IdEstablecimiento]],[2]Establecimientos!$A$1:$E$175,5,FALSE),0)","v":"04301-OVALLE"},"105306","18020500","2021-01-18T15:22:50",15,0,15]
[12,"5",2020,{"$f":"IFERROR(VLOOKUP([1]!Tabla_SERIEA_01_5[[#This Row],[IdEstablecimiento]],[2]Establecimientos!$A$1:$E$175,5,FALSE),0)","v":"04303-MONTE PATRIA"},"105306","18030000","2021-01-18T15:22:50",2,0,2]
[12,"5",2020,{"$f":"IFERROR(VLOOKUP([1]!Tabla_SERIEA_01_5[[#This Row],[IdEstablecimiento]],[2]Establecimientos!$A$1:$E$175,5,FALSE),0)","v":"04303-MONTE PATRIA"},"105306","18040200","2021-01-18T15:22:50",2,null,2]
[12,"5",2020,{"$f":"IFERROR(VLOOKUP([1]!Tabla_SERIEA_01_5[[#This Row],[IdEstablecimiento]],[2]Establecimientos!$A$1:$E$175,5,FALSE),0)","v":"04303-MONTE PATRIA"},"105306","18050100","2021-01-18T15:22:50",6,0,6]
[12,"5",2020,{"$f":"IFERROR(VLOOKUP([1]!Tabla_SERIEA_01_5[[#This Row],[IdEstablecimiento]],[2]Establecimientos!$A$1:$E$175,5,FALSE),0)","v":"04303-MONTE PATRIA"},"105306","18400700","2021-01-18T15:22:50",1012]
[12,"5",2020,{"$f":"IFERROR(VLOOKUP([1]!Tabla_SERIEA_01_5[[#This Row],[IdEstablecimiento]],[2]Establecimientos!$A$1:$E$175,5,FALSE),0)","v":"04303-MONTE PATRIA"},"105306","18700100","2021-01-18T15:22:50",150,6,129,15]
[12,"5",2020,{"$f":"IFERROR(VLOOKUP([1]!Tabla_SERIEA_01_5[[#This Row],[IdEstablecimiento]],[2]Establecimientos!$A$1:$E$175,5,FALSE),0)","v":"04201-ILLAPEL"},"105315","81701001","2021-01-18T15:23:14",1,null,1]
[12,"5",2020,{"$f":"IFERROR(VLOOKUP([1]!Tabla_SERIEA_01_5[[#This Row],[IdEstablecimiento]],[2]Establecimientos!$A$1:$E$175,5,FALSE),0)","v":"04201-ILLAPEL"},"105315","80106002","2021-01-18T15:23:14",63,null,63]
[12,"5",2020,{"$f":"IFERROR(VLOOKUP([1]!Tabla_SERIEA_01_5[[#This Row],[IdEstablecimiento]],[2]Establecimientos!$A$1:$E$175,5,FALSE),0)","v":"04301-OVALLE"},"105315","80106017","2021-01-18T15:23:14",58,null,58]
[12,"5",2020,{"$f":"IFERROR(VLOOKUP([1]!Tabla_SERIEA_01_5[[#This Row],[IdEstablecimiento]],[2]Establecimientos!$A$1:$E$175,5,FALSE),0)","v":"105108-HOSPITAL LOS VILOS"},"105315","80106014","2021-01-18T15:23:14",37,null,37]
[12,"5",2020,{"$f":"IFERROR(VLOOKUP([1]!Tabla_SERIEA_01_5[[#This Row],[IdEstablecimiento]],[2]Establecimientos!$A$1:$E$175,5,FALSE),0)","v":"105108-HOSPITAL LOS VILOS"},"105315","80106015","2021-01-18T15:23:14",4,null,4]
[12,"5",2020,{"$f":"IFERROR(VLOOKUP([1]!Tabla_SERIEA_01_5[[#This Row],[IdEstablecimiento]],[2]Establecimientos!$A$1:$E$175,5,FALSE),0)","v":"105108-HOSPITAL LOS VILOS"},"105315","80106022","2021-01-18T15:23:14",8,null,8]
[12,"5",2020,{"$f":"IFERROR(VLOOKUP([1]!Tabla_SERIEA_01_5[[#This Row],[IdEstablecimiento]],[2]Establecimientos!$A$1:$E$175,5,FALSE),0)","v":"04101-LA SERENA"},"105315","80307011","2021-01-18T15:23:14",161,null,161]
[12,"5",2020,{"$f":"IFERROR(VLOOKUP([1]!Tabla_SERIEA_01_5[[#This Row],[IdEstablecimiento]],[2]Establecimientos!$A$1:$E$175,5,FALSE),0)","v":"04303-MONTE PATRIA"},"105315","80307012","2021-01-18T15:23:14",2,null,2]
[12,"5",2020,{"$f":"IFERROR(VLOOKUP([1]!Tabla_SERIEA_01_5[[#This Row],[IdEstablecimiento]],[2]Establecimientos!$A$1:$E$175,5,FALSE),0)","v":"04303-MONTE PATRIA"},"105315","80500008","2021-01-18T15:23:14",1,null,1,null,1]
[12,"5",2020,{"$f":"IFERROR(VLOOKUP([1]!Tabla_SERIEA_01_5[[#This Row],[IdEstablecimiento]],[2]Establecimientos!$A$1:$E$175,5,FALSE),0)","v":"04302-COMBARBALÁ"},"105315","80500009","2021-01-18T15:23:14",3,null,3,null,3]
[12,"5",2020,{"$f":"IFERROR(VLOOKUP([1]!Tabla_SERIEA_01_5[[#This Row],[IdEstablecimiento]],[2]Establecimientos!$A$1:$E$175,5,FALSE),0)","v":"105102-HOSPITAL OVALLE"},"105315","80500011","2021-01-18T15:23:14",1,null,1]
[12,"5",2020,{"$f":"IFERROR(VLOOKUP([1]!Tabla_SERIEA_01_5[[#This Row],[IdEstablecimiento]],[2]Establecimientos!$A$1:$E$175,5,FALSE),0)","v":"105102-HOSPITAL OVALLE"},"105315","18020500","2021-01-18T15:23:14",1,0,1]
[12,"5",2020,{"$f":"IFERROR(VLOOKUP([1]!Tabla_SERIEA_01_5[[#This Row],[IdEstablecimiento]],[2]Establecimientos!$A$1:$E$175,5,FALSE),0)","v":"105102-HOSPITAL OVALLE"},"105315","18050100","2021-01-18T15:23:14",63,0,63]
[12,"5",2020,{"$f":"IFERROR(VLOOKUP([1]!Tabla_SERIEA_01_5[[#This Row],[IdEstablecimiento]],[2]Establecimientos!$A$1:$E$175,5,FALSE),0)","v":"105102-HOSPITAL OVALLE"},"105315","18070100","2021-01-18T15:23:14",24,5,19]
[12,"5",2020,{"$f":"IFERROR(VLOOKUP([1]!Tabla_SERIEA_01_5[[#This Row],[IdEstablecimiento]],[2]Establecimientos!$A$1:$E$175,5,FALSE),0)","v":"105102-HOSPITAL OVALLE"},"105407","80106002","2021-01-18T15:25:10",4,null,4,null,4]
[12,"5",2020,{"$f":"IFERROR(VLOOKUP([1]!Tabla_SERIEA_01_5[[#This Row],[IdEstablecimiento]],[2]Establecimientos!$A$1:$E$175,5,FALSE),0)","v":"04302-COMBARBALÁ"},"105407","80106013","2021-01-18T15:25:10",1,null,1,null,1]
[12,"5",2020,{"$f":"IFERROR(VLOOKUP([1]!Tabla_SERIEA_01_5[[#This Row],[IdEstablecimiento]],[2]Establecimientos!$A$1:$E$175,5,FALSE),0)","v":"04302-COMBARBALÁ"},"105407","80106014","2021-01-18T15:25:10",19,null,19,null,19]
[12,"5",2020,{"$f":"IFERROR(VLOOKUP([1]!Tabla_SERIEA_01_5[[#This Row],[IdEstablecimiento]],[2]Establecimientos!$A$1:$E$175,5,FALSE),0)","v":"04302-COMBARBALÁ"},"105407","80500011","2021-01-18T15:25:10",10,10,null,null,10]
[12,"5",2020,{"$f":"IFERROR(VLOOKUP([1]!Tabla_SERIEA_01_5[[#This Row],[IdEstablecimiento]],[2]Establecimientos!$A$1:$E$175,5,FALSE),0)","v":"04301-OVALLE"},"105407","18050100","2021-01-18T15:25:10",4,0,4]
[12,"5",2020,{"$f":"IFERROR(VLOOKUP([1]!Tabla_SERIEA_01_5[[#This Row],[IdEstablecimiento]],[2]Establecimientos!$A$1:$E$175,5,FALSE),0)","v":"04303-MONTE PATRIA"},"105413","80309023","2021-01-18T15:25:55",4,null,4]
[12,"5",2020,{"$f":"IFERROR(VLOOKUP([1]!Tabla_SERIEA_01_5[[#This Row],[IdEstablecimiento]],[2]Establecimientos!$A$1:$E$175,5,FALSE),0)","v":"04303-MONTE PATRIA"},"105413","81701001","2021-01-18T15:25:55",27,null,27,null,27]
[12,"5",2020,{"$f":"IFERROR(VLOOKUP([1]!Tabla_SERIEA_01_5[[#This Row],[IdEstablecimiento]],[2]Establecimientos!$A$1:$E$175,5,FALSE),0)","v":"105102-HOSPITAL OVALLE"},"105413","80106002","2021-01-18T15:25:55",5,null,5,null,5]
[12,"5",2020,{"$f":"IFERROR(VLOOKUP([1]!Tabla_SERIEA_01_5[[#This Row],[IdEstablecimiento]],[2]Establecimientos!$A$1:$E$175,5,FALSE),0)","v":"105102-HOSPITAL OVALLE"},"105413","80106013","2021-01-18T15:25:55",2,null,2,null,2]
[12,"5",2020,{"$f":"IFERROR(VLOOKUP([1]!Tabla_SERIEA_01_5[[#This Row],[IdEstablecimiento]],[2]Establecimientos!$A$1:$E$175,5,FALSE),0)","v":"04303-MONTE PATRIA"},"105413","80106014","2021-01-18T15:25:55",24,null,24,null,24]
[12,"5",2020,{"$f":"IFERROR(VLOOKUP([1]!Tabla_SERIEA_01_5[[#This Row],[IdEstablecimiento]],[2]Establecimientos!$A$1:$E$175,5,FALSE),0)","v":"105105-HOSPITAL COMBARBALÁ"},"105413","80106015","2021-01-18T15:25:55",2,null,2,null,2]
[12,"5",2020,{"$f":"IFERROR(VLOOKUP([1]!Tabla_SERIEA_01_5[[#This Row],[IdEstablecimiento]],[2]Establecimientos!$A$1:$E$175,5,FALSE),0)","v":"105105-HOSPITAL COMBARBALÁ"},"105413","80106020","2021-01-18T15:25:55",1,null,1,null,1]
[12,"5",2020,{"$f":"IFERROR(VLOOKUP([1]!Tabla_SERIEA_01_5[[#This Row],[IdEstablecimiento]],[2]Establecimientos!$A$1:$E$175,5,FALSE),0)","v":"105105-HOSPITAL COMBARBALÁ"},"105413","80307011","2021-01-18T15:25:55",62,null,62]
[12,"5",2020,{"$f":"IFERROR(VLOOKUP([1]!Tabla_SERIEA_01_5[[#This Row],[IdEstablecimiento]],[2]Establecimientos!$A$1:$E$175,5,FALSE),0)","v":"105102-HOSPITAL OVALLE"},"105413","80500011","2021-01-18T15:25:55",2,null,2,null,2]
[12,"5",2020,{"$f":"IFERROR(VLOOKUP([1]!Tabla_SERIEA_01_5[[#This Row],[IdEstablecimiento]],[2]Establecimientos!$A$1:$E$175,5,FALSE),0)","v":"105104-HOSPITAL SALAMANCA"},"105413","80500014","2021-01-18T15:25:55",1,null,1,null,1]
[12,"5",2020,{"$f":"IFERROR(VLOOKUP([1]!Tabla_SERIEA_01_5[[#This Row],[IdEstablecimiento]],[2]Establecimientos!$A$1:$E$175,5,FALSE),0)","v":"105100-HOSPITAL LA SERENA"},"105413","18010900","2021-01-18T15:25:55",4,0,4]
[12,"5",2020,{"$f":"IFERROR(VLOOKUP([1]!Tabla_SERIEA_01_5[[#This Row],[IdEstablecimiento]],[2]Establecimientos!$A$1:$E$175,5,FALSE),0)","v":"105100-HOSPITAL LA SERENA"},"105413","18020500","2021-01-18T15:25:55",27,0,27]
[12,"5",2020,{"$f":"IFERROR(VLOOKUP([1]!Tabla_SERIEA_01_5[[#This Row],[IdEstablecimiento]],[2]Establecimientos!$A$1:$E$175,5,FALSE),0)","v":"105107-HOSPITAL VICUÑA"},"105413","18050100","2021-01-18T15:25:55",5,0,5]
[12,"5",2020,{"$f":"IFERROR(VLOOKUP([1]!Tabla_SERIEA_01_5[[#This Row],[IdEstablecimiento]],[2]Establecimientos!$A$1:$E$175,5,FALSE),0)","v":"105107-HOSPITAL VICUÑA"},"105413","18070300","2021-01-18T15:25:55",18,{"$nulls":4},11,7]
[12,"5",2020,{"$f":"IFERROR(VLOOKUP([1]!Tabla_SERIEA_01_5[[#This Row],[IdEstablecimiento]],[2]Establecimientos!$A$1:$E$175,5,FALSE),0)","v":"105107-HOSPITAL VICUÑA"},"105455","81701001","2021-01-18T15:26:28",5,null,5]
[12,"5",2020,{"$f":"IFERROR(VLOOKUP([1]!Tabla_SERIEA_01_5[[#This Row],[IdEstablecimiento]],[2]Establecimientos!$A$1:$E$175,5,FALSE),0)","v":"105100-HOSPITAL LA SERENA"},"105455","81602222","2021-01-18T15:26:28",4,null,4]
[12,"5",2020,{"$f":"IFERROR(VLOOKUP([1]!Tabla_SERIEA_01_5[[#This Row],[IdEstablecimiento]],[2]Establecimientos!$A$1:$E$175,5,FALSE),0)","v":"04301-OVALLE"},"105455","81602231","2021-01-18T15:26:28",1,null,1]
[12,"5",2020,{"$f":"IFERROR(VLOOKUP([1]!Tabla_SERIEA_01_5[[#This Row],[IdEstablecimiento]],[2]Establecimientos!$A$1:$E$175,5,FALSE),0)","v":"105106-HOSPITAL ANDACOLLO"},"105455","80106002","2021-01-18T15:26:28",29,null,29]
[12,"5",2020,{"$f":"IFERROR(VLOOKUP([1]!Tabla_SERIEA_01_5[[#This Row],[IdEstablecimiento]],[2]Establecimientos!$A$1:$E$175,5,FALSE),0)","v":"105106-HOSPITAL ANDACOLLO"},"105455","80106008","2021-01-18T15:26:28",2,null,2]
[12,"5",2020,{"$f":"IFERROR(VLOOKUP([1]!Tabla_SERIEA_01_5[[#This Row],[IdEstablecimiento]],[2]Establecimientos!$A$1:$E$175,5,FALSE),0)","v":"105106-HOSPITAL ANDACOLLO"},"105455","80106015","2021-01-18T15:26:28",2,null,2]
[12,"5",2020,{"$f":"IFERROR(VLOOKUP([1]!Tabla_SERIEA_01_5[[#This Row],[IdEstablecimiento]],[2]Establecimientos!$A$1:$E$175,5,FALSE),0)","v":"105106-HOSPITAL ANDACOLLO"},"105455","80106022","2021-01-18T15:26:28",1,null,1]
[12,"5",2020,{"$f":"IFERROR(VLOOKUP([1]!Tabla_SERIEA_01_5[[#This Row],[IdEstablecimiento]],[2]Establecimientos!$A$1:$E$175,5,FALSE),0)","v":"105106-HOSPITAL ANDACOLLO"},"105455","80106023","2021-01-18T15:26:28",6,null,6]
[12,"5",2020,{"$f":"IFERROR(VLOOKUP([1]!Tabla_SERIEA_01_5[[#This Row],[IdEstablecimiento]],[2]Establecimientos!$A$1:$E$175,5,FALSE),0)","v":"105106-HOSPITAL ANDACOLLO"},"105455","18700230","2021-01-18T15:26:28",3,null,3,null,3,null,3]
[12,"5",2020,{"$f":"IFERROR(VLOOKUP([1]!Tabla_SERIEA_01_5[[#This Row],[IdEstablecimiento]],[2]Establecimientos!$A$1:$E$175,5,FALSE),0)","v":"105106-HOSPITAL ANDACOLLO"},"105455","18020500","2021-01-18T15:26:28",5,0,5]
[12,"5",2020,{"$f":"IFERROR(VLOOKUP([1]!Tabla_SERIEA_01_5[[#This Row],[IdEstablecimiento]],[2]Establecimientos!$A$1:$E$175,5,FALSE),0)","v":"04303-MONTE PATRIA"},"105455","18030000","2021-01-18T15:26:28",5,0,5]
[12,"5",2020,{"$f":"IFERROR(VLOOKUP([1]!Tabla_SERIEA_01_5[[#This Row],[IdEstablecimiento]],[2]Establecimientos!$A$1:$E$175,5,FALSE),0)","v":"105104-HOSPITAL SALAMANCA"},"105455","18040200","2021-01-18T15:26:28",5,1,4]
[12,"5",2020,{"$f":"IFERROR(VLOOKUP([1]!Tabla_SERIEA_01_5[[#This Row],[IdEstablecimiento]],[2]Establecimientos!$A$1:$E$175,5,FALSE),0)","v":"04303-MONTE PATRIA"},"105455","18090000","2021-01-18T15:26:28",6,0,6]
[12,"5",2020,{"$f":"IFERROR(VLOOKUP([1]!Tabla_SERIEA_01_5[[#This Row],[IdEstablecimiento]],[2]Establecimientos!$A$1:$E$175,5,FALSE),0)","v":"04303-MONTE PATRIA"},"105455","18050100","2021-01-18T15:26:28",29,0,29]
[12,"5",2020,{"$f":"IFERROR(VLOOKUP([1]!Tabla_SERIEA_01_5[[#This Row],[IdEstablecimiento]],[2]Establecimientos!$A$1:$E$175,5,FALSE),0)","v":"04303-MONTE PATRIA"},"105455","18700100","2021-01-18T15:26:28",26,3,19,4]
[12,"5",2020,{"$f":"IFERROR(VLOOKUP([1]!Tabla_SERIEA_01_5[[#This Row],[IdEstablecimiento]],[2]Establecimientos!$A$1:$E$175,5,FALSE),0)","v":"04303-MONTE PATRIA"},"105466","80301041","2021-01-18T15:26:55",17,null,17,17]
[12,"5",2020,{"$f":"IFERROR(VLOOKUP([1]!Tabla_SERIEA_01_5[[#This Row],[IdEstablecimiento]],[2]Establecimientos!$A$1:$E$175,5,FALSE),0)","v":"04104-LA HIGUERA"},"105466","80106002","2021-01-18T15:26:55",4,null,4,null,4]
[12,"5",2020,{"$f":"IFERROR(VLOOKUP([1]!Tabla_SERIEA_01_5[[#This Row],[IdEstablecimiento]],[2]Establecimientos!$A$1:$E$175,5,FALSE),0)","v":"04104-LA HIGUERA"},"105466","80106014","2021-01-18T15:26:55",16,null,16,null,16]
[12,"5",2020,{"$f":"IFERROR(VLOOKUP([1]!Tabla_SERIEA_01_5[[#This Row],[IdEstablecimiento]],[2]Establecimientos!$A$1:$E$175,5,FALSE),0)","v":"04101-LA SERENA"},"105466","80106023","2021-01-18T15:26:55",11,null,11,null,11]
[12,"5",2020,{"$f":"IFERROR(VLOOKUP([1]!Tabla_SERIEA_01_5[[#This Row],[IdEstablecimiento]],[2]Establecimientos!$A$1:$E$175,5,FALSE),0)","v":"04101-LA SERENA"},"105466","80307011","2021-01-18T15:26:55",19,null,19]
[12,"5",2020,{"$f":"IFERROR(VLOOKUP([1]!Tabla_SERIEA_01_5[[#This Row],[IdEstablecimiento]],[2]Establecimientos!$A$1:$E$175,5,FALSE),0)","v":"04101-LA SERENA"},"105466","18010100","2021-01-18T15:26:55",17,0,17]
[12,"5",2020,{"$f":"IFERROR(VLOOKUP([1]!Tabla_SERIEA_01_5[[#This Row],[IdEstablecimiento]],[2]Establecimientos!$A$1:$E$175,5,FALSE),0)","v":"04101-LA SERENA"},"105466","18090000","2021-01-18T15:26:55",11,0,11]
[12,"5",2020,{"$f":"IFERROR(VLOOKUP([1]!Tabla_SERIEA_01_5[[#This Row],[IdEstablecimiento]],[2]Establecimientos!$A$1:$E$175,5,FALSE),0)","v":"04101-LA SERENA"},"105466","18050100","2021-01-18T15:26:55",4,0,4]
[12,"5",2020,{"$f":"IFERROR(VLOOKUP([1]!Tabla_SERIEA_01_5[[#This Row],[IdEstablecimiento]],[2]Establecimientos!$A$1:$E$175,5,FALSE),0)","v":"04101-LA SERENA"},"105472","80309013","2021-01-18T15:27:27",0,null,null,16]
[12,"5",2020,{"$f":"IFERROR(VLOOKUP([1]!Tabla_SERIEA_01_5[[#This Row],[IdEstablecimiento]],[2]Establecimientos!$A$1:$E$175,5,FALSE),0)","v":"04101-LA SERENA"},"105472","80309022","2021-01-18T15:27:27",0,null,null,7]
[12,"5",2020,{"$f":"IFERROR(VLOOKUP([1]!Tabla_SERIEA_01_5[[#This Row],[IdEstablecimiento]],[2]Establecimientos!$A$1:$E$175,5,FALSE),0)","v":"04301-OVALLE"},"105472","80309024","2021-01-18T15:27:27",0,null,null,17]
[12,"5",2020,{"$f":"IFERROR(VLOOKUP([1]!Tabla_SERIEA_01_5[[#This Row],[IdEstablecimiento]],[2]Establecimientos!$A$1:$E$175,5,FALSE),0)","v":"04301-OVALLE"},"105472","80301041","2021-01-18T15:27:27",0,null,null,18]
[12,"5",2020,{"$f":"IFERROR(VLOOKUP([1]!Tabla_SERIEA_01_5[[#This Row],[IdEstablecimiento]],[2]Establecimientos!$A$1:$E$175,5,FALSE),0)","v":"04204-SALAMANCA"},"105472","80301045","2021-01-18T15:27:27",0,null,null,12]
[12,"5",2020,{"$f":"IFERROR(VLOOKUP([1]!Tabla_SERIEA_01_5[[#This Row],[IdEstablecimiento]],[2]Establecimientos!$A$1:$E$175,5,FALSE),0)","v":"04204-SALAMANCA"},"105472","80301059","2021-01-18T15:27:27",0,null,null,1]
[12,"5",2020,{"$f":"IFERROR(VLOOKUP([1]!Tabla_SERIEA_01_5[[#This Row],[IdEstablecimiento]],[2]Establecimientos!$A$1:$E$175,5,FALSE),0)","v":"04202-CANELA"},"105472","80301085","2021-01-18T15:27:27",0,null,null,1]
[12,"5",2020,{"$f":"IFERROR(VLOOKUP([1]!Tabla_SERIEA_01_5[[#This Row],[IdEstablecimiento]],[2]Establecimientos!$A$1:$E$175,5,FALSE),0)","v":"04201-ILLAPEL"},"105472","80302005","2021-01-18T15:27:27",0,null,null,2]
[12,"5",2020,{"$f":"IFERROR(VLOOKUP([1]!Tabla_SERIEA_01_5[[#This Row],[IdEstablecimiento]],[2]Establecimientos!$A$1:$E$175,5,FALSE),0)","v":"04201-ILLAPEL"},"105472","81701001","2021-01-18T15:27:27",2,null,2,null,2]
[12,"5",2020,{"$f":"IFERROR(VLOOKUP([1]!Tabla_SERIEA_01_5[[#This Row],[IdEstablecimiento]],[2]Establecimientos!$A$1:$E$175,5,FALSE),0)","v":"04201-ILLAPEL"},"105472","81701009","2021-01-18T15:27:27",6,null,6,null,6]
[12,"5",2020,{"$f":"IFERROR(VLOOKUP([1]!Tabla_SERIEA_01_5[[#This Row],[IdEstablecimiento]],[2]Establecimientos!$A$1:$E$175,5,FALSE),0)","v":"04201-ILLAPEL"},"105472","81602221","2021-01-18T15:27:27",1,null,1,null,1]
[12,"5",2020,{"$f":"IFERROR(VLOOKUP([1]!Tabla_SERIEA_01_5[[#This Row],[IdEstablecimiento]],[2]Establecimientos!$A$1:$E$175,5,FALSE),0)","v":"04201-ILLAPEL"},"105472","80106002","2021-01-18T15:27:27",18,null,18,null,18]
[12,"5",2020,{"$f":"IFERROR(VLOOKUP([1]!Tabla_SERIEA_01_5[[#This Row],[IdEstablecimiento]],[2]Establecimientos!$A$1:$E$175,5,FALSE),0)","v":"04201-ILLAPEL"},"105472","80302023","2021-01-18T15:27:27",0,null,null,17]
[12,"5",2020,{"$f":"IFERROR(VLOOKUP([1]!Tabla_SERIEA_01_5[[#This Row],[IdEstablecimiento]],[2]Establecimientos!$A$1:$E$175,5,FALSE),0)","v":"04301-OVALLE"},"105472","80302032","2021-01-18T15:27:27",0,null,null,17]
[12,"5",2020,{"$f":"IFERROR(VLOOKUP([1]!Tabla_SERIEA_01_5[[#This Row],[IdEstablecimiento]],[2]Establecimientos!$A$1:$E$175,5,FALSE),0)","v":"04301-OVALLE"},"105472","80302034","2021-01-18T15:27:27",0,null,null,16]
[12,"5",2020,{"$f":"IFERROR(VLOOKUP([1]!Tabla_SERIEA_01_5[[#This Row],[IdEstablecimiento]],[2]Establecimientos!$A$1:$E$175,5,FALSE),0)","v":"04301-OVALLE"},"105472","80302047","2021-01-18T15:27:27",0,null,null,16]
[12,"5",2020,{"$f":"IFERROR(VLOOKUP([1]!Tabla_SERIEA_01_5[[#This Row],[IdEstablecimiento]],[2]Establecimientos!$A$1:$E$175,5,FALSE),0)","v":"04301-OVALLE"},"105472","80302057","2021-01-18T15:27:27",0,null,null,13]
[12,"5",2020,{"$f":"IFERROR(VLOOKUP([1]!Tabla_SERIEA_01_5[[#This Row],[IdEstablecimiento]],[2]Establecimientos!$A$1:$E$175,5,FALSE),0)","v":"04301-OVALLE"},"105472","80302076","2021-01-18T15:27:27",0,null,null,12]
[12,"5",2020,{"$f":"IFERROR(VLOOKUP([1]!Tabla_SERIEA_01_5[[#This Row],[IdEstablecimiento]],[2]Establecimientos!$A$1:$E$175,5,FALSE),0)","v":"04301-OVALLE"},"105472","80303024","2021-01-18T15:27:27",0,null,null,11]
[12,"5",2020,{"$f":"IFERROR(VLOOKUP([1]!Tabla_SERIEA_01_5[[#This Row],[IdEstablecimiento]],[2]Establecimientos!$A$1:$E$175,5,FALSE),0)","v":"04301-OVALLE"},"105472","80303026","2021-01-18T15:27:27",0,null,null,5]
[12,"5",2020,{"$f":"IFERROR(VLOOKUP([1]!Tabla_SERIEA_01_5[[#This Row],[IdEstablecimiento]],[2]Establecimientos!$A$1:$E$175,5,FALSE),0)","v":"04301-OVALLE"},"105472","80106014","2021-01-18T15:27:27",45,null,45,null,45]
[12,"5",2020,{"$f":"IFERROR(VLOOKUP([1]!Tabla_SERIEA_01_5[[#This Row],[IdEstablecimiento]],[2]Establecimientos!$A$1:$E$175,5,FALSE),0)","v":"04301-OVALLE"},"105472","80106023","2021-01-18T15:27:27",21,null,21,null,21]
[12,"5",2020,{"$f":"IFERROR(VLOOKUP([1]!Tabla_SERIEA_01_5[[#This Row],[IdEstablecimiento]],[2]Establecimientos!$A$1:$E$175,5,FALSE),0)","v":"04301-OVALLE"},"105472","80307011","2021-01-18T15:27:27",0,null,null,17]
[12,"5",2020,{"$f":"IFERROR(VLOOKUP([1]!Tabla_SERIEA_01_5[[#This Row],[IdEstablecimiento]],[2]Establecimientos!$A$1:$E$175,5,FALSE),0)","v":"04301-OVALLE"},"105472","80500011","2021-01-18T15:27:27",12,null,12,null,12]
[12,"5",2020,{"$f":"IFERROR(VLOOKUP([1]!Tabla_SERIEA_01_5[[#This Row],[IdEstablecimiento]],[2]Establecimientos!$A$1:$E$175,5,FALSE),0)","v":"04301-OVALLE"},"105472","80305019","2021-01-18T15:27:27",0,null,null,1]
[12,"5",2020,{"$f":"IFERROR(VLOOKUP([1]!Tabla_SERIEA_01_5[[#This Row],[IdEstablecimiento]],[2]Establecimientos!$A$1:$E$175,5,FALSE),0)","v":"04301-OVALLE"},"105472","18020500","2021-01-18T15:27:27",8,0,8]
[12,"5",2020,{"$f":"IFERROR(VLOOKUP([1]!Tabla_SERIEA_01_5[[#This Row],[IdEstablecimiento]],[2]Establecimientos!$A$1:$E$175,5,FALSE),0)","v":"04301-OVALLE"},"105472","18030000","2021-01-18T15:27:27",1,0,1]
[12,"5",2020,{"$f":"IFERROR(VLOOKUP([1]!Tabla_SERIEA_01_5[[#This Row],[IdEstablecimiento]],[2]Establecimientos!$A$1:$E$175,5,FALSE),0)","v":"04301-OVALLE"},"105472","18040200","2021-01-18T15:27:27",1,null,1]
[12,"5",2020,{"$f":"IFERROR(VLOOKUP([1]!Tabla_SERIEA_01_5[[#This Row],[IdEstablecimiento]],[2]Establecimientos!$A$1:$E$175,5,FALSE),0)","v":"04101-LA SERENA"},"105472","18090000","2021-01-18T15:27:27",21,0,21]
[12,"5",2020,{"$f":"IFERROR(VLOOKUP([1]!Tabla_SERIEA_01_5[[#This Row],[IdEstablecimiento]],[2]Establecimientos!$A$1:$E$175,5,FALSE),0)","v":"04101-LA SERENA"},"105472","18050100","2021-01-18T15:27:27",18,0,18]
[12,"5",2020,{"$f":"IFERROR(VLOOKUP([1]!Tabla_SERIEA_01_5[[#This Row],[IdEstablecimiento]],[2]Establecimientos!$A$1:$E$175,5,FALSE),0)","v":"04101-LA SERENA"},"105475","80106002","2021-01-18T15:27:55",19,null,19,null,19]
[12,"5",2020,{"$f":"IFERROR(VLOOKUP([1]!Tabla_SERIEA_01_5[[#This Row],[IdEstablecimiento]],[2]Establecimientos!$A$1:$E$175,5,FALSE),0)","v":"04101-LA SERENA"},"105475","80106007","2021-01-18T15:27:55",1,null,1,null,1]
[12,"5",2020,{"$f":"IFERROR(VLOOKUP([1]!Tabla_SERIEA_01_5[[#This Row],[IdEstablecimiento]],[2]Establecimientos!$A$1:$E$175,5,FALSE),0)","v":"04101-LA SERENA"},"105475","80106010","2021-01-18T15:27:55",2,null,2,null,2]
[12,"5",2020,{"$f":"IFERROR(VLOOKUP([1]!Tabla_SERIEA_01_5[[#This Row],[IdEstablecimiento]],[2]Establecimientos!$A$1:$E$175,5,FALSE),0)","v":"04101-LA SERENA"},"105475","80106014","2021-01-18T15:27:55",28,null,28,null,28]
[12,"5",2020,{"$f":"IFERROR(VLOOKUP([1]!Tabla_SERIEA_01_5[[#This Row],[IdEstablecimiento]],[2]Establecimientos!$A$1:$E$175,5,FALSE),0)","v":"04101-LA SERENA"},"105475","80106015","2021-01-18T15:27:55",2,null,2,null,2]
[12,"5",2020,{"$f":"IFERROR(VLOOKUP([1]!Tabla_SERIEA_01_5[[#This Row],[IdEstablecimiento]],[2]Establecimientos!$A$1:$E$175,5,FALSE),0)","v":"04102-COQUIMBO"},"105475","80307011","2021-01-18T15:27:55",47,null,47]
[12,"5",2020,{"$f":"IFERROR(VLOOKUP([1]!Tabla_SERIEA_01_5[[#This Row],[IdEstablecimiento]],[2]Establecimientos!$A$1:$E$175,5,FALSE),0)","v":"04102-COQUIMBO"},"105475","18050100","2021-01-18T15:27:55",19,0,19]
[12,"5",2020,{"$f":"IFERROR(VLOOKUP([1]!Tabla_SERIEA_01_5[[#This Row],[IdEstablecimiento]],[2]Establecimientos!$A$1:$E$175,5,FALSE),0)","v":"04102-COQUIMBO"},"105475","18400700","2021-01-18T15:27:55",38]
[12,"5",2020,{"$f":"IFERROR(VLOOKUP([1]!Tabla_SERIEA_01_5[[#This Row],[IdEstablecimiento]],[2]Establecimientos!$A$1:$E$175,5,FALSE),0)","v":"105102-HOSPITAL OVALLE"},"105478","80309013","2021-01-18T15:28:19",0,null,null,16]
[12,"5",2020,{"$f":"IFERROR(VLOOKUP([1]!Tabla_SERIEA_01_5[[#This Row],[IdEstablecimiento]],[2]Establecimientos!$A$1:$E$175,5,FALSE),0)","v":"105102-HOSPITAL OVALLE"},"105478","80309022","2021-01-18T15:28:19",0,null,null,17]
[12,"5",2020,{"$f":"IFERROR(VLOOKUP([1]!Tabla_SERIEA_01_5[[#This Row],[IdEstablecimiento]],[2]Establecimientos!$A$1:$E$175,5,FALSE),0)","v":"105102-HOSPITAL OVALLE"},"105478","80301041","2021-01-18T15:28:19",0,null,null,10]
[12,"5",2020,{"$f":"IFERROR(VLOOKUP([1]!Tabla_SERIEA_01_5[[#This Row],[IdEstablecimiento]],[2]Establecimientos!$A$1:$E$175,5,FALSE),0)","v":"105102-HOSPITAL OVALLE"},"105478","80301045","2021-01-18T15:28:19",0,null,null,14]
[12,"5",2020,{"$f":"IFERROR(VLOOKUP([1]!Tabla_SERIEA_01_5[[#This Row],[IdEstablecimiento]],[2]Establecimientos!$A$1:$E$175,5,FALSE),0)","v":"105102-HOSPITAL OVALLE"},"105478","80301059","2021-01-18T15:28:19",0,null,null,1]
[12,"5",2020,{"$f":"IFERROR(VLOOKUP([1]!Tabla_SERIEA_01_5[[#This Row],[IdEstablecimiento]],[2]Establecimientos!$A$1:$E$175,5,FALSE),0)","v":"105102-HOSPITAL OVALLE"},"105478","80301085","2021-01-18T15:28:19",0,null,null,1]
[12,"5",2020,{"$f":"IFERROR(VLOOKUP([1]!Tabla_SERIEA_01_5[[#This Row],[IdEstablecimiento]],[2]Establecimientos!$A$1:$E$175,5,FALSE),0)","v":"04106-VICUÑA"},"105478","80301086","2021-01-18T15:28:19",0,null,null,1]
[12,"5",2020,{"$f":"IFERROR(VLOOKUP([1]!Tabla_SERIEA_01_5[[#This Row],[IdEstablecimiento]],[2]Establecimientos!$A$1:$E$175,5,FALSE),0)","v":"04106-VICUÑA"},"105478","80302005","2021-01-18T15:28:19",0,null,null,3]
[12,"5",2020,{"$f":"IFERROR(VLOOKUP([1]!Tabla_SERIEA_01_5[[#This Row],[IdEstablecimiento]],[2]Establecimientos!$A$1:$E$175,5,FALSE),0)","v":"04106-VICUÑA"},"105478","81701009","2021-01-18T15:28:19",31,null,31,null,31]
[12,"5",2020,{"$f":"IFERROR(VLOOKUP([1]!Tabla_SERIEA_01_5[[#This Row],[IdEstablecimiento]],[2]Establecimientos!$A$1:$E$175,5,FALSE),0)","v":"04106-VICUÑA"},"105478","80106002","2021-01-18T15:28:19",13,null,13,null,13]
[12,"5",2020,{"$f":"IFERROR(VLOOKUP([1]!Tabla_SERIEA_01_5[[#This Row],[IdEstablecimiento]],[2]Establecimientos!$A$1:$E$175,5,FALSE),0)","v":"04106-VICUÑA"},"105478","80302023","2021-01-18T15:28:19",0,null,null,21]
[12,"5",2020,{"$f":"IFERROR(VLOOKUP([1]!Tabla_SERIEA_01_5[[#This Row],[IdEstablecimiento]],[2]Establecimientos!$A$1:$E$175,5,FALSE),0)","v":"04106-VICUÑA"},"105478","80302032","2021-01-18T15:28:19",0,null,null,14]
[12,"5",2020,{"$f":"IFERROR(VLOOKUP([1]!Tabla_SERIEA_01_5[[#This Row],[IdEstablecimiento]],[2]Establecimientos!$A$1:$E$175,5,FALSE),0)","v":"04106-VICUÑA"},"105478","80302034","2021-01-18T15:28:19",0,null,null,21]
[12,"5",2020,{"$f":"IFERROR(VLOOKUP([1]!Tabla_SERIEA_01_5[[#This Row],[IdEstablecimiento]],[2]Establecimientos!$A$1:$E$175,5,FALSE),0)","v":"105102-HOSPITAL OVALLE"},"105478","80302047","2021-01-18T15:28:19",0,null,null,21]
[12,"5",2020,{"$f":"IFERROR(VLOOKUP([1]!Tabla_SERIEA_01_5[[#This Row],[IdEstablecimiento]],[2]Establecimientos!$A$1:$E$175,5,FALSE),0)","v":"04106-VICUÑA"},"105478","80302057","2021-01-18T15:28:19",0,null,null,19]
[12,"5",2020,{"$f":"IFERROR(VLOOKUP([1]!Tabla_SERIEA_01_5[[#This Row],[IdEstablecimiento]],[2]Establecimientos!$A$1:$E$175,5,FALSE),0)","v":"04106-VICUÑA"},"105478","80302075","2021-01-18T15:28:19",0,null,null,1]
[12,"5",2020,{"$f":"IFERROR(VLOOKUP([1]!Tabla_SERIEA_01_5[[#This Row],[IdEstablecimiento]],[2]Establecimientos!$A$1:$E$175,5,FALSE),0)","v":"04106-VICUÑA"},"105478","80302076","2021-01-18T15:28:19",0,null,null,9]
[12,"5",2020,{"$f":"IFERROR(VLOOKUP([1]!Tabla_SERIEA_01_5[[#This Row],[IdEstablecimiento]],[2]Establecimientos!$A$1:$E$175,5,FALSE),0)","v":"105107-HOSPITAL VICUÑA"},"105478","80303024","2021-01-18T15:28:19",0,null,null,12]
[12,"5",2020,{"$f":"IFERROR(VLOOKUP([1]!Tabla_SERIEA_01_5[[#This Row],[IdEstablecimiento]],[2]Establecimientos!$A$1:$E$175,5,FALSE),0)","v":"105107-HOSPITAL VICUÑA"},"105478","80303026","2021-01-18T15:28:19",0,null,null,10]
[12,"5",2020,{"$f":"IFERROR(VLOOKUP([1]!Tabla_SERIEA_01_5[[#This Row],[IdEstablecimiento]],[2]Establecimientos!$A$1:$E$175,5,FALSE),0)","v":"105107-HOSPITAL VICUÑA"},"105478","80106014","2021-01-18T15:28:19",28,null,28,null,28]
[12,"5",2020,{"$f":"IFERROR(VLOOKUP([1]!Tabla_SERIEA_01_5[[#This Row],[IdEstablecimiento]],[2]Establecimientos!$A$1:$E$175,5,FALSE),0)","v":"105107-HOSPITAL VICUÑA"},"105478","80307011","2021-01-18T15:28:19",14,null,14]
[12,"5",2020,{"$f":"IFERROR(VLOOKUP([1]!Tabla_SERIEA_01_5[[#This Row],[IdEstablecimiento]],[2]Establecimientos!$A$1:$E$175,5,FALSE),0)","v":"04201-ILLAPEL"},"105478","80305070","2021-01-18T15:28:19",0,null,null,1]
[12,"5",2020,{"$f":"IFERROR(VLOOKUP([1]!Tabla_SERIEA_01_5[[#This Row],[IdEstablecimiento]],[2]Establecimientos!$A$1:$E$175,5,FALSE),0)","v":"04201-ILLAPEL"},"105478","80305019","2021-01-18T15:28:19",0,null,null,1]
[12,"5",2020,{"$f":"IFERROR(VLOOKUP([1]!Tabla_SERIEA_01_5[[#This Row],[IdEstablecimiento]],[2]Establecimientos!$A$1:$E$175,5,FALSE),0)","v":"04201-ILLAPEL"},"105478","18020500","2021-01-18T15:28:19",31,0,31]
[12,"5",2020,{"$f":"IFERROR(VLOOKUP([1]!Tabla_SERIEA_01_5[[#This Row],[IdEstablecimiento]],[2]Establecimientos!$A$1:$E$175,5,FALSE),0)","v":"04201-ILLAPEL"},"105478","18050100","2021-01-18T15:28:19",13,0,13]
[12,"5",2020,{"$f":"IFERROR(VLOOKUP([1]!Tabla_SERIEA_01_5[[#This Row],[IdEstablecimiento]],[2]Establecimientos!$A$1:$E$175,5,FALSE),0)","v":"04201-ILLAPEL"},"105479","80309013","2021-01-18T15:28:46",0,null,null,24]
[12,"5",2020,{"$f":"IFERROR(VLOOKUP([1]!Tabla_SERIEA_01_5[[#This Row],[IdEstablecimiento]],[2]Establecimientos!$A$1:$E$175,5,FALSE),0)","v":"04201-ILLAPEL"},"105479","80309022","2021-01-18T15:28:46",0,null,null,32]
[12,"5",2020,{"$f":"IFERROR(VLOOKUP([1]!Tabla_SERIEA_01_5[[#This Row],[IdEstablecimiento]],[2]Establecimientos!$A$1:$E$175,5,FALSE),0)","v":"04201-ILLAPEL"},"105479","80301041","2021-01-18T15:28:46",0,null,null,5]
[12,"5",2020,{"$f":"IFERROR(VLOOKUP([1]!Tabla_SERIEA_01_5[[#This Row],[IdEstablecimiento]],[2]Establecimientos!$A$1:$E$175,5,FALSE),0)","v":"04201-ILLAPEL"},"105479","80301045","2021-01-18T15:28:46",0,null,null,12]
[12,"5",2020,{"$f":"IFERROR(VLOOKUP([1]!Tabla_SERIEA_01_5[[#This Row],[IdEstablecimiento]],[2]Establecimientos!$A$1:$E$175,5,FALSE),0)","v":"04201-ILLAPEL"},"105479","80301059","2021-01-18T15:28:46",0,null,null,3]
[12,"5",2020,{"$f":"IFERROR(VLOOKUP([1]!Tabla_SERIEA_01_5[[#This Row],[IdEstablecimiento]],[2]Establecimientos!$A$1:$E$175,5,FALSE),0)","v":"04106-VICUÑA"},"105479","80301085","2021-01-18T15:28:46",0,null,null,3]
[12,"5",2020,{"$f":"IFERROR(VLOOKUP([1]!Tabla_SERIEA_01_5[[#This Row],[IdEstablecimiento]],[2]Establecimientos!$A$1:$E$175,5,FALSE),0)","v":"04106-VICUÑA"},"105479","80302005","2021-01-18T15:28:46",0,null,null,24]
[12,"5",2020,{"$f":"IFERROR(VLOOKUP([1]!Tabla_SERIEA_01_5[[#This Row],[IdEstablecimiento]],[2]Establecimientos!$A$1:$E$175,5,FALSE),0)","v":"04305-RIO HURTADO"},"105479","80302067","2021-01-18T15:28:46",0,null,null,3]
[12,"5",2020,{"$f":"IFERROR(VLOOKUP([1]!Tabla_SERIEA_01_5[[#This Row],[IdEstablecimiento]],[2]Establecimientos!$A$1:$E$175,5,FALSE),0)","v":"105107-HOSPITAL VICUÑA"},"105479","80302023","2021-01-18T15:28:46",0,null,null,31]
[12,"5",2020,{"$f":"IFERROR(VLOOKUP([1]!Tabla_SERIEA_01_5[[#This Row],[IdEstablecimiento]],[2]Establecimientos!$A$1:$E$175,5,FALSE),0)","v":"105107-HOSPITAL VICUÑA"},"105479","80302032","2021-01-18T15:28:46",0,null,null,4]
[12,"5",2020,{"$f":"IFERROR(VLOOKUP([1]!Tabla_SERIEA_01_5[[#This Row],[IdEstablecimiento]],[2]Establecimientos!$A$1:$E$175,5,FALSE),0)","v":"105107-HOSPITAL VICUÑA"},"105479","80302034","2021-01-18T15:28:46",0,null,null,30]
[12,"5",2020,{"$f":"IFERROR(VLOOKUP([1]!Tabla_SERIEA_01_5[[#This Row],[IdEstablecimiento]],[2]Establecimientos!$A$1:$E$175,5,FALSE),0)","v":"105107-HOSPITAL VICUÑA"},"105479","80302047","2021-01-18T15:28:46",0,null,null,32]
[12,"5",2020,{"$f":"IFERROR(VLOOKUP([1]!Tabla_SERIEA_01_5[[#This Row],[IdEstablecimiento]],[2]Establecimientos!$A$1:$E$175,5,FALSE),0)","v":"04305-RIO HURTADO"},"105479","80302057","2021-01-18T15:28:46",0,null,null,27]
[12,"5",2020,{"$f":"IFERROR(VLOOKUP([1]!Tabla_SERIEA_01_5[[#This Row],[IdEstablecimiento]],[2]Establecimientos!$A$1:$E$175,5,FALSE),0)","v":"04101-LA SERENA"},"105479","80302075","2021-01-18T15:28:46",0,null,null,2]
[12,"5",2020,{"$f":"IFERROR(VLOOKUP([1]!Tabla_SERIEA_01_5[[#This Row],[IdEstablecimiento]],[2]Establecimientos!$A$1:$E$175,5,FALSE),0)","v":"04101-LA SERENA"},"105479","80302060","2021-01-18T15:28:46",0,null,null,3]
[12,"5",2020,{"$f":"IFERROR(VLOOKUP([1]!Tabla_SERIEA_01_5[[#This Row],[IdEstablecimiento]],[2]Establecimientos!$A$1:$E$175,5,FALSE),0)","v":"04101-LA SERENA"},"105479","80302076","2021-01-18T15:28:46",0,null,null,5]
[12,"5",2020,{"$f":"IFERROR(VLOOKUP([1]!Tabla_SERIEA_01_5[[#This Row],[IdEstablecimiento]],[2]Establecimientos!$A$1:$E$175,5,FALSE),0)","v":"04101-LA SERENA"},"105479","80302064","2021-01-18T15:28:46",0,null,null,1]
[12,"5",2020,{"$f":"IFERROR(VLOOKUP([1]!Tabla_SERIEA_01_5[[#This Row],[IdEstablecimiento]],[2]Establecimientos!$A$1:$E$175,5,FALSE),0)","v":"04101-LA SERENA"},"105479","80303024","2021-01-18T15:28:46",0,null,null,17]
[12,"5",2020,{"$f":"IFERROR(VLOOKUP([1]!Tabla_SERIEA_01_5[[#This Row],[IdEstablecimiento]],[2]Establecimientos!$A$1:$E$175,5,FALSE),0)","v":"04102-COQUIMBO"},"105479","80303026","2021-01-18T15:28:46",0,null,null,4]
[12,"5",2020,{"$f":"IFERROR(VLOOKUP([1]!Tabla_SERIEA_01_5[[#This Row],[IdEstablecimiento]],[2]Establecimientos!$A$1:$E$175,5,FALSE),0)","v":"04201-ILLAPEL"},"105479","80303028","2021-01-18T15:28:46",0,null,null,1]
[12,"5",2020,{"$f":"IFERROR(VLOOKUP([1]!Tabla_SERIEA_01_5[[#This Row],[IdEstablecimiento]],[2]Establecimientos!$A$1:$E$175,5,FALSE),0)","v":"04201-ILLAPEL"},"105479","80306011","2021-01-18T15:28:46",0,null,null,8]
[12,"5",2020,{"$f":"IFERROR(VLOOKUP([1]!Tabla_SERIEA_01_5[[#This Row],[IdEstablecimiento]],[2]Establecimientos!$A$1:$E$175,5,FALSE),0)","v":"04301-OVALLE"},"105479","80306042","2021-01-18T15:28:46",0,null,null,1]
[12,"5",2020,{"$f":"IFERROR(VLOOKUP([1]!Tabla_SERIEA_01_5[[#This Row],[IdEstablecimiento]],[2]Establecimientos!$A$1:$E$175,5,FALSE),0)","v":"04301-OVALLE"},"105479","80305070","2021-01-18T15:28:46",0,null,null,1]
[12,"5",2020,{"$f":"IFERROR(VLOOKUP([1]!Tabla_SERIEA_01_5[[#This Row],[IdEstablecimiento]],[2]Establecimientos!$A$1:$E$175,5,FALSE),0)","v":"04301-OVALLE"},"105483","81701009","2021-01-18T15:29:14",5,null,5,null,5]
[12,"5",2020,{"$f":"IFERROR(VLOOKUP([1]!Tabla_SERIEA_01_5[[#This Row],[IdEstablecimiento]],[2]Establecimientos!$A$1:$E$175,5,FALSE),0)","v":"04301-OVALLE"},"105483","81901019","2021-01-18T15:29:14",3,null,3,null,3]
[12,"5",2020,{"$f":"IFERROR(VLOOKUP([1]!Tabla_SERIEA_01_5[[#This Row],[IdEstablecimiento]],[2]Establecimientos!$A$1:$E$175,5,FALSE),0)","v":"04301-OVALLE"},"105483","80106002","2021-01-18T15:29:14",4,null,4,null,4]
[12,"5",2020,{"$f":"IFERROR(VLOOKUP([1]!Tabla_SERIEA_01_5[[#This Row],[IdEstablecimiento]],[2]Establecimientos!$A$1:$E$175,5,FALSE),0)","v":"04301-OVALLE"},"105483","80106017","2021-01-18T15:29:14",5,null,5,null,5]
[12,"5",2020,{"$f":"IFERROR(VLOOKUP([1]!Tabla_SERIEA_01_5[[#This Row],[IdEstablecimiento]],[2]Establecimientos!$A$1:$E$175,5,FALSE),0)","v":"04301-OVALLE"},"105483","80106014","2021-01-18T15:29:14",15,null,15,null,15]
[12,"5",2020,{"$f":"IFERROR(VLOOKUP([1]!Tabla_SERIEA_01_5[[#This Row],[IdEstablecimiento]],[2]Establecimientos!$A$1:$E$175,5,FALSE),0)","v":"04301-OVALLE"},"105483","80106015","2021-01-18T15:29:14",1,null,1,null,1]
[12,"5",2020,{"$f":"IFERROR(VLOOKUP([1]!Tabla_SERIEA_01_5[[#This Row],[IdEstablecimiento]],[2]Establecimientos!$A$1:$E$175,5,FALSE),0)","v":"04301-OVALLE"},"105483","80500011","2021-01-18T15:29:14",15,null,15,null,15]
[12,"5",2020,{"$f":"IFERROR(VLOOKUP([1]!Tabla_SERIEA_01_5[[#This Row],[IdEstablecimiento]],[2]Establecimientos!$A$1:$E$175,5,FALSE),0)","v":"04201-ILLAPEL"},"105483","18020500","2021-01-18T15:29:14",5,0,5]
[12,"5",2020,{"$f":"IFERROR(VLOOKUP([1]!Tabla_SERIEA_01_5[[#This Row],[IdEstablecimiento]],[2]Establecimientos!$A$1:$E$175,5,FALSE),0)","v":"04101-LA SERENA"},"105483","18020700","2021-01-18T15:29:14",3,0,3]
[12,"5",2020,{"$f":"IFERROR(VLOOKUP([1]!Tabla_SERIEA_01_5[[#This Row],[IdEstablecimiento]],[2]Establecimientos!$A$1:$E$175,5,FALSE),0)","v":"04101-LA SERENA"},"105483","18050100","2021-01-18T15:29:14",4,0,4]
[12,"5",2020,{"$f":"IFERROR(VLOOKUP([1]!Tabla_SERIEA_01_5[[#This Row],[IdEstablecimiento]],[2]Establecimientos!$A$1:$E$175,5,FALSE),0)","v":"04101-LA SERENA"},"105484","81301025","2021-01-18T15:29:36",2,null,2,null,2]
[12,"5",2020,{"$f":"IFERROR(VLOOKUP([1]!Tabla_SERIEA_01_5[[#This Row],[IdEstablecimiento]],[2]Establecimientos!$A$1:$E$175,5,FALSE),0)","v":"04101-LA SERENA"},"105484","81701009","2021-01-18T15:29:36",29,null,29,null,29]
[12,"5",2020,{"$f":"IFERROR(VLOOKUP([1]!Tabla_SERIEA_01_5[[#This Row],[IdEstablecimiento]],[2]Establecimientos!$A$1:$E$175,5,FALSE),0)","v":"04101-LA SERENA"},"105484","81602222","2021-01-18T15:29:36",2,null,2,null,2]
[12,"5",2020,{"$f":"IFERROR(VLOOKUP([1]!Tabla_SERIEA_01_5[[#This Row],[IdEstablecimiento]],[2]Establecimientos!$A$1:$E$175,5,FALSE),0)","v":"04101-LA SERENA"},"105484","80106002","2021-01-18T15:29:36",21,null,21,null,21]
[12,"5",2020,{"$f":"IFERROR(VLOOKUP([1]!Tabla_SERIEA_01_5[[#This Row],[IdEstablecimiento]],[2]Establecimientos!$A$1:$E$175,5,FALSE),0)","v":"04101-LA SERENA"},"105484","80106005","2021-01-18T15:29:36",5,null,5,null,5]
[12,"5",2020,{"$f":"IFERROR(VLOOKUP([1]!Tabla_SERIEA_01_5[[#This Row],[IdEstablecimiento]],[2]Establecimientos!$A$1:$E$175,5,FALSE),0)","v":"04101-LA SERENA"},"105484","80106017","2021-01-18T15:29:36",16,null,16,null,16]
[12,"5",2020,{"$f":"IFERROR(VLOOKUP([1]!Tabla_SERIEA_01_5[[#This Row],[IdEstablecimiento]],[2]Establecimientos!$A$1:$E$175,5,FALSE),0)","v":"04101-LA SERENA"},"105484","80106007","2021-01-18T15:29:36",2,null,2,null,2]
[12,"5",2020,{"$f":"IFERROR(VLOOKUP([1]!Tabla_SERIEA_01_5[[#This Row],[IdEstablecimiento]],[2]Establecimientos!$A$1:$E$175,5,FALSE),0)","v":"105105-HOSPITAL COMBARBALÁ"},"105484","80106013","2021-01-18T15:29:36",3,null,3,null,3]
[12,"5",2020,{"$f":"IFERROR(VLOOKUP([1]!Tabla_SERIEA_01_5[[#This Row],[IdEstablecimiento]],[2]Establecimientos!$A$1:$E$175,5,FALSE),0)","v":"04101-LA SERENA"},"105484","80106014","2021-01-18T15:29:36",92,null,92,null,92]
[12,"5",2020,{"$f":"IFERROR(VLOOKUP([1]!Tabla_SERIEA_01_5[[#This Row],[IdEstablecimiento]],[2]Establecimientos!$A$1:$E$175,5,FALSE),0)","v":"04202-CANELA"},"105484","80106015","2021-01-18T15:29:36",17,null,17,null,17]
[12,"5",2020,{"$f":"IFERROR(VLOOKUP([1]!Tabla_SERIEA_01_5[[#This Row],[IdEstablecimiento]],[2]Establecimientos!$A$1:$E$175,5,FALSE),0)","v":"04202-CANELA"},"105484","80500011","2021-01-18T15:29:36",12,null,12,null,12]
[12,"5",2020,{"$f":"IFERROR(VLOOKUP([1]!Tabla_SERIEA_01_5[[#This Row],[IdEstablecimiento]],[2]Establecimientos!$A$1:$E$175,5,FALSE),0)","v":"04202-CANELA"},"105484","18020200","2021-01-18T15:29:36",2,0,2]
[12,"5",2020,{"$f":"IFERROR(VLOOKUP([1]!Tabla_SERIEA_01_5[[#This Row],[IdEstablecimiento]],[2]Establecimientos!$A$1:$E$175,5,FALSE),0)","v":"04102-COQUIMBO"},"105484","18020500","2021-01-18T15:29:36",29,0,29]
[12,"5",2020,{"$f":"IFERROR(VLOOKUP([1]!Tabla_SERIEA_01_5[[#This Row],[IdEstablecimiento]],[2]Establecimientos!$A$1:$E$175,5,FALSE),0)","v":"04102-COQUIMBO"},"105484","18030000","2021-01-18T15:29:36",2,0,2]
[12,"5",2020,{"$f":"IFERROR(VLOOKUP([1]!Tabla_SERIEA_01_5[[#This Row],[IdEstablecimiento]],[2]Establecimientos!$A$1:$E$175,5,FALSE),0)","v":"04302-COMBARBALÁ"},"105484","18040200","2021-01-18T15:29:36",2,null,2]
[12,"5",2020,{"$f":"IFERROR(VLOOKUP([1]!Tabla_SERIEA_01_5[[#This Row],[IdEstablecimiento]],[2]Establecimientos!$A$1:$E$175,5,FALSE),0)","v":"04302-COMBARBALÁ"},"105484","18050100","2021-01-18T15:29:36",21,0,21]
[12,"5",2020,{"$f":"IFERROR(VLOOKUP([1]!Tabla_SERIEA_01_5[[#This Row],[IdEstablecimiento]],[2]Establecimientos!$A$1:$E$175,5,FALSE),0)","v":"04302-COMBARBALÁ"},"105484","18050200","2021-01-18T15:29:36",5,0,5]
[12,"5",2020,{"$f":"IFERROR(VLOOKUP([1]!Tabla_SERIEA_01_5[[#This Row],[IdEstablecimiento]],[2]Establecimientos!$A$1:$E$175,5,FALSE),0)","v":"04101-LA SERENA"},"105491","81701001","2021-01-18T15:30:12",11,null,11]
[12,"5",2020,{"$f":"IFERROR(VLOOKUP([1]!Tabla_SERIEA_01_5[[#This Row],[IdEstablecimiento]],[2]Establecimientos!$A$1:$E$175,5,FALSE),0)","v":"04101-LA SERENA"},"105491","81602222","2021-01-18T15:30:12",3,null,3]
[12,"5",2020,{"$f":"IFERROR(VLOOKUP([1]!Tabla_SERIEA_01_5[[#This Row],[IdEstablecimiento]],[2]Establecimientos!$A$1:$E$175,5,FALSE),0)","v":"04101-LA SERENA"},"105491","80106002","2021-01-18T15:30:12",84,null,84]
[12,"5",2020,{"$f":"IFERROR(VLOOKUP([1]!Tabla_SERIEA_01_5[[#This Row],[IdEstablecimiento]],[2]Establecimientos!$A$1:$E$175,5,FALSE),0)","v":"04201-ILLAPEL"},"105491","80106008","2021-01-18T15:30:12",2,null,2]
[12,"5",2020,{"$f":"IFERROR(VLOOKUP([1]!Tabla_SERIEA_01_5[[#This Row],[IdEstablecimiento]],[2]Establecimientos!$A$1:$E$175,5,FALSE),0)","v":"04201-ILLAPEL"},"105491","80106010","2021-01-18T15:30:12",3,null,3]
[12,"5",2020,{"$f":"IFERROR(VLOOKUP([1]!Tabla_SERIEA_01_5[[#This Row],[IdEstablecimiento]],[2]Establecimientos!$A$1:$E$175,5,FALSE),0)","v":"04301-OVALLE"},"105491","80106015","2021-01-18T15:30:12",8,null,8]
[12,"5",2020,{"$f":"IFERROR(VLOOKUP([1]!Tabla_SERIEA_01_5[[#This Row],[IdEstablecimiento]],[2]Establecimientos!$A$1:$E$175,5,FALSE),0)","v":"04301-OVALLE"},"105491","80106023","2021-01-18T15:30:12",35,null,35]
[12,"5",2020,{"$f":"IFERROR(VLOOKUP([1]!Tabla_SERIEA_01_5[[#This Row],[IdEstablecimiento]],[2]Establecimientos!$A$1:$E$175,5,FALSE),0)","v":"04301-OVALLE"},"105491","80500011","2021-01-18T15:30:12",162,null,162]
[12,"5",2020,{"$f":"IFERROR(VLOOKUP([1]!Tabla_SERIEA_01_5[[#This Row],[IdEstablecimiento]],[2]Establecimientos!$A$1:$E$175,5,FALSE),0)","v":"04301-OVALLE"},"105491","18700230","2021-01-18T15:30:12",8,null,6,2,8,null,8]
[12,"5",2020,{"$f":"IFERROR(VLOOKUP([1]!Tabla_SERIEA_01_5[[#This Row],[IdEstablecimiento]],[2]Establecimientos!$A$1:$E$175,5,FALSE),0)","v":"04301-OVALLE"},"105491","18020500","2021-01-18T15:30:12",11,0,11]
[12,"5",2020,{"$f":"IFERROR(VLOOKUP([1]!Tabla_SERIEA_01_5[[#This Row],[IdEstablecimiento]],[2]Establecimientos!$A$1:$E$175,5,FALSE),0)","v":"04301-OVALLE"},"105491","18030000","2021-01-18T15:30:12",3,0,3]
[12,"5",2020,{"$f":"IFERROR(VLOOKUP([1]!Tabla_SERIEA_01_5[[#This Row],[IdEstablecimiento]],[2]Establecimientos!$A$1:$E$175,5,FALSE),0)","v":"04201-ILLAPEL"},"105491","18040200","2021-01-18T15:30:12",3,null,3]
[12,"5",2020,{"$f":"IFERROR(VLOOKUP([1]!Tabla_SERIEA_01_5[[#This Row],[IdEstablecimiento]],[2]Establecimientos!$A$1:$E$175,5,FALSE),0)","v":"04201-ILLAPEL"},"105491","18090000","2021-01-18T15:30:12",35,0,35]
[12,"5",2020,{"$f":"IFERROR(VLOOKUP([1]!Tabla_SERIEA_01_5[[#This Row],[IdEstablecimiento]],[2]Establecimientos!$A$1:$E$175,5,FALSE),0)","v":"04201-ILLAPEL"},"105491","18050100","2021-01-18T15:30:12",84,0,84]
[12,"5",2020,{"$f":"IFERROR(VLOOKUP([1]!Tabla_SERIEA_01_5[[#This Row],[IdEstablecimiento]],[2]Establecimientos!$A$1:$E$175,5,FALSE),0)","v":"04101-LA SERENA"},"105491","18700100","2021-01-18T15:30:12",11,null,11]
[12,"5",2020,{"$f":"IFERROR(VLOOKUP([1]!Tabla_SERIEA_01_5[[#This Row],[IdEstablecimiento]],[2]Establecimientos!$A$1:$E$175,5,FALSE),0)","v":"04101-LA SERENA"},"105498","80106002","2021-01-18T15:30:41",1,null,1,null,1]
[12,"5",2020,{"$f":"IFERROR(VLOOKUP([1]!Tabla_SERIEA_01_5[[#This Row],[IdEstablecimiento]],[2]Establecimientos!$A$1:$E$175,5,FALSE),0)","v":"04101-LA SERENA"},"105498","80106014","2021-01-18T15:30:41",8,null,8,null,8]
[12,"5",2020,{"$f":"IFERROR(VLOOKUP([1]!Tabla_SERIEA_01_5[[#This Row],[IdEstablecimiento]],[2]Establecimientos!$A$1:$E$175,5,FALSE),0)","v":"04101-LA SERENA"},"105498","80500011","2021-01-18T15:30:41",3,null,3,null,3]
[12,"5",2020,{"$f":"IFERROR(VLOOKUP([1]!Tabla_SERIEA_01_5[[#This Row],[IdEstablecimiento]],[2]Establecimientos!$A$1:$E$175,5,FALSE),0)","v":"04101-LA SERENA"},"105498","18050100","2021-01-18T15:30:41",1,0,1]
[12,"5",2020,{"$f":"IFERROR(VLOOKUP([1]!Tabla_SERIEA_01_5[[#This Row],[IdEstablecimiento]],[2]Establecimientos!$A$1:$E$175,5,FALSE),0)","v":"04101-LA SERENA"},"105508","81701001","2021-01-18T15:31:08",6,null,6,null,6]
[12,"5",2020,{"$f":"IFERROR(VLOOKUP([1]!Tabla_SERIEA_01_5[[#This Row],[IdEstablecimiento]],[2]Establecimientos!$A$1:$E$175,5,FALSE),0)","v":"105104-HOSPITAL SALAMANCA"},"105508","81602222","2021-01-18T15:31:08",2,null,2,null,2]
[12,"5",2020,{"$f":"IFERROR(VLOOKUP([1]!Tabla_SERIEA_01_5[[#This Row],[IdEstablecimiento]],[2]Establecimientos!$A$1:$E$175,5,FALSE),0)","v":"04302-COMBARBALÁ"},"105508","80106002","2021-01-18T15:31:08",4,null,4,null,4]
[12,"5",2020,{"$f":"IFERROR(VLOOKUP([1]!Tabla_SERIEA_01_5[[#This Row],[IdEstablecimiento]],[2]Establecimientos!$A$1:$E$175,5,FALSE),0)","v":"04303-MONTE PATRIA"},"105508","80106014","2021-01-18T15:31:08",39,null,39,null,39]
[12,"5",2020,{"$f":"IFERROR(VLOOKUP([1]!Tabla_SERIEA_01_5[[#This Row],[IdEstablecimiento]],[2]Establecimientos!$A$1:$E$175,5,FALSE),0)","v":"04303-MONTE PATRIA"},"105508","80307011","2021-01-18T15:31:08",12,null,12]
[12,"5",2020,{"$f":"IFERROR(VLOOKUP([1]!Tabla_SERIEA_01_5[[#This Row],[IdEstablecimiento]],[2]Establecimientos!$A$1:$E$175,5,FALSE),0)","v":"04201-ILLAPEL"},"105508","18020500","2021-01-18T15:31:08",6,0,6]
[12,"5",2020,{"$f":"IFERROR(VLOOKUP([1]!Tabla_SERIEA_01_5[[#This Row],[IdEstablecimiento]],[2]Establecimientos!$A$1:$E$175,5,FALSE),0)","v":"04201-ILLAPEL"},"105508","18030000","2021-01-18T15:31:08",2,0,2]
[12,"5",2020,{"$f":"IFERROR(VLOOKUP([1]!Tabla_SERIEA_01_5[[#This Row],[IdEstablecimiento]],[2]Establecimientos!$A$1:$E$175,5,FALSE),0)","v":"04201-ILLAPEL"},"105508","18040200","2021-01-18T15:31:08",2,null,2]
[12,"5",2020,{"$f":"IFERROR(VLOOKUP([1]!Tabla_SERIEA_01_5[[#This Row],[IdEstablecimiento]],[2]Establecimientos!$A$1:$E$175,5,FALSE),0)","v":"04201-ILLAPEL"},"105508","18050100","2021-01-18T15:31:08",4,0,4]
[12,"5",2020,{"$f":"IFERROR(VLOOKUP([1]!Tabla_SERIEA_01_5[[#This Row],[IdEstablecimiento]],[2]Establecimientos!$A$1:$E$175,5,FALSE),0)","v":"04201-ILLAPEL"},"200402","80309022","2021-01-18T15:31:39",0,null,null,25]
[12,"5",2020,{"$f":"IFERROR(VLOOKUP([1]!Tabla_SERIEA_01_5[[#This Row],[IdEstablecimiento]],[2]Establecimientos!$A$1:$E$175,5,FALSE),0)","v":"04201-ILLAPEL"},"200402","80301036","2021-01-18T15:31:39",0,null,null,25]
[12,"5",2020,{"$f":"IFERROR(VLOOKUP([1]!Tabla_SERIEA_01_5[[#This Row],[IdEstablecimiento]],[2]Establecimientos!$A$1:$E$175,5,FALSE),0)","v":"04201-ILLAPEL"},"200402","80301038","2021-01-18T15:31:39",0,null,null,25]
[12,"5",2020,{"$f":"IFERROR(VLOOKUP([1]!Tabla_SERIEA_01_5[[#This Row],[IdEstablecimiento]],[2]Establecimientos!$A$1:$E$175,5,FALSE),0)","v":"04201-ILLAPEL"},"200402","80301041","2021-01-18T15:31:39",0,null,null,9]
[12,"5",2020,{"$f":"IFERROR(VLOOKUP([1]!Tabla_SERIEA_01_5[[#This Row],[IdEstablecimiento]],[2]Establecimientos!$A$1:$E$175,5,FALSE),0)","v":"04102-COQUIMBO"},"200402","80301045","2021-01-18T15:31:39",0,null,null,2]
[12,"5",2020,{"$f":"IFERROR(VLOOKUP([1]!Tabla_SERIEA_01_5[[#This Row],[IdEstablecimiento]],[2]Establecimientos!$A$1:$E$175,5,FALSE),0)","v":"04102-COQUIMBO"},"200402","80106002","2021-01-18T15:31:39",11,null,11,null,11]
[12,"5",2020,{"$f":"IFERROR(VLOOKUP([1]!Tabla_SERIEA_01_5[[#This Row],[IdEstablecimiento]],[2]Establecimientos!$A$1:$E$175,5,FALSE),0)","v":"04102-COQUIMBO"},"200402","80106017","2021-01-18T15:31:39",10,null,10,null,10]
[12,"5",2020,{"$f":"IFERROR(VLOOKUP([1]!Tabla_SERIEA_01_5[[#This Row],[IdEstablecimiento]],[2]Establecimientos!$A$1:$E$175,5,FALSE),0)","v":"04102-COQUIMBO"},"200402","80302067","2021-01-18T15:31:39",0,null,null,30]
[12,"5",2020,{"$f":"IFERROR(VLOOKUP([1]!Tabla_SERIEA_01_5[[#This Row],[IdEstablecimiento]],[2]Establecimientos!$A$1:$E$175,5,FALSE),0)","v":"04102-COQUIMBO"},"200402","80302068","2021-01-18T15:31:39",0,null,null,30]
[12,"5",2020,{"$f":"IFERROR(VLOOKUP([1]!Tabla_SERIEA_01_5[[#This Row],[IdEstablecimiento]],[2]Establecimientos!$A$1:$E$175,5,FALSE),0)","v":"04101-LA SERENA"},"200402","80302023","2021-01-18T15:31:39",0,null,null,27]
[12,"5",2020,{"$f":"IFERROR(VLOOKUP([1]!Tabla_SERIEA_01_5[[#This Row],[IdEstablecimiento]],[2]Establecimientos!$A$1:$E$175,5,FALSE),0)","v":"04101-LA SERENA"},"200402","80302032","2021-01-18T15:31:39",0,null,null,78]
[12,"5",2020,{"$f":"IFERROR(VLOOKUP([1]!Tabla_SERIEA_01_5[[#This Row],[IdEstablecimiento]],[2]Establecimientos!$A$1:$E$175,5,FALSE),0)","v":"04101-LA SERENA"},"200402","80302047","2021-01-18T15:31:39",0,null,null,29]
[12,"5",2020,{"$f":"IFERROR(VLOOKUP([1]!Tabla_SERIEA_01_5[[#This Row],[IdEstablecimiento]],[2]Establecimientos!$A$1:$E$175,5,FALSE),0)","v":"04101-LA SERENA"},"200402","80302064","2021-01-18T15:31:39",0,null,null,30]
[12,"5",2020,{"$f":"IFERROR(VLOOKUP([1]!Tabla_SERIEA_01_5[[#This Row],[IdEstablecimiento]],[2]Establecimientos!$A$1:$E$175,5,FALSE),0)","v":"04101-LA SERENA"},"200402","80303024","2021-01-18T15:31:39",0,null,null,12]
[12,"5",2020,{"$f":"IFERROR(VLOOKUP([1]!Tabla_SERIEA_01_5[[#This Row],[IdEstablecimiento]],[2]Establecimientos!$A$1:$E$175,5,FALSE),0)","v":"04101-LA SERENA"},"200402","80303026","2021-01-18T15:31:39",0,null,null,7]
[12,"5",2020,{"$f":"IFERROR(VLOOKUP([1]!Tabla_SERIEA_01_5[[#This Row],[IdEstablecimiento]],[2]Establecimientos!$A$1:$E$175,5,FALSE),0)","v":"04101-LA SERENA"},"200402","80106014","2021-01-18T15:31:39",38,null,38,null,38]
[12,"5",2020,{"$f":"IFERROR(VLOOKUP([1]!Tabla_SERIEA_01_5[[#This Row],[IdEstablecimiento]],[2]Establecimientos!$A$1:$E$175,5,FALSE),0)","v":"105101-HOSPITAL COQUIMBO"},"200402","80307011","2021-01-18T15:31:39",0,null,null,34]
[12,"5",2020,{"$f":"IFERROR(VLOOKUP([1]!Tabla_SERIEA_01_5[[#This Row],[IdEstablecimiento]],[2]Establecimientos!$A$1:$E$175,5,FALSE),0)","v":"105101-HOSPITAL COQUIMBO"},"200402","80500008","2021-01-18T15:31:39",1,null,1,null,1]
[12,"5",2020,{"$f":"IFERROR(VLOOKUP([1]!Tabla_SERIEA_01_5[[#This Row],[IdEstablecimiento]],[2]Establecimientos!$A$1:$E$175,5,FALSE),0)","v":"105101-HOSPITAL COQUIMBO"},"200402","80500009","2021-01-18T15:31:39",2,null,2,null,2]
[12,"5",2020,{"$f":"IFERROR(VLOOKUP([1]!Tabla_SERIEA_01_5[[#This Row],[IdEstablecimiento]],[2]Establecimientos!$A$1:$E$175,5,FALSE),0)","v":"105101-HOSPITAL COQUIMBO"},"200402","80306042","2021-01-18T15:31:39",0,null,null,2]
[12,"5",2020,{"$f":"IFERROR(VLOOKUP([1]!Tabla_SERIEA_01_5[[#This Row],[IdEstablecimiento]],[2]Establecimientos!$A$1:$E$175,5,FALSE),0)","v":"105101-HOSPITAL COQUIMBO"},"200402","18050100","2021-01-18T15:31:39",11,0,11]
[12,"5",2020,{"$f":"IFERROR(VLOOKUP([1]!Tabla_SERIEA_01_5[[#This Row],[IdEstablecimiento]],[2]Establecimientos!$A$1:$E$175,5,FALSE),0)","v":"105101-HOSPITAL COQUIMBO"},"200720","80401031","2021-01-18T15:32:05",12,12]
[12,"5",2020,{"$f":"IFERROR(VLOOKUP([1]!Tabla_SERIEA_01_5[[#This Row],[IdEstablecimiento]],[2]Establecimientos!$A$1:$E$175,5,FALSE),0)","v":"105101-HOSPITAL COQUIMBO"},"200720","80401032","2021-01-18T15:32:05",8,8]
[12,"5",2020,{"$f":"IFERROR(VLOOKUP([1]!Tabla_SERIEA_01_5[[#This Row],[IdEstablecimiento]],[2]Establecimientos!$A$1:$E$175,5,FALSE),0)","v":"04301-OVALLE"},"200720","80401042","2021-01-18T15:32:05",4,4]
[12,"5",2020,{"$f":"IFERROR(VLOOKUP([1]!Tabla_SERIEA_01_5[[#This Row],[IdEstablecimiento]],[2]Establecimientos!$A$1:$E$175,5,FALSE),0)","v":"04102-COQUIMBO"},"200720","80401043","2021-01-18T15:32:05",4,4]
[12,"5",2020,{"$f":"IFERROR(VLOOKUP([1]!Tabla_SERIEA_01_5[[#This Row],[IdEstablecimiento]],[2]Establecimientos!$A$1:$E$175,5,FALSE),0)","v":"105102-HOSPITAL OVALLE"},"200720","80401045","2021-01-18T15:32:05",18,18]
[12,"5",2020,{"$f":"IFERROR(VLOOKUP([1]!Tabla_SERIEA_01_5[[#This Row],[IdEstablecimiento]],[2]Establecimientos!$A$1:$E$175,5,FALSE),0)","v":"105102-HOSPITAL OVALLE"},"200720","80401046","2021-01-18T15:32:05",5,5]
[12,"5",2020,{"$f":"IFERROR(VLOOKUP([1]!Tabla_SERIEA_01_5[[#This Row],[IdEstablecimiento]],[2]Establecimientos!$A$1:$E$175,5,FALSE),0)","v":"105102-HOSPITAL OVALLE"},"200720","80401048","2021-01-18T15:32:05",4,4]
[12,"5",2020,{"$f":"IFERROR(VLOOKUP([1]!Tabla_SERIEA_01_5[[#This Row],[IdEstablecimiento]],[2]Establecimientos!$A$1:$E$175,5,FALSE),0)","v":"04101-LA SERENA"},"200720","80401051","2021-01-18T15:32:05",11,11]
[12,"5",2020,{"$f":"IFERROR(VLOOKUP([1]!Tabla_SERIEA_01_5[[#This Row],[IdEstablecimiento]],[2]Establecimientos!$A$1:$E$175,5,FALSE),0)","v":"04101-LA SERENA"},"200720","80401151","2021-01-18T15:32:05",24,24,null,24]
[12,"5",2020,{"$f":"IFERROR(VLOOKUP([1]!Tabla_SERIEA_01_5[[#This Row],[IdEstablecimiento]],[2]Establecimientos!$A$1:$E$175,5,FALSE),0)","v":"04101-LA SERENA"},"200720","80401052","2021-01-18T15:32:05",1,1]
[12,"5",2020,{"$f":"IFERROR(VLOOKUP([1]!Tabla_SERIEA_01_5[[#This Row],[IdEstablecimiento]],[2]Establecimientos!$A$1:$E$175,5,FALSE),0)","v":"04101-LA SERENA"},"200720","80401053","2021-01-18T15:32:05",4,4]
[12,"5",2020,{"$f":"IFERROR(VLOOKUP([1]!Tabla_SERIEA_01_5[[#This Row],[IdEstablecimiento]],[2]Establecimientos!$A$1:$E$175,5,FALSE),0)","v":"04101-LA SERENA"},"200720","80401054","2021-01-18T15:32:05",64,64]
[12,"5",2020,{"$f":"IFERROR(VLOOKUP([1]!Tabla_SERIEA_01_5[[#This Row],[IdEstablecimiento]],[2]Establecimientos!$A$1:$E$175,5,FALSE),0)","v":"04101-LA SERENA"},"200720","80401058","2021-01-18T15:32:05",1,1]
[12,"5",2020,{"$f":"IFERROR(VLOOKUP([1]!Tabla_SERIEA_01_5[[#This Row],[IdEstablecimiento]],[2]Establecimientos!$A$1:$E$175,5,FALSE),0)","v":"04101-LA SERENA"},"200720","80401059","2021-01-18T15:32:05",30,30]
[12,"5",2020,{"$f":"IFERROR(VLOOKUP([1]!Tabla_SERIEA_01_5[[#This Row],[IdEstablecimiento]],[2]Establecimientos!$A$1:$E$175,5,FALSE),0)","v":"105102-HOSPITAL OVALLE"},"200720","80401060","2021-01-18T15:32:05",44,44]
[12,"5",2020,{"$f":"IFERROR(VLOOKUP([1]!Tabla_SERIEA_01_5[[#This Row],[IdEstablecimiento]],[2]Establecimientos!$A$1:$E$175,5,FALSE),0)","v":"04101-LA SERENA"},"200720","80401062","2021-01-18T15:32:05",5,5]
[12,"5",2020,{"$f":"IFERROR(VLOOKUP([1]!Tabla_SERIEA_01_5[[#This Row],[IdEstablecimiento]],[2]Establecimientos!$A$1:$E$175,5,FALSE),0)","v":"04303-MONTE PATRIA"},"200720","80401002","2021-01-18T15:32:05",1,1]
[12,"5",2020,{"$f":"IFERROR(VLOOKUP([1]!Tabla_SERIEA_01_5[[#This Row],[IdEstablecimiento]],[2]Establecimientos!$A$1:$E$175,5,FALSE),0)","v":"04303-MONTE PATRIA"},"200720","80401009","2021-01-18T15:32:05",23,23]
[12,"5",2020,{"$f":"IFERROR(VLOOKUP([1]!Tabla_SERIEA_01_5[[#This Row],[IdEstablecimiento]],[2]Establecimientos!$A$1:$E$175,5,FALSE),0)","v":"04303-MONTE PATRIA"},"200720","80401070","2021-01-18T15:32:05",45,45,null,45]
[12,"5",2020,{"$f":"IFERROR(VLOOKUP([1]!Tabla_SERIEA_01_5[[#This Row],[IdEstablecimiento]],[2]Establecimientos!$A$1:$E$175,5,FALSE),0)","v":"04303-MONTE PATRIA"},"200720","80401013","2021-01-18T15:32:05",9,9]
[12,"5",2020,{"$f":"IFERROR(VLOOKUP([1]!Tabla_SERIEA_01_5[[#This Row],[IdEstablecimiento]],[2]Establecimientos!$A$1:$E$175,5,FALSE),0)","v":"04303-MONTE PATRIA"},"200720","81701001","2021-01-18T15:32:05",86,86,null,null,86]
[12,"5",2020,{"$f":"IFERROR(VLOOKUP([1]!Tabla_SERIEA_01_5[[#This Row],[IdEstablecimiento]],[2]Establecimientos!$A$1:$E$175,5,FALSE),0)","v":"04303-MONTE PATRIA"},"200720","81701009","2021-01-18T15:32:05",156,156,null,null,156]
[12,"5",2020,{"$f":"IFERROR(VLOOKUP([1]!Tabla_SERIEA_01_5[[#This Row],[IdEstablecimiento]],[2]Establecimientos!$A$1:$E$175,5,FALSE),0)","v":"04303-MONTE PATRIA"},"200720","81707030","2021-01-18T15:32:05",31,31,null,null,31]
[12,"5",2020,{"$f":"IFERROR(VLOOKUP([1]!Tabla_SERIEA_01_5[[#This Row],[IdEstablecimiento]],[2]Establecimientos!$A$1:$E$175,5,FALSE),0)","v":"04303-MONTE PATRIA"},"200720","81801023","2021-01-18T15:32:05",1,1,null,null,1]
[12,"5",2020,{"$f":"IFERROR(VLOOKUP([1]!Tabla_SERIEA_01_5[[#This Row],[IdEstablecimiento]],[2]Establecimientos!$A$1:$E$175,5,FALSE),0)","v":"04303-MONTE PATRIA"},"200720","81901019","2021-01-18T15:32:05",8,8,null,null,8]
[12,"5",2020,{"$f":"IFERROR(VLOOKUP([1]!Tabla_SERIEA_01_5[[#This Row],[IdEstablecimiento]],[2]Establecimientos!$A$1:$E$175,5,FALSE),0)","v":"04303-MONTE PATRIA"},"200720","81901022","2021-01-18T15:32:05",8,8,null,null,8]
[12,"5",2020,{"$f":"IFERROR(VLOOKUP([1]!Tabla_SERIEA_01_5[[#This Row],[IdEstablecimiento]],[2]Establecimientos!$A$1:$E$175,5,FALSE),0)","v":"04303-MONTE PATRIA"},"200720","81602221","2021-01-18T15:32:05",14,14,null,14]
[12,"5",2020,{"$f":"IFERROR(VLOOKUP([1]!Tabla_SERIEA_01_5[[#This Row],[IdEstablecimiento]],[2]Establecimientos!$A$1:$E$175,5,FALSE),0)","v":"04303-MONTE PATRIA"},"200720","81602222","2021-01-18T15:32:05",7,7,null,7]
[12,"5",2020,{"$f":"IFERROR(VLOOKUP([1]!Tabla_SERIEA_01_5[[#This Row],[IdEstablecimiento]],[2]Establecimientos!$A$1:$E$175,5,FALSE),0)","v":"04303-MONTE PATRIA"},"200720","80106002","2021-01-18T15:32:05",81,81,null,null,81]
[12,"5",2020,{"$f":"IFERROR(VLOOKUP([1]!Tabla_SERIEA_01_5[[#This Row],[IdEstablecimiento]],[2]Establecimientos!$A$1:$E$175,5,FALSE),0)","v":"04303-MONTE PATRIA"},"200720","80106006","2021-01-18T15:32:05",1,1,null,null,1]
[12,"5",2020,{"$f":"IFERROR(VLOOKUP([1]!Tabla_SERIEA_01_5[[#This Row],[IdEstablecimiento]],[2]Establecimientos!$A$1:$E$175,5,FALSE),0)","v":"04303-MONTE PATRIA"},"200720","80106017","2021-01-18T15:32:05",8,8,null,null,8]
[12,"5",2020,{"$f":"IFERROR(VLOOKUP([1]!Tabla_SERIEA_01_5[[#This Row],[IdEstablecimiento]],[2]Establecimientos!$A$1:$E$175,5,FALSE),0)","v":"04303-MONTE PATRIA"},"200720","80106007","2021-01-18T15:32:05",8,8,null,8]
[12,"5",2020,{"$f":"IFERROR(VLOOKUP([1]!Tabla_SERIEA_01_5[[#This Row],[IdEstablecimiento]],[2]Establecimientos!$A$1:$E$175,5,FALSE),0)","v":"04303-MONTE PATRIA"},"200720","80106008","2021-01-18T15:32:05",4,4,null,4,0]
[12,"5",2020,{"$f":"IFERROR(VLOOKUP([1]!Tabla_SERIEA_01_5[[#This Row],[IdEstablecimiento]],[2]Establecimientos!$A$1:$E$175,5,FALSE),0)","v":"04303-MONTE PATRIA"},"200720","80106009","2021-01-18T15:32:05",1,1,null,null,1]
[12,"5",2020,{"$f":"IFERROR(VLOOKUP([1]!Tabla_SERIEA_01_5[[#This Row],[IdEstablecimiento]],[2]Establecimientos!$A$1:$E$175,5,FALSE),0)","v":"04303-MONTE PATRIA"},"200720","80106013","2021-01-18T15:32:05",23,23,null,23]
[12,"5",2020,{"$f":"IFERROR(VLOOKUP([1]!Tabla_SERIEA_01_5[[#This Row],[IdEstablecimiento]],[2]Establecimientos!$A$1:$E$175,5,FALSE),0)","v":"04303-MONTE PATRIA"},"200720","80106014","2021-01-18T15:32:05",755,755,null,null,755]
[12,"5",2020,{"$f":"IFERROR(VLOOKUP([1]!Tabla_SERIEA_01_5[[#This Row],[IdEstablecimiento]],[2]Establecimientos!$A$1:$E$175,5,FALSE),0)","v":"04303-MONTE PATRIA"},"200720","80106015","2021-01-18T15:32:05",388,388,null,null,388]
[12,"5",2020,{"$f":"IFERROR(VLOOKUP([1]!Tabla_SERIEA_01_5[[#This Row],[IdEstablecimiento]],[2]Establecimientos!$A$1:$E$175,5,FALSE),0)","v":"04303-MONTE PATRIA"},"200720","80106020","2021-01-18T15:32:05",23,23,null,null,23]
[12,"5",2020,{"$f":"IFERROR(VLOOKUP([1]!Tabla_SERIEA_01_5[[#This Row],[IdEstablecimiento]],[2]Establecimientos!$A$1:$E$175,5,FALSE),0)","v":"04106-VICUÑA"},"200720","80106022","2021-01-18T15:32:05",3,3,null,null,3]
[12,"5",2020,{"$f":"IFERROR(VLOOKUP([1]!Tabla_SERIEA_01_5[[#This Row],[IdEstablecimiento]],[2]Establecimientos!$A$1:$E$175,5,FALSE),0)","v":"04106-VICUÑA"},"200720","80307011","2021-01-18T15:32:05",68,68]
[12,"5",2020,{"$f":"IFERROR(VLOOKUP([1]!Tabla_SERIEA_01_5[[#This Row],[IdEstablecimiento]],[2]Establecimientos!$A$1:$E$175,5,FALSE),0)","v":"04106-VICUÑA"},"200720","80307012","2021-01-18T15:32:05",2,2]
[12,"5",2020,{"$f":"IFERROR(VLOOKUP([1]!Tabla_SERIEA_01_5[[#This Row],[IdEstablecimiento]],[2]Establecimientos!$A$1:$E$175,5,FALSE),0)","v":"04303-MONTE PATRIA"},"200720","80500011","2021-01-18T15:32:05",266,266,null,null,266]
[12,"5",2020,{"$f":"IFERROR(VLOOKUP([1]!Tabla_SERIEA_01_5[[#This Row],[IdEstablecimiento]],[2]Establecimientos!$A$1:$E$175,5,FALSE),0)","v":"105104-HOSPITAL SALAMANCA"},"200720","80500014","2021-01-18T15:32:05",24,24,{"$nulls":3},24]
[12,"5",2020,{"$f":"IFERROR(VLOOKUP([1]!Tabla_SERIEA_01_5[[#This Row],[IdEstablecimiento]],[2]Establecimientos!$A$1:$E$175,5,FALSE),0)","v":"105101-HOSPITAL COQUIMBO"},"200720","80500016","2021-01-18T15:32:05",17,17,null,null,17]
[12,"5",2020,{"$f":"IFERROR(VLOOKUP([1]!Tabla_SERIEA_01_5[[#This Row],[IdEstablecimiento]],[2]Establecimientos!$A$1:$E$175,5,FALSE),0)","v":"105101-HOSPITAL COQUIMBO"},"200720","18011001","2021-01-18T15:32:05",317,317,0]
[12,"5",2020,{"$f":"IFERROR(VLOOKUP([1]!Tabla_SERIEA_01_5[[#This Row],[IdEstablecimiento]],[2]Establecimientos!$A$1:$E$175,5,FALSE),0)","v":"105101-HOSPITAL COQUIMBO"},"200720","18020300","2021-01-18T15:32:05",31,31,0]
[12,"5",2020,{"$f":"IFERROR(VLOOKUP([1]!Tabla_SERIEA_01_5[[#This Row],[IdEstablecimiento]],[2]Establecimientos!$A$1:$E$175,5,FALSE),0)","v":"105101-HOSPITAL COQUIMBO"},"200720","18020500","2021-01-18T15:32:05",242,242,0]
[12,"5",2020,{"$f":"IFERROR(VLOOKUP([1]!Tabla_SERIEA_01_5[[#This Row],[IdEstablecimiento]],[2]Establecimientos!$A$1:$E$175,5,FALSE),0)","v":"105101-HOSPITAL COQUIMBO"},"200720","18020600","2021-01-18T15:32:05",1,1,0]
[12,"5",2020,{"$f":"IFERROR(VLOOKUP([1]!Tabla_SERIEA_01_5[[#This Row],[IdEstablecimiento]],[2]Establecimientos!$A$1:$E$175,5,FALSE),0)","v":"04301-OVALLE"},"200720","18020700","2021-01-18T15:32:05",16,16,0]
[12,"5",2020,{"$f":"IFERROR(VLOOKUP([1]!Tabla_SERIEA_01_5[[#This Row],[IdEstablecimiento]],[2]Establecimientos!$A$1:$E$175,5,FALSE),0)","v":"04104-LA HIGUERA"},"200720","18030000","2021-01-18T15:32:05",21,21,0]
[12,"5",2020,{"$f":"IFERROR(VLOOKUP([1]!Tabla_SERIEA_01_5[[#This Row],[IdEstablecimiento]],[2]Establecimientos!$A$1:$E$175,5,FALSE),0)","v":"04104-LA HIGUERA"},"200720","18040100","2021-01-18T15:32:05",21,10,11]
[12,"5",2020,{"$f":"IFERROR(VLOOKUP([1]!Tabla_SERIEA_01_5[[#This Row],[IdEstablecimiento]],[2]Establecimientos!$A$1:$E$175,5,FALSE),0)","v":"04104-LA HIGUERA"},"200720","18050100","2021-01-18T15:32:05",81,81,0]
[12,"5",2020,{"$f":"IFERROR(VLOOKUP([1]!Tabla_SERIEA_01_5[[#This Row],[IdEstablecimiento]],[2]Establecimientos!$A$1:$E$175,5,FALSE),0)","v":"04104-LA HIGUERA"},"200720","18050300","2021-01-18T15:32:05",1,1,0]
[12,"5",2020,{"$f":"IFERROR(VLOOKUP([1]!Tabla_SERIEA_01_5[[#This Row],[IdEstablecimiento]],[2]Establecimientos!$A$1:$E$175,5,FALSE),0)","v":"04204-SALAMANCA"},"200720","18400700","2021-01-18T15:32:05",1212]
[12,"5",2020,{"$f":"IFERROR(VLOOKUP([1]!Tabla_SERIEA_01_5[[#This Row],[IdEstablecimiento]],[2]Establecimientos!$A$1:$E$175,5,FALSE),0)","v":"04305-RIO HURTADO"},"200720","18090200","2021-01-18T15:32:05",84]
[12,"5",2020,{"$f":"IFERROR(VLOOKUP([1]!Tabla_SERIEA_01_5[[#This Row],[IdEstablecimiento]],[2]Establecimientos!$A$1:$E$175,5,FALSE),0)","v":"04305-RIO HURTADO"},"200720","18700100","2021-01-18T15:32:05",64,null,54,10]
[12,"5",2020,{"$f":"IFERROR(VLOOKUP([1]!Tabla_SERIEA_01_5[[#This Row],[IdEstablecimiento]],[2]Establecimientos!$A$1:$E$175,5,FALSE),0)","v":"04305-RIO HURTADO"},"105440","81201029","2021-01-18T15:39:26",4,null,4,null,4]
[12,"5",2020,{"$f":"IFERROR(VLOOKUP([1]!Tabla_SERIEA_01_5[[#This Row],[IdEstablecimiento]],[2]Establecimientos!$A$1:$E$175,5,FALSE),0)","v":"04305-RIO HURTADO"},"105440","81301030","2021-01-18T15:39:26",2,null,2,null,2]
[12,"5",2020,{"$f":"IFERROR(VLOOKUP([1]!Tabla_SERIEA_01_5[[#This Row],[IdEstablecimiento]],[2]Establecimientos!$A$1:$E$175,5,FALSE),0)","v":"04201-ILLAPEL"},"105440","81701001","2021-01-18T15:39:26",7,null,7,null,7]
[12,"5",2020,{"$f":"IFERROR(VLOOKUP([1]!Tabla_SERIEA_01_5[[#This Row],[IdEstablecimiento]],[2]Establecimientos!$A$1:$E$175,5,FALSE),0)","v":"04201-ILLAPEL"},"105440","81701009","2021-01-18T15:39:26",24,null,24,null,24]
[12,"5",2020,{"$f":"IFERROR(VLOOKUP([1]!Tabla_SERIEA_01_5[[#This Row],[IdEstablecimiento]],[2]Establecimientos!$A$1:$E$175,5,FALSE),0)","v":"04201-ILLAPEL"},"105440","81707030","2021-01-18T15:39:26",3,null,3,null,3]
[12,"5",2020,{"$f":"IFERROR(VLOOKUP([1]!Tabla_SERIEA_01_5[[#This Row],[IdEstablecimiento]],[2]Establecimientos!$A$1:$E$175,5,FALSE),0)","v":"04201-ILLAPEL"},"105440","81602222","2021-01-18T15:39:26",13,null,13,null,13]
[12,"5",2020,{"$f":"IFERROR(VLOOKUP([1]!Tabla_SERIEA_01_5[[#This Row],[IdEstablecimiento]],[2]Establecimientos!$A$1:$E$175,5,FALSE),0)","v":"04201-ILLAPEL"},"105440","80106002","2021-01-18T15:39:26",54,null,54,null,54]
[12,"5",2020,{"$f":"IFERROR(VLOOKUP([1]!Tabla_SERIEA_01_5[[#This Row],[IdEstablecimiento]],[2]Establecimientos!$A$1:$E$175,5,FALSE),0)","v":"04201-ILLAPEL"},"105440","80106007","2021-01-18T15:39:26",4,null,4,null,4]
[12,"5",2020,{"$f":"IFERROR(VLOOKUP([1]!Tabla_SERIEA_01_5[[#This Row],[IdEstablecimiento]],[2]Establecimientos!$A$1:$E$175,5,FALSE),0)","v":"04201-ILLAPEL"},"105440","80106013","2021-01-18T15:39:26",12,null,12,null,12]
[12,"5",2020,{"$f":"IFERROR(VLOOKUP([1]!Tabla_SERIEA_01_5[[#This Row],[IdEstablecimiento]],[2]Establecimientos!$A$1:$E$175,5,FALSE),0)","v":"04201-ILLAPEL"},"105440","80106014","2021-01-18T15:39:26",128,null,128,null,128]
[12,"5",2020,{"$f":"IFERROR(VLOOKUP([1]!Tabla_SERIEA_01_5[[#This Row],[IdEstablecimiento]],[2]Establecimientos!$A$1:$E$175,5,FALSE),0)","v":"04201-ILLAPEL"},"105440","80106015","2021-01-18T15:39:26",16,null,16,null,16]
[12,"5",2020,{"$f":"IFERROR(VLOOKUP([1]!Tabla_SERIEA_01_5[[#This Row],[IdEstablecimiento]],[2]Establecimientos!$A$1:$E$175,5,FALSE),0)","v":"04105-PAIHUANO"},"105440","80500011","2021-01-18T15:39:26",72,null,72,null,72]
[12,"5",2020,{"$f":"IFERROR(VLOOKUP([1]!Tabla_SERIEA_01_5[[#This Row],[IdEstablecimiento]],[2]Establecimientos!$A$1:$E$175,5,FALSE),0)","v":"04201-ILLAPEL"},"105440","18400400","2021-01-18T15:39:26",4,0,4]
[12,"5",2020,{"$f":"IFERROR(VLOOKUP([1]!Tabla_SERIEA_01_5[[#This Row],[IdEstablecimiento]],[2]Establecimientos!$A$1:$E$175,5,FALSE),0)","v":"04201-ILLAPEL"},"105440","18020200","2021-01-18T15:39:26",2,0,2]
[12,"5",2020,{"$f":"IFERROR(VLOOKUP([1]!Tabla_SERIEA_01_5[[#This Row],[IdEstablecimiento]],[2]Establecimientos!$A$1:$E$175,5,FALSE),0)","v":"04201-ILLAPEL"},"105440","18020300","2021-01-18T15:39:26",3,0,3]
[12,"5",2020,{"$f":"IFERROR(VLOOKUP([1]!Tabla_SERIEA_01_5[[#This Row],[IdEstablecimiento]],[2]Establecimientos!$A$1:$E$175,5,FALSE),0)","v":"04201-ILLAPEL"},"105440","18020500","2021-01-18T15:39:26",31,0,31]
[12,"5",2020,{"$f":"IFERROR(VLOOKUP([1]!Tabla_SERIEA_01_5[[#This Row],[IdEstablecimiento]],[2]Establecimientos!$A$1:$E$175,5,FALSE),0)","v":"04304-PUNITAQUI"},"105440","18030000","2021-01-18T15:39:26",13,0,13]
[12,"5",2020,{"$f":"IFERROR(VLOOKUP([1]!Tabla_SERIEA_01_5[[#This Row],[IdEstablecimiento]],[2]Establecimientos!$A$1:$E$175,5,FALSE),0)","v":"04305-RIO HURTADO"},"105440","18040200","2021-01-18T15:39:26",13,null,13]
[12,"5",2020,{"$f":"IFERROR(VLOOKUP([1]!Tabla_SERIEA_01_5[[#This Row],[IdEstablecimiento]],[2]Establecimientos!$A$1:$E$175,5,FALSE),0)","v":"04101-LA SERENA"},"105440","18050100","2021-01-18T15:39:26",54,0,54]

{"sheet":"BM18","index":2,"n_rows":79,"n_cols":24,"rows_kept":79,"merged":[[10,1,11,2],[10,3,11,3],[10,4,11,4],[10,5,11,5],[32,1,33,2],[32,3,33,3],[32,4,33,4],[32,5,33,5],[34,1,34,2],[35,1,35,2],[36,1,36,2],[37,1,37,2],[38,1,38,2],[39,1,39,2],[40,1,40,2],[41,1,41,2],[42,1,42,2],[43,1,43,2],[44,1,44,2],[46,1,47,2],[46,3,47,3],[46,4,47,4],[46,5,47,5],[48,1,48,2],[51,1,51,2],[52,1,52,2],[53,1,53,2],[54,1,54,2],[57,1,58,2],[57,3,58,3],[57,4,58,4],[57,5,58,5],[59,1,59,2],[60,1,60,2],[61,1,61,2],[62,1,62,2],[65,1,66,2],[65,3,66,3],[67,1,67,2],[69,1,70,2],[69,3,70,3],[69,4,69,9],[71,1,71,2],[72,1,72,2],[73,1,73,2],[75,1,75,2],[76,1,78,1]]}
{"$rows_empty":7}
[{"$nulls":5},"REM-B18.   ACTIVIDADES DE APOYO DIAGNOSTICO y TERAPEUTICO"]
[{"$nulls":5},"         (USO EXCLUSIVO DE ESTABLECIMIENTOS MUNICIPALES)"]
[null,"SECCIÓN A: EXÁMENES DE DIAGNOSTICO"]
[null,"EXÁMENES",null,"TOTAL","SAPU/SAR/SUR","NO SAPU/ NO SUR"]
[{"$nulls":4},"Total","Total"]
[null,"TOTAL EXÁMENES LABORATORIO",null,{"$f":"SUM(D14:D25)","v":{"v":109454,"d":"109,454"}},{"$f":"SUM(E14:E25)","v":{"v":5282,"d":"5,282"}},{"v":104172,"d":"104,172"}]
["18010100","I  ","HEMATOLÓGICOS",{"$f":"IFERROR(VLOOKUP($A14,Filtro!$A$4:$AX$315,2,FALSE),0)","v":{"v":38222,"d":"38,222"}},{"$f":"IFERROR(VLOOKUP($A14,Filtro!$A$4:$AX$315,3,FALSE),0)","v":{"v":1314,"d":"1,314"}},{"$f":"IFERROR(VLOOKUP($A14,Filtro!$A$4:$AX$315,4,FALSE),0)","v":{"v":36908,"d":"36,908"}}]
[18010200,"II  ","BIOQUÍMICOS",{"$f":"IFERROR(VLOOKUP($A15,Filtro!$A$4:$AX$315,2,FALSE),0)","v":0},{"$f":"IFERROR(VLOOKUP($A15,Filtro!$A$4:$AX$315,3,FALSE),0)","v":0},{"$f":"IFERROR(VLOOKUP($A15,Filtro!$A$4:$AX$315,4,FALSE),0)","v":0}]
["18090100","III","HORMONALES",{"$f":"IFERROR(VLOOKUP($A16,Filtro!$A$4:$AX$315,2,FALSE),0)","v":{"v":19926,"d":"19,926"}},{"$f":"IFERROR(VLOOKUP($A16,Filtro!$A$4:$AX$315,3,FALSE),0)","v":835},{"$f":"IFERROR(VLOOKUP($A16,Filtro!$A$4:$AX$315,4,FALSE),0)","v":{"v":19091,"d":"19,091"}}]
[null,"IV","GENÉTICA"]
["18010500","V","INMUNOLÓGICOS",{"$f":"IFERROR(VLOOKUP($A18,Filtro!$A$4:$AX$315,2,FALSE),0)","v":{"v":1266,"d":"1,266"}},{"$f":"IFERROR(VLOOKUP($A18,Filtro!$A$4:$AX$315,3,FALSE),0)","v":27},{"$f":"IFERROR(VLOOKUP($A18,Filtro!$A$4:$AX$315,4,FALSE),0)","v":{"v":1239,"d":"1,239"}}]
["18010601","VI  ","MICROBIOLÓGICOS",{"$f":"IFERROR(VLOOKUP($A19,Filtro!$A$4:$AX$315,2,FALSE),0)","v":{"v":11880,"d":"11,880"}},{"$f":"IFERROR(VLOOKUP($A19,Filtro!$A$4:$AX$315,3,FALSE),0)","v":644},{"$f":"IFERROR(VLOOKUP($A19,Filtro!$A$4:$AX$315,4,FALSE),0)","v":{"v":11236,"d":"11,236"}}]
[null,null,"a)   BACTERIAS Y HONGOS"]
[null,null,"b)   PARÁSITOS"]
[null,null,"c)   VIRUS"]
[null,"VII","PROCEDIMIENTO O DETERMINACIÓN DIRECTA C/PACIENTE"]
["18010800","VIII  ","EX.  DE DEPOSICIONES EXUDADOS. SECREC. Y OTROS LIQ.  ",{"$f":"IFERROR(VLOOKUP($A24,Filtro!$A$4:$AX$315,2,FALSE),0)","v":309},{"$f":"IFERROR(VLOOKUP($A24,Filtro!$A$4:$AX$315,3,FALSE),0)","v":3},{"$f":"IFERROR(VLOOKUP($A24,Filtro!$A$4:$AX$315,4,FALSE),0)","v":306}]
["18010900","IX   ","ORINA",{"$f":"IFERROR(VLOOKUP($A25,Filtro!$A$4:$AX$315,2,FALSE),0)","v":{"v":37851,"d":"37,851"}},{"$f":"IFERROR(VLOOKUP($A25,Filtro!$A$4:$AX$315,3,FALSE),0)","v":{"v":2459,"d":"2,459"}},{"$f":"IFERROR(VLOOKUP($A25,Filtro!$A$4:$AX$315,4,FALSE),0)","v":{"v":35392,"d":"35,392"}}]
[null,"TOTAL EXÁMENES IMAGENOLOGIA",null,{"$f":"SUM(D27:D30)","v":{"v":19442,"d":"19,442"}},{"$f":"SUM(E27:E30)","v":{"v":12510,"d":"12,510"}},{"v":6932,"d":"6,932"}]
["18011001","a)","EX. RADIOLÓGICOS SIMPLES",{"$f":"IFERROR(VLOOKUP($A27,Filtro!$A$4:$AX$315,2,FALSE),0)","v":{"v":16622,"d":"16,622"}},{"$f":"IFERROR(VLOOKUP($A27,Filtro!$A$4:$AX$315,3,FALSE),0)","v":{"v":12474,"d":"12,474"}},{"$f":"IFERROR(VLOOKUP($A27,Filtro!$A$4:$AX$315,4,FALSE),0)","v":{"v":4148,"d":"4,148"}}]
["18011002",null," Ecotomografias",{"$f":"IFERROR(VLOOKUP($A28,Filtro!$A$4:$AX$315,2,FALSE),0)","v":342},{"$f":"IFERROR(VLOOKUP($A28,Filtro!$A$4:$AX$315,3,FALSE),0)","v":5},{"$f":"IFERROR(VLOOKUP($A28,Filtro!$A$4:$AX$315,4,FALSE),0)","v":337}]
["18400500",null," Ecotomografias abdominal ",{"$f":"IFERROR(VLOOKUP($A29,Filtro!$A$4:$AX$315,2,FALSE),0)","v":73},{"$f":"IFERROR(VLOOKUP($A29,Filtro!$A$4:$AX$315,3,FALSE),0)","v":5},{"$f":"IFERROR(VLOOKUP($A29,Filtro!$A$4:$AX$315,4,FALSE),0)","v":68}]
["18400600",null," Ecografias Obstétricas",{"$f":"IFERROR(VLOOKUP($A30,Filtro!$A$4:$AX$315,2,FALSE),0)","v":{"v":2405,"d":"2,405"}},{"$f":"IFERROR(VLOOKUP($A30,Filtro!$A$4:$AX$315,3,FALSE),0)","v":26},{"$f":"IFERROR(VLOOKUP($A30,Filtro!$A$4:$AX$315,4,FALSE),0)","v":{"v":2379,"d":"2,379"}}]
[]
[null,"SECCIÓN B:  PROCEDIMIENTO DE APOYO CLÍNICO Y TERAPÉUTICO"]
[null,"PROCEDIMIENTOS",null,"TOTAL","SAPU/SAR/SUR","NO SAPU/ NO SUR"]
[{"$nulls":4},"Total","Total"]
["18020100","PROC. DE NEUROLOGÍA Y NEUROCIRUGÍA",null,{"$f":"IFERROR(VLOOKUP($A35,Filtro!$A$4:$AX$315,2,FALSE),0)","v":0},{"$f":"IFERROR(VLOOKUP($A35,Filtro!$A$4:$AX$315,3,FALSE),0)","v":0},{"$f":"IFERROR(VLOOKUP($A35,Filtro!$A$4:$AX$315,4,FALSE),0)","v":0}]
["18400400","PROC. DE OFTALMOLOGÍA",null,{"$f":"IFERROR(VLOOKUP($A36,Filtro!$A$4:$AX$315,2,FALSE),0)","v":307},{"$f":"IFERROR(VLOOKUP($A36,Filtro!$A$4:$AX$315,3,FALSE),0)","v":56},{"$f":"IFERROR(VLOOKUP($A36,Filtro!$A$4:$AX$315,4,FALSE),0)","v":251}]
["18020200","PROC. DE OTORRINOLARINGOLOGÍA ",null,{"$f":"IFERROR(VLOOKUP($A37,Filtro!$A$4:$AX$315,2,FALSE),0)","v":204},{"$f":"IFERROR(VLOOKUP($A37,Filtro!$A$4:$AX$315,3,FALSE),0)","v":135},{"$f":"IFERROR(VLOOKUP($A37,Filtro!$A$4:$AX$315,4,FALSE),0)","v":69}]
["18020300","PROC. DE NEUMOLOGÍA",null,{"$f":"IFERROR(VLOOKUP($A38,Filtro!$A$4:$AX$315,2,FALSE),0)","v":{"v":4423,"d":"4,423"}},{"$f":"IFERROR(VLOOKUP($A38,Filtro!$A$4:$AX$315,3,FALSE),0)","v":{"v":2771,"d":"2,771"}},{"$f":"IFERROR(VLOOKUP($A38,Filtro!$A$4:$AX$315,4,FALSE),0)","v":{"v":1652,"d":"1,652"}}]
["18020400","PROC. DE DERMATOLOGÍA",null,{"$f":"IFERROR(VLOOKUP($A39,Filtro!$A$4:$AX$315,2,FALSE),0)","v":345},{"$f":"IFERROR(VLOOKUP($A39,Filtro!$A$4:$AX$315,3,FALSE),0)","v":21},{"$f":"IFERROR(VLOOKUP($A39,Filtro!$A$4:$AX$315,4,FALSE),0)","v":324}]
["18020500","PROC. DE CARDIOLOGÍA",null,{"$f":"IFERROR(VLOOKUP($A40,Filtro!$A$4:$AX$315,2,FALSE),0)","v":{"v":48978,"d":"48,978"}},{"$f":"IFERROR(VLOOKUP($A40,Filtro!$A$4:$AX$315,3,FALSE),0)","v":{"v":10796,"d":"10,796"}},{"$f":"IFERROR(VLOOKUP($A40,Filtro!$A$4:$AX$315,4,FALSE),0)","v":{"v":38182,"d":"38,182"}}]
["18020600","PROC. DE GASTROENTEROLOGÍA",null,{"$f":"IFERROR(VLOOKUP($A41,Filtro!$A$4:$AX$315,2,FALSE),0)","v":124},{"$f":"IFERROR(VLOOKUP($A41,Filtro!$A$4:$AX$315,3,FALSE),0)","v":61},{"$f":"IFERROR(VLOOKUP($A41,Filtro!$A$4:$AX$315,4,FALSE),0)","v":63}]
["18020700","PROC. DE UROLOGÍA",null,{"$f":"IFERROR(VLOOKUP($A42,Filtro!$A$4:$AX$315,2,FALSE),0)","v":969},{"$f":"IFERROR(VLOOKUP($A42,Filtro!$A$4:$AX$315,3,FALSE),0)","v":428},{"$f":"IFERROR(VLOOKUP($A42,Filtro!$A$4:$AX$315,4,FALSE),0)","v":541}]
["18020800","PROC. ORTOPEDIA Y TRAUMATOLOGÍA",null,{"$f":"IFERROR(VLOOKUP($A43,Filtro!$A$4:$AX$315,2,FALSE),0)","v":384},{"$f":"IFERROR(VLOOKUP($A43,Filtro!$A$4:$AX$315,3,FALSE),0)","v":365},{"$f":"IFERROR(VLOOKUP($A43,Filtro!$A$4:$AX$315,4,FALSE),0)","v":19}]
["18020900","PROC. GINECO-OBSTÉTRICOS",null,{"$f":"IFERROR(VLOOKUP($A44,Filtro!$A$4:$AX$315,2,FALSE),0)","v":483},{"$f":"IFERROR(VLOOKUP($A44,Filtro!$A$4:$AX$315,3,FALSE),0)","v":4},{"$f":"IFERROR(VLOOKUP($A44,Filtro!$A$4:$AX$315,4,FALSE),0)","v":479}]
[null,"TOTAL",null,{"$f":"SUM(D35:D44)","v":{"v":56217,"d":"56,217"}},{"$f":"SUM(E35:E44)","v":{"v":14637,"d":"14,637"}},{"v":41580,"d":"41,580"}]
[null,"SECCIÓN C:  INTERVENCIONES QUIRÚRGICAS MENORES"]
[{"$nulls":3},"TOTAL","SAPU/SAR/SUR","NO SAPU/ NO SUR"]
[{"$nulls":4},"Total"]
["18030000","TOTAL INTERVENCIONES QUIRÚRGICAS MENORES (SUB-GRUPO TEGUMENTOS)",null,{"$f":"IFERROR(VLOOKUP($A49,Filtro!$A$4:$AX$315,2,FALSE),0)","v":{"v":3315,"d":"3,315"}},{"$f":"IFERROR(VLOOKUP($A49,Filtro!$A$4:$AX$315,3,FALSE),0)","v":{"v":1940,"d":"1,940"}},{"$f":"IFERROR(VLOOKUP($A49,Filtro!$A$4:$AX$315,4,FALSE),0)","v":{"v":1375,"d":"1,375"}}]
[]
[null,"SECCIÓN D : INTERVENCIONES QUIRÚRGICAS MENORES POR EDAD"]
[null,"INTERVENCIONES QUIRÚRGICAS",null,"TOTAL","< 15 AÑOS","15 Y + AÑOS"]
[null,"TOTAL",null,{"$f":"SUM(D54:D55)","v":{"v":3319,"d":"3,319"}},{"$f":"SUM(E54:E55)","v":529},{"v":2790,"d":"2,790"},"",{"$nulls":15},"",0]
["18040100","SAPU/SAR",null,{"$f":"IFERROR(VLOOKUP($A54,Filtro!$A$4:$AX$315,2,FALSE),0)","v":{"v":1926,"d":"1,926"}},{"$f":"IFERROR(VLOOKUP($A54,Filtro!$A$4:$AX$315,3,FALSE),0)","v":383},{"$f":"IFERROR(VLOOKUP($A54,Filtro!$A$4:$AX$315,4,FALSE),0)","v":{"v":1543,"d":"1,543"}}]
["18040200","NO SAPU",null,{"$f":"IFERROR(VLOOKUP($A55,Filtro!$A$4:$AX$315,2,FALSE),0)","v":{"v":1393,"d":"1,393"}},{"$f":"IFERROR(VLOOKUP($A55,Filtro!$A$4:$AX$315,3,FALSE),0)","v":146},{"$f":"IFERROR(VLOOKUP($A55,Filtro!$A$4:$AX$315,4,FALSE),0)","v":{"v":1247,"d":"1,247"}}]
[]
[null,"SECCIÓN E:  MISCELÁNEOS"]
[null,"MISCELÁNEOS",null,"TOTAL","SAPU/SAR/SUR","NO SAPU/ NO SUR"]
[{"$nulls":4},"Total","Total"]
["18090000","PROCEDIMIENTOS DE PODOLOGIA",null,{"$f":"IFERROR(VLOOKUP($A60,Filtro!$A$4:$AX$315,2,FALSE),0)","v":{"v":11742,"d":"11,742"}},{"$f":"IFERROR(VLOOKUP($A60,Filtro!$A$4:$AX$315,3,FALSE),0)","v":301},{"$f":"IFERROR(VLOOKUP($A60,Filtro!$A$4:$AX$315,4,FALSE),0)","v":{"v":11441,"d":"11,441"}}]
["18050100","CURACIÓN SIMPLE AMBULATORIA",null,{"$f":"IFERROR(VLOOKUP($A61,Filtro!$A$4:$AX$315,2,FALSE),0)","v":{"v":84674,"d":"84,674"}},{"$f":"IFERROR(VLOOKUP($A61,Filtro!$A$4:$AX$315,3,FALSE),0)","v":{"v":11735,"d":"11,735"}},{"$f":"IFERROR(VLOOKUP($A61,Filtro!$A$4:$AX$315,4,FALSE),0)","v":{"v":72939,"d":"72,939"}}]
["18050200","AUTO CUIDADO PACIENTE DID",null,{"$f":"IFERROR(VLOOKUP($A62,Filtro!$A$4:$AX$315,2,FALSE),0)","v":{"v":4133,"d":"4,133"}},{"$f":"IFERROR(VLOOKUP($A62,Filtro!$A$4:$AX$315,3,FALSE),0)","v":{"v":2334,"d":"2,334"}},{"$f":"IFERROR(VLOOKUP($A62,Filtro!$A$4:$AX$315,4,FALSE),0)","v":{"v":1799,"d":"1,799"}}]
["18050300","OXIGENOTERAPIA A DOMICILIO",null,{"$f":"IFERROR(VLOOKUP($A63,Filtro!$A$4:$AX$315,2,FALSE),0)","v":905},{"$f":"IFERROR(VLOOKUP($A63,Filtro!$A$4:$AX$315,3,FALSE),0)","v":84},{"$f":"IFERROR(VLOOKUP($A63,Filtro!$A$4:$AX$315,4,FALSE),0)","v":821}]
[]
[null,"SECCIÓN F: PRESCRIPCIONES ADMINISTRADAS EN URGENCIA APS"]
[null,"ATENCIÓN",null,"TOTAL"]
[]
["18400700","URGENCIA SAPU/SAR",null,{"$f":"IFERROR(VLOOKUP($A68,Filtro!$A$4:$AX$315,2,FALSE),0)","v":{"v":621449,"d":"621,449"}}]
[null,"SECCIÓN G : OTRAS ATENCIONES A PACIENTES AMBULATORIOS"]
[null,"TIPO DE ATENCIÓN",null,"TOTAL","ATENCIONES POR EDAD"]
[{"$nulls":4},"< 1 año","1 - 4 años","5 a 9 años","10 a 19 años","20 a 64 años","65 años y más"]
["18070100","POR TERAPÉUTICA OCUPACIONAL",null,{"$f":"IFERROR(VLOOKUP($A72,Filtro!$A$4:$AX$315,2,FALSE),0)","v":34},{"$f":"IFERROR(VLOOKUP($A72,Filtro!$A$4:$AX$315,3,FALSE),0)","v":5},{"$f":"IFERROR(VLOOKUP($A72,Filtro!$A$4:$AX$315,4,FALSE),0)","v":19},{"$f":"IFERROR(VLOOKUP($A72,Filtro!$A$4:$AX$315,5,FALSE),0)","v":0},{"$f":"IFERROR(VLOOKUP($A72,Filtro!$A$4:$AX$315,6,FALSE),0)","v":0},{"$f":"IFERROR(VLOOKUP($A72,Filtro!$A$4:$AX$315,7,FALSE),0)","v":7},{"$f":"IFERROR(VLOOKUP($A72,Filtro!$A$4:$AX$315,8,FALSE),0)","v":3}]
["18070300","POR KINESIOLOGO (NO SAPU)",null,{"$f":"IFERROR(VLOOKUP($A73,Filtro!$A$4:$AX$315,2,FALSE),0)","v":{"v":2480,"d":"2,480"}},{"$f":"IFERROR(VLOOKUP($A73,Filtro!$A$4:$AX$315,3,FALSE),0)","v":159},{"$f":"IFERROR(VLOOKUP($A73,Filtro!$A$4:$AX$315,4,FALSE),0)","v":187},{"$f":"IFERROR(VLOOKUP($A73,Filtro!$A$4:$AX$315,5,FALSE),0)","v":49},{"$f":"IFERROR(VLOOKUP($A73,Filtro!$A$4:$AX$315,6,FALSE),0)","v":121},{"$f":"IFERROR(VLOOKUP($A73,Filtro!$A$4:$AX$315,7,FALSE),0)","v":{"v":1246,"d":"1,246"}},{"$f":"IFERROR(VLOOKUP($A73,Filtro!$A$4:$AX$315,8,FALSE),0)","v":718}]
["18400900","POR EDUCADORA DE PÁRVULO/DIFERENCIAL",null,{"$f":"IFERROR(VLOOKUP($A74,Filtro!$A$4:$AX$315,2,FALSE),0)","v":{"v":5281,"d":"5,281"}},{"$f":"IFERROR(VLOOKUP($A74,Filtro!$A$4:$AX$315,3,FALSE),0)","v":{"v":1268,"d":"1,268"}},{"$f":"IFERROR(VLOOKUP($A74,Filtro!$A$4:$AX$315,4,FALSE),0)","v":{"v":4013,"d":"4,013"}},{"$f":"IFERROR(VLOOKUP($A74,Filtro!$A$4:$AX$315,5,FALSE),0)","v":0},{"$f":"IFERROR(VLOOKUP($A74,Filtro!$A$4:$AX$315,6,FALSE),0)","v":0},{"$f":"IFERROR(VLOOKUP($A74,Filtro!$A$4:$AX$315,7,FALSE),0)","v":0},{"$f":"IFERROR(VLOOKUP($A74,Filtro!$A$4:$AX$315,8,FALSE),0)","v":0}]
[null,"SECCIÓN H: OTROS TRASLADOS DE PACIENTES"]
[null,"TIPO DE ACCION",null,"TOTAL        ","POR COMPRA \nDE SERVICIO"]
["18090200","TRASLADOS NO DE URGENCIA","AMBULANCIA",{"$f":"IFERROR(VLOOKUP($A77,Filtro!$A$4:$AX$315,2,FALSE),0)","v":{"v":9805,"d":"9,805"}},{"$f":"IFERROR(VLOOKUP($A77,Filtro!$A$4:$AX$315,3,FALSE),0)","v":{"v":1617,"d":"1,617"}}]
["18090300",null,"MARÍTIMO",{"$f":"IFERROR(VLOOKUP($A78,Filtro!$A$4:$AX$315,2,FALSE),0)","v":0},{"$f":"IFERROR(VLOOKUP($A78,Filtro!$A$4:$AX$315,3,FALSE),0)","v":0}]
["18090400",null,"AÉREO",{"$f":"IFERROR(VLOOKUP($A79,Filtro!$A$4:$AX$315,2,FALSE),0)","v":0},{"$f":"IFERROR(VLOOKUP($A79,Filtro!$A$4:$AX$315,3,FALSE),0)","v":0}]

{"sheet":"BM18A","index":3,"n_rows":607,"n_cols":9,"rows_kept":607,"merged":[[5,1,5,3],[6,2,6,6],[9,1,10,1],[9,2,10,2],[9,3,10,3],[9,4,10,4],[9,5,10,5],[9,6,10,6],[11,1,11,2],[11,3,11,6],[97,1,97,2],[98,1,98,2],[98,3,98,6],[168,1,168,2],[169,1,169,2],[175,1,175,2],[176,1,176,2],[176,3,176,6],[234,1,234,2],[235,1,235,2],[235,3,235,6],[314,1,314,2],[315,1,315,2],[360,1,360,2],[361,1,361,2],[392,1,392,2],[393,1,393,2],[394,1,394,2],[479,1,480,1],[479,2,480,2],[479,3,480,3],[479,4,480,4],[479,5,480,5],[479,6,479,7],[479,8,480,8],[481,1,481,2],[483,1,483,2],[495,1,495,2],[496,1,496,2],[503,1,503,2],[504,1,504,2],[507,1,507,2],[508,1,508,2],[512,1,512,2],[513,1,513,2],[513,3,513,8],[518,1,518,2],[519,1,519,2],[523,1,523,2],[524,1,524,2],[527,1,527,2],[528,1,528,2],[530,1,530,2],[538,1,538,2],[539,1,539,2],[564,1,564,2],[565,1,565,2],[583,1,583,2],[584,1,585,1],[584,2,585,2],[584,3,585,3],[584,4,585,4],[584,5,585,5],[584,6,585,6],[588,1,588,2],[589,1,589,8],[590,1,591,2],[590,3,591,3],[590,4,591,4],[590,5,591,5],[590,6,590,7],[590,8,591,8],[592,1,592,2],[593,1,593,2],[594,1,594,2],[595,1,595,2],[596,1,596,2],[597,1,597,2],[598,1,598,2],[599,1,599,2],[600,1,600,2],[601,1,601,2],[602,1,602,2],[604,1,604,2],[605,1,605,2],[606,1,606,2]]}
[]
[]
[]
[]
[]
[]
[null,null,"REM-18A  -  LIBRO DE PRESTACIONES DE APOYO DIAGNOSTICO y TERAPÉUTICO\n(USO EXCLUSIVO DE ESTABLECIMIENTOS MUNICIPALES)"]
[]
[null,"SECCIÓN A: EXÁMENES DE DIAGNOSTICO"]
[null,"CÓDIGOS","EXÁMENES","TOTAL","SAPU/SAR/SUR","NO SAPU/ NO SUR","COMPRAS DE SERVICIOS"]
[]
[null,"1.- SANGRE HEMATOLOGÍA"]
["80301001","0301001","Acidificación del suero, test de Ham",{"$f":"IFERROR(VLOOKUP($A13,Filtro!$A$4:$AX$315,2,FALSE),0)","v":0},{"$f":"IFERROR(VLOOKUP($A13,Filtro!$A$4:$AX$315,3,FALSE),0)","v":0},{"$f":"IFERROR(VLOOKUP($A13,Filtro!$A$4:$AX$315,4,FALSE),0)","v":0},{"$f":"IFERROR(VLOOKUP($A13,Filtro!$A$4:$AX$315,5,FALSE),0)","v":0}]
["80301002","0301002","Acido fólico o folatos",{"$f":"IFERROR(VLOOKUP($A14,Filtro!$A$4:$AX$315,2,FALSE),0)","v":0},{"$f":"IFERROR(VLOOKUP($A14,Filtro!$A$4:$AX$315,3,FALSE),0)","v":0},{"$f":"IFERROR(VLOOKUP($A14,Filtro!$A$4:$AX$315,4,FALSE),0)","v":0},{"$f":"IFERROR(VLOOKUP($A14,Filtro!$A$4:$AX$315,5,FALSE),0)","v":1}]
["80301003","0301003","Adenograma, esplenograma, mielograma c/u",{"$f":"IFERROR(VLOOKUP($A15,Filtro!$A$4:$AX$315,2,FALSE),0)","v":0},{"$f":"IFERROR(VLOOKUP($A15,Filtro!$A$4:$AX$315,3,FALSE),0)","v":0},{"$f":"IFERROR(VLOOKUP($A15,Filtro!$A$4:$AX$315,4,FALSE),0)","v":0},{"$f":"IFERROR(VLOOKUP($A15,Filtro!$A$4:$AX$315,5,FALSE),0)","v":0}]
["80301004","0301004","Adhesividad plaquetaria",{"$f":"IFERROR(VLOOKUP($A16,Filtro!$A$4:$AX$315,2,FALSE),0)","v":0},{"$f":"IFERROR(VLOOKUP($A16,Filtro!$A$4:$AX$315,3,FALSE),0)","v":0},{"$f":"IFERROR(VLOOKUP($A16,Filtro!$A$4:$AX$315,4,FALSE),0)","v":0},{"$f":"IFERROR(VLOOKUP($A16,Filtro!$A$4:$AX$315,5,FALSE),0)","v":0}]
["80301005","0301005","Aglutininas anti Rho",{"$f":"IFERROR(VLOOKUP($A17,Filtro!$A$4:$AX$315,2,FALSE),0)","v":0},{"$f":"IFERROR(VLOOKUP($A17,Filtro!$A$4:$AX$315,3,FALSE),0)","v":0},{"$f":"IFERROR(VLOOKUP($A17,Filtro!$A$4:$AX$315,4,FALSE),0)","v":0},{"$f":"IFERROR(VLOOKUP($A17,Filtro!$A$4:$AX$315,5,FALSE),0)","v":11}]
["80301006","0301006","Agregación plaquetaria",{"$f":"IFERROR(VLOOKUP($A18,Filtro!$A$4:$AX$315,2,FALSE),0)","v":0},{"$f":"IFERROR(VLOOKUP($A18,Filtro!$A$4:$AX$315,3,FALSE),0)","v":0},{"$f":"IFERROR(VLOOKUP($A18,Filtro!$A$4:$AX$315,4,FALSE),0)","v":0},{"$f":"IFERROR(VLOOKUP($A18,Filtro!$A$4:$AX$315,5,FALSE),0)","v":0}]
["80301007","0301007","Anticoagulantes circulantes o anticoagulante lúpico",{"$f":"IFERROR(VLOOKUP($A19,Filtro!$A$4:$AX$315,2,FALSE),0)","v":0},{"$f":"IFERROR(VLOOKUP($A19,Filtro!$A$4:$AX$315,3,FALSE),0)","v":0},{"$f":"IFERROR(VLOOKUP($A19,Filtro!$A$4:$AX$315,4,FALSE),0)","v":0},{"$f":"IFERROR(VLOOKUP($A19,Filtro!$A$4:$AX$315,5,FALSE),0)","v":0}]
["80301008","0301008","Antitrombina III",{"$f":"IFERROR(VLOOKUP($A20,Filtro!$A$4:$AX$315,2,FALSE),0)","v":0},{"$f":"IFERROR(VLOOKUP($A20,Filtro!$A$4:$AX$315,3,FALSE),0)","v":0},{"$f":"IFERROR(VLOOKUP($A20,Filtro!$A$4:$AX$315,4,FALSE),0)","v":0},{"$f":"IFERROR(VLOOKUP($A20,Filtro!$A$4:$AX$315,5,FALSE),0)","v":0}]
["80301009","0301009","Auto-hemólisis test,  con y sin glucosa",{"$f":"IFERROR(VLOOKUP($A21,Filtro!$A$4:$AX$315,2,FALSE),0)","v":0},{"$f":"IFERROR(VLOOKUP($A21,Filtro!$A$4:$AX$315,3,FALSE),0)","v":0},{"$f":"IFERROR(VLOOKUP($A21,Filtro!$A$4:$AX$315,4,FALSE),0)","v":0},{"$f":"IFERROR(VLOOKUP($A21,Filtro!$A$4:$AX$315,5,FALSE),0)","v":0}]
["80301010","0301010","Células del lupus, cada muestra",{"$f":"IFERROR(VLOOKUP($A22,Filtro!$A$4:$AX$315,2,FALSE),0)","v":0},{"$f":"IFERROR(VLOOKUP($A22,Filtro!$A$4:$AX$315,3,FALSE),0)","v":0},{"$f":"IFERROR(VLOOKUP($A22,Filtro!$A$4:$AX$315,4,FALSE),0)","v":0},{"$f":"IFERROR(VLOOKUP($A22,Filtro!$A$4:$AX$315,5,FALSE),0)","v":0}]
["80301011","0301011","Coagulación, tiempo de",{"$f":"IFERROR(VLOOKUP($A23,Filtro!$A$4:$AX$315,2,FALSE),0)","v":0},{"$f":"IFERROR(VLOOKUP($A23,Filtro!$A$4:$AX$315,3,FALSE),0)","v":0},{"$f":"IFERROR(VLOOKUP($A23,Filtro!$A$4:$AX$315,4,FALSE),0)","v":0},{"$f":"IFERROR(VLOOKUP($A23,Filtro!$A$4:$AX$315,5,FALSE),0)","v":71}]
["80301012","0301012","Coágulo,  tiempo de retracción del",{"$f":"IFERROR(VLOOKUP($A24,Filtro!$A$4:$AX$315,2,FALSE),0)","v":0},{"$f":"IFERROR(VLOOKUP($A24,Filtro!$A$4:$AX$315,3,FALSE),0)","v":0},{"$f":"IFERROR(VLOOKUP($A24,Filtro!$A$4:$AX$315,4,FALSE),0)","v":0},{"$f":"IFERROR(VLOOKUP($A24,Filtro!$A$4:$AX$315,5,FALSE),0)","v":0}]
["80301013","0301013","Coágulo, tiempo de lisis del",{"$f":"IFERROR(VLOOKUP($A25,Filtro!$A$4:$AX$315,2,FALSE),0)","v":0},{"$f":"IFERROR(VLOOKUP($A25,Filtro!$A$4:$AX$315,3,FALSE),0)","v":0},{"$f":"IFERROR(VLOOKUP($A25,Filtro!$A$4:$AX$315,4,FALSE),0)","v":0},{"$f":"IFERROR(VLOOKUP($A25,Filtro!$A$4:$AX$315,5,FALSE),0)","v":0}]
["80301014","0301014","Coombs directo, test de",{"$f":"IFERROR(VLOOKUP($A26,Filtro!$A$4:$AX$315,2,FALSE),0)","v":0},{"$f":"IFERROR(VLOOKUP($A26,Filtro!$A$4:$AX$315,3,FALSE),0)","v":0},{"$f":"IFERROR(VLOOKUP($A26,Filtro!$A$4:$AX$315,4,FALSE),0)","v":0},{"$f":"IFERROR(VLOOKUP($A26,Filtro!$A$4:$AX$315,5,FALSE),0)","v":70}]
["80301015","0301015","Coombs indirecto, prueba de",{"$f":"IFERROR(VLOOKUP($A27,Filtro!$A$4:$AX$315,2,FALSE),0)","v":37},{"$f":"IFERROR(VLOOKUP($A27,Filtro!$A$4:$AX$315,3,FALSE),0)","v":0},{"$f":"IFERROR(VLOOKUP($A27,Filtro!$A$4:$AX$315,4,FALSE),0)","v":37},{"$f":"IFERROR(VLOOKUP($A27,Filtro!$A$4:$AX$315,5,FALSE),0)","v":353}]
["80301016","0301016","Cuerpos de Heinz",{"$f":"IFERROR(VLOOKUP($A28,Filtro!$A$4:$AX$315,2,FALSE),0)","v":0},{"$f":"IFERROR(VLOOKUP($A28,Filtro!$A$4:$AX$315,3,FALSE),0)","v":0},{"$f":"IFERROR(VLOOKUP($A28,Filtro!$A$4:$AX$315,4,FALSE),0)","v":0},{"$f":"IFERROR(VLOOKUP($A28,Filtro!$A$4:$AX$315,5,FALSE),0)","v":1}]
["80301017","0301017","Deshidrogenasa glucosa-6-fosfato en eritrocitos",{"$f":"IFERROR(VLOOKUP($A29,Filtro!$A$4:$AX$315,2,FALSE),0)","v":0},{"$f":"IFERROR(VLOOKUP($A29,Filtro!$A$4:$AX$315,3,FALSE),0)","v":0},{"$f":"IFERROR(VLOOKUP($A29,Filtro!$A$4:$AX$315,4,FALSE),0)","v":0},{"$f":"IFERROR(VLOOKUP($A29,Filtro!$A$4:$AX$315,5,FALSE),0)","v":0}]
["80301020","0301020","Euglobulinas, tiempo de lisis de",{"$f":"IFERROR(VLOOKUP($A30,Filtro!$A$4:$AX$315,2,FALSE),0)","v":0},{"$f":"IFERROR(VLOOKUP($A30,Filtro!$A$4:$AX$315,3,FALSE),0)","v":0},{"$f":"IFERROR(VLOOKUP($A30,Filtro!$A$4:$AX$315,4,FALSE),0)","v":0},{"$f":"IFERROR(VLOOKUP($A30,Filtro!$A$4:$AX$315,5,FALSE),0)","v":0}]
["80301021","0301021","Fibrinógeno",{"$f":"IFERROR(VLOOKUP($A31,Filtro!$A$4:$AX$315,2,FALSE),0)","v":0},{"$f":"IFERROR(VLOOKUP($A31,Filtro!$A$4:$AX$315,3,FALSE),0)","v":0},{"$f":"IFERROR(VLOOKUP($A31,Filtro!$A$4:$AX$315,4,FALSE),0)","v":0},{"$f":"IFERROR(VLOOKUP($A31,Filtro!$A$4:$AX$315,5,FALSE),0)","v":0}]
["80301022","0301022","Test de neutralización plaquetaria",{"$f":"IFERROR(VLOOKUP($A32,Filtro!$A$4:$AX$315,2,FALSE),0)","v":0},{"$f":"IFERROR(VLOOKUP($A32,Filtro!$A$4:$AX$315,3,FALSE),0)","v":0},{"$f":"IFERROR(VLOOKUP($A32,Filtro!$A$4:$AX$315,4,FALSE),0)","v":0},{"$f":"IFERROR(VLOOKUP($A32,Filtro!$A$4:$AX$315,5,FALSE),0)","v":0}]
["80301023","0301023","Factor III plaquetario",{"$f":"IFERROR(VLOOKUP($A33,Filtro!$A$4:$AX$315,2,FALSE),0)","v":0},{"$f":"IFERROR(VLOOKUP($A33,Filtro!$A$4:$AX$315,3,FALSE),0)","v":0},{"$f":"IFERROR(VLOOKUP($A33,Filtro!$A$4:$AX$315,4,FALSE),0)","v":0},{"$f":"IFERROR(VLOOKUP($A33,Filtro!$A$4:$AX$315,5,FALSE),0)","v":0}]
["80301024","0301024","Factor V",{"$f":"IFERROR(VLOOKUP($A34,Filtro!$A$4:$AX$315,2,FALSE),0)","v":0},{"$f":"IFERROR(VLOOKUP($A34,Filtro!$A$4:$AX$315,3,FALSE),0)","v":0},{"$f":"IFERROR(VLOOKUP($A34,Filtro!$A$4:$AX$315,4,FALSE),0)","v":0},{"$f":"IFERROR(VLOOKUP($A34,Filtro!$A$4:$AX$315,5,FALSE),0)","v":0}]
["80301025","0301025","Factores VII, VIII, IX, X, XI, XII, XIII, c/u",{"$f":"IFERROR(VLOOKUP($A35,Filtro!$A$4:$AX$315,2,FALSE),0)","v":0},{"$f":"IFERROR(VLOOKUP($A35,Filtro!$A$4:$AX$315,3,FALSE),0)","v":0},{"$f":"IFERROR(VLOOKUP($A35,Filtro!$A$4:$AX$315,4,FALSE),0)","v":0},{"$f":"IFERROR(VLOOKUP($A35,Filtro!$A$4:$AX$315,5,FALSE),0)","v":0}]
["80301026","0301026","Ferritina",{"$f":"IFERROR(VLOOKUP($A36,Filtro!$A$4:$AX$315,2,FALSE),0)","v":0},{"$f":"IFERROR(VLOOKUP($A36,Filtro!$A$4:$AX$315,3,FALSE),0)","v":0},{"$f":"IFERROR(VLOOKUP($A36,Filtro!$A$4:$AX$315,4,FALSE),0)","v":0},{"$f":"IFERROR(VLOOKUP($A36,Filtro!$A$4:$AX$315,5,FALSE),0)","v":140}]
["80301027","0301027","Fibrinógeno, productos de degradación del",{"$f":"IFERROR(VLOOKUP($A37,Filtro!$A$4:$AX$315,2,FALSE),0)","v":0},{"$f":"IFERROR(VLOOKUP($A37,Filtro!$A$4:$AX$315,3,FALSE),0)","v":0},{"$f":"IFERROR(VLOOKUP($A37,Filtro!$A$4:$AX$315,4,FALSE),0)","v":0},{"$f":"IFERROR(VLOOKUP($A37,Filtro!$A$4:$AX$315,5,FALSE),0)","v":0}]
["80301028","0301028","Fierro sérico",{"$f":"IFERROR(VLOOKUP($A38,Filtro!$A$4:$AX$315,2,FALSE),0)","v":0},{"$f":"IFERROR(VLOOKUP($A38,Filtro!$A$4:$AX$315,3,FALSE),0)","v":0},{"$f":"IFERROR(VLOOKUP($A38,Filtro!$A$4:$AX$315,4,FALSE),0)","v":0},{"$f":"IFERROR(VLOOKUP($A38,Filtro!$A$4:$AX$315,5,FALSE),0)","v":0}]
["80301029","0301029","Fierro, capacidad de fijación del (incluye fierro sérico)",{"$f":"IFERROR(VLOOKUP($A39,Filtro!$A$4:$AX$315,2,FALSE),0)","v":0},{"$f":"IFERROR(VLOOKUP($A39,Filtro!$A$4:$AX$315,3,FALSE),0)","v":0},{"$f":"IFERROR(VLOOKUP($A39,Filtro!$A$4:$AX$315,4,FALSE),0)","v":0},{"$f":"IFERROR(VLOOKUP($A39,Filtro!$A$4:$AX$315,5,FALSE),0)","v":0}]
["80301030","0301030","Fierro, cinética del (cada determinación)",{"$f":"IFERROR(VLOOKUP($A40,Filtro!$A$4:$AX$315,2,FALSE),0)","v":0},{"$f":"IFERROR(VLOOKUP($A40,Filtro!$A$4:$AX$315,3,FALSE),0)","v":0},{"$f":"IFERROR(VLOOKUP($A40,Filtro!$A$4:$AX$315,4,FALSE),0)","v":0},{"$f":"IFERROR(VLOOKUP($A40,Filtro!$A$4:$AX$315,5,FALSE),0)","v":0}]
["80301032","0301032","Gelación por etanol",{"$f":"IFERROR(VLOOKUP($A41,Filtro!$A$4:$AX$315,2,FALSE),0)","v":0},{"$f":"IFERROR(VLOOKUP($A41,Filtro!$A$4:$AX$315,3,FALSE),0)","v":0},{"$f":"IFERROR(VLOOKUP($A41,Filtro!$A$4:$AX$315,4,FALSE),0)","v":0},{"$f":"IFERROR(VLOOKUP($A41,Filtro!$A$4:$AX$315,5,FALSE),0)","v":0}]
["80301033","0301033","Grupos menores. Tipificación o determinación de otros sistemas sanguíneos (Kell, Duffy, Kidd y otros) c/u.",{"$f":"IFERROR(VLOOKUP($A42,Filtro!$A$4:$AX$315,2,FALSE),0)","v":0},{"$f":"IFERROR(VLOOKUP($A42,Filtro!$A$4:$AX$315,3,FALSE),0)","v":0},{"$f":"IFERROR(VLOOKUP($A42,Filtro!$A$4:$AX$315,4,FALSE),0)","v":0},{"$f":"IFERROR(VLOOKUP($A42,Filtro!$A$4:$AX$315,5,FALSE),0)","v":1}]
["80301034","0301034","Grupos sanguíneos AB0 y Rho (incluye estudio de factor Du en Rh negativos)",{"$f":"IFERROR(VLOOKUP($A43,Filtro!$A$4:$AX$315,2,FALSE),0)","v":{"v":1088,"d":"1,088"}},{"$f":"IFERROR(VLOOKUP($A43,Filtro!$A$4:$AX$315,3,FALSE),0)","v":65},{"$f":"IFERROR(VLOOKUP($A43,Filtro!$A$4:$AX$315,4,FALSE),0)","v":{"v":1023,"d":"1,023"}},{"$f":"IFERROR(VLOOKUP($A43,Filtro!$A$4:$AX$315,5,FALSE),0)","v":{"v":1478,"d":"1,478"}}]
["80301035","0301035","Haptoglobina cuantitativa",{"$f":"IFERROR(VLOOKUP($A44,Filtro!$A$4:$AX$315,2,FALSE),0)","v":0},{"$f":"IFERROR(VLOOKUP($A44,Filtro!$A$4:$AX$315,3,FALSE),0)","v":0},{"$f":"IFERROR(VLOOKUP($A44,Filtro!$A$4:$AX$315,4,FALSE),0)","v":0},{"$f":"IFERROR(VLOOKUP($A44,Filtro!$A$4:$AX$315,5,FALSE),0)","v":57}]
["80301036","0301036","Hematocrito (proc. aut.)",{"$f":"IFERROR(VLOOKUP($A45,Filtro!$A$4:$AX$315,2,FALSE),0)","v":{"v":2705,"d":"2,705"}},{"$f":"IFERROR(VLOOKUP($A45,Filtro!$A$4:$AX$315,3,FALSE),0)","v":59},{"$f":"IFERROR(VLOOKUP($A45,Filtro!$A$4:$AX$315,4,FALSE),0)","v":{"v":2646,"d":"2,646"}},{"$f":"IFERROR(VLOOKUP($A45,Filtro!$A$4:$AX$315,5,FALSE),0)","v":{"v":20095,"d":"20,095"}}]
["80301038","0301038","Hemoglobina en sangre total (proc. aut.)",{"$f":"IFERROR(VLOOKUP($A46,Filtro!$A$4:$AX$315,2,FALSE),0)","v":{"v":1917,"d":"1,917"}},{"$f":"IFERROR(VLOOKUP($A46,Filtro!$A$4:$AX$315,3,FALSE),0)","v":84},{"$f":"IFERROR(VLOOKUP($A46,Filtro!$A$4:$AX$315,4,FALSE),0)","v":{"v":1823,"d":"1,823"}},{"$f":"IFERROR(VLOOKUP($A46,Filtro!$A$4:$AX$315,5,FALSE),0)","v":{"v":16300,"d":"16,300"}}]
["80301039","0301039","Hemoglobina fetal cualitativa",{"$f":"IFERROR(VLOOKUP($A47,Filtro!$A$4:$AX$315,2,FALSE),0)","v":0},{"$f":"IFERROR(VLOOKUP($A47,Filtro!$A$4:$AX$315,3,FALSE),0)","v":0},{"$f":"IFERROR(VLOOKUP($A47,Filtro!$A$4:$AX$315,4,FALSE),0)","v":0},{"$f":"IFERROR(VLOOKUP($A47,Filtro!$A$4:$AX$315,5,FALSE),0)","v":30}]
["80301040","0301040","Hemoglobina fetal cuantitativa en eritrocitos",{"$f":"IFERROR(VLOOKUP($A48,Filtro!$A$4:$AX$315,2,FALSE),0)","v":0},{"$f":"IFERROR(VLOOKUP($A48,Filtro!$A$4:$AX$315,3,FALSE),0)","v":0},{"$f":"IFERROR(VLOOKUP($A48,Filtro!$A$4:$AX$315,4,FALSE),0)","v":0},{"$f":"IFERROR(VLOOKUP($A48,Filtro!$A$4:$AX$315,5,FALSE),0)","v":20}]
["80301041","0301041","Hemoglobina glicosilada",{"$f":"IFERROR(VLOOKUP($A49,Filtro!$A$4:$AX$315,2,FALSE),0)","v":{"v":7776,"d":"7,776"}},{"$f":"IFERROR(VLOOKUP($A49,Filtro!$A$4:$AX$315,3,FALSE),0)","v":340},{"$f":"IFERROR(VLOOKUP($A49,Filtro!$A$4:$AX$315,4,FALSE),0)","v":{"v":7436,"d":"7,436"}},{"$f":"IFERROR(VLOOKUP($A49,Filtro!$A$4:$AX$315,5,FALSE),0)","v":{"v":22209,"d":"22,209"}}]
["80301042","0301042","Hemoglobina plasmática",{"$f":"IFERROR(VLOOKUP($A50,Filtro!$A$4:$AX$315,2,FALSE),0)","v":1},{"$f":"IFERROR(VLOOKUP($A50,Filtro!$A$4:$AX$315,3,FALSE),0)","v":0},{"$f":"IFERROR(VLOOKUP($A50,Filtro!$A$4:$AX$315,4,FALSE),0)","v":1},{"$f":"IFERROR(VLOOKUP($A50,Filtro!$A$4:$AX$315,5,FALSE),0)","v":124}]
["80301043","0301043","Hemoglobina termolabil",{"$f":"IFERROR(VLOOKUP($A51,Filtro!$A$4:$AX$315,2,FALSE),0)","v":0},{"$f":"IFERROR(VLOOKUP($A51,Filtro!$A$4:$AX$315,3,FALSE),0)","v":0},{"$f":"IFERROR(VLOOKUP($A51,Filtro!$A$4:$AX$315,4,FALSE),0)","v":0},{"$f":"IFERROR(VLOOKUP($A51,Filtro!$A$4:$AX$315,5,FALSE),0)","v":0}]
["80301044","0301044","Hemoglobina, electroforesis de (incluye Hb. total)",{"$f":"IFERROR(VLOOKUP($A52,Filtro!$A$4:$AX$315,2,FALSE),0)","v":0},{"$f":"IFERROR(VLOOKUP($A52,Filtro!$A$4:$AX$315,3,FALSE),0)","v":0},{"$f":"IFERROR(VLOOKUP($A52,Filtro!$A$4:$AX$315,4,FALSE),0)","v":0},{"$f":"IFERROR(VLOOKUP($A52,Filtro!$A$4:$AX$315,5,FALSE),0)","v":14}]
["80301045","0301045","Hemograma (incluye recuentos de leucocitos y eritrocitos, hemoglobina, hematocrito, fórmula leucocitaria, características de los elementos figurados y velocidad de eritrosedimentación)",{"$f":"IFERROR(VLOOKUP($A53,Filtro!$A$4:$AX$315,2,FALSE),0)","v":{"v":16006,"d":"16,006"}},{"$f":"IFERROR(VLOOKUP($A53,Filtro!$A$4:$AX$315,3,FALSE),0)","v":722},{"$f":"IFERROR(VLOOKUP($A53,Filtro!$A$4:$AX$315,4,FALSE),0)","v":{"v":15284,"d":"15,284"}},{"$f":"IFERROR(VLOOKUP($A53,Filtro!$A$4:$AX$315,5,FALSE),0)","v":{"v":29066,"d":"29,066"}}]
["80301046","0301046","Hemolisinas",{"$f":"IFERROR(VLOOKUP($A54,Filtro!$A$4:$AX$315,2,FALSE),0)","v":0},{"$f":"IFERROR(VLOOKUP($A54,Filtro!$A$4:$AX$315,3,FALSE),0)","v":0},{"$f":"IFERROR(VLOOKUP($A54,Filtro!$A$4:$AX$315,4,FALSE),0)","v":0},{"$f":"IFERROR(VLOOKUP($A54,Filtro!$A$4:$AX$315,5,FALSE),0)","v":15}]
["80301047","0301047","Hemólisis con sucrosa, test de",{"$f":"IFERROR(VLOOKUP($A55,Filtro!$A$4:$AX$315,2,FALSE),0)","v":0},{"$f":"IFERROR(VLOOKUP($A55,Filtro!$A$4:$AX$315,3,FALSE),0)","v":0},{"$f":"IFERROR(VLOOKUP($A55,Filtro!$A$4:$AX$315,4,FALSE),0)","v":0},{"$f":"IFERROR(VLOOKUP($A55,Filtro!$A$4:$AX$315,5,FALSE),0)","v":0}]
["80301048","0301048","Hemosiderina medular",{"$f":"IFERROR(VLOOKUP($A56,Filtro!$A$4:$AX$315,2,FALSE),0)","v":0},{"$f":"IFERROR(VLOOKUP($A56,Filtro!$A$4:$AX$315,3,FALSE),0)","v":0},{"$f":"IFERROR(VLOOKUP($A56,Filtro!$A$4:$AX$315,4,FALSE),0)","v":0},{"$f":"IFERROR(VLOOKUP($A56,Filtro!$A$4:$AX$315,5,FALSE),0)","v":0}]
["80301049","0301049","Heparina, cuantificación de",{"$f":"IFERROR(VLOOKUP($A57,Filtro!$A$4:$AX$315,2,FALSE),0)","v":0},{"$f":"IFERROR(VLOOKUP($A57,Filtro!$A$4:$AX$315,3,FALSE),0)","v":0},{"$f":"IFERROR(VLOOKUP($A57,Filtro!$A$4:$AX$315,4,FALSE),0)","v":0},{"$f":"IFERROR(VLOOKUP($A57,Filtro!$A$4:$AX$315,5,FALSE),0)","v":19}]
["80301050","0301050","Isoinmunización, detección de anticuerpos irregulares (proc. aut.).",{"$f":"IFERROR(VLOOKUP($A58,Filtro!$A$4:$AX$315,2,FALSE),0)","v":0},{"$f":"IFERROR(VLOOKUP($A58,Filtro!$A$4:$AX$315,3,FALSE),0)","v":0},{"$f":"IFERROR(VLOOKUP($A58,Filtro!$A$4:$AX$315,4,FALSE),0)","v":0},{"$f":"IFERROR(VLOOKUP($A58,Filtro!$A$4:$AX$315,5,FALSE),0)","v":0}]
["80301051","0301051","Isoinmunización, detección e identificación de anticuerpos",{"$f":"IFERROR(VLOOKUP($A59,Filtro!$A$4:$AX$315,2,FALSE),0)","v":0},{"$f":"IFERROR(VLOOKUP($A59,Filtro!$A$4:$AX$315,3,FALSE),0)","v":0},{"$f":"IFERROR(VLOOKUP($A59,Filtro!$A$4:$AX$315,4,FALSE),0)","v":0},{"$f":"IFERROR(VLOOKUP($A59,Filtro!$A$4:$AX$315,5,FALSE),0)","v":0}]
["80301052","0301052","Isopropanol, test de",{"$f":"IFERROR(VLOOKUP($A60,Filtro!$A$4:$AX$315,2,FALSE),0)","v":0},{"$f":"IFERROR(VLOOKUP($A60,Filtro!$A$4:$AX$315,3,FALSE),0)","v":0},{"$f":"IFERROR(VLOOKUP($A60,Filtro!$A$4:$AX$315,4,FALSE),0)","v":0},{"$f":"IFERROR(VLOOKUP($A60,Filtro!$A$4:$AX$315,5,FALSE),0)","v":0}]
["80301053","0301053","Metahemalbúmina",{"$f":"IFERROR(VLOOKUP($A61,Filtro!$A$4:$AX$315,2,FALSE),0)","v":0},{"$f":"IFERROR(VLOOKUP($A61,Filtro!$A$4:$AX$315,3,FALSE),0)","v":0},{"$f":"IFERROR(VLOOKUP($A61,Filtro!$A$4:$AX$315,4,FALSE),0)","v":0},{"$f":"IFERROR(VLOOKUP($A61,Filtro!$A$4:$AX$315,5,FALSE),0)","v":0}]
["80301054","0301054","Metahemoglobina",{"$f":"IFERROR(VLOOKUP($A62,Filtro!$A$4:$AX$315,2,FALSE),0)","v":0},{"$f":"IFERROR(VLOOKUP($A62,Filtro!$A$4:$AX$315,3,FALSE),0)","v":0},{"$f":"IFERROR(VLOOKUP($A62,Filtro!$A$4:$AX$315,4,FALSE),0)","v":0},{"$f":"IFERROR(VLOOKUP($A62,Filtro!$A$4:$AX$315,5,FALSE),0)","v":0}]
["80301055","0301055","Muraminidasa en eritrocitos",{"$f":"IFERROR(VLOOKUP($A63,Filtro!$A$4:$AX$315,2,FALSE),0)","v":0},{"$f":"IFERROR(VLOOKUP($A63,Filtro!$A$4:$AX$315,3,FALSE),0)","v":0},{"$f":"IFERROR(VLOOKUP($A63,Filtro!$A$4:$AX$315,4,FALSE),0)","v":0},{"$f":"IFERROR(VLOOKUP($A63,Filtro!$A$4:$AX$315,5,FALSE),0)","v":0}]
["80301056","0301056","Piruvatoquinasa en eritrocitos",{"$f":"IFERROR(VLOOKUP($A64,Filtro!$A$4:$AX$315,2,FALSE),0)","v":0},{"$f":"IFERROR(VLOOKUP($A64,Filtro!$A$4:$AX$315,3,FALSE),0)","v":0},{"$f":"IFERROR(VLOOKUP($A64,Filtro!$A$4:$AX$315,4,FALSE),0)","v":0},{"$f":"IFERROR(VLOOKUP($A64,Filtro!$A$4:$AX$315,5,FALSE),0)","v":0}]
["80301057","0301057","Protamina sulfato, determinación de",{"$f":"IFERROR(VLOOKUP($A65,Filtro!$A$4:$AX$315,2,FALSE),0)","v":0},{"$f":"IFERROR(VLOOKUP($A65,Filtro!$A$4:$AX$315,3,FALSE),0)","v":0},{"$f":"IFERROR(VLOOKUP($A65,Filtro!$A$4:$AX$315,4,FALSE),0)","v":0},{"$f":"IFERROR(VLOOKUP($A65,Filtro!$A$4:$AX$315,5,FALSE),0)","v":0}]
["80301058","0301058","Protoporfirinas en eritrocitos",{"$f":"IFERROR(VLOOKUP($A66,Filtro!$A$4:$AX$315,2,FALSE),0)","v":0},{"$f":"IFERROR(VLOOKUP($A66,Filtro!$A$4:$AX$315,3,FALSE),0)","v":0},{"$f":"IFERROR(VLOOKUP($A66,Filtro!$A$4:$AX$315,4,FALSE),0)","v":0},{"$f":"IFERROR(VLOOKUP($A66,Filtro!$A$4:$AX$315,5,FALSE),0)","v":0}]
["80301059","0301059","Protrombina, tiempo de o consumo de (incluye INR, Relación Internacional Normalizada)",{"$f":"IFERROR(VLOOKUP($A67,Filtro!$A$4:$AX$315,2,FALSE),0)","v":{"v":2472,"d":"2,472"}},{"$f":"IFERROR(VLOOKUP($A67,Filtro!$A$4:$AX$315,3,FALSE),0)","v":16},{"$f":"IFERROR(VLOOKUP($A67,Filtro!$A$4:$AX$315,4,FALSE),0)","v":{"v":2456,"d":"2,456"}},{"$f":"IFERROR(VLOOKUP($A67,Filtro!$A$4:$AX$315,5,FALSE),0)","v":{"v":4042,"d":"4,042"}}]
["80301062","0301062","Recuento de basófilos (absoluto)",{"$f":"IFERROR(VLOOKUP($A68,Filtro!$A$4:$AX$315,2,FALSE),0)","v":0},{"$f":"IFERROR(VLOOKUP($A68,Filtro!$A$4:$AX$315,3,FALSE),0)","v":0},{"$f":"IFERROR(VLOOKUP($A68,Filtro!$A$4:$AX$315,4,FALSE),0)","v":0},{"$f":"IFERROR(VLOOKUP($A68,Filtro!$A$4:$AX$315,5,FALSE),0)","v":0}]
["80301063","0301063","Recuento de eosinófilos (absoluto)",{"$f":"IFERROR(VLOOKUP($A69,Filtro!$A$4:$AX$315,2,FALSE),0)","v":0},{"$f":"IFERROR(VLOOKUP($A69,Filtro!$A$4:$AX$315,3,FALSE),0)","v":0},{"$f":"IFERROR(VLOOKUP($A69,Filtro!$A$4:$AX$315,4,FALSE),0)","v":0},{"$f":"IFERROR(VLOOKUP($A69,Filtro!$A$4:$AX$315,5,FALSE),0)","v":0}]
["80301064","0301064","Recuento de eritrocitos, absoluto (proc. aut.)",{"$f":"IFERROR(VLOOKUP($A70,Filtro!$A$4:$AX$315,2,FALSE),0)","v":0},{"$f":"IFERROR(VLOOKUP($A70,Filtro!$A$4:$AX$315,3,FALSE),0)","v":0},{"$f":"IFERROR(VLOOKUP($A70,Filtro!$A$4:$AX$315,4,FALSE),0)","v":0},{"$f":"IFERROR(VLOOKUP($A70,Filtro!$A$4:$AX$315,5,FALSE),0)","v":4}]
["80301065","0301065","Recuento de leucocitos, absoluto (proc. aut.)",{"$f":"IFERROR(VLOOKUP($A71,Filtro!$A$4:$AX$315,2,FALSE),0)","v":73},{"$f":"IFERROR(VLOOKUP($A71,Filtro!$A$4:$AX$315,3,FALSE),0)","v":0},{"$f":"IFERROR(VLOOKUP($A71,Filtro!$A$4:$AX$315,4,FALSE),0)","v":73},{"$f":"IFERROR(VLOOKUP($A71,Filtro!$A$4:$AX$315,5,FALSE),0)","v":113}]
["80301066","0301066","Recuento de linfocitos (absoluto)",{"$f":"IFERROR(VLOOKUP($A72,Filtro!$A$4:$AX$315,2,FALSE),0)","v":0},{"$f":"IFERROR(VLOOKUP($A72,Filtro!$A$4:$AX$315,3,FALSE),0)","v":0},{"$f":"IFERROR(VLOOKUP($A72,Filtro!$A$4:$AX$315,4,FALSE),0)","v":0},{"$f":"IFERROR(VLOOKUP($A72,Filtro!$A$4:$AX$315,5,FALSE),0)","v":0}]
["80301067","0301067","Recuento de plaquetas (absoluto)",{"$f":"IFERROR(VLOOKUP($A73,Filtro!$A$4:$AX$315,2,FALSE),0)","v":91},{"$f":"IFERROR(VLOOKUP($A73,Filtro!$A$4:$AX$315,3,FALSE),0)","v":1},{"$f":"IFERROR(VLOOKUP($A73,Filtro!$A$4:$AX$315,4,FALSE),0)","v":90},{"$f":"IFERROR(VLOOKUP($A73,Filtro!$A$4:$AX$315,5,FALSE),0)","v":117}]
["80301068","0301068","Recuento de reticulocitos (absoluto o porcentual)",{"$f":"IFERROR(VLOOKUP($A74,Filtro!$A$4:$AX$315,2,FALSE),0)","v":0},{"$f":"IFERROR(VLOOKUP($A74,Filtro!$A$4:$AX$315,3,FALSE),0)","v":0},{"$f":"IFERROR(VLOOKUP($A74,Filtro!$A$4:$AX$315,4,FALSE),0)","v":0},{"$f":"IFERROR(VLOOKUP($A74,Filtro!$A$4:$AX$315,5,FALSE),0)","v":0}]
["80301069","0301069","Recuento diferencial o fórmula leucocitaria (proc. aut.)",{"$f":"IFERROR(VLOOKUP($A75,Filtro!$A$4:$AX$315,2,FALSE),0)","v":0},{"$f":"IFERROR(VLOOKUP($A75,Filtro!$A$4:$AX$315,3,FALSE),0)","v":0},{"$f":"IFERROR(VLOOKUP($A75,Filtro!$A$4:$AX$315,4,FALSE),0)","v":0},{"$f":"IFERROR(VLOOKUP($A75,Filtro!$A$4:$AX$315,5,FALSE),0)","v":0}]
["80301070","0301070","Resistencia globular osmótica",{"$f":"IFERROR(VLOOKUP($A76,Filtro!$A$4:$AX$315,2,FALSE),0)","v":0},{"$f":"IFERROR(VLOOKUP($A76,Filtro!$A$4:$AX$315,3,FALSE),0)","v":0},{"$f":"IFERROR(VLOOKUP($A76,Filtro!$A$4:$AX$315,4,FALSE),0)","v":0},{"$f":"IFERROR(VLOOKUP($A76,Filtro!$A$4:$AX$315,5,FALSE),0)","v":0}]
["80301071","0301071","Sacarosa, prueba de la",{"$f":"IFERROR(VLOOKUP($A77,Filtro!$A$4:$AX$315,2,FALSE),0)","v":0},{"$f":"IFERROR(VLOOKUP($A77,Filtro!$A$4:$AX$315,3,FALSE),0)","v":0},{"$f":"IFERROR(VLOOKUP($A77,Filtro!$A$4:$AX$315,4,FALSE),0)","v":0},{"$f":"IFERROR(VLOOKUP($A77,Filtro!$A$4:$AX$315,5,FALSE),0)","v":0}]
["80301072","0301072","Sangría, tiempo de (Ivy) (no incluye dispositivo asociado )",{"$f":"IFERROR(VLOOKUP($A78,Filtro!$A$4:$AX$315,2,FALSE),0)","v":33},{"$f":"IFERROR(VLOOKUP($A78,Filtro!$A$4:$AX$315,3,FALSE),0)","v":0},{"$f":"IFERROR(VLOOKUP($A78,Filtro!$A$4:$AX$315,4,FALSE),0)","v":33},{"$f":"IFERROR(VLOOKUP($A78,Filtro!$A$4:$AX$315,5,FALSE),0)","v":0}]
["80301074","0301074","Sobrevida del eritrocito (Cr 51 o similar)",{"$f":"IFERROR(VLOOKUP($A79,Filtro!$A$4:$AX$315,2,FALSE),0)","v":0},{"$f":"IFERROR(VLOOKUP($A79,Filtro!$A$4:$AX$315,3,FALSE),0)","v":0},{"$f":"IFERROR(VLOOKUP($A79,Filtro!$A$4:$AX$315,4,FALSE),0)","v":0},{"$f":"IFERROR(VLOOKUP($A79,Filtro!$A$4:$AX$315,5,FALSE),0)","v":0}]
["80301075","0301075","Subgrupo ABO y Rh fenotipo - genotipo Rh, c/u",{"$f":"IFERROR(VLOOKUP($A80,Filtro!$A$4:$AX$315,2,FALSE),0)","v":0},{"$f":"IFERROR(VLOOKUP($A80,Filtro!$A$4:$AX$315,3,FALSE),0)","v":0},{"$f":"IFERROR(VLOOKUP($A80,Filtro!$A$4:$AX$315,4,FALSE),0)","v":0},{"$f":"IFERROR(VLOOKUP($A80,Filtro!$A$4:$AX$315,5,FALSE),0)","v":21}]
["80301076","0301076","Thorn, prueba de (no incluye ACTH)",{"$f":"IFERROR(VLOOKUP($A81,Filtro!$A$4:$AX$315,2,FALSE),0)","v":0},{"$f":"IFERROR(VLOOKUP($A81,Filtro!$A$4:$AX$315,3,FALSE),0)","v":0},{"$f":"IFERROR(VLOOKUP($A81,Filtro!$A$4:$AX$315,4,FALSE),0)","v":0},{"$f":"IFERROR(VLOOKUP($A81,Filtro!$A$4:$AX$315,5,FALSE),0)","v":0}]
["80301077","0301077","Tinción de estearasa",{"$f":"IFERROR(VLOOKUP($A82,Filtro!$A$4:$AX$315,2,FALSE),0)","v":0},{"$f":"IFERROR(VLOOKUP($A82,Filtro!$A$4:$AX$315,3,FALSE),0)","v":0},{"$f":"IFERROR(VLOOKUP($A82,Filtro!$A$4:$AX$315,4,FALSE),0)","v":0},{"$f":"IFERROR(VLOOKUP($A82,Filtro!$A$4:$AX$315,5,FALSE),0)","v":0}]
["80301078","0301078","Tinción de fosfatasas alcalinas o ácidas",{"$f":"IFERROR(VLOOKUP($A83,Filtro!$A$4:$AX$315,2,FALSE),0)","v":0},{"$f":"IFERROR(VLOOKUP($A83,Filtro!$A$4:$AX$315,3,FALSE),0)","v":0},{"$f":"IFERROR(VLOOKUP($A83,Filtro!$A$4:$AX$315,4,FALSE),0)","v":0},{"$f":"IFERROR(VLOOKUP($A83,Filtro!$A$4:$AX$315,5,FALSE),0)","v":0}]
["80301079","0301079","Tinción de glicógeno o PAS",{"$f":"IFERROR(VLOOKUP($A84,Filtro!$A$4:$AX$315,2,FALSE),0)","v":0},{"$f":"IFERROR(VLOOKUP($A84,Filtro!$A$4:$AX$315,3,FALSE),0)","v":0},{"$f":"IFERROR(VLOOKUP($A84,Filtro!$A$4:$AX$315,4,FALSE),0)","v":0},{"$f":"IFERROR(VLOOKUP($A84,Filtro!$A$4:$AX$315,5,FALSE),0)","v":0}]
["80301080","0301080","Tinción de lípidos",{"$f":"IFERROR(VLOOKUP($A85,Filtro!$A$4:$AX$315,2,FALSE),0)","v":0},{"$f":"IFERROR(VLOOKUP($A85,Filtro!$A$4:$AX$315,3,FALSE),0)","v":0},{"$f":"IFERROR(VLOOKUP($A85,Filtro!$A$4:$AX$315,4,FALSE),0)","v":0},{"$f":"IFERROR(VLOOKUP($A85,Filtro!$A$4:$AX$315,5,FALSE),0)","v":0}]
["80301081","0301081","Tinción de peroxidasas",{"$f":"IFERROR(VLOOKUP($A86,Filtro!$A$4:$AX$315,2,FALSE),0)","v":0},{"$f":"IFERROR(VLOOKUP($A86,Filtro!$A$4:$AX$315,3,FALSE),0)","v":0},{"$f":"IFERROR(VLOOKUP($A86,Filtro!$A$4:$AX$315,4,FALSE),0)","v":0},{"$f":"IFERROR(VLOOKUP($A86,Filtro!$A$4:$AX$315,5,FALSE),0)","v":0}]
["80301082","0301082","Transferrina",{"$f":"IFERROR(VLOOKUP($A87,Filtro!$A$4:$AX$315,2,FALSE),0)","v":0},{"$f":"IFERROR(VLOOKUP($A87,Filtro!$A$4:$AX$315,3,FALSE),0)","v":0},{"$f":"IFERROR(VLOOKUP($A87,Filtro!$A$4:$AX$315,4,FALSE),0)","v":0},{"$f":"IFERROR(VLOOKUP($A87,Filtro!$A$4:$AX$315,5,FALSE),0)","v":5}]
["80301083","0301083","Trombina, tiempo de",{"$f":"IFERROR(VLOOKUP($A88,Filtro!$A$4:$AX$315,2,FALSE),0)","v":382},{"$f":"IFERROR(VLOOKUP($A88,Filtro!$A$4:$AX$315,3,FALSE),0)","v":0},{"$f":"IFERROR(VLOOKUP($A88,Filtro!$A$4:$AX$315,4,FALSE),0)","v":382},{"$f":"IFERROR(VLOOKUP($A88,Filtro!$A$4:$AX$315,5,FALSE),0)","v":52}]
["80301085","0301085","Tromboplastina, tiempo parcial de (TTPA, TTPK o similares)",{"$f":"IFERROR(VLOOKUP($A89,Filtro!$A$4:$AX$315,2,FALSE),0)","v":645},{"$f":"IFERROR(VLOOKUP($A89,Filtro!$A$4:$AX$315,3,FALSE),0)","v":0},{"$f":"IFERROR(VLOOKUP($A89,Filtro!$A$4:$AX$315,4,FALSE),0)","v":645},{"$f":"IFERROR(VLOOKUP($A89,Filtro!$A$4:$AX$315,5,FALSE),0)","v":911}]
["80301086","0301086","Velocidad de eritrosedimentación (proc. aut.)",{"$f":"IFERROR(VLOOKUP($A90,Filtro!$A$4:$AX$315,2,FALSE),0)","v":{"v":5006,"d":"5,006"}},{"$f":"IFERROR(VLOOKUP($A90,Filtro!$A$4:$AX$315,3,FALSE),0)","v":27},{"$f":"IFERROR(VLOOKUP($A90,Filtro!$A$4:$AX$315,4,FALSE),0)","v":{"v":4979,"d":"4,979"}},{"$f":"IFERROR(VLOOKUP($A90,Filtro!$A$4:$AX$315,5,FALSE),0)","v":{"v":1966,"d":"1,966"}}]
["80301087","0301087","Vitamina B12, absorción de (Co 57 o similar)",{"$f":"IFERROR(VLOOKUP($A91,Filtro!$A$4:$AX$315,2,FALSE),0)","v":0},{"$f":"IFERROR(VLOOKUP($A91,Filtro!$A$4:$AX$315,3,FALSE),0)","v":0},{"$f":"IFERROR(VLOOKUP($A91,Filtro!$A$4:$AX$315,4,FALSE),0)","v":0},{"$f":"IFERROR(VLOOKUP($A91,Filtro!$A$4:$AX$315,5,FALSE),0)","v":13}]
["80301088","0301088","Volemia (incluye volumen globular total, volumen plasmático total y volumen sanguíneo total)",{"$f":"IFERROR(VLOOKUP($A92,Filtro!$A$4:$AX$315,2,FALSE),0)","v":0},{"$f":"IFERROR(VLOOKUP($A92,Filtro!$A$4:$AX$315,3,FALSE),0)","v":0},{"$f":"IFERROR(VLOOKUP($A92,Filtro!$A$4:$AX$315,4,FALSE),0)","v":0},{"$f":"IFERROR(VLOOKUP($A92,Filtro!$A$4:$AX$315,5,FALSE),0)","v":0}]
["80301089","0301089","Von Willebrand, Ag de (factor VIII Ag.)",{"$f":"IFERROR(VLOOKUP($A93,Filtro!$A$4:$AX$315,2,FALSE),0)","v":0},{"$f":"IFERROR(VLOOKUP($A93,Filtro!$A$4:$AX$315,3,FALSE),0)","v":0},{"$f":"IFERROR(VLOOKUP($A93,Filtro!$A$4:$AX$315,4,FALSE),0)","v":0},{"$f":"IFERROR(VLOOKUP($A93,Filtro!$A$4:$AX$315,5,FALSE),0)","v":0}]
["80301090","0301090","Cofactor de Ristocetina",{"$f":"IFERROR(VLOOKUP($A94,Filtro!$A$4:$AX$315,2,FALSE),0)","v":0},{"$f":"IFERROR(VLOOKUP($A94,Filtro!$A$4:$AX$315,3,FALSE),0)","v":0},{"$f":"IFERROR(VLOOKUP($A94,Filtro!$A$4:$AX$315,4,FALSE),0)","v":0},{"$f":"IFERROR(VLOOKUP($A94,Filtro!$A$4:$AX$315,5,FALSE),0)","v":0}]
["80301091","0301091","Proteína C",{"$f":"IFERROR(VLOOKUP($A95,Filtro!$A$4:$AX$315,2,FALSE),0)","v":0},{"$f":"IFERROR(VLOOKUP($A95,Filtro!$A$4:$AX$315,3,FALSE),0)","v":0},{"$f":"IFERROR(VLOOKUP($A95,Filtro!$A$4:$AX$315,4,FALSE),0)","v":0},{"$f":"IFERROR(VLOOKUP($A95,Filtro!$A$4:$AX$315,5,FALSE),0)","v":0}]
["80301092","0301092","Proteína S",{"$f":"IFERROR(VLOOKUP($A96,Filtro!$A$4:$AX$315,2,FALSE),0)","v":0},{"$f":"IFERROR(VLOOKUP($A96,Filtro!$A$4:$AX$315,3,FALSE),0)","v":0},{"$f":"IFERROR(VLOOKUP($A96,Filtro!$A$4:$AX$315,4,FALSE),0)","v":0},{"$f":"IFERROR(VLOOKUP($A96,Filtro!$A$4:$AX$315,5,FALSE),0)","v":0}]
["80301093","0301093","Resistencia Proteína C",{"$f":"IFERROR(VLOOKUP($A97,Filtro!$A$4:$AX$315,2,FALSE),0)","v":0},{"$f":"IFERROR(VLOOKUP($A97,Filtro!$A$4:$AX$315,3,FALSE),0)","v":0},{"$f":"IFERROR(VLOOKUP($A97,Filtro!$A$4:$AX$315,4,FALSE),0)","v":0},{"$f":"IFERROR(VLOOKUP($A97,Filtro!$A$4:$AX$315,5,FALSE),0)","v":0}]
[null,"TOTAL",null,{"$f":"SUM(D13:D97)","v":{"v":38232,"d":"38,232"}},{"$f":"SUM(E13:E97)","v":{"v":1314,"d":"1,314"}},{"$f":"SUM(F13:F97)","v":{"v":36908,"d":"36,908"}},{"$f":"SUM(G13:G97)","v":{"v":97319,"d":"97,319"}}]
[null,"2.- SANGRE BIOQUÍMICO"]
["80302001","0302001","Acetona cualitativa",{"$f":"IFERROR(VLOOKUP($A100,Filtro!$A$4:$AX$315,2,FALSE),0)","v":0},{"$f":"IFERROR(VLOOKUP($A100,Filtro!$A$4:$AX$315,3,FALSE),0)","v":0},{"$f":"IFERROR(VLOOKUP($A100,Filtro!$A$4:$AX$315,4,FALSE),0)","v":0},{"$f":"IFERROR(VLOOKUP($A100,Filtro!$A$4:$AX$315,5,FALSE),0)","v":0}]
["80302002","0302002","Acido cítrico",{"$f":"IFERROR(VLOOKUP($A101,Filtro!$A$4:$AX$315,2,FALSE),0)","v":0},{"$f":"IFERROR(VLOOKUP($A101,Filtro!$A$4:$AX$315,3,FALSE),0)","v":0},{"$f":"IFERROR(VLOOKUP($A101,Filtro!$A$4:$AX$315,4,FALSE),0)","v":0},{"$f":"IFERROR(VLOOKUP($A101,Filtro!$A$4:$AX$315,5,FALSE),0)","v":1}]
["80302004","0302004","Acido láctico",{"$f":"IFERROR(VLOOKUP($A102,Filtro!$A$4:$AX$315,2,FALSE),0)","v":0},{"$f":"IFERROR(VLOOKUP($A102,Filtro!$A$4:$AX$315,3,FALSE),0)","v":0},{"$f":"IFERROR(VLOOKUP($A102,Filtro!$A$4:$AX$315,4,FALSE),0)","v":0},{"$f":"IFERROR(VLOOKUP($A102,Filtro!$A$4:$AX$315,5,FALSE),0)","v":11}]
["80302005","0302005","Acido úrico, en sangre",{"$f":"IFERROR(VLOOKUP($A103,Filtro!$A$4:$AX$315,2,FALSE),0)","v":{"v":8025,"d":"8,025"}},{"$f":"IFERROR(VLOOKUP($A103,Filtro!$A$4:$AX$315,3,FALSE),0)","v":310},{"$f":"IFERROR(VLOOKUP($A103,Filtro!$A$4:$AX$315,4,FALSE),0)","v":{"v":7715,"d":"7,715"}},{"$f":"IFERROR(VLOOKUP($A103,Filtro!$A$4:$AX$315,5,FALSE),0)","v":{"v":17255,"d":"17,255"}}]
["80302006","0302006","Alcohol etílico",{"$f":"IFERROR(VLOOKUP($A104,Filtro!$A$4:$AX$315,2,FALSE),0)","v":111},{"$f":"IFERROR(VLOOKUP($A104,Filtro!$A$4:$AX$315,3,FALSE),0)","v":102},{"$f":"IFERROR(VLOOKUP($A104,Filtro!$A$4:$AX$315,4,FALSE),0)","v":9},{"$f":"IFERROR(VLOOKUP($A104,Filtro!$A$4:$AX$315,5,FALSE),0)","v":0}]
["80302007","0302007","Aldolasa",{"$f":"IFERROR(VLOOKUP($A105,Filtro!$A$4:$AX$315,2,FALSE),0)","v":0},{"$f":"IFERROR(VLOOKUP($A105,Filtro!$A$4:$AX$315,3,FALSE),0)","v":0},{"$f":"IFERROR(VLOOKUP($A105,Filtro!$A$4:$AX$315,4,FALSE),0)","v":0},{"$f":"IFERROR(VLOOKUP($A105,Filtro!$A$4:$AX$315,5,FALSE),0)","v":0}]
["80302008","0302008","Amilasa, en sangre",{"$f":"IFERROR(VLOOKUP($A106,Filtro!$A$4:$AX$315,2,FALSE),0)","v":0},{"$f":"IFERROR(VLOOKUP($A106,Filtro!$A$4:$AX$315,3,FALSE),0)","v":0},{"$f":"IFERROR(VLOOKUP($A106,Filtro!$A$4:$AX$315,4,FALSE),0)","v":0},{"$f":"IFERROR(VLOOKUP($A106,Filtro!$A$4:$AX$315,5,FALSE),0)","v":80}]
["80302009","0302009","Aminoácidos, cualitativo en sangre",{"$f":"IFERROR(VLOOKUP($A107,Filtro!$A$4:$AX$315,2,FALSE),0)","v":0},{"$f":"IFERROR(VLOOKUP($A107,Filtro!$A$4:$AX$315,3,FALSE),0)","v":0},{"$f":"IFERROR(VLOOKUP($A107,Filtro!$A$4:$AX$315,4,FALSE),0)","v":0},{"$f":"IFERROR(VLOOKUP($A107,Filtro!$A$4:$AX$315,5,FALSE),0)","v":0}]
["80302010","0302010","Amonio",{"$f":"IFERROR(VLOOKUP($A108,Filtro!$A$4:$AX$315,2,FALSE),0)","v":0},{"$f":"IFERROR(VLOOKUP($A108,Filtro!$A$4:$AX$315,3,FALSE),0)","v":0},{"$f":"IFERROR(VLOOKUP($A108,Filtro!$A$4:$AX$315,4,FALSE),0)","v":0},{"$f":"IFERROR(VLOOKUP($A108,Filtro!$A$4:$AX$315,5,FALSE),0)","v":0}]
["80302070","0302070","Apolipoproteínas (A1, B u otras)",{"$f":"IFERROR(VLOOKUP($A109,Filtro!$A$4:$AX$315,2,FALSE),0)","v":0},{"$f":"IFERROR(VLOOKUP($A109,Filtro!$A$4:$AX$315,3,FALSE),0)","v":0},{"$f":"IFERROR(VLOOKUP($A109,Filtro!$A$4:$AX$315,4,FALSE),0)","v":0},{"$f":"IFERROR(VLOOKUP($A109,Filtro!$A$4:$AX$315,5,FALSE),0)","v":0}]
["80302011","0302011","Bicarbonato (proc. aut.)",{"$f":"IFERROR(VLOOKUP($A110,Filtro!$A$4:$AX$315,2,FALSE),0)","v":0},{"$f":"IFERROR(VLOOKUP($A110,Filtro!$A$4:$AX$315,3,FALSE),0)","v":0},{"$f":"IFERROR(VLOOKUP($A110,Filtro!$A$4:$AX$315,4,FALSE),0)","v":0},{"$f":"IFERROR(VLOOKUP($A110,Filtro!$A$4:$AX$315,5,FALSE),0)","v":0}]
["80302012","0302012","Bilirrubina total (proc. aut.)",{"$f":"IFERROR(VLOOKUP($A111,Filtro!$A$4:$AX$315,2,FALSE),0)","v":69},{"$f":"IFERROR(VLOOKUP($A111,Filtro!$A$4:$AX$315,3,FALSE),0)","v":5},{"$f":"IFERROR(VLOOKUP($A111,Filtro!$A$4:$AX$315,4,FALSE),0)","v":64},{"$f":"IFERROR(VLOOKUP($A111,Filtro!$A$4:$AX$315,5,FALSE),0)","v":404}]
["80302013","0302013","Bilirrubina total y conjugada",{"$f":"IFERROR(VLOOKUP($A112,Filtro!$A$4:$AX$315,2,FALSE),0)","v":219},{"$f":"IFERROR(VLOOKUP($A112,Filtro!$A$4:$AX$315,3,FALSE),0)","v":19},{"$f":"IFERROR(VLOOKUP($A112,Filtro!$A$4:$AX$315,4,FALSE),0)","v":200},{"$f":"IFERROR(VLOOKUP($A112,Filtro!$A$4:$AX$315,5,FALSE),0)","v":{"v":4153,"d":"4,153"}}]
["80302014","0302014","Bromosulftaleína, prueba de (incluye medicamento y tomas de muestra)",{"$f":"IFERROR(VLOOKUP($A113,Filtro!$A$4:$AX$315,2,FALSE),0)","v":0},{"$f":"IFERROR(VLOOKUP($A113,Filtro!$A$4:$AX$315,3,FALSE),0)","v":0},{"$f":"IFERROR(VLOOKUP($A113,Filtro!$A$4:$AX$315,4,FALSE),0)","v":0},{"$f":"IFERROR(VLOOKUP($A113,Filtro!$A$4:$AX$315,5,FALSE),0)","v":12}]
["80302015","0302015","Calcio en sangre",{"$f":"IFERROR(VLOOKUP($A114,Filtro!$A$4:$AX$315,2,FALSE),0)","v":0},{"$f":"IFERROR(VLOOKUP($A114,Filtro!$A$4:$AX$315,3,FALSE),0)","v":0},{"$f":"IFERROR(VLOOKUP($A114,Filtro!$A$4:$AX$315,4,FALSE),0)","v":0},{"$f":"IFERROR(VLOOKUP($A114,Filtro!$A$4:$AX$315,5,FALSE),0)","v":210}]
["80302016","0302016","Calcio iónico, incluye proteínas totales",{"$f":"IFERROR(VLOOKUP($A115,Filtro!$A$4:$AX$315,2,FALSE),0)","v":0},{"$f":"IFERROR(VLOOKUP($A115,Filtro!$A$4:$AX$315,3,FALSE),0)","v":0},{"$f":"IFERROR(VLOOKUP($A115,Filtro!$A$4:$AX$315,4,FALSE),0)","v":0},{"$f":"IFERROR(VLOOKUP($A115,Filtro!$A$4:$AX$315,5,FALSE),0)","v":0}]
["80302017","0302017","Caroteno",{"$f":"IFERROR(VLOOKUP($A116,Filtro!$A$4:$AX$315,2,FALSE),0)","v":0},{"$f":"IFERROR(VLOOKUP($A116,Filtro!$A$4:$AX$315,3,FALSE),0)","v":0},{"$f":"IFERROR(VLOOKUP($A116,Filtro!$A$4:$AX$315,4,FALSE),0)","v":0},{"$f":"IFERROR(VLOOKUP($A116,Filtro!$A$4:$AX$315,5,FALSE),0)","v":0}]
["80302018","0302018","Caroteno, prueba de sobrecarga de (incluye tomas de muestra)",{"$f":"IFERROR(VLOOKUP($A117,Filtro!$A$4:$AX$315,2,FALSE),0)","v":0},{"$f":"IFERROR(VLOOKUP($A117,Filtro!$A$4:$AX$315,3,FALSE),0)","v":0},{"$f":"IFERROR(VLOOKUP($A117,Filtro!$A$4:$AX$315,4,FALSE),0)","v":0},{"$f":"IFERROR(VLOOKUP($A117,Filtro!$A$4:$AX$315,5,FALSE),0)","v":0}]
["80302019","0302019","Ceruloplasmina",{"$f":"IFERROR(VLOOKUP($A118,Filtro!$A$4:$AX$315,2,FALSE),0)","v":0},{"$f":"IFERROR(VLOOKUP($A118,Filtro!$A$4:$AX$315,3,FALSE),0)","v":0},{"$f":"IFERROR(VLOOKUP($A118,Filtro!$A$4:$AX$315,4,FALSE),0)","v":0},{"$f":"IFERROR(VLOOKUP($A118,Filtro!$A$4:$AX$315,5,FALSE),0)","v":0}]
["80302020","0302020","Cobre",{"$f":"IFERROR(VLOOKUP($A119,Filtro!$A$4:$AX$315,2,FALSE),0)","v":0},{"$f":"IFERROR(VLOOKUP($A119,Filtro!$A$4:$AX$315,3,FALSE),0)","v":0},{"$f":"IFERROR(VLOOKUP($A119,Filtro!$A$4:$AX$315,4,FALSE),0)","v":0},{"$f":"IFERROR(VLOOKUP($A119,Filtro!$A$4:$AX$315,5,FALSE),0)","v":0}]
["80302067","0302067","Colesterol total (proc. aut.)",{"$f":"IFERROR(VLOOKUP($A120,Filtro!$A$4:$AX$315,2,FALSE),0)","v":{"v":1076,"d":"1,076"}},{"$f":"IFERROR(VLOOKUP($A120,Filtro!$A$4:$AX$315,3,FALSE),0)","v":6},{"$f":"IFERROR(VLOOKUP($A120,Filtro!$A$4:$AX$315,4,FALSE),0)","v":{"v":1070,"d":"1,070"}},{"$f":"IFERROR(VLOOKUP($A120,Filtro!$A$4:$AX$315,5,FALSE),0)","v":{"v":32539,"d":"32,539"}}]
["80302068","0302068","Colesterol HDL (proc. aut.)",{"$f":"IFERROR(VLOOKUP($A121,Filtro!$A$4:$AX$315,2,FALSE),0)","v":{"v":1445,"d":"1,445"}},{"$f":"IFERROR(VLOOKUP($A121,Filtro!$A$4:$AX$315,3,FALSE),0)","v":2},{"$f":"IFERROR(VLOOKUP($A121,Filtro!$A$4:$AX$315,4,FALSE),0)","v":{"v":1443,"d":"1,443"}},{"$f":"IFERROR(VLOOKUP($A121,Filtro!$A$4:$AX$315,5,FALSE),0)","v":{"v":27330,"d":"27,330"}}]
["80302021","0302021","Colinesterasa en plasma o sangre total",{"$f":"IFERROR(VLOOKUP($A122,Filtro!$A$4:$AX$315,2,FALSE),0)","v":0},{"$f":"IFERROR(VLOOKUP($A122,Filtro!$A$4:$AX$315,3,FALSE),0)","v":0},{"$f":"IFERROR(VLOOKUP($A122,Filtro!$A$4:$AX$315,4,FALSE),0)","v":0},{"$f":"IFERROR(VLOOKUP($A122,Filtro!$A$4:$AX$315,5,FALSE),0)","v":0}]
["80302022","0302022","Creatina",{"$f":"IFERROR(VLOOKUP($A123,Filtro!$A$4:$AX$315,2,FALSE),0)","v":0},{"$f":"IFERROR(VLOOKUP($A123,Filtro!$A$4:$AX$315,3,FALSE),0)","v":0},{"$f":"IFERROR(VLOOKUP($A123,Filtro!$A$4:$AX$315,4,FALSE),0)","v":0},{"$f":"IFERROR(VLOOKUP($A123,Filtro!$A$4:$AX$315,5,FALSE),0)","v":332}]
["80302023","0302023","Creatinina en sangre",{"$f":"IFERROR(VLOOKUP($A124,Filtro!$A$4:$AX$315,2,FALSE),0)","v":{"v":15568,"d":"15,568"}},{"$f":"IFERROR(VLOOKUP($A124,Filtro!$A$4:$AX$315,3,FALSE),0)","v":574},{"$f":"IFERROR(VLOOKUP($A124,Filtro!$A$4:$AX$315,4,FALSE),0)","v":{"v":14994,"d":"14,994"}},{"$f":"IFERROR(VLOOKUP($A124,Filtro!$A$4:$AX$315,5,FALSE),0)","v":{"v":40500,"d":"40,500"}}]
["80302024","0302024","Creatinina, depuración de (Clearence) (proc. aut.)",{"$f":"IFERROR(VLOOKUP($A125,Filtro!$A$4:$AX$315,2,FALSE),0)","v":125},{"$f":"IFERROR(VLOOKUP($A125,Filtro!$A$4:$AX$315,3,FALSE),0)","v":3},{"$f":"IFERROR(VLOOKUP($A125,Filtro!$A$4:$AX$315,4,FALSE),0)","v":122},{"$f":"IFERROR(VLOOKUP($A125,Filtro!$A$4:$AX$315,5,FALSE),0)","v":413}]
["80302025","0302025","Creatinquinasa CK - MB  miocárdica",{"$f":"IFERROR(VLOOKUP($A126,Filtro!$A$4:$AX$315,2,FALSE),0)","v":0},{"$f":"IFERROR(VLOOKUP($A126,Filtro!$A$4:$AX$315,3,FALSE),0)","v":0},{"$f":"IFERROR(VLOOKUP($A126,Filtro!$A$4:$AX$315,4,FALSE),0)","v":0},{"$f":"IFERROR(VLOOKUP($A126,Filtro!$A$4:$AX$315,5,FALSE),0)","v":36}]
["80302026","0302026","Creatinquinasa CK - total",{"$f":"IFERROR(VLOOKUP($A127,Filtro!$A$4:$AX$315,2,FALSE),0)","v":0},{"$f":"IFERROR(VLOOKUP($A127,Filtro!$A$4:$AX$315,3,FALSE),0)","v":0},{"$f":"IFERROR(VLOOKUP($A127,Filtro!$A$4:$AX$315,4,FALSE),0)","v":0},{"$f":"IFERROR(VLOOKUP($A127,Filtro!$A$4:$AX$315,5,FALSE),0)","v":82}]
["80302028","0302028","Depuraciones (Clearance) exógenas de Hipurán, Rojo Congo, manitol e inulina, c/u (no incluye medicamento)",{"$f":"IFERROR(VLOOKUP($A128,Filtro!$A$4:$AX$315,2,FALSE),0)","v":0},{"$f":"IFERROR(VLOOKUP($A128,Filtro!$A$4:$AX$315,3,FALSE),0)","v":0},{"$f":"IFERROR(VLOOKUP($A128,Filtro!$A$4:$AX$315,4,FALSE),0)","v":0},{"$f":"IFERROR(VLOOKUP($A128,Filtro!$A$4:$AX$315,5,FALSE),0)","v":0}]
["80302029","0302029","Deshidrogenasa hidroxibutírica (HBDH)",{"$f":"IFERROR(VLOOKUP($A129,Filtro!$A$4:$AX$315,2,FALSE),0)","v":0},{"$f":"IFERROR(VLOOKUP($A129,Filtro!$A$4:$AX$315,3,FALSE),0)","v":0},{"$f":"IFERROR(VLOOKUP($A129,Filtro!$A$4:$AX$315,4,FALSE),0)","v":0},{"$f":"IFERROR(VLOOKUP($A129,Filtro!$A$4:$AX$315,5,FALSE),0)","v":0}]
["80302030","0302030","Deshidrogenasa láctica total (LDH)",{"$f":"IFERROR(VLOOKUP($A130,Filtro!$A$4:$AX$315,2,FALSE),0)","v":0},{"$f":"IFERROR(VLOOKUP($A130,Filtro!$A$4:$AX$315,3,FALSE),0)","v":0},{"$f":"IFERROR(VLOOKUP($A130,Filtro!$A$4:$AX$315,4,FALSE),0)","v":0},{"$f":"IFERROR(VLOOKUP($A130,Filtro!$A$4:$AX$315,5,FALSE),0)","v":26}]
["80302031","0302031","Deshidrogenasa láctica total (LDH), con separación de isoenzimas",{"$f":"IFERROR(VLOOKUP($A131,Filtro!$A$4:$AX$315,2,FALSE),0)","v":0},{"$f":"IFERROR(VLOOKUP($A131,Filtro!$A$4:$AX$315,3,FALSE),0)","v":0},{"$f":"IFERROR(VLOOKUP($A131,Filtro!$A$4:$AX$315,4,FALSE),0)","v":0},{"$f":"IFERROR(VLOOKUP($A131,Filtro!$A$4:$AX$315,5,FALSE),0)","v":48}]
["80302032","0302032","Electrolitos plasmáticos (sodio, potasio, cloro) c/u",{"$f":"IFERROR(VLOOKUP($A132,Filtro!$A$4:$AX$315,2,FALSE),0)","v":{"v":24399,"d":"24,399"}},{"$f":"IFERROR(VLOOKUP($A132,Filtro!$A$4:$AX$315,3,FALSE),0)","v":{"v":1230,"d":"1,230"}},{"$f":"IFERROR(VLOOKUP($A132,Filtro!$A$4:$AX$315,4,FALSE),0)","v":{"v":23169,"d":"23,169"}},{"$f":"IFERROR(VLOOKUP($A132,Filtro!$A$4:$AX$315,5,FALSE),0)","v":{"v":23544,"d":"23,544"}}]
["80302033","0302033","Enzima convertidora de angiotensina I",{"$f":"IFERROR(VLOOKUP($A133,Filtro!$A$4:$AX$315,2,FALSE),0)","v":0},{"$f":"IFERROR(VLOOKUP($A133,Filtro!$A$4:$AX$315,3,FALSE),0)","v":0},{"$f":"IFERROR(VLOOKUP($A133,Filtro!$A$4:$AX$315,4,FALSE),0)","v":0},{"$f":"IFERROR(VLOOKUP($A133,Filtro!$A$4:$AX$315,5,FALSE),0)","v":146}]
["80302034","0302034","Perfil Lipídico (incluye: colesterol total, HDL, LDL, VLDL y triglicéridos) ",{"$f":"IFERROR(VLOOKUP($A134,Filtro!$A$4:$AX$315,2,FALSE),0)","v":{"v":18099,"d":"18,099"}},{"$f":"IFERROR(VLOOKUP($A134,Filtro!$A$4:$AX$315,3,FALSE),0)","v":634},{"$f":"IFERROR(VLOOKUP($A134,Filtro!$A$4:$AX$315,4,FALSE),0)","v":{"v":17465,"d":"17,465"}},{"$f":"IFERROR(VLOOKUP($A134,Filtro!$A$4:$AX$315,5,FALSE),0)","v":{"v":24006,"d":"24,006"}}]
["80302035","0302035","Fármacos y/o drogas; niveles plasmáticos de (alcohol, anorexígenos, antiarrítmicos, antibióticos, antidepresivos, antiepilépticos, antihistamínicos, antiinflamatorios y analgésicos, estimulantes respiratorios, tranquilizantes mayores y menores, etc.) c/u",{"$f":"IFERROR(VLOOKUP($A135,Filtro!$A$4:$AX$315,2,FALSE),0)","v":0},{"$f":"IFERROR(VLOOKUP($A135,Filtro!$A$4:$AX$315,3,FALSE),0)","v":0},{"$f":"IFERROR(VLOOKUP($A135,Filtro!$A$4:$AX$315,4,FALSE),0)","v":0},{"$f":"IFERROR(VLOOKUP($A135,Filtro!$A$4:$AX$315,5,FALSE),0)","v":67}]
["80302036","0302036","Fenilalanina",{"$f":"IFERROR(VLOOKUP($A136,Filtro!$A$4:$AX$315,2,FALSE),0)","v":0},{"$f":"IFERROR(VLOOKUP($A136,Filtro!$A$4:$AX$315,3,FALSE),0)","v":0},{"$f":"IFERROR(VLOOKUP($A136,Filtro!$A$4:$AX$315,4,FALSE),0)","v":0},{"$f":"IFERROR(VLOOKUP($A136,Filtro!$A$4:$AX$315,5,FALSE),0)","v":5}]
["80302037","0302037","Fosfatasas ácidas totales",{"$f":"IFERROR(VLOOKUP($A137,Filtro!$A$4:$AX$315,2,FALSE),0)","v":0},{"$f":"IFERROR(VLOOKUP($A137,Filtro!$A$4:$AX$315,3,FALSE),0)","v":0},{"$f":"IFERROR(VLOOKUP($A137,Filtro!$A$4:$AX$315,4,FALSE),0)","v":0},{"$f":"IFERROR(VLOOKUP($A137,Filtro!$A$4:$AX$315,5,FALSE),0)","v":27}]
["80302038","0302038","Fosfatasas ácidas totales y fracción prostática",{"$f":"IFERROR(VLOOKUP($A138,Filtro!$A$4:$AX$315,2,FALSE),0)","v":0},{"$f":"IFERROR(VLOOKUP($A138,Filtro!$A$4:$AX$315,3,FALSE),0)","v":0},{"$f":"IFERROR(VLOOKUP($A138,Filtro!$A$4:$AX$315,4,FALSE),0)","v":0},{"$f":"IFERROR(VLOOKUP($A138,Filtro!$A$4:$AX$315,5,FALSE),0)","v":5}]
["80302039","0302039","Fosfatasas alcalinas con separación de isoenzimas hepáticas, intestinales, óseas c/u",{"$f":"IFERROR(VLOOKUP($A139,Filtro!$A$4:$AX$315,2,FALSE),0)","v":0},{"$f":"IFERROR(VLOOKUP($A139,Filtro!$A$4:$AX$315,3,FALSE),0)","v":0},{"$f":"IFERROR(VLOOKUP($A139,Filtro!$A$4:$AX$315,4,FALSE),0)","v":0},{"$f":"IFERROR(VLOOKUP($A139,Filtro!$A$4:$AX$315,5,FALSE),0)","v":4}]
["80302040","0302040","Fosfatasas alcalinas totales",{"$f":"IFERROR(VLOOKUP($A140,Filtro!$A$4:$AX$315,2,FALSE),0)","v":129},{"$f":"IFERROR(VLOOKUP($A140,Filtro!$A$4:$AX$315,3,FALSE),0)","v":2},{"$f":"IFERROR(VLOOKUP($A140,Filtro!$A$4:$AX$315,4,FALSE),0)","v":127},{"$f":"IFERROR(VLOOKUP($A140,Filtro!$A$4:$AX$315,5,FALSE),0)","v":{"v":3831,"d":"3,831"}}]
["80302041","0302041","Fosfolípidos",{"$f":"IFERROR(VLOOKUP($A141,Filtro!$A$4:$AX$315,2,FALSE),0)","v":0},{"$f":"IFERROR(VLOOKUP($A141,Filtro!$A$4:$AX$315,3,FALSE),0)","v":0},{"$f":"IFERROR(VLOOKUP($A141,Filtro!$A$4:$AX$315,4,FALSE),0)","v":0},{"$f":"IFERROR(VLOOKUP($A141,Filtro!$A$4:$AX$315,5,FALSE),0)","v":0}]
["80302042","0302042","Fósforo (fosfatos) en sangre",{"$f":"IFERROR(VLOOKUP($A142,Filtro!$A$4:$AX$315,2,FALSE),0)","v":0},{"$f":"IFERROR(VLOOKUP($A142,Filtro!$A$4:$AX$315,3,FALSE),0)","v":0},{"$f":"IFERROR(VLOOKUP($A142,Filtro!$A$4:$AX$315,4,FALSE),0)","v":0},{"$f":"IFERROR(VLOOKUP($A142,Filtro!$A$4:$AX$315,5,FALSE),0)","v":48}]
["80302043","0302043","Galactosa",{"$f":"IFERROR(VLOOKUP($A143,Filtro!$A$4:$AX$315,2,FALSE),0)","v":0},{"$f":"IFERROR(VLOOKUP($A143,Filtro!$A$4:$AX$315,3,FALSE),0)","v":0},{"$f":"IFERROR(VLOOKUP($A143,Filtro!$A$4:$AX$315,4,FALSE),0)","v":0},{"$f":"IFERROR(VLOOKUP($A143,Filtro!$A$4:$AX$315,5,FALSE),0)","v":21}]
["80302044","0302044","Galactosa, curva de tolerancia, (mínimo cuatro determinaciones) (no incluye la galactosa que se administra) (incluye los valores de todas las tomas de muestras necesarias)",{"$f":"IFERROR(VLOOKUP($A144,Filtro!$A$4:$AX$315,2,FALSE),0)","v":0},{"$f":"IFERROR(VLOOKUP($A144,Filtro!$A$4:$AX$315,3,FALSE),0)","v":0},{"$f":"IFERROR(VLOOKUP($A144,Filtro!$A$4:$AX$315,4,FALSE),0)","v":0},{"$f":"IFERROR(VLOOKUP($A144,Filtro!$A$4:$AX$315,5,FALSE),0)","v":0}]
["80302045","0302045","Gamma glutamiltranspeptidasa (GGT)",{"$f":"IFERROR(VLOOKUP($A145,Filtro!$A$4:$AX$315,2,FALSE),0)","v":27},{"$f":"IFERROR(VLOOKUP($A145,Filtro!$A$4:$AX$315,3,FALSE),0)","v":1},{"$f":"IFERROR(VLOOKUP($A145,Filtro!$A$4:$AX$315,4,FALSE),0)","v":26},{"$f":"IFERROR(VLOOKUP($A145,Filtro!$A$4:$AX$315,5,FALSE),0)","v":8}]
["80302046","0302046","Gases y equilibrio ácido base en sangre (incluye: pH, O2, CO2, exceso de base y bicarbonato), todos o cada uno de los parámetros",{"$f":"IFERROR(VLOOKUP($A146,Filtro!$A$4:$AX$315,2,FALSE),0)","v":0},{"$f":"IFERROR(VLOOKUP($A146,Filtro!$A$4:$AX$315,3,FALSE),0)","v":0},{"$f":"IFERROR(VLOOKUP($A146,Filtro!$A$4:$AX$315,4,FALSE),0)","v":0},{"$f":"IFERROR(VLOOKUP($A146,Filtro!$A$4:$AX$315,5,FALSE),0)","v":0}]
["80302047","0302047","Glucosa en sangre",{"$f":"IFERROR(VLOOKUP($A147,Filtro!$A$4:$AX$315,2,FALSE),0)","v":{"v":21228,"d":"21,228"}},{"$f":"IFERROR(VLOOKUP($A147,Filtro!$A$4:$AX$315,3,FALSE),0)","v":805},{"$f":"IFERROR(VLOOKUP($A147,Filtro!$A$4:$AX$315,4,FALSE),0)","v":{"v":20423,"d":"20,423"}},{"$f":"IFERROR(VLOOKUP($A147,Filtro!$A$4:$AX$315,5,FALSE),0)","v":{"v":54314,"d":"54,314"}}]
["80302048","0302048","Glucosa, Prueba de Tolerancia a la Glucosa Oral (PTGO), (dos determinaciones) (no incluye la glucosa que se administra) (incluye el valor de las dos tomas de muestras)",{"$f":"IFERROR(VLOOKUP($A148,Filtro!$A$4:$AX$315,2,FALSE),0)","v":{"v":3175,"d":"3,175"}},{"$f":"IFERROR(VLOOKUP($A148,Filtro!$A$4:$AX$315,3,FALSE),0)","v":128},{"$f":"IFERROR(VLOOKUP($A148,Filtro!$A$4:$AX$315,4,FALSE),0)","v":{"v":3047,"d":"3,047"}},{"$f":"IFERROR(VLOOKUP($A148,Filtro!$A$4:$AX$315,5,FALSE),0)","v":{"v":6617,"d":"6,617"}}]
["80302050","0302050","Adenosindeaminasa en sangre u otro fluído biológico.",{"$f":"IFERROR(VLOOKUP($A149,Filtro!$A$4:$AX$315,2,FALSE),0)","v":0},{"$f":"IFERROR(VLOOKUP($A149,Filtro!$A$4:$AX$315,3,FALSE),0)","v":0},{"$f":"IFERROR(VLOOKUP($A149,Filtro!$A$4:$AX$315,4,FALSE),0)","v":0},{"$f":"IFERROR(VLOOKUP($A149,Filtro!$A$4:$AX$315,5,FALSE),0)","v":0}]
["80302051","0302051","Lactosa, curva de tolerancia, (mínimo cuatro determinaciones) (no incluye la lactosa que se administra) (incluye los valores de todas las tomas de muestras necesarias)",{"$f":"IFERROR(VLOOKUP($A150,Filtro!$A$4:$AX$315,2,FALSE),0)","v":0},{"$f":"IFERROR(VLOOKUP($A150,Filtro!$A$4:$AX$315,3,FALSE),0)","v":0},{"$f":"IFERROR(VLOOKUP($A150,Filtro!$A$4:$AX$315,4,FALSE),0)","v":0},{"$f":"IFERROR(VLOOKUP($A150,Filtro!$A$4:$AX$315,5,FALSE),0)","v":3}]
["80302052","0302052","Leucinaminopeptidasa (LAP)",{"$f":"IFERROR(VLOOKUP($A151,Filtro!$A$4:$AX$315,2,FALSE),0)","v":0},{"$f":"IFERROR(VLOOKUP($A151,Filtro!$A$4:$AX$315,3,FALSE),0)","v":0},{"$f":"IFERROR(VLOOKUP($A151,Filtro!$A$4:$AX$315,4,FALSE),0)","v":0},{"$f":"IFERROR(VLOOKUP($A151,Filtro!$A$4:$AX$315,5,FALSE),0)","v":0}]
["80302053","0302053","Lipasa",{"$f":"IFERROR(VLOOKUP($A152,Filtro!$A$4:$AX$315,2,FALSE),0)","v":0},{"$f":"IFERROR(VLOOKUP($A152,Filtro!$A$4:$AX$315,3,FALSE),0)","v":0},{"$f":"IFERROR(VLOOKUP($A152,Filtro!$A$4:$AX$315,4,FALSE),0)","v":0},{"$f":"IFERROR(VLOOKUP($A152,Filtro!$A$4:$AX$315,5,FALSE),0)","v":0}]
["80302069","0302069","Lípidos totales (proc. aut.)",{"$f":"IFERROR(VLOOKUP($A153,Filtro!$A$4:$AX$315,2,FALSE),0)","v":0},{"$f":"IFERROR(VLOOKUP($A153,Filtro!$A$4:$AX$315,3,FALSE),0)","v":0},{"$f":"IFERROR(VLOOKUP($A153,Filtro!$A$4:$AX$315,4,FALSE),0)","v":0},{"$f":"IFERROR(VLOOKUP($A153,Filtro!$A$4:$AX$315,5,FALSE),0)","v":0}]
["80302054","0302054","Lipoproteínas, electroforesis de (incluye lípidos totales)",{"$f":"IFERROR(VLOOKUP($A154,Filtro!$A$4:$AX$315,2,FALSE),0)","v":0},{"$f":"IFERROR(VLOOKUP($A154,Filtro!$A$4:$AX$315,3,FALSE),0)","v":0},{"$f":"IFERROR(VLOOKUP($A154,Filtro!$A$4:$AX$315,4,FALSE),0)","v":0},{"$f":"IFERROR(VLOOKUP($A154,Filtro!$A$4:$AX$315,5,FALSE),0)","v":0}]
["80302055","0302055","Litio",{"$f":"IFERROR(VLOOKUP($A155,Filtro!$A$4:$AX$315,2,FALSE),0)","v":0},{"$f":"IFERROR(VLOOKUP($A155,Filtro!$A$4:$AX$315,3,FALSE),0)","v":0},{"$f":"IFERROR(VLOOKUP($A155,Filtro!$A$4:$AX$315,4,FALSE),0)","v":0},{"$f":"IFERROR(VLOOKUP($A155,Filtro!$A$4:$AX$315,5,FALSE),0)","v":0}]
["80302056","0302056","Magnesio",{"$f":"IFERROR(VLOOKUP($A156,Filtro!$A$4:$AX$315,2,FALSE),0)","v":0},{"$f":"IFERROR(VLOOKUP($A156,Filtro!$A$4:$AX$315,3,FALSE),0)","v":0},{"$f":"IFERROR(VLOOKUP($A156,Filtro!$A$4:$AX$315,4,FALSE),0)","v":0},{"$f":"IFERROR(VLOOKUP($A156,Filtro!$A$4:$AX$315,5,FALSE),0)","v":4}]
["80302057","0302057","Nitrógeno ureico y/o úrea en sangre",{"$f":"IFERROR(VLOOKUP($A157,Filtro!$A$4:$AX$315,2,FALSE),0)","v":{"v":9280,"d":"9,280"}},{"$f":"IFERROR(VLOOKUP($A157,Filtro!$A$4:$AX$315,3,FALSE),0)","v":448},{"$f":"IFERROR(VLOOKUP($A157,Filtro!$A$4:$AX$315,4,FALSE),0)","v":{"v":8832,"d":"8,832"}},{"$f":"IFERROR(VLOOKUP($A157,Filtro!$A$4:$AX$315,5,FALSE),0)","v":{"v":15529,"d":"15,529"}}]
["80302058","0302058","Osmolalidad en sangre",{"$f":"IFERROR(VLOOKUP($A158,Filtro!$A$4:$AX$315,2,FALSE),0)","v":0},{"$f":"IFERROR(VLOOKUP($A158,Filtro!$A$4:$AX$315,3,FALSE),0)","v":0},{"$f":"IFERROR(VLOOKUP($A158,Filtro!$A$4:$AX$315,4,FALSE),0)","v":0},{"$f":"IFERROR(VLOOKUP($A158,Filtro!$A$4:$AX$315,5,FALSE),0)","v":0}]
["80302075","0302075","Perfil bioquímico (determinación automatizada de 12 parámetros)",{"$f":"IFERROR(VLOOKUP($A159,Filtro!$A$4:$AX$315,2,FALSE),0)","v":0},{"$f":"IFERROR(VLOOKUP($A159,Filtro!$A$4:$AX$315,3,FALSE),0)","v":0},{"$f":"IFERROR(VLOOKUP($A159,Filtro!$A$4:$AX$315,4,FALSE),0)","v":0},{"$f":"IFERROR(VLOOKUP($A159,Filtro!$A$4:$AX$315,5,FALSE),0)","v":314}]
["80302059","0302059","Proteínas fraccionadas albúmina/globulina (incluye código 03-02-060)",{"$f":"IFERROR(VLOOKUP($A160,Filtro!$A$4:$AX$315,2,FALSE),0)","v":919},{"$f":"IFERROR(VLOOKUP($A160,Filtro!$A$4:$AX$315,3,FALSE),0)","v":55},{"$f":"IFERROR(VLOOKUP($A160,Filtro!$A$4:$AX$315,4,FALSE),0)","v":864},{"$f":"IFERROR(VLOOKUP($A160,Filtro!$A$4:$AX$315,5,FALSE),0)","v":65}]
["80302060","0302060","Proteínas totales o albúminas, c/u en sangre",{"$f":"IFERROR(VLOOKUP($A161,Filtro!$A$4:$AX$315,2,FALSE),0)","v":362},{"$f":"IFERROR(VLOOKUP($A161,Filtro!$A$4:$AX$315,3,FALSE),0)","v":6},{"$f":"IFERROR(VLOOKUP($A161,Filtro!$A$4:$AX$315,4,FALSE),0)","v":356},{"$f":"IFERROR(VLOOKUP($A161,Filtro!$A$4:$AX$315,5,FALSE),0)","v":{"v":1115,"d":"1,115"}}]
["80302061","0302061","Proteínas, electroforesis (incluye cód. 03-02-060)",{"$f":"IFERROR(VLOOKUP($A162,Filtro!$A$4:$AX$315,2,FALSE),0)","v":0},{"$f":"IFERROR(VLOOKUP($A162,Filtro!$A$4:$AX$315,3,FALSE),0)","v":0},{"$f":"IFERROR(VLOOKUP($A162,Filtro!$A$4:$AX$315,4,FALSE),0)","v":0},{"$f":"IFERROR(VLOOKUP($A162,Filtro!$A$4:$AX$315,5,FALSE),0)","v":32}]
["80302062","0302062","Salicilemia cuantitativa        ",{"$f":"IFERROR(VLOOKUP($A163,Filtro!$A$4:$AX$315,2,FALSE),0)","v":0},{"$f":"IFERROR(VLOOKUP($A163,Filtro!$A$4:$AX$315,3,FALSE),0)","v":0},{"$f":"IFERROR(VLOOKUP($A163,Filtro!$A$4:$AX$315,4,FALSE),0)","v":0},{"$f":"IFERROR(VLOOKUP($A163,Filtro!$A$4:$AX$315,5,FALSE),0)","v":4}]
["80302076","0302076","Perfil Hepático (incluye tiempo de protrombina, bilirrubina total y conjugada, fosfatasas alcalinas totales, GGT, transaminasas GOT/AST y GPT/ALT)",{"$f":"IFERROR(VLOOKUP($A164,Filtro!$A$4:$AX$315,2,FALSE),0)","v":{"v":6761,"d":"6,761"}},{"$f":"IFERROR(VLOOKUP($A164,Filtro!$A$4:$AX$315,3,FALSE),0)","v":336},{"$f":"IFERROR(VLOOKUP($A164,Filtro!$A$4:$AX$315,4,FALSE),0)","v":{"v":6425,"d":"6,425"}},{"$f":"IFERROR(VLOOKUP($A164,Filtro!$A$4:$AX$315,5,FALSE),0)","v":{"v":5033,"d":"5,033"}}]
["80302063","0302063","Transaminasas, oxalacética (GOT/AST), Pirúvica (GPT/ALT), c/u",{"$f":"IFERROR(VLOOKUP($A165,Filtro!$A$4:$AX$315,2,FALSE),0)","v":386},{"$f":"IFERROR(VLOOKUP($A165,Filtro!$A$4:$AX$315,3,FALSE),0)","v":16},{"$f":"IFERROR(VLOOKUP($A165,Filtro!$A$4:$AX$315,4,FALSE),0)","v":370},{"$f":"IFERROR(VLOOKUP($A165,Filtro!$A$4:$AX$315,5,FALSE),0)","v":{"v":9302,"d":"9,302"}}]
["80302064","0302064","Triglicéridos (proc. aut.)",{"$f":"IFERROR(VLOOKUP($A166,Filtro!$A$4:$AX$315,2,FALSE),0)","v":345},{"$f":"IFERROR(VLOOKUP($A166,Filtro!$A$4:$AX$315,3,FALSE),0)","v":5},{"$f":"IFERROR(VLOOKUP($A166,Filtro!$A$4:$AX$315,4,FALSE),0)","v":340},{"$f":"IFERROR(VLOOKUP($A166,Filtro!$A$4:$AX$315,5,FALSE),0)","v":{"v":28426,"d":"28,426"}}]
["80302065","0302065","Vitaminas A, B, C, D, E, etc., c/u",{"$f":"IFERROR(VLOOKUP($A167,Filtro!$A$4:$AX$315,2,FALSE),0)","v":0},{"$f":"IFERROR(VLOOKUP($A167,Filtro!$A$4:$AX$315,3,FALSE),0)","v":0},{"$f":"IFERROR(VLOOKUP($A167,Filtro!$A$4:$AX$315,4,FALSE),0)","v":0},{"$f":"IFERROR(VLOOKUP($A167,Filtro!$A$4:$AX$315,5,FALSE),0)","v":24}]
["80302066","0302066","Xilosa, prueba de absorción (no incluye la xilosa que se administra)",{"$f":"IFERROR(VLOOKUP($A168,Filtro!$A$4:$AX$315,2,FALSE),0)","v":0},{"$f":"IFERROR(VLOOKUP($A168,Filtro!$A$4:$AX$315,3,FALSE),0)","v":0},{"$f":"IFERROR(VLOOKUP($A168,Filtro!$A$4:$AX$315,4,FALSE),0)","v":0},{"$f":"IFERROR(VLOOKUP($A168,Filtro!$A$4:$AX$315,5,FALSE),0)","v":0}]
[null,"TOTAL",null,{"$f":"SUM(D100:D168)","v":{"v":111748,"d":"111,748"}},{"$f":"SUM(E100:E168)","v":{"v":4687,"d":"4,687"}},{"$f":"SUM(F100:F168)","v":{"v":107061,"d":"107,061"}},{"$f":"SUM(G100:G168)","v":{"v":295926,"d":"295,926"}}]
[null,"3.- EXÁMENES HORMONALES"]
["80303024","0303024","Tiroestimulante (TSH), hormona (adulto, niño o R.N.)                            ",{"$f":"IFERROR(VLOOKUP($A171,Filtro!$A$4:$AX$315,2,FALSE),0)","v":{"v":11597,"d":"11,597"}},{"$f":"IFERROR(VLOOKUP($A171,Filtro!$A$4:$AX$315,3,FALSE),0)","v":457},{"$f":"IFERROR(VLOOKUP($A171,Filtro!$A$4:$AX$315,4,FALSE),0)","v":{"v":11140,"d":"11,140"}},{"$f":"IFERROR(VLOOKUP($A171,Filtro!$A$4:$AX$315,5,FALSE),0)","v":{"v":31736,"d":"31,736"}}]
["80303025","0303025","Tiroglobulina                                                                                   ",{"$f":"IFERROR(VLOOKUP($A172,Filtro!$A$4:$AX$315,2,FALSE),0)","v":{"v":1751,"d":"1,751"}},{"$f":"IFERROR(VLOOKUP($A172,Filtro!$A$4:$AX$315,3,FALSE),0)","v":0},{"$f":"IFERROR(VLOOKUP($A172,Filtro!$A$4:$AX$315,4,FALSE),0)","v":{"v":1751,"d":"1,751"}},{"$f":"IFERROR(VLOOKUP($A172,Filtro!$A$4:$AX$315,5,FALSE),0)","v":73}]
["80303026","0303026","Tiroxina libre (T4L)                                                                       ",{"$f":"IFERROR(VLOOKUP($A173,Filtro!$A$4:$AX$315,2,FALSE),0)","v":{"v":6071,"d":"6,071"}},{"$f":"IFERROR(VLOOKUP($A173,Filtro!$A$4:$AX$315,3,FALSE),0)","v":378},{"$f":"IFERROR(VLOOKUP($A173,Filtro!$A$4:$AX$315,4,FALSE),0)","v":{"v":5693,"d":"5,693"}},{"$f":"IFERROR(VLOOKUP($A173,Filtro!$A$4:$AX$315,5,FALSE),0)","v":{"v":8136,"d":"8,136"}}]
["80303027","0303027","Tiroxina o tetrayodotironina (T4)                                               ",{"$f":"IFERROR(VLOOKUP($A174,Filtro!$A$4:$AX$315,2,FALSE),0)","v":260},{"$f":"IFERROR(VLOOKUP($A174,Filtro!$A$4:$AX$315,3,FALSE),0)","v":0},{"$f":"IFERROR(VLOOKUP($A174,Filtro!$A$4:$AX$315,4,FALSE),0)","v":260},{"$f":"IFERROR(VLOOKUP($A174,Filtro!$A$4:$AX$315,5,FALSE),0)","v":667}]
["80303028","0303028","Triyodotironina (T3)                                                               ",{"$f":"IFERROR(VLOOKUP($A175,Filtro!$A$4:$AX$315,2,FALSE),0)","v":247},{"$f":"IFERROR(VLOOKUP($A175,Filtro!$A$4:$AX$315,3,FALSE),0)","v":0},{"$f":"IFERROR(VLOOKUP($A175,Filtro!$A$4:$AX$315,4,FALSE),0)","v":247},{"$f":"IFERROR(VLOOKUP($A175,Filtro!$A$4:$AX$315,5,FALSE),0)","v":930}]
[null,"TOTAL",null,{"$f":"SUM(D171:D175)","v":{"v":19926,"d":"19,926"}},{"$f":"SUM(E171:E175)","v":835},{"$f":"SUM(F171:F175)","v":{"v":19091,"d":"19,091"}},{"$f":"SUM(G171:G175)","v":{"v":41542,"d":"41,542"}}]
[null,"4.- INMUNOLÓGICOS"]
["80305001","0305001","Alfa -1- antitripsina cuantitativa",{"$f":"IFERROR(VLOOKUP($A178,Filtro!$A$4:$AX$315,2,FALSE),0)","v":0},{"$f":"IFERROR(VLOOKUP($A178,Filtro!$A$4:$AX$315,3,FALSE),0)","v":0},{"$f":"IFERROR(VLOOKUP($A178,Filtro!$A$4:$AX$315,4,FALSE),0)","v":0},{"$f":"IFERROR(VLOOKUP($A178,Filtro!$A$4:$AX$315,5,FALSE),0)","v":0}]
["80305002","0305002","Alfa -2- macroglobulina",{"$f":"IFERROR(VLOOKUP($A179,Filtro!$A$4:$AX$315,2,FALSE),0)","v":0},{"$f":"IFERROR(VLOOKUP($A179,Filtro!$A$4:$AX$315,3,FALSE),0)","v":0},{"$f":"IFERROR(VLOOKUP($A179,Filtro!$A$4:$AX$315,4,FALSE),0)","v":0},{"$f":"IFERROR(VLOOKUP($A179,Filtro!$A$4:$AX$315,5,FALSE),0)","v":0}]
["80305003","0305003","Alfa fetoproteínas",{"$f":"IFERROR(VLOOKUP($A180,Filtro!$A$4:$AX$315,2,FALSE),0)","v":0},{"$f":"IFERROR(VLOOKUP($A180,Filtro!$A$4:$AX$315,3,FALSE),0)","v":0},{"$f":"IFERROR(VLOOKUP($A180,Filtro!$A$4:$AX$315,4,FALSE),0)","v":0},{"$f":"IFERROR(VLOOKUP($A180,Filtro!$A$4:$AX$315,5,FALSE),0)","v":1}]
["80305004","0305004","Tamizaje de Anticuerpos anti antígenos nucleares extractables (a- ENA: Sm, RNP, Ro, La, Scl- 70 y Jo- 1)",{"$f":"IFERROR(VLOOKUP($A181,Filtro!$A$4:$AX$315,2,FALSE),0)","v":0},{"$f":"IFERROR(VLOOKUP($A181,Filtro!$A$4:$AX$315,3,FALSE),0)","v":0},{"$f":"IFERROR(VLOOKUP($A181,Filtro!$A$4:$AX$315,4,FALSE),0)","v":0},{"$f":"IFERROR(VLOOKUP($A181,Filtro!$A$4:$AX$315,5,FALSE),0)","v":6}]
["80305005","0305005","Anticuerpos antinucleares (ANA), antimitocondriales, anti DNA (ADNA), anti músculo liso, anticentrómero, u otros, c/u.",{"$f":"IFERROR(VLOOKUP($A182,Filtro!$A$4:$AX$315,2,FALSE),0)","v":0},{"$f":"IFERROR(VLOOKUP($A182,Filtro!$A$4:$AX$315,3,FALSE),0)","v":0},{"$f":"IFERROR(VLOOKUP($A182,Filtro!$A$4:$AX$315,4,FALSE),0)","v":0},{"$f":"IFERROR(VLOOKUP($A182,Filtro!$A$4:$AX$315,5,FALSE),0)","v":8}]
["80305006","0305006","Anticuerpos atípicos, pannel de identificación",{"$f":"IFERROR(VLOOKUP($A183,Filtro!$A$4:$AX$315,2,FALSE),0)","v":0},{"$f":"IFERROR(VLOOKUP($A183,Filtro!$A$4:$AX$315,3,FALSE),0)","v":0},{"$f":"IFERROR(VLOOKUP($A183,Filtro!$A$4:$AX$315,4,FALSE),0)","v":0},{"$f":"IFERROR(VLOOKUP($A183,Filtro!$A$4:$AX$315,5,FALSE),0)","v":0}]
["80305007","0305007","Anticuerpos específicos y otros autoanticuerpos (anticuerpos antitiroídeos: anticuerpos antimicrosomales y antitiroglobulinas y otros anticuerpos: prostático, espermios, etc.) c/u",{"$f":"IFERROR(VLOOKUP($A184,Filtro!$A$4:$AX$315,2,FALSE),0)","v":0},{"$f":"IFERROR(VLOOKUP($A184,Filtro!$A$4:$AX$315,3,FALSE),0)","v":0},{"$f":"IFERROR(VLOOKUP($A184,Filtro!$A$4:$AX$315,4,FALSE),0)","v":0},{"$f":"IFERROR(VLOOKUP($A184,Filtro!$A$4:$AX$315,5,FALSE),0)","v":0}]
["80305008","0305008","Antiestreptolisina O, por técnica de látex ",{"$f":"IFERROR(VLOOKUP($A185,Filtro!$A$4:$AX$315,2,FALSE),0)","v":0},{"$f":"IFERROR(VLOOKUP($A185,Filtro!$A$4:$AX$315,3,FALSE),0)","v":0},{"$f":"IFERROR(VLOOKUP($A185,Filtro!$A$4:$AX$315,4,FALSE),0)","v":0},{"$f":"IFERROR(VLOOKUP($A185,Filtro!$A$4:$AX$315,5,FALSE),0)","v":0}]
["80305009","0305009","Antígeno carcinoembrionario (CEA)",{"$f":"IFERROR(VLOOKUP($A186,Filtro!$A$4:$AX$315,2,FALSE),0)","v":0},{"$f":"IFERROR(VLOOKUP($A186,Filtro!$A$4:$AX$315,3,FALSE),0)","v":0},{"$f":"IFERROR(VLOOKUP($A186,Filtro!$A$4:$AX$315,4,FALSE),0)","v":0},{"$f":"IFERROR(VLOOKUP($A186,Filtro!$A$4:$AX$315,5,FALSE),0)","v":0}]
["80305070","0305070","Antígeno prostático específico",{"$f":"IFERROR(VLOOKUP($A187,Filtro!$A$4:$AX$315,2,FALSE),0)","v":632},{"$f":"IFERROR(VLOOKUP($A187,Filtro!$A$4:$AX$315,3,FALSE),0)","v":0},{"$f":"IFERROR(VLOOKUP($A187,Filtro!$A$4:$AX$315,4,FALSE),0)","v":632},{"$f":"IFERROR(VLOOKUP($A187,Filtro!$A$4:$AX$315,5,FALSE),0)","v":815}]
["80305170","0305170","Antígeno Ca 125, Ca 15-3 y Ca 19-9, c/u",{"$f":"IFERROR(VLOOKUP($A188,Filtro!$A$4:$AX$315,2,FALSE),0)","v":0},{"$f":"IFERROR(VLOOKUP($A188,Filtro!$A$4:$AX$315,3,FALSE),0)","v":0},{"$f":"IFERROR(VLOOKUP($A188,Filtro!$A$4:$AX$315,4,FALSE),0)","v":0},{"$f":"IFERROR(VLOOKUP($A188,Filtro!$A$4:$AX$315,5,FALSE),0)","v":1}]
["80305010","0305010","Beta-2-microglobulina",{"$f":"IFERROR(VLOOKUP($A189,Filtro!$A$4:$AX$315,2,FALSE),0)","v":0},{"$f":"IFERROR(VLOOKUP($A189,Filtro!$A$4:$AX$315,3,FALSE),0)","v":0},{"$f":"IFERROR(VLOOKUP($A189,Filtro!$A$4:$AX$315,4,FALSE),0)","v":0},{"$f":"IFERROR(VLOOKUP($A189,Filtro!$A$4:$AX$315,5,FALSE),0)","v":0}]
["80305011","0305011","Complejos inmunes circulantes",{"$f":"IFERROR(VLOOKUP($A190,Filtro!$A$4:$AX$315,2,FALSE),0)","v":0},{"$f":"IFERROR(VLOOKUP($A190,Filtro!$A$4:$AX$315,3,FALSE),0)","v":0},{"$f":"IFERROR(VLOOKUP($A190,Filtro!$A$4:$AX$315,4,FALSE),0)","v":0},{"$f":"IFERROR(VLOOKUP($A190,Filtro!$A$4:$AX$315,5,FALSE),0)","v":0}]
["80305012","0305012","Complemento C1Q, C2, C3, C4, etc., c/u",{"$f":"IFERROR(VLOOKUP($A191,Filtro!$A$4:$AX$315,2,FALSE),0)","v":0},{"$f":"IFERROR(VLOOKUP($A191,Filtro!$A$4:$AX$315,3,FALSE),0)","v":0},{"$f":"IFERROR(VLOOKUP($A191,Filtro!$A$4:$AX$315,4,FALSE),0)","v":0},{"$f":"IFERROR(VLOOKUP($A191,Filtro!$A$4:$AX$315,5,FALSE),0)","v":2}]
["80305013","0305013","Complemento hemolítico (CH 50)",{"$f":"IFERROR(VLOOKUP($A192,Filtro!$A$4:$AX$315,2,FALSE),0)","v":0},{"$f":"IFERROR(VLOOKUP($A192,Filtro!$A$4:$AX$315,3,FALSE),0)","v":0},{"$f":"IFERROR(VLOOKUP($A192,Filtro!$A$4:$AX$315,4,FALSE),0)","v":0},{"$f":"IFERROR(VLOOKUP($A192,Filtro!$A$4:$AX$315,5,FALSE),0)","v":0}]
["80305014","0305014","Crioglobulinas, precipitación en frío (cualitativa) o cuantitativa c/u",{"$f":"IFERROR(VLOOKUP($A193,Filtro!$A$4:$AX$315,2,FALSE),0)","v":0},{"$f":"IFERROR(VLOOKUP($A193,Filtro!$A$4:$AX$315,3,FALSE),0)","v":0},{"$f":"IFERROR(VLOOKUP($A193,Filtro!$A$4:$AX$315,4,FALSE),0)","v":0},{"$f":"IFERROR(VLOOKUP($A193,Filtro!$A$4:$AX$315,5,FALSE),0)","v":0}]
["80305015","0305015","Depósito de complejos inmunes por inmunofluorescencia",{"$f":"IFERROR(VLOOKUP($A194,Filtro!$A$4:$AX$315,2,FALSE),0)","v":0},{"$f":"IFERROR(VLOOKUP($A194,Filtro!$A$4:$AX$315,3,FALSE),0)","v":0},{"$f":"IFERROR(VLOOKUP($A194,Filtro!$A$4:$AX$315,4,FALSE),0)","v":0},{"$f":"IFERROR(VLOOKUP($A194,Filtro!$A$4:$AX$315,5,FALSE),0)","v":0}]
["80305016","0305016","Depósito de complemento por inmunofluorescencia (C3, C4), c/u",{"$f":"IFERROR(VLOOKUP($A195,Filtro!$A$4:$AX$315,2,FALSE),0)","v":0},{"$f":"IFERROR(VLOOKUP($A195,Filtro!$A$4:$AX$315,3,FALSE),0)","v":0},{"$f":"IFERROR(VLOOKUP($A195,Filtro!$A$4:$AX$315,4,FALSE),0)","v":0},{"$f":"IFERROR(VLOOKUP($A195,Filtro!$A$4:$AX$315,5,FALSE),0)","v":0}]
["80305017","0305017","Depósito de fibrinógeno por inmunofluorescencia",{"$f":"IFERROR(VLOOKUP($A196,Filtro!$A$4:$AX$315,2,FALSE),0)","v":0},{"$f":"IFERROR(VLOOKUP($A196,Filtro!$A$4:$AX$315,3,FALSE),0)","v":0},{"$f":"IFERROR(VLOOKUP($A196,Filtro!$A$4:$AX$315,4,FALSE),0)","v":0},{"$f":"IFERROR(VLOOKUP($A196,Filtro!$A$4:$AX$315,5,FALSE),0)","v":0}]
["80305018","0305018","Depósito de inmunoglobulina por inmunofluorescencia (IgG, IgA, IgM) c/u",{"$f":"IFERROR(VLOOKUP($A197,Filtro!$A$4:$AX$315,2,FALSE),0)","v":0},{"$f":"IFERROR(VLOOKUP($A197,Filtro!$A$4:$AX$315,3,FALSE),0)","v":0},{"$f":"IFERROR(VLOOKUP($A197,Filtro!$A$4:$AX$315,4,FALSE),0)","v":0},{"$f":"IFERROR(VLOOKUP($A197,Filtro!$A$4:$AX$315,5,FALSE),0)","v":0}]
["80305019","0305019","Factor reumatoídeo por técnica de látex u otras similares",{"$f":"IFERROR(VLOOKUP($A198,Filtro!$A$4:$AX$315,2,FALSE),0)","v":634},{"$f":"IFERROR(VLOOKUP($A198,Filtro!$A$4:$AX$315,3,FALSE),0)","v":27},{"$f":"IFERROR(VLOOKUP($A198,Filtro!$A$4:$AX$315,4,FALSE),0)","v":607},{"$f":"IFERROR(VLOOKUP($A198,Filtro!$A$4:$AX$315,5,FALSE),0)","v":{"v":1113,"d":"1,113"}}]
["80305020","0305020","Factor reumatoídeo por técnica Scat, Waaler Rose, nefelométricas y/o turbidimétricas",{"$f":"IFERROR(VLOOKUP($A199,Filtro!$A$4:$AX$315,2,FALSE),0)","v":0},{"$f":"IFERROR(VLOOKUP($A199,Filtro!$A$4:$AX$315,3,FALSE),0)","v":0},{"$f":"IFERROR(VLOOKUP($A199,Filtro!$A$4:$AX$315,4,FALSE),0)","v":0},{"$f":"IFERROR(VLOOKUP($A199,Filtro!$A$4:$AX$315,5,FALSE),0)","v":73}]
["80305021","0305021","Inhibidor de C1Q, C2 y C3, c/u",{"$f":"IFERROR(VLOOKUP($A200,Filtro!$A$4:$AX$315,2,FALSE),0)","v":0},{"$f":"IFERROR(VLOOKUP($A200,Filtro!$A$4:$AX$315,3,FALSE),0)","v":0},{"$f":"IFERROR(VLOOKUP($A200,Filtro!$A$4:$AX$315,4,FALSE),0)","v":0},{"$f":"IFERROR(VLOOKUP($A200,Filtro!$A$4:$AX$315,5,FALSE),0)","v":0}]
["80305025","0305025","Inmunofijación de inmunoglobulina, c/u",{"$f":"IFERROR(VLOOKUP($A201,Filtro!$A$4:$AX$315,2,FALSE),0)","v":0},{"$f":"IFERROR(VLOOKUP($A201,Filtro!$A$4:$AX$315,3,FALSE),0)","v":0},{"$f":"IFERROR(VLOOKUP($A201,Filtro!$A$4:$AX$315,4,FALSE),0)","v":0},{"$f":"IFERROR(VLOOKUP($A201,Filtro!$A$4:$AX$315,5,FALSE),0)","v":0}]
["80305026","0305026","Inmunoglobulina IgA secretora",{"$f":"IFERROR(VLOOKUP($A202,Filtro!$A$4:$AX$315,2,FALSE),0)","v":0},{"$f":"IFERROR(VLOOKUP($A202,Filtro!$A$4:$AX$315,3,FALSE),0)","v":0},{"$f":"IFERROR(VLOOKUP($A202,Filtro!$A$4:$AX$315,4,FALSE),0)","v":0},{"$f":"IFERROR(VLOOKUP($A202,Filtro!$A$4:$AX$315,5,FALSE),0)","v":0}]
["80305027","0305027","Inmunoglobulinas IgA, IgG, IgM, c/u",{"$f":"IFERROR(VLOOKUP($A203,Filtro!$A$4:$AX$315,2,FALSE),0)","v":0},{"$f":"IFERROR(VLOOKUP($A203,Filtro!$A$4:$AX$315,3,FALSE),0)","v":0},{"$f":"IFERROR(VLOOKUP($A203,Filtro!$A$4:$AX$315,4,FALSE),0)","v":0},{"$f":"IFERROR(VLOOKUP($A203,Filtro!$A$4:$AX$315,5,FALSE),0)","v":3}]
["80305028","0305028","Inmunoglobulinas IgE, IgD total, c/u",{"$f":"IFERROR(VLOOKUP($A204,Filtro!$A$4:$AX$315,2,FALSE),0)","v":0},{"$f":"IFERROR(VLOOKUP($A204,Filtro!$A$4:$AX$315,3,FALSE),0)","v":0},{"$f":"IFERROR(VLOOKUP($A204,Filtro!$A$4:$AX$315,4,FALSE),0)","v":0},{"$f":"IFERROR(VLOOKUP($A204,Filtro!$A$4:$AX$315,5,FALSE),0)","v":0}]
["80305029","0305029","Inmunoglobulinas IgE, IgG específicas, c/u",{"$f":"IFERROR(VLOOKUP($A205,Filtro!$A$4:$AX$315,2,FALSE),0)","v":0},{"$f":"IFERROR(VLOOKUP($A205,Filtro!$A$4:$AX$315,3,FALSE),0)","v":0},{"$f":"IFERROR(VLOOKUP($A205,Filtro!$A$4:$AX$315,4,FALSE),0)","v":0},{"$f":"IFERROR(VLOOKUP($A205,Filtro!$A$4:$AX$315,5,FALSE),0)","v":0}]
["80305030","0305030","Proteína C reactiva por técnica de látex u otras similares",{"$f":"IFERROR(VLOOKUP($A206,Filtro!$A$4:$AX$315,2,FALSE),0)","v":0},{"$f":"IFERROR(VLOOKUP($A206,Filtro!$A$4:$AX$315,3,FALSE),0)","v":0},{"$f":"IFERROR(VLOOKUP($A206,Filtro!$A$4:$AX$315,4,FALSE),0)","v":0},{"$f":"IFERROR(VLOOKUP($A206,Filtro!$A$4:$AX$315,5,FALSE),0)","v":259}]
["80305031","0305031","Proteína C reactiva por técnicas nefelométricas y/o turbidimétricas",{"$f":"IFERROR(VLOOKUP($A207,Filtro!$A$4:$AX$315,2,FALSE),0)","v":0},{"$f":"IFERROR(VLOOKUP($A207,Filtro!$A$4:$AX$315,3,FALSE),0)","v":0},{"$f":"IFERROR(VLOOKUP($A207,Filtro!$A$4:$AX$315,4,FALSE),0)","v":0},{"$f":"IFERROR(VLOOKUP($A207,Filtro!$A$4:$AX$315,5,FALSE),0)","v":1}]
["80305034","0305034","Quimiotaxis-leucotaxis",{"$f":"IFERROR(VLOOKUP($A208,Filtro!$A$4:$AX$315,2,FALSE),0)","v":0},{"$f":"IFERROR(VLOOKUP($A208,Filtro!$A$4:$AX$315,3,FALSE),0)","v":0},{"$f":"IFERROR(VLOOKUP($A208,Filtro!$A$4:$AX$315,4,FALSE),0)","v":0},{"$f":"IFERROR(VLOOKUP($A208,Filtro!$A$4:$AX$315,5,FALSE),0)","v":0}]
["80305035","0305035","Crioaglutininas",{"$f":"IFERROR(VLOOKUP($A209,Filtro!$A$4:$AX$315,2,FALSE),0)","v":0},{"$f":"IFERROR(VLOOKUP($A209,Filtro!$A$4:$AX$315,3,FALSE),0)","v":0},{"$f":"IFERROR(VLOOKUP($A209,Filtro!$A$4:$AX$315,4,FALSE),0)","v":0},{"$f":"IFERROR(VLOOKUP($A209,Filtro!$A$4:$AX$315,5,FALSE),0)","v":0}]
["80305036","0305036","Criohemolisinas",{"$f":"IFERROR(VLOOKUP($A210,Filtro!$A$4:$AX$315,2,FALSE),0)","v":0},{"$f":"IFERROR(VLOOKUP($A210,Filtro!$A$4:$AX$315,3,FALSE),0)","v":0},{"$f":"IFERROR(VLOOKUP($A210,Filtro!$A$4:$AX$315,4,FALSE),0)","v":0},{"$f":"IFERROR(VLOOKUP($A210,Filtro!$A$4:$AX$315,5,FALSE),0)","v":0}]
["80305037","0305037","Digestión fagocítica nitroblue-tetrazolium cualitativo y cuantitativo",{"$f":"IFERROR(VLOOKUP($A211,Filtro!$A$4:$AX$315,2,FALSE),0)","v":0},{"$f":"IFERROR(VLOOKUP($A211,Filtro!$A$4:$AX$315,3,FALSE),0)","v":0},{"$f":"IFERROR(VLOOKUP($A211,Filtro!$A$4:$AX$315,4,FALSE),0)","v":0},{"$f":"IFERROR(VLOOKUP($A211,Filtro!$A$4:$AX$315,5,FALSE),0)","v":0}]
["80305038","0305038","Fagocitosis: ingestión y digestión (killing) de levaduras por polimorfonucleares",{"$f":"IFERROR(VLOOKUP($A212,Filtro!$A$4:$AX$315,2,FALSE),0)","v":0},{"$f":"IFERROR(VLOOKUP($A212,Filtro!$A$4:$AX$315,3,FALSE),0)","v":0},{"$f":"IFERROR(VLOOKUP($A212,Filtro!$A$4:$AX$315,4,FALSE),0)","v":0},{"$f":"IFERROR(VLOOKUP($A212,Filtro!$A$4:$AX$315,5,FALSE),0)","v":0}]
["80305039","0305039","Fagocitosis: ingestión y digestión (killing) de bacterias por polimorfonucleares",{"$f":"IFERROR(VLOOKUP($A213,Filtro!$A$4:$AX$315,2,FALSE),0)","v":0},{"$f":"IFERROR(VLOOKUP($A213,Filtro!$A$4:$AX$315,3,FALSE),0)","v":0},{"$f":"IFERROR(VLOOKUP($A213,Filtro!$A$4:$AX$315,4,FALSE),0)","v":0},{"$f":"IFERROR(VLOOKUP($A213,Filtro!$A$4:$AX$315,5,FALSE),0)","v":0}]
["80305040","0305040","Inmunoadherencia de leucocitos macrófagos",{"$f":"IFERROR(VLOOKUP($A214,Filtro!$A$4:$AX$315,2,FALSE),0)","v":0},{"$f":"IFERROR(VLOOKUP($A214,Filtro!$A$4:$AX$315,3,FALSE),0)","v":0},{"$f":"IFERROR(VLOOKUP($A214,Filtro!$A$4:$AX$315,4,FALSE),0)","v":0},{"$f":"IFERROR(VLOOKUP($A214,Filtro!$A$4:$AX$315,5,FALSE),0)","v":0}]
["80305041","0305041","Intradermoreacción (PPD, histoplasmina, aspergilina, u otros, incluye el valor del antígeno y reacción de control), c/u. ",{"$f":"IFERROR(VLOOKUP($A215,Filtro!$A$4:$AX$315,2,FALSE),0)","v":0},{"$f":"IFERROR(VLOOKUP($A215,Filtro!$A$4:$AX$315,3,FALSE),0)","v":0},{"$f":"IFERROR(VLOOKUP($A215,Filtro!$A$4:$AX$315,4,FALSE),0)","v":0},{"$f":"IFERROR(VLOOKUP($A215,Filtro!$A$4:$AX$315,5,FALSE),0)","v":0}]
["80305042","0305042","LIF o MIF",{"$f":"IFERROR(VLOOKUP($A216,Filtro!$A$4:$AX$315,2,FALSE),0)","v":0},{"$f":"IFERROR(VLOOKUP($A216,Filtro!$A$4:$AX$315,3,FALSE),0)","v":0},{"$f":"IFERROR(VLOOKUP($A216,Filtro!$A$4:$AX$315,4,FALSE),0)","v":0},{"$f":"IFERROR(VLOOKUP($A216,Filtro!$A$4:$AX$315,5,FALSE),0)","v":0}]
["80305043","0305043","Linfocitos B (inmunofluorescencia)",{"$f":"IFERROR(VLOOKUP($A217,Filtro!$A$4:$AX$315,2,FALSE),0)","v":0},{"$f":"IFERROR(VLOOKUP($A217,Filtro!$A$4:$AX$315,3,FALSE),0)","v":0},{"$f":"IFERROR(VLOOKUP($A217,Filtro!$A$4:$AX$315,4,FALSE),0)","v":0},{"$f":"IFERROR(VLOOKUP($A217,Filtro!$A$4:$AX$315,5,FALSE),0)","v":0}]
["80305044","0305044","Linfocitos B (rosetas EAC) y linfocitos T (rosetas E) c/u",{"$f":"IFERROR(VLOOKUP($A218,Filtro!$A$4:$AX$315,2,FALSE),0)","v":0},{"$f":"IFERROR(VLOOKUP($A218,Filtro!$A$4:$AX$315,3,FALSE),0)","v":0},{"$f":"IFERROR(VLOOKUP($A218,Filtro!$A$4:$AX$315,4,FALSE),0)","v":0},{"$f":"IFERROR(VLOOKUP($A218,Filtro!$A$4:$AX$315,5,FALSE),0)","v":0}]
["80305045","0305045","Linfocitos T \"helper\" (OKT4) o supresores (OKT8) con antisuero monoclonal, c/u",{"$f":"IFERROR(VLOOKUP($A219,Filtro!$A$4:$AX$315,2,FALSE),0)","v":0},{"$f":"IFERROR(VLOOKUP($A219,Filtro!$A$4:$AX$315,3,FALSE),0)","v":0},{"$f":"IFERROR(VLOOKUP($A219,Filtro!$A$4:$AX$315,4,FALSE),0)","v":0},{"$f":"IFERROR(VLOOKUP($A219,Filtro!$A$4:$AX$315,5,FALSE),0)","v":0}]
["80305047","0305047","Linfotoxinas humanas, detección de",{"$f":"IFERROR(VLOOKUP($A220,Filtro!$A$4:$AX$315,2,FALSE),0)","v":0},{"$f":"IFERROR(VLOOKUP($A220,Filtro!$A$4:$AX$315,3,FALSE),0)","v":0},{"$f":"IFERROR(VLOOKUP($A220,Filtro!$A$4:$AX$315,4,FALSE),0)","v":0},{"$f":"IFERROR(VLOOKUP($A220,Filtro!$A$4:$AX$315,5,FALSE),0)","v":0}]
["80305048","0305048","Reacción cutánea 16 alergenos por escarificación (incluye el valor de los antígenos)",{"$f":"IFERROR(VLOOKUP($A221,Filtro!$A$4:$AX$315,2,FALSE),0)","v":0},{"$f":"IFERROR(VLOOKUP($A221,Filtro!$A$4:$AX$315,3,FALSE),0)","v":0},{"$f":"IFERROR(VLOOKUP($A221,Filtro!$A$4:$AX$315,4,FALSE),0)","v":0},{"$f":"IFERROR(VLOOKUP($A221,Filtro!$A$4:$AX$315,5,FALSE),0)","v":0}]
["80305049","0305049","Transformación linfoblástica a drogas, análisis de transformación espontanea con estimulo inespecífico y con diferentes concentraciones de la droga en 1000 células",{"$f":"IFERROR(VLOOKUP($A222,Filtro!$A$4:$AX$315,2,FALSE),0)","v":0},{"$f":"IFERROR(VLOOKUP($A222,Filtro!$A$4:$AX$315,3,FALSE),0)","v":0},{"$f":"IFERROR(VLOOKUP($A222,Filtro!$A$4:$AX$315,4,FALSE),0)","v":0},{"$f":"IFERROR(VLOOKUP($A222,Filtro!$A$4:$AX$315,5,FALSE),0)","v":0}]
["80305051","0305051","Absorción de autoanticuerpos del receptor",{"$f":"IFERROR(VLOOKUP($A223,Filtro!$A$4:$AX$315,2,FALSE),0)","v":0},{"$f":"IFERROR(VLOOKUP($A223,Filtro!$A$4:$AX$315,3,FALSE),0)","v":0},{"$f":"IFERROR(VLOOKUP($A223,Filtro!$A$4:$AX$315,4,FALSE),0)","v":0},{"$f":"IFERROR(VLOOKUP($A223,Filtro!$A$4:$AX$315,5,FALSE),0)","v":0}]
["80305052","0305052","Anticuerpos linfocitotóxicos (PRA) por microlinfocitotoxicidad",{"$f":"IFERROR(VLOOKUP($A224,Filtro!$A$4:$AX$315,2,FALSE),0)","v":0},{"$f":"IFERROR(VLOOKUP($A224,Filtro!$A$4:$AX$315,3,FALSE),0)","v":0},{"$f":"IFERROR(VLOOKUP($A224,Filtro!$A$4:$AX$315,4,FALSE),0)","v":0},{"$f":"IFERROR(VLOOKUP($A224,Filtro!$A$4:$AX$315,5,FALSE),0)","v":0}]
["80305053","0305053","Autocrossmatch con linfocitos T y B",{"$f":"IFERROR(VLOOKUP($A225,Filtro!$A$4:$AX$315,2,FALSE),0)","v":0},{"$f":"IFERROR(VLOOKUP($A225,Filtro!$A$4:$AX$315,3,FALSE),0)","v":0},{"$f":"IFERROR(VLOOKUP($A225,Filtro!$A$4:$AX$315,4,FALSE),0)","v":0},{"$f":"IFERROR(VLOOKUP($A225,Filtro!$A$4:$AX$315,5,FALSE),0)","v":0}]
["80305054","0305054","Autocross match con linfocitos totales",{"$f":"IFERROR(VLOOKUP($A226,Filtro!$A$4:$AX$315,2,FALSE),0)","v":0},{"$f":"IFERROR(VLOOKUP($A226,Filtro!$A$4:$AX$315,3,FALSE),0)","v":0},{"$f":"IFERROR(VLOOKUP($A226,Filtro!$A$4:$AX$315,4,FALSE),0)","v":0},{"$f":"IFERROR(VLOOKUP($A226,Filtro!$A$4:$AX$315,5,FALSE),0)","v":0}]
["80305056","0305056","Alocrossmatch con linfocitos totales",{"$f":"IFERROR(VLOOKUP($A227,Filtro!$A$4:$AX$315,2,FALSE),0)","v":0},{"$f":"IFERROR(VLOOKUP($A227,Filtro!$A$4:$AX$315,3,FALSE),0)","v":0},{"$f":"IFERROR(VLOOKUP($A227,Filtro!$A$4:$AX$315,4,FALSE),0)","v":0},{"$f":"IFERROR(VLOOKUP($A227,Filtro!$A$4:$AX$315,5,FALSE),0)","v":0}]
["80305057","0305057","Alocrossmatch con linfocitos T y B",{"$f":"IFERROR(VLOOKUP($A228,Filtro!$A$4:$AX$315,2,FALSE),0)","v":0},{"$f":"IFERROR(VLOOKUP($A228,Filtro!$A$4:$AX$315,3,FALSE),0)","v":0},{"$f":"IFERROR(VLOOKUP($A228,Filtro!$A$4:$AX$315,4,FALSE),0)","v":0},{"$f":"IFERROR(VLOOKUP($A228,Filtro!$A$4:$AX$315,5,FALSE),0)","v":0}]
["80305058","0305058","Cultivo mixto de linfocitos",{"$f":"IFERROR(VLOOKUP($A229,Filtro!$A$4:$AX$315,2,FALSE),0)","v":0},{"$f":"IFERROR(VLOOKUP($A229,Filtro!$A$4:$AX$315,3,FALSE),0)","v":0},{"$f":"IFERROR(VLOOKUP($A229,Filtro!$A$4:$AX$315,4,FALSE),0)","v":0},{"$f":"IFERROR(VLOOKUP($A229,Filtro!$A$4:$AX$315,5,FALSE),0)","v":0}]
["80305059","0305059","Identificación de clase de inmunoglobulinas de auto o alo cross match positivo",{"$f":"IFERROR(VLOOKUP($A230,Filtro!$A$4:$AX$315,2,FALSE),0)","v":0},{"$f":"IFERROR(VLOOKUP($A230,Filtro!$A$4:$AX$315,3,FALSE),0)","v":0},{"$f":"IFERROR(VLOOKUP($A230,Filtro!$A$4:$AX$315,4,FALSE),0)","v":0},{"$f":"IFERROR(VLOOKUP($A230,Filtro!$A$4:$AX$315,5,FALSE),0)","v":0}]
["80305060","0305060","Tipificación HLA B-27",{"$f":"IFERROR(VLOOKUP($A231,Filtro!$A$4:$AX$315,2,FALSE),0)","v":0},{"$f":"IFERROR(VLOOKUP($A231,Filtro!$A$4:$AX$315,3,FALSE),0)","v":0},{"$f":"IFERROR(VLOOKUP($A231,Filtro!$A$4:$AX$315,4,FALSE),0)","v":0},{"$f":"IFERROR(VLOOKUP($A231,Filtro!$A$4:$AX$315,5,FALSE),0)","v":0}]
["80305061","0305061","Tipificación HLA B-8",{"$f":"IFERROR(VLOOKUP($A232,Filtro!$A$4:$AX$315,2,FALSE),0)","v":0},{"$f":"IFERROR(VLOOKUP($A232,Filtro!$A$4:$AX$315,3,FALSE),0)","v":0},{"$f":"IFERROR(VLOOKUP($A232,Filtro!$A$4:$AX$315,4,FALSE),0)","v":0},{"$f":"IFERROR(VLOOKUP($A232,Filtro!$A$4:$AX$315,5,FALSE),0)","v":0}]
["80305062","0305062","Tipificación HLA  - DR serológica",{"$f":"IFERROR(VLOOKUP($A233,Filtro!$A$4:$AX$315,2,FALSE),0)","v":0},{"$f":"IFERROR(VLOOKUP($A233,Filtro!$A$4:$AX$315,3,FALSE),0)","v":0},{"$f":"IFERROR(VLOOKUP($A233,Filtro!$A$4:$AX$315,4,FALSE),0)","v":0},{"$f":"IFERROR(VLOOKUP($A233,Filtro!$A$4:$AX$315,5,FALSE),0)","v":0}]
["80305063","0305063","Tipificación HLA - A, B serológica",{"$f":"IFERROR(VLOOKUP($A234,Filtro!$A$4:$AX$315,2,FALSE),0)","v":0},{"$f":"IFERROR(VLOOKUP($A234,Filtro!$A$4:$AX$315,3,FALSE),0)","v":0},{"$f":"IFERROR(VLOOKUP($A234,Filtro!$A$4:$AX$315,4,FALSE),0)","v":0},{"$f":"IFERROR(VLOOKUP($A234,Filtro!$A$4:$AX$315,5,FALSE),0)","v":0}]
[null,"TOTAL",null,{"$f":"SUM(D178:D234)","v":{"v":1266,"d":"1,266"}},{"$f":"SUM(E178:E234)","v":27},{"$f":"SUM(F178:F234)","v":{"v":1239,"d":"1,239"}},{"$f":"SUM(G178:G234)","v":{"v":2282,"d":"2,282"}}]
[null,"5.- MICROBIOLÓGICOS"]
["80306001","0306001","Baciloscopía Ziehl-Neelsen por concentración de líquidos (orina u otros), c/u",{"$f":"IFERROR(VLOOKUP($A237,Filtro!$A$4:$AX$315,2,FALSE),0)","v":0},{"$f":"IFERROR(VLOOKUP($A237,Filtro!$A$4:$AX$315,3,FALSE),0)","v":0},{"$f":"IFERROR(VLOOKUP($A237,Filtro!$A$4:$AX$315,4,FALSE),0)","v":0},{"$f":"IFERROR(VLOOKUP($A237,Filtro!$A$4:$AX$315,5,FALSE),0)","v":71}]
["80306002","0306002","Baciloscopía Ziehl-Neelsen, c/u",{"$f":"IFERROR(VLOOKUP($A238,Filtro!$A$4:$AX$315,2,FALSE),0)","v":6},{"$f":"IFERROR(VLOOKUP($A238,Filtro!$A$4:$AX$315,3,FALSE),0)","v":0},{"$f":"IFERROR(VLOOKUP($A238,Filtro!$A$4:$AX$315,4,FALSE),0)","v":6},{"$f":"IFERROR(VLOOKUP($A238,Filtro!$A$4:$AX$315,5,FALSE),0)","v":535}]
["80306004","0306004","Examen directo al fresco, c/s tinción (incluye trichomonas)",{"$f":"IFERROR(VLOOKUP($A239,Filtro!$A$4:$AX$315,2,FALSE),0)","v":18},{"$f":"IFERROR(VLOOKUP($A239,Filtro!$A$4:$AX$315,3,FALSE),0)","v":1},{"$f":"IFERROR(VLOOKUP($A239,Filtro!$A$4:$AX$315,4,FALSE),0)","v":17},{"$f":"IFERROR(VLOOKUP($A239,Filtro!$A$4:$AX$315,5,FALSE),0)","v":7}]
["80306005","0306005","Tinción de Gram",{"$f":"IFERROR(VLOOKUP($A240,Filtro!$A$4:$AX$315,2,FALSE),0)","v":268},{"$f":"IFERROR(VLOOKUP($A240,Filtro!$A$4:$AX$315,3,FALSE),0)","v":21},{"$f":"IFERROR(VLOOKUP($A240,Filtro!$A$4:$AX$315,4,FALSE),0)","v":247},{"$f":"IFERROR(VLOOKUP($A240,Filtro!$A$4:$AX$315,5,FALSE),0)","v":24}]
["80306006","0306006","Ultramicroscopía (incluye toma de muestras)",{"$f":"IFERROR(VLOOKUP($A241,Filtro!$A$4:$AX$315,2,FALSE),0)","v":0},{"$f":"IFERROR(VLOOKUP($A241,Filtro!$A$4:$AX$315,3,FALSE),0)","v":0},{"$f":"IFERROR(VLOOKUP($A241,Filtro!$A$4:$AX$315,4,FALSE),0)","v":0},{"$f":"IFERROR(VLOOKUP($A241,Filtro!$A$4:$AX$315,5,FALSE),0)","v":0}]
["80306007","0306007","Coprocultivo, c/u",{"$f":"IFERROR(VLOOKUP($A242,Filtro!$A$4:$AX$315,2,FALSE),0)","v":190},{"$f":"IFERROR(VLOOKUP($A242,Filtro!$A$4:$AX$315,3,FALSE),0)","v":8},{"$f":"IFERROR(VLOOKUP($A242,Filtro!$A$4:$AX$315,4,FALSE),0)","v":182},{"$f":"IFERROR(VLOOKUP($A242,Filtro!$A$4:$AX$315,5,FALSE),0)","v":79}]
["80306008","0306008","Corriente (excepto coprocultivo, hemocultivo y urocultivo) c/u",{"$f":"IFERROR(VLOOKUP($A243,Filtro!$A$4:$AX$315,2,FALSE),0)","v":244},{"$f":"IFERROR(VLOOKUP($A243,Filtro!$A$4:$AX$315,3,FALSE),0)","v":21},{"$f":"IFERROR(VLOOKUP($A243,Filtro!$A$4:$AX$315,4,FALSE),0)","v":223},{"$f":"IFERROR(VLOOKUP($A243,Filtro!$A$4:$AX$315,5,FALSE),0)","v":53}]
["80306009","0306009","Hemocultivo aerobio, c/u",{"$f":"IFERROR(VLOOKUP($A244,Filtro!$A$4:$AX$315,2,FALSE),0)","v":0},{"$f":"IFERROR(VLOOKUP($A244,Filtro!$A$4:$AX$315,3,FALSE),0)","v":0},{"$f":"IFERROR(VLOOKUP($A244,Filtro!$A$4:$AX$315,4,FALSE),0)","v":0},{"$f":"IFERROR(VLOOKUP($A244,Filtro!$A$4:$AX$315,5,FALSE),0)","v":0}]
["80306010","0306010","Hemocultivo anaerobio, c/u",{"$f":"IFERROR(VLOOKUP($A245,Filtro!$A$4:$AX$315,2,FALSE),0)","v":0},{"$f":"IFERROR(VLOOKUP($A245,Filtro!$A$4:$AX$315,3,FALSE),0)","v":0},{"$f":"IFERROR(VLOOKUP($A245,Filtro!$A$4:$AX$315,4,FALSE),0)","v":0},{"$f":"IFERROR(VLOOKUP($A245,Filtro!$A$4:$AX$315,5,FALSE),0)","v":0}]
["80306011","0306011","Urocultivo, recuento de colonias y antibiograma (cualquier técnica) (incluye toma de orina aséptica) (no incluye recolector pediátrico)",{"$f":"IFERROR(VLOOKUP($A246,Filtro!$A$4:$AX$315,2,FALSE),0)","v":{"v":6055,"d":"6,055"}},{"$f":"IFERROR(VLOOKUP($A246,Filtro!$A$4:$AX$315,3,FALSE),0)","v":374},{"$f":"IFERROR(VLOOKUP($A246,Filtro!$A$4:$AX$315,4,FALSE),0)","v":{"v":5681,"d":"5,681"}},{"$f":"IFERROR(VLOOKUP($A246,Filtro!$A$4:$AX$315,5,FALSE),0)","v":{"v":11150,"d":"11,150"}}]
["80306012","0306012","Anaerobios (incluye cód. 03-06-008)",{"$f":"IFERROR(VLOOKUP($A247,Filtro!$A$4:$AX$315,2,FALSE),0)","v":0},{"$f":"IFERROR(VLOOKUP($A247,Filtro!$A$4:$AX$315,3,FALSE),0)","v":0},{"$f":"IFERROR(VLOOKUP($A247,Filtro!$A$4:$AX$315,4,FALSE),0)","v":0},{"$f":"IFERROR(VLOOKUP($A247,Filtro!$A$4:$AX$315,5,FALSE),0)","v":0}]
["80306013","0306013","Cultivo específico para Bordetella",{"$f":"IFERROR(VLOOKUP($A248,Filtro!$A$4:$AX$315,2,FALSE),0)","v":0},{"$f":"IFERROR(VLOOKUP($A248,Filtro!$A$4:$AX$315,3,FALSE),0)","v":0},{"$f":"IFERROR(VLOOKUP($A248,Filtro!$A$4:$AX$315,4,FALSE),0)","v":0},{"$f":"IFERROR(VLOOKUP($A248,Filtro!$A$4:$AX$315,5,FALSE),0)","v":0}]
["80306014","0306014","Cultivo para Campylobacter, Yersinia, Vibrio, c/u",{"$f":"IFERROR(VLOOKUP($A249,Filtro!$A$4:$AX$315,2,FALSE),0)","v":0},{"$f":"IFERROR(VLOOKUP($A249,Filtro!$A$4:$AX$315,3,FALSE),0)","v":0},{"$f":"IFERROR(VLOOKUP($A249,Filtro!$A$4:$AX$315,4,FALSE),0)","v":0},{"$f":"IFERROR(VLOOKUP($A249,Filtro!$A$4:$AX$315,5,FALSE),0)","v":0}]
["80306015","0306015","Difteria",{"$f":"IFERROR(VLOOKUP($A250,Filtro!$A$4:$AX$315,2,FALSE),0)","v":0},{"$f":"IFERROR(VLOOKUP($A250,Filtro!$A$4:$AX$315,3,FALSE),0)","v":0},{"$f":"IFERROR(VLOOKUP($A250,Filtro!$A$4:$AX$315,4,FALSE),0)","v":0},{"$f":"IFERROR(VLOOKUP($A250,Filtro!$A$4:$AX$315,5,FALSE),0)","v":0}]
["80306016","0306016","Neisseria gonorrhoeae (gonococo)",{"$f":"IFERROR(VLOOKUP($A251,Filtro!$A$4:$AX$315,2,FALSE),0)","v":0},{"$f":"IFERROR(VLOOKUP($A251,Filtro!$A$4:$AX$315,3,FALSE),0)","v":0},{"$f":"IFERROR(VLOOKUP($A251,Filtro!$A$4:$AX$315,4,FALSE),0)","v":0},{"$f":"IFERROR(VLOOKUP($A251,Filtro!$A$4:$AX$315,5,FALSE),0)","v":7}]
["80306017","0306017","Cultivo para Levaduras",{"$f":"IFERROR(VLOOKUP($A252,Filtro!$A$4:$AX$315,2,FALSE),0)","v":5},{"$f":"IFERROR(VLOOKUP($A252,Filtro!$A$4:$AX$315,3,FALSE),0)","v":0},{"$f":"IFERROR(VLOOKUP($A252,Filtro!$A$4:$AX$315,4,FALSE),0)","v":5},{"$f":"IFERROR(VLOOKUP($A252,Filtro!$A$4:$AX$315,5,FALSE),0)","v":0}]
["80306117","0306117","Hongos Filamentosos",{"$f":"IFERROR(VLOOKUP($A253,Filtro!$A$4:$AX$315,2,FALSE),0)","v":13},{"$f":"IFERROR(VLOOKUP($A253,Filtro!$A$4:$AX$315,3,FALSE),0)","v":1},{"$f":"IFERROR(VLOOKUP($A253,Filtro!$A$4:$AX$315,4,FALSE),0)","v":12},{"$f":"IFERROR(VLOOKUP($A253,Filtro!$A$4:$AX$315,5,FALSE),0)","v":0}]
["80306018","0306018","Cultivo para bacilo de Koch, (incluye otras micobacterias)",{"$f":"IFERROR(VLOOKUP($A254,Filtro!$A$4:$AX$315,2,FALSE),0)","v":0},{"$f":"IFERROR(VLOOKUP($A254,Filtro!$A$4:$AX$315,3,FALSE),0)","v":0},{"$f":"IFERROR(VLOOKUP($A254,Filtro!$A$4:$AX$315,4,FALSE),0)","v":0},{"$f":"IFERROR(VLOOKUP($A254,Filtro!$A$4:$AX$315,5,FALSE),0)","v":21}]
["80306019","0306019","Cultivo para Legionella",{"$f":"IFERROR(VLOOKUP($A255,Filtro!$A$4:$AX$315,2,FALSE),0)","v":0},{"$f":"IFERROR(VLOOKUP($A255,Filtro!$A$4:$AX$315,3,FALSE),0)","v":0},{"$f":"IFERROR(VLOOKUP($A255,Filtro!$A$4:$AX$315,4,FALSE),0)","v":0},{"$f":"IFERROR(VLOOKUP($A255,Filtro!$A$4:$AX$315,5,FALSE),0)","v":0}]
["80306020","0306020","Listeria",{"$f":"IFERROR(VLOOKUP($A256,Filtro!$A$4:$AX$315,2,FALSE),0)","v":0},{"$f":"IFERROR(VLOOKUP($A256,Filtro!$A$4:$AX$315,3,FALSE),0)","v":0},{"$f":"IFERROR(VLOOKUP($A256,Filtro!$A$4:$AX$315,4,FALSE),0)","v":0},{"$f":"IFERROR(VLOOKUP($A256,Filtro!$A$4:$AX$315,5,FALSE),0)","v":0}]
["80306021","0306021","Neisseria meningitidis (meningococo)",{"$f":"IFERROR(VLOOKUP($A257,Filtro!$A$4:$AX$315,2,FALSE),0)","v":0},{"$f":"IFERROR(VLOOKUP($A257,Filtro!$A$4:$AX$315,3,FALSE),0)","v":0},{"$f":"IFERROR(VLOOKUP($A257,Filtro!$A$4:$AX$315,4,FALSE),0)","v":0},{"$f":"IFERROR(VLOOKUP($A257,Filtro!$A$4:$AX$315,5,FALSE),0)","v":0}]
["80306022","0306022","Cultivo y Tipificación de micobacterias",{"$f":"IFERROR(VLOOKUP($A258,Filtro!$A$4:$AX$315,2,FALSE),0)","v":0},{"$f":"IFERROR(VLOOKUP($A258,Filtro!$A$4:$AX$315,3,FALSE),0)","v":0},{"$f":"IFERROR(VLOOKUP($A258,Filtro!$A$4:$AX$315,4,FALSE),0)","v":0},{"$f":"IFERROR(VLOOKUP($A258,Filtro!$A$4:$AX$315,5,FALSE),0)","v":1}]
["80306023","0306023","Mycoplasma y Ureaplasma, c/u",{"$f":"IFERROR(VLOOKUP($A259,Filtro!$A$4:$AX$315,2,FALSE),0)","v":0},{"$f":"IFERROR(VLOOKUP($A259,Filtro!$A$4:$AX$315,3,FALSE),0)","v":0},{"$f":"IFERROR(VLOOKUP($A259,Filtro!$A$4:$AX$315,4,FALSE),0)","v":0},{"$f":"IFERROR(VLOOKUP($A259,Filtro!$A$4:$AX$315,5,FALSE),0)","v":0}]
["80306024","0306024","Anaerobios  (mínimo 4 fármacos)",{"$f":"IFERROR(VLOOKUP($A260,Filtro!$A$4:$AX$315,2,FALSE),0)","v":0},{"$f":"IFERROR(VLOOKUP($A260,Filtro!$A$4:$AX$315,3,FALSE),0)","v":0},{"$f":"IFERROR(VLOOKUP($A260,Filtro!$A$4:$AX$315,4,FALSE),0)","v":0},{"$f":"IFERROR(VLOOKUP($A260,Filtro!$A$4:$AX$315,5,FALSE),0)","v":0}]
["80306025","0306025","Bacilo de Koch (cada fármaco)",{"$f":"IFERROR(VLOOKUP($A261,Filtro!$A$4:$AX$315,2,FALSE),0)","v":0},{"$f":"IFERROR(VLOOKUP($A261,Filtro!$A$4:$AX$315,3,FALSE),0)","v":0},{"$f":"IFERROR(VLOOKUP($A261,Filtro!$A$4:$AX$315,4,FALSE),0)","v":0},{"$f":"IFERROR(VLOOKUP($A261,Filtro!$A$4:$AX$315,5,FALSE),0)","v":10}]
["80306026","0306026","Corriente (mínimo 10 fármacos) (en caso de urocultivo no corresponde su cobro; incluido en el valor 03-06-011)",{"$f":"IFERROR(VLOOKUP($A262,Filtro!$A$4:$AX$315,2,FALSE),0)","v":294},{"$f":"IFERROR(VLOOKUP($A262,Filtro!$A$4:$AX$315,3,FALSE),0)","v":35},{"$f":"IFERROR(VLOOKUP($A262,Filtro!$A$4:$AX$315,4,FALSE),0)","v":259},{"$f":"IFERROR(VLOOKUP($A262,Filtro!$A$4:$AX$315,5,FALSE),0)","v":0}]
["80306027","0306027","Estudio de sensibilidad por dilución (CIM) (mínimo 6 fármacos) (en caso de urocultivo, no corresponde su cobro; incluido en el valor código 03-06-011)",{"$f":"IFERROR(VLOOKUP($A263,Filtro!$A$4:$AX$315,2,FALSE),0)","v":0},{"$f":"IFERROR(VLOOKUP($A263,Filtro!$A$4:$AX$315,3,FALSE),0)","v":0},{"$f":"IFERROR(VLOOKUP($A263,Filtro!$A$4:$AX$315,4,FALSE),0)","v":0},{"$f":"IFERROR(VLOOKUP($A263,Filtro!$A$4:$AX$315,5,FALSE),0)","v":0}]
["80306028","0306028","Antifungigrama (mínimo 4 fármacos antihongos)",{"$f":"IFERROR(VLOOKUP($A264,Filtro!$A$4:$AX$315,2,FALSE),0)","v":0},{"$f":"IFERROR(VLOOKUP($A264,Filtro!$A$4:$AX$315,3,FALSE),0)","v":0},{"$f":"IFERROR(VLOOKUP($A264,Filtro!$A$4:$AX$315,4,FALSE),0)","v":0},{"$f":"IFERROR(VLOOKUP($A264,Filtro!$A$4:$AX$315,5,FALSE),0)","v":0}]
["80306029","0306029","Autovacunas, incluye cultivo y preparación  de mínimo 10 ampollas",{"$f":"IFERROR(VLOOKUP($A265,Filtro!$A$4:$AX$315,2,FALSE),0)","v":0},{"$f":"IFERROR(VLOOKUP($A265,Filtro!$A$4:$AX$315,3,FALSE),0)","v":0},{"$f":"IFERROR(VLOOKUP($A265,Filtro!$A$4:$AX$315,4,FALSE),0)","v":0},{"$f":"IFERROR(VLOOKUP($A265,Filtro!$A$4:$AX$315,5,FALSE),0)","v":0}]
["80306030","0306030","Poder bactericida del suero",{"$f":"IFERROR(VLOOKUP($A266,Filtro!$A$4:$AX$315,2,FALSE),0)","v":0},{"$f":"IFERROR(VLOOKUP($A266,Filtro!$A$4:$AX$315,3,FALSE),0)","v":0},{"$f":"IFERROR(VLOOKUP($A266,Filtro!$A$4:$AX$315,4,FALSE),0)","v":0},{"$f":"IFERROR(VLOOKUP($A266,Filtro!$A$4:$AX$315,5,FALSE),0)","v":0}]
["80306031","0306031","Preparación de vacunas uni o polivalentes mantenidas en stock (mínimo 5 ampollas)",{"$f":"IFERROR(VLOOKUP($A267,Filtro!$A$4:$AX$315,2,FALSE),0)","v":0},{"$f":"IFERROR(VLOOKUP($A267,Filtro!$A$4:$AX$315,3,FALSE),0)","v":0},{"$f":"IFERROR(VLOOKUP($A267,Filtro!$A$4:$AX$315,4,FALSE),0)","v":0},{"$f":"IFERROR(VLOOKUP($A267,Filtro!$A$4:$AX$315,5,FALSE),0)","v":0}]
["80306032","0306032","Aspergilosis, candidiasis, histoplasmosis u otros hongos por inmunodiagnóstico c/u",{"$f":"IFERROR(VLOOKUP($A268,Filtro!$A$4:$AX$315,2,FALSE),0)","v":0},{"$f":"IFERROR(VLOOKUP($A268,Filtro!$A$4:$AX$315,3,FALSE),0)","v":0},{"$f":"IFERROR(VLOOKUP($A268,Filtro!$A$4:$AX$315,4,FALSE),0)","v":0},{"$f":"IFERROR(VLOOKUP($A268,Filtro!$A$4:$AX$315,5,FALSE),0)","v":0}]
["80306033","0306033","Brucella, reacción de aglutinación para (Wright-Hudleson) o similares",{"$f":"IFERROR(VLOOKUP($A269,Filtro!$A$4:$AX$315,2,FALSE),0)","v":0},{"$f":"IFERROR(VLOOKUP($A269,Filtro!$A$4:$AX$315,3,FALSE),0)","v":0},{"$f":"IFERROR(VLOOKUP($A269,Filtro!$A$4:$AX$315,4,FALSE),0)","v":0},{"$f":"IFERROR(VLOOKUP($A269,Filtro!$A$4:$AX$315,5,FALSE),0)","v":0}]
["80306034","0306034","Clamidias por inmunofluorescencia, peroxidasa, Elisa o similares",{"$f":"IFERROR(VLOOKUP($A270,Filtro!$A$4:$AX$315,2,FALSE),0)","v":0},{"$f":"IFERROR(VLOOKUP($A270,Filtro!$A$4:$AX$315,3,FALSE),0)","v":0},{"$f":"IFERROR(VLOOKUP($A270,Filtro!$A$4:$AX$315,4,FALSE),0)","v":0},{"$f":"IFERROR(VLOOKUP($A270,Filtro!$A$4:$AX$315,5,FALSE),0)","v":0}]
["80306036","0306036","Mononucleosis, reacción de Paul Bunnell, Anticuerpos Heterófilos o similares",{"$f":"IFERROR(VLOOKUP($A271,Filtro!$A$4:$AX$315,2,FALSE),0)","v":0},{"$f":"IFERROR(VLOOKUP($A271,Filtro!$A$4:$AX$315,3,FALSE),0)","v":0},{"$f":"IFERROR(VLOOKUP($A271,Filtro!$A$4:$AX$315,4,FALSE),0)","v":0},{"$f":"IFERROR(VLOOKUP($A271,Filtro!$A$4:$AX$315,5,FALSE),0)","v":0}]
["80306037","0306037","Mycoplasma IgG, IgM, c/u. ",{"$f":"IFERROR(VLOOKUP($A272,Filtro!$A$4:$AX$315,2,FALSE),0)","v":0},{"$f":"IFERROR(VLOOKUP($A272,Filtro!$A$4:$AX$315,3,FALSE),0)","v":0},{"$f":"IFERROR(VLOOKUP($A272,Filtro!$A$4:$AX$315,4,FALSE),0)","v":0},{"$f":"IFERROR(VLOOKUP($A272,Filtro!$A$4:$AX$315,5,FALSE),0)","v":0}]
["80306038","0306038","R.P.R.",{"$f":"IFERROR(VLOOKUP($A273,Filtro!$A$4:$AX$315,2,FALSE),0)","v":{"v":3758,"d":"3,758"}},{"$f":"IFERROR(VLOOKUP($A273,Filtro!$A$4:$AX$315,3,FALSE),0)","v":172},{"$f":"IFERROR(VLOOKUP($A273,Filtro!$A$4:$AX$315,4,FALSE),0)","v":{"v":3586,"d":"3,586"}},{"$f":"IFERROR(VLOOKUP($A273,Filtro!$A$4:$AX$315,5,FALSE),0)","v":402}]
["80306039","0306039","Tíficas, reacciones de aglutinación  (Eberth H y O, paratyphi A y B) (Widal)",{"$f":"IFERROR(VLOOKUP($A274,Filtro!$A$4:$AX$315,2,FALSE),0)","v":0},{"$f":"IFERROR(VLOOKUP($A274,Filtro!$A$4:$AX$315,3,FALSE),0)","v":0},{"$f":"IFERROR(VLOOKUP($A274,Filtro!$A$4:$AX$315,4,FALSE),0)","v":0},{"$f":"IFERROR(VLOOKUP($A274,Filtro!$A$4:$AX$315,5,FALSE),0)","v":0}]
["80306041","0306041","Treponema pallidum FTA - ABS, MHA-TP c/u",{"$f":"IFERROR(VLOOKUP($A275,Filtro!$A$4:$AX$315,2,FALSE),0)","v":0},{"$f":"IFERROR(VLOOKUP($A275,Filtro!$A$4:$AX$315,3,FALSE),0)","v":0},{"$f":"IFERROR(VLOOKUP($A275,Filtro!$A$4:$AX$315,4,FALSE),0)","v":0},{"$f":"IFERROR(VLOOKUP($A275,Filtro!$A$4:$AX$315,5,FALSE),0)","v":52}]
["80306042","0306042","V.D.R.L.",{"$f":"IFERROR(VLOOKUP($A276,Filtro!$A$4:$AX$315,2,FALSE),0)","v":48},{"$f":"IFERROR(VLOOKUP($A276,Filtro!$A$4:$AX$315,3,FALSE),0)","v":0},{"$f":"IFERROR(VLOOKUP($A276,Filtro!$A$4:$AX$315,4,FALSE),0)","v":48},{"$f":"IFERROR(VLOOKUP($A276,Filtro!$A$4:$AX$315,5,FALSE),0)","v":{"v":10584,"d":"10,584"}}]
["80306043","0306043","Artrópodos macroscópicos y microscópicos (imagos y/o pupas y/o larvas), diagnóstico de",{"$f":"IFERROR(VLOOKUP($A277,Filtro!$A$4:$AX$315,2,FALSE),0)","v":0},{"$f":"IFERROR(VLOOKUP($A277,Filtro!$A$4:$AX$315,3,FALSE),0)","v":0},{"$f":"IFERROR(VLOOKUP($A277,Filtro!$A$4:$AX$315,4,FALSE),0)","v":0},{"$f":"IFERROR(VLOOKUP($A277,Filtro!$A$4:$AX$315,5,FALSE),0)","v":0}]
["80306045","0306045","Coproparasitario seriado con técnica  para Cryptosporidium sp o para Diantamoeba fragilis (incluye los códigos 03-06-048 y/o 03-06-059 más aplicación de técnica de frotis con tinción tricrómica o tinción Ziehl-Neelsen en por lo menos 3 muestras, según corresponda)",{"$f":"IFERROR(VLOOKUP($A278,Filtro!$A$4:$AX$315,2,FALSE),0)","v":0},{"$f":"IFERROR(VLOOKUP($A278,Filtro!$A$4:$AX$315,3,FALSE),0)","v":0},{"$f":"IFERROR(VLOOKUP($A278,Filtro!$A$4:$AX$315,4,FALSE),0)","v":0},{"$f":"IFERROR(VLOOKUP($A278,Filtro!$A$4:$AX$315,5,FALSE),0)","v":6}]
["80306046","0306046","Coproparasitario seriado para Fasciola hepática (incluye diagnostico de gusanos macroscópicos y ex. microscópico de 10 muestras separadas por método de Telemann y de otras 10 muestras separadas y simultáneas con las ant. por téc. de sedimentación)",{"$f":"IFERROR(VLOOKUP($A279,Filtro!$A$4:$AX$315,2,FALSE),0)","v":0},{"$f":"IFERROR(VLOOKUP($A279,Filtro!$A$4:$AX$315,3,FALSE),0)","v":0},{"$f":"IFERROR(VLOOKUP($A279,Filtro!$A$4:$AX$315,4,FALSE),0)","v":0},{"$f":"IFERROR(VLOOKUP($A279,Filtro!$A$4:$AX$315,5,FALSE),0)","v":3}]
["80306047","0306047","Coproparasitario seriado para Isospora y Sarcocystis (incluye diagnóstico de gusanos macroscópicos y examen  microscópico de 3 muestras separadas)",{"$f":"IFERROR(VLOOKUP($A280,Filtro!$A$4:$AX$315,2,FALSE),0)","v":0},{"$f":"IFERROR(VLOOKUP($A280,Filtro!$A$4:$AX$315,3,FALSE),0)","v":0},{"$f":"IFERROR(VLOOKUP($A280,Filtro!$A$4:$AX$315,4,FALSE),0)","v":0},{"$f":"IFERROR(VLOOKUP($A280,Filtro!$A$4:$AX$315,5,FALSE),0)","v":4}]
["80306048","0306048","Coproparasitológico seriado simple (incluye diagnostico de gusanos macroscópicos y examen microscópico por concentración de 3 muestras separadas método Telemann) (proc. aut.)",{"$f":"IFERROR(VLOOKUP($A281,Filtro!$A$4:$AX$315,2,FALSE),0)","v":226},{"$f":"IFERROR(VLOOKUP($A281,Filtro!$A$4:$AX$315,3,FALSE),0)","v":7},{"$f":"IFERROR(VLOOKUP($A281,Filtro!$A$4:$AX$315,4,FALSE),0)","v":219},{"$f":"IFERROR(VLOOKUP($A281,Filtro!$A$4:$AX$315,5,FALSE),0)","v":149}]
["80306049","0306049","Diagnostico de parásitos en jugo duodenal y/o bilis, examen macroscópico y microscópico (directo y/o concentración, c/s tinción)",{"$f":"IFERROR(VLOOKUP($A282,Filtro!$A$4:$AX$315,2,FALSE),0)","v":0},{"$f":"IFERROR(VLOOKUP($A282,Filtro!$A$4:$AX$315,3,FALSE),0)","v":0},{"$f":"IFERROR(VLOOKUP($A282,Filtro!$A$4:$AX$315,4,FALSE),0)","v":0},{"$f":"IFERROR(VLOOKUP($A282,Filtro!$A$4:$AX$315,5,FALSE),0)","v":4}]
["80306050","0306050","Diagnostico parasitario en exudados, secreciones y otros líquidos orgánicos (no especificados mas adelante), examen macro y microscópico de (incluye concentración y/o tinción cuando proceda), c/u",{"$f":"IFERROR(VLOOKUP($A283,Filtro!$A$4:$AX$315,2,FALSE),0)","v":0},{"$f":"IFERROR(VLOOKUP($A283,Filtro!$A$4:$AX$315,3,FALSE),0)","v":0},{"$f":"IFERROR(VLOOKUP($A283,Filtro!$A$4:$AX$315,4,FALSE),0)","v":0},{"$f":"IFERROR(VLOOKUP($A283,Filtro!$A$4:$AX$315,5,FALSE),0)","v":1}]
["80306051","0306051","Graham, examen de (incluye diagnostico de gusanos macroscópicos y examen microscópico de 5 muestras separadas)",{"$f":"IFERROR(VLOOKUP($A284,Filtro!$A$4:$AX$315,2,FALSE),0)","v":145},{"$f":"IFERROR(VLOOKUP($A284,Filtro!$A$4:$AX$315,3,FALSE),0)","v":4},{"$f":"IFERROR(VLOOKUP($A284,Filtro!$A$4:$AX$315,4,FALSE),0)","v":141},{"$f":"IFERROR(VLOOKUP($A284,Filtro!$A$4:$AX$315,5,FALSE),0)","v":206}]
["80306052","0306052","Gusanos macroscópicos, diagnóstico de (proc. aut.)",{"$f":"IFERROR(VLOOKUP($A285,Filtro!$A$4:$AX$315,2,FALSE),0)","v":0},{"$f":"IFERROR(VLOOKUP($A285,Filtro!$A$4:$AX$315,3,FALSE),0)","v":0},{"$f":"IFERROR(VLOOKUP($A285,Filtro!$A$4:$AX$315,4,FALSE),0)","v":0},{"$f":"IFERROR(VLOOKUP($A285,Filtro!$A$4:$AX$315,5,FALSE),0)","v":75}]
["80306053","0306053","Hemoparásitos, diagnóstico microscópico de (mínimo 10 frotis y/o gotas gruesas, c/s examen directo al fresco), cada sesión",{"$f":"IFERROR(VLOOKUP($A286,Filtro!$A$4:$AX$315,2,FALSE),0)","v":0},{"$f":"IFERROR(VLOOKUP($A286,Filtro!$A$4:$AX$315,3,FALSE),0)","v":0},{"$f":"IFERROR(VLOOKUP($A286,Filtro!$A$4:$AX$315,4,FALSE),0)","v":0},{"$f":"IFERROR(VLOOKUP($A286,Filtro!$A$4:$AX$315,5,FALSE),0)","v":5}]
["80306054","0306054","Hemoparásitos, diagnóstico por técnica de Strout o similar en hasta 10 tubos capilares, cada sesión",{"$f":"IFERROR(VLOOKUP($A287,Filtro!$A$4:$AX$315,2,FALSE),0)","v":0},{"$f":"IFERROR(VLOOKUP($A287,Filtro!$A$4:$AX$315,3,FALSE),0)","v":0},{"$f":"IFERROR(VLOOKUP($A287,Filtro!$A$4:$AX$315,4,FALSE),0)","v":0},{"$f":"IFERROR(VLOOKUP($A287,Filtro!$A$4:$AX$315,5,FALSE),0)","v":0}]
["80306056","0306056","Raspado de piel, examen microscópico de (\"Acarotest\"): de 6 a 10 preparaciones",{"$f":"IFERROR(VLOOKUP($A288,Filtro!$A$4:$AX$315,2,FALSE),0)","v":10},{"$f":"IFERROR(VLOOKUP($A288,Filtro!$A$4:$AX$315,3,FALSE),0)","v":0},{"$f":"IFERROR(VLOOKUP($A288,Filtro!$A$4:$AX$315,4,FALSE),0)","v":10},{"$f":"IFERROR(VLOOKUP($A288,Filtro!$A$4:$AX$315,5,FALSE),0)","v":0}]
["80306057","0306057","Tenias post. trat., Diagnostico y búsqueda de escólex de",{"$f":"IFERROR(VLOOKUP($A289,Filtro!$A$4:$AX$315,2,FALSE),0)","v":0},{"$f":"IFERROR(VLOOKUP($A289,Filtro!$A$4:$AX$315,3,FALSE),0)","v":0},{"$f":"IFERROR(VLOOKUP($A289,Filtro!$A$4:$AX$315,4,FALSE),0)","v":0},{"$f":"IFERROR(VLOOKUP($A289,Filtro!$A$4:$AX$315,5,FALSE),0)","v":0}]
["80306058","0306058","Xenodiagnóstico (cada aplicación de 2 cajas, con 6 ninfas por lo menos c/u, examinadas a los 20 y/o 30 días y hasta por 60 días más si procede)",{"$f":"IFERROR(VLOOKUP($A290,Filtro!$A$4:$AX$315,2,FALSE),0)","v":0},{"$f":"IFERROR(VLOOKUP($A290,Filtro!$A$4:$AX$315,3,FALSE),0)","v":0},{"$f":"IFERROR(VLOOKUP($A290,Filtro!$A$4:$AX$315,4,FALSE),0)","v":0},{"$f":"IFERROR(VLOOKUP($A290,Filtro!$A$4:$AX$315,5,FALSE),0)","v":0}]
["80306059","0306059","Coproparasitológico seriado simple (incluye diagnóstico de gusanos macroscopicos  y exámen microscopico por concentración de tres muestras separadas método PAFS (proc. aut.)",{"$f":"IFERROR(VLOOKUP($A291,Filtro!$A$4:$AX$315,2,FALSE),0)","v":217},{"$f":"IFERROR(VLOOKUP($A291,Filtro!$A$4:$AX$315,3,FALSE),0)","v":0},{"$f":"IFERROR(VLOOKUP($A291,Filtro!$A$4:$AX$315,4,FALSE),0)","v":217},{"$f":"IFERROR(VLOOKUP($A291,Filtro!$A$4:$AX$315,5,FALSE),0)","v":450}]
["80306061","0306061","Elisa indirecta (Chagas, hidatidosis, toxocariasis y otras), c/u",{"$f":"IFERROR(VLOOKUP($A292,Filtro!$A$4:$AX$315,2,FALSE),0)","v":338},{"$f":"IFERROR(VLOOKUP($A292,Filtro!$A$4:$AX$315,3,FALSE),0)","v":0},{"$f":"IFERROR(VLOOKUP($A292,Filtro!$A$4:$AX$315,4,FALSE),0)","v":338},{"$f":"IFERROR(VLOOKUP($A292,Filtro!$A$4:$AX$315,5,FALSE),0)","v":{"v":1798,"d":"1,798"}}]
["80306062","0306062","Fijación del complemento (distomatosis, toxoplasmosis, cisticercosis y otras) c/u",{"$f":"IFERROR(VLOOKUP($A293,Filtro!$A$4:$AX$315,2,FALSE),0)","v":0},{"$f":"IFERROR(VLOOKUP($A293,Filtro!$A$4:$AX$315,3,FALSE),0)","v":0},{"$f":"IFERROR(VLOOKUP($A293,Filtro!$A$4:$AX$315,4,FALSE),0)","v":0},{"$f":"IFERROR(VLOOKUP($A293,Filtro!$A$4:$AX$315,5,FALSE),0)","v":0}]
["80306063","0306063","Floculación en bentonita, látex, precipitinas o similar (triquinosis, hidatidosis y otros), c/u",{"$f":"IFERROR(VLOOKUP($A294,Filtro!$A$4:$AX$315,2,FALSE),0)","v":0},{"$f":"IFERROR(VLOOKUP($A294,Filtro!$A$4:$AX$315,3,FALSE),0)","v":0},{"$f":"IFERROR(VLOOKUP($A294,Filtro!$A$4:$AX$315,4,FALSE),0)","v":0},{"$f":"IFERROR(VLOOKUP($A294,Filtro!$A$4:$AX$315,5,FALSE),0)","v":0}]
["80306064","0306064","Hemaglutinación indirecta (toxoplasmosis, Chagas, hidatidosis y otras), c/u",{"$f":"IFERROR(VLOOKUP($A295,Filtro!$A$4:$AX$315,2,FALSE),0)","v":0},{"$f":"IFERROR(VLOOKUP($A295,Filtro!$A$4:$AX$315,3,FALSE),0)","v":0},{"$f":"IFERROR(VLOOKUP($A295,Filtro!$A$4:$AX$315,4,FALSE),0)","v":0},{"$f":"IFERROR(VLOOKUP($A295,Filtro!$A$4:$AX$315,5,FALSE),0)","v":0}]
["80306065","0306065","Inmunoelectroforesis o contrainmunoelectroforesis (hidatidosis, distomatosis, amebiasis y otras), c/u",{"$f":"IFERROR(VLOOKUP($A296,Filtro!$A$4:$AX$315,2,FALSE),0)","v":0},{"$f":"IFERROR(VLOOKUP($A296,Filtro!$A$4:$AX$315,3,FALSE),0)","v":0},{"$f":"IFERROR(VLOOKUP($A296,Filtro!$A$4:$AX$315,4,FALSE),0)","v":0},{"$f":"IFERROR(VLOOKUP($A296,Filtro!$A$4:$AX$315,5,FALSE),0)","v":0}]
["80306066","0306066","Inmunofluorescencia indirecta (toxoplasmosis, Chagas, amebiasis y otras), c/u",{"$f":"IFERROR(VLOOKUP($A297,Filtro!$A$4:$AX$315,2,FALSE),0)","v":0},{"$f":"IFERROR(VLOOKUP($A297,Filtro!$A$4:$AX$315,3,FALSE),0)","v":0},{"$f":"IFERROR(VLOOKUP($A297,Filtro!$A$4:$AX$315,4,FALSE),0)","v":0},{"$f":"IFERROR(VLOOKUP($A297,Filtro!$A$4:$AX$315,5,FALSE),0)","v":46}]
["80306067","0306067","Reacción intradérmica (incluye el valor y la aplicación del antígeno y del control y examen de las reacciones inmediatas y retardadas, cada antígeno) (bachmann, distomatosis u otras)",{"$f":"IFERROR(VLOOKUP($A298,Filtro!$A$4:$AX$315,2,FALSE),0)","v":0},{"$f":"IFERROR(VLOOKUP($A298,Filtro!$A$4:$AX$315,3,FALSE),0)","v":0},{"$f":"IFERROR(VLOOKUP($A298,Filtro!$A$4:$AX$315,4,FALSE),0)","v":0},{"$f":"IFERROR(VLOOKUP($A298,Filtro!$A$4:$AX$315,5,FALSE),0)","v":0}]
["80306068","0306068","Aislamiento de virus (adenovirus, citomegalovirus, Coxsakie, herpes, influenza, polio, sarampión y otros), c/u",{"$f":"IFERROR(VLOOKUP($A299,Filtro!$A$4:$AX$315,2,FALSE),0)","v":0},{"$f":"IFERROR(VLOOKUP($A299,Filtro!$A$4:$AX$315,3,FALSE),0)","v":0},{"$f":"IFERROR(VLOOKUP($A299,Filtro!$A$4:$AX$315,4,FALSE),0)","v":0},{"$f":"IFERROR(VLOOKUP($A299,Filtro!$A$4:$AX$315,5,FALSE),0)","v":0}]
["80306069","0306069","Anticuerpos virales, determ. de (adenovirus, citomegalovirus, herpes simple, rubéola, Influenza  A y B; virus varicela-zoster; virus sincicial respiratorio; parainfluenza 1, 2 y 3, Epstein Barr y otros), c/u",{"$f":"IFERROR(VLOOKUP($A300,Filtro!$A$4:$AX$315,2,FALSE),0)","v":1},{"$f":"IFERROR(VLOOKUP($A300,Filtro!$A$4:$AX$315,3,FALSE),0)","v":0},{"$f":"IFERROR(VLOOKUP($A300,Filtro!$A$4:$AX$315,4,FALSE),0)","v":1},{"$f":"IFERROR(VLOOKUP($A300,Filtro!$A$4:$AX$315,5,FALSE),0)","v":1}]
["80306169","0306169","Anticuerpos virales, determ. de H.I.V.",{"$f":"IFERROR(VLOOKUP($A301,Filtro!$A$4:$AX$315,2,FALSE),0)","v":14},{"$f":"IFERROR(VLOOKUP($A301,Filtro!$A$4:$AX$315,3,FALSE),0)","v":0},{"$f":"IFERROR(VLOOKUP($A301,Filtro!$A$4:$AX$315,4,FALSE),0)","v":14},{"$f":"IFERROR(VLOOKUP($A301,Filtro!$A$4:$AX$315,5,FALSE),0)","v":{"v":1055,"d":"1,055"}}]
["80306070","0306070","Antígenos virales determ. de (adenovirus, citomegalovirus, herpes simple, rubéola, influenza y otros), (por cualquier técnica ej: inmunofluorescencia), c/u",{"$f":"IFERROR(VLOOKUP($A302,Filtro!$A$4:$AX$315,2,FALSE),0)","v":0},{"$f":"IFERROR(VLOOKUP($A302,Filtro!$A$4:$AX$315,3,FALSE),0)","v":0},{"$f":"IFERROR(VLOOKUP($A302,Filtro!$A$4:$AX$315,4,FALSE),0)","v":0},{"$f":"IFERROR(VLOOKUP($A302,Filtro!$A$4:$AX$315,5,FALSE),0)","v":0}]
["80306170","0306170","Antígenos virales determ. de rotavirus, por cualquier técnica ",{"$f":"IFERROR(VLOOKUP($A303,Filtro!$A$4:$AX$315,2,FALSE),0)","v":30},{"$f":"IFERROR(VLOOKUP($A303,Filtro!$A$4:$AX$315,3,FALSE),0)","v":0},{"$f":"IFERROR(VLOOKUP($A303,Filtro!$A$4:$AX$315,4,FALSE),0)","v":30},{"$f":"IFERROR(VLOOKUP($A303,Filtro!$A$4:$AX$315,5,FALSE),0)","v":0}]
["80306270","0306270","Antígenos virales determ. de virus sincicial, por cualquier técnica ",{"$f":"IFERROR(VLOOKUP($A304,Filtro!$A$4:$AX$315,2,FALSE),0)","v":0},{"$f":"IFERROR(VLOOKUP($A304,Filtro!$A$4:$AX$315,3,FALSE),0)","v":0},{"$f":"IFERROR(VLOOKUP($A304,Filtro!$A$4:$AX$315,4,FALSE),0)","v":0},{"$f":"IFERROR(VLOOKUP($A304,Filtro!$A$4:$AX$315,5,FALSE),0)","v":0}]
["80306072","0306072","Reacción de seroneutralización para: virus polio, ECHO, Coxsakie, c/u",{"$f":"IFERROR(VLOOKUP($A305,Filtro!$A$4:$AX$315,2,FALSE),0)","v":0},{"$f":"IFERROR(VLOOKUP($A305,Filtro!$A$4:$AX$315,3,FALSE),0)","v":0},{"$f":"IFERROR(VLOOKUP($A305,Filtro!$A$4:$AX$315,4,FALSE),0)","v":0},{"$f":"IFERROR(VLOOKUP($A305,Filtro!$A$4:$AX$315,5,FALSE),0)","v":0}]
["80306073","0306073","Virus hepatitis A, Anticore",{"$f":"IFERROR(VLOOKUP($A306,Filtro!$A$4:$AX$315,2,FALSE),0)","v":0},{"$f":"IFERROR(VLOOKUP($A306,Filtro!$A$4:$AX$315,3,FALSE),0)","v":0},{"$f":"IFERROR(VLOOKUP($A306,Filtro!$A$4:$AX$315,4,FALSE),0)","v":0},{"$f":"IFERROR(VLOOKUP($A306,Filtro!$A$4:$AX$315,5,FALSE),0)","v":0}]
["80306074","0306074","Virus hepatitis A, anticuerpos IgM del",{"$f":"IFERROR(VLOOKUP($A307,Filtro!$A$4:$AX$315,2,FALSE),0)","v":0},{"$f":"IFERROR(VLOOKUP($A307,Filtro!$A$4:$AX$315,3,FALSE),0)","v":0},{"$f":"IFERROR(VLOOKUP($A307,Filtro!$A$4:$AX$315,4,FALSE),0)","v":0},{"$f":"IFERROR(VLOOKUP($A307,Filtro!$A$4:$AX$315,5,FALSE),0)","v":0}]
["80306075","0306075","Virus hepatitis B, anticuerpo del antígeno E del",{"$f":"IFERROR(VLOOKUP($A308,Filtro!$A$4:$AX$315,2,FALSE),0)","v":0},{"$f":"IFERROR(VLOOKUP($A308,Filtro!$A$4:$AX$315,3,FALSE),0)","v":0},{"$f":"IFERROR(VLOOKUP($A308,Filtro!$A$4:$AX$315,4,FALSE),0)","v":0},{"$f":"IFERROR(VLOOKUP($A308,Filtro!$A$4:$AX$315,5,FALSE),0)","v":0}]
["80306076","0306076","Virus hepatitis B, anticore total del (anti HBc total)",{"$f":"IFERROR(VLOOKUP($A309,Filtro!$A$4:$AX$315,2,FALSE),0)","v":0},{"$f":"IFERROR(VLOOKUP($A309,Filtro!$A$4:$AX$315,3,FALSE),0)","v":0},{"$f":"IFERROR(VLOOKUP($A309,Filtro!$A$4:$AX$315,4,FALSE),0)","v":0},{"$f":"IFERROR(VLOOKUP($A309,Filtro!$A$4:$AX$315,5,FALSE),0)","v":0}]
["80306077","0306077","Virus hepatitis B, anticuerpos de antígeno de superficie (australiano)",{"$f":"IFERROR(VLOOKUP($A310,Filtro!$A$4:$AX$315,2,FALSE),0)","v":0},{"$f":"IFERROR(VLOOKUP($A310,Filtro!$A$4:$AX$315,3,FALSE),0)","v":0},{"$f":"IFERROR(VLOOKUP($A310,Filtro!$A$4:$AX$315,4,FALSE),0)","v":0},{"$f":"IFERROR(VLOOKUP($A310,Filtro!$A$4:$AX$315,5,FALSE),0)","v":0}]
["80306078","0306078","Virus hepatitis B, antígeno E del (HBEAg)",{"$f":"IFERROR(VLOOKUP($A311,Filtro!$A$4:$AX$315,2,FALSE),0)","v":0},{"$f":"IFERROR(VLOOKUP($A311,Filtro!$A$4:$AX$315,3,FALSE),0)","v":0},{"$f":"IFERROR(VLOOKUP($A311,Filtro!$A$4:$AX$315,4,FALSE),0)","v":0},{"$f":"IFERROR(VLOOKUP($A311,Filtro!$A$4:$AX$315,5,FALSE),0)","v":0}]
["80306079","0306079","Virus hepatitis B, antígeno superficie",{"$f":"IFERROR(VLOOKUP($A312,Filtro!$A$4:$AX$315,2,FALSE),0)","v":0},{"$f":"IFERROR(VLOOKUP($A312,Filtro!$A$4:$AX$315,3,FALSE),0)","v":0},{"$f":"IFERROR(VLOOKUP($A312,Filtro!$A$4:$AX$315,4,FALSE),0)","v":0},{"$f":"IFERROR(VLOOKUP($A312,Filtro!$A$4:$AX$315,5,FALSE),0)","v":5}]
["80306080","0306080","Virus hepatitis B, anticore IgM del (anti HBc IgM)",{"$f":"IFERROR(VLOOKUP($A313,Filtro!$A$4:$AX$315,2,FALSE),0)","v":0},{"$f":"IFERROR(VLOOKUP($A313,Filtro!$A$4:$AX$315,3,FALSE),0)","v":0},{"$f":"IFERROR(VLOOKUP($A313,Filtro!$A$4:$AX$315,4,FALSE),0)","v":0},{"$f":"IFERROR(VLOOKUP($A313,Filtro!$A$4:$AX$315,5,FALSE),0)","v":4}]
["80306081","0306081","Virus hepatitis C, anticuerpos de (anti HCV)",{"$f":"IFERROR(VLOOKUP($A314,Filtro!$A$4:$AX$315,2,FALSE),0)","v":0},{"$f":"IFERROR(VLOOKUP($A314,Filtro!$A$4:$AX$315,3,FALSE),0)","v":0},{"$f":"IFERROR(VLOOKUP($A314,Filtro!$A$4:$AX$315,4,FALSE),0)","v":0},{"$f":"IFERROR(VLOOKUP($A314,Filtro!$A$4:$AX$315,5,FALSE),0)","v":9}]
[null,"TOTAL",null,{"$f":"SUM(D237:D314)","v":{"v":11880,"d":"11,880"}},{"$f":"SUM(E237:E314)","v":644},{"$f":"SUM(F237:F314)","v":{"v":11236,"d":"11,236"}},{"$f":"SUM(G237:G314)","v":{"v":26817,"d":"26,817"}}]
[null,"6.- EXÁMENES DE DEPOSICIONES, EXUDADOS, SECRESIONES Y OTROS LÍQUIDOS"]
["80308001","0308001","Azúcares reductores (Benedict-Fehling o similar)",{"$f":"IFERROR(VLOOKUP($A317,Filtro!$A$4:$AX$315,2,FALSE),0)","v":0},{"$f":"IFERROR(VLOOKUP($A317,Filtro!$A$4:$AX$315,3,FALSE),0)","v":0},{"$f":"IFERROR(VLOOKUP($A317,Filtro!$A$4:$AX$315,4,FALSE),0)","v":0},{"$f":"IFERROR(VLOOKUP($A317,Filtro!$A$4:$AX$315,5,FALSE),0)","v":33}]
["80308002","0308002","Balance graso (Van de Kamer) muestra de tres o más días",{"$f":"IFERROR(VLOOKUP($A318,Filtro!$A$4:$AX$315,2,FALSE),0)","v":0},{"$f":"IFERROR(VLOOKUP($A318,Filtro!$A$4:$AX$315,3,FALSE),0)","v":0},{"$f":"IFERROR(VLOOKUP($A318,Filtro!$A$4:$AX$315,4,FALSE),0)","v":0},{"$f":"IFERROR(VLOOKUP($A318,Filtro!$A$4:$AX$315,5,FALSE),0)","v":0}]
["80308003","0308003","Grasas neutras (Sudán III)",{"$f":"IFERROR(VLOOKUP($A319,Filtro!$A$4:$AX$315,2,FALSE),0)","v":0},{"$f":"IFERROR(VLOOKUP($A319,Filtro!$A$4:$AX$315,3,FALSE),0)","v":0},{"$f":"IFERROR(VLOOKUP($A319,Filtro!$A$4:$AX$315,4,FALSE),0)","v":0},{"$f":"IFERROR(VLOOKUP($A319,Filtro!$A$4:$AX$315,5,FALSE),0)","v":0}]
["80308004","0308004","Hemorragias ocultas, (bencidina, guayaco o test de Weber y similares), cualquier método, c/muestra",{"$f":"IFERROR(VLOOKUP($A320,Filtro!$A$4:$AX$315,2,FALSE),0)","v":102},{"$f":"IFERROR(VLOOKUP($A320,Filtro!$A$4:$AX$315,3,FALSE),0)","v":0},{"$f":"IFERROR(VLOOKUP($A320,Filtro!$A$4:$AX$315,4,FALSE),0)","v":102},{"$f":"IFERROR(VLOOKUP($A320,Filtro!$A$4:$AX$315,5,FALSE),0)","v":399}]
["80308005","0308005","Leucocitos fecales",{"$f":"IFERROR(VLOOKUP($A321,Filtro!$A$4:$AX$315,2,FALSE),0)","v":174},{"$f":"IFERROR(VLOOKUP($A321,Filtro!$A$4:$AX$315,3,FALSE),0)","v":0},{"$f":"IFERROR(VLOOKUP($A321,Filtro!$A$4:$AX$315,4,FALSE),0)","v":174},{"$f":"IFERROR(VLOOKUP($A321,Filtro!$A$4:$AX$315,5,FALSE),0)","v":138}]
["80308006","0308006","PH",{"$f":"IFERROR(VLOOKUP($A322,Filtro!$A$4:$AX$315,2,FALSE),0)","v":0},{"$f":"IFERROR(VLOOKUP($A322,Filtro!$A$4:$AX$315,3,FALSE),0)","v":0},{"$f":"IFERROR(VLOOKUP($A322,Filtro!$A$4:$AX$315,4,FALSE),0)","v":0},{"$f":"IFERROR(VLOOKUP($A322,Filtro!$A$4:$AX$315,5,FALSE),0)","v":0}]
["80308007","0308007","Porfirinas, c/u",{"$f":"IFERROR(VLOOKUP($A323,Filtro!$A$4:$AX$315,2,FALSE),0)","v":0},{"$f":"IFERROR(VLOOKUP($A323,Filtro!$A$4:$AX$315,3,FALSE),0)","v":0},{"$f":"IFERROR(VLOOKUP($A323,Filtro!$A$4:$AX$315,4,FALSE),0)","v":0},{"$f":"IFERROR(VLOOKUP($A323,Filtro!$A$4:$AX$315,5,FALSE),0)","v":0}]
["80308008","0308008","Urobilinógeno cuantitativo",{"$f":"IFERROR(VLOOKUP($A324,Filtro!$A$4:$AX$315,2,FALSE),0)","v":0},{"$f":"IFERROR(VLOOKUP($A324,Filtro!$A$4:$AX$315,3,FALSE),0)","v":0},{"$f":"IFERROR(VLOOKUP($A324,Filtro!$A$4:$AX$315,4,FALSE),0)","v":0},{"$f":"IFERROR(VLOOKUP($A324,Filtro!$A$4:$AX$315,5,FALSE),0)","v":0}]
["80308009","0308009","Células neoplásicas en fluídos biológicos",{"$f":"IFERROR(VLOOKUP($A325,Filtro!$A$4:$AX$315,2,FALSE),0)","v":0},{"$f":"IFERROR(VLOOKUP($A325,Filtro!$A$4:$AX$315,3,FALSE),0)","v":0},{"$f":"IFERROR(VLOOKUP($A325,Filtro!$A$4:$AX$315,4,FALSE),0)","v":0},{"$f":"IFERROR(VLOOKUP($A325,Filtro!$A$4:$AX$315,5,FALSE),0)","v":0}]
["80308010","0308010","Citológico c/s tinción (incluye examen al fresco, recuento celular y citológico porcentual)",{"$f":"IFERROR(VLOOKUP($A326,Filtro!$A$4:$AX$315,2,FALSE),0)","v":0},{"$f":"IFERROR(VLOOKUP($A326,Filtro!$A$4:$AX$315,3,FALSE),0)","v":0},{"$f":"IFERROR(VLOOKUP($A326,Filtro!$A$4:$AX$315,4,FALSE),0)","v":0},{"$f":"IFERROR(VLOOKUP($A326,Filtro!$A$4:$AX$315,5,FALSE),0)","v":0}]
["80308011","0308011","Directo al fresco c/s tinción, (incluye trichomonas)",{"$f":"IFERROR(VLOOKUP($A327,Filtro!$A$4:$AX$315,2,FALSE),0)","v":0},{"$f":"IFERROR(VLOOKUP($A327,Filtro!$A$4:$AX$315,3,FALSE),0)","v":0},{"$f":"IFERROR(VLOOKUP($A327,Filtro!$A$4:$AX$315,4,FALSE),0)","v":0},{"$f":"IFERROR(VLOOKUP($A327,Filtro!$A$4:$AX$315,5,FALSE),0)","v":0}]
["80308012","0308012","Electrolitos (sodio, potasio, cloro), c/u",{"$f":"IFERROR(VLOOKUP($A328,Filtro!$A$4:$AX$315,2,FALSE),0)","v":0},{"$f":"IFERROR(VLOOKUP($A328,Filtro!$A$4:$AX$315,3,FALSE),0)","v":0},{"$f":"IFERROR(VLOOKUP($A328,Filtro!$A$4:$AX$315,4,FALSE),0)","v":0},{"$f":"IFERROR(VLOOKUP($A328,Filtro!$A$4:$AX$315,5,FALSE),0)","v":{"v":1561,"d":"1,561"}}]
["80308013","0308013","Eosinófilos, recuento de",{"$f":"IFERROR(VLOOKUP($A329,Filtro!$A$4:$AX$315,2,FALSE),0)","v":0},{"$f":"IFERROR(VLOOKUP($A329,Filtro!$A$4:$AX$315,3,FALSE),0)","v":0},{"$f":"IFERROR(VLOOKUP($A329,Filtro!$A$4:$AX$315,4,FALSE),0)","v":0},{"$f":"IFERROR(VLOOKUP($A329,Filtro!$A$4:$AX$315,5,FALSE),0)","v":60}]
["80308014","0308014","Físico-químico (incluye aspecto, color, pH, glucosa, proteína, Pandy y filancia)",{"$f":"IFERROR(VLOOKUP($A330,Filtro!$A$4:$AX$315,2,FALSE),0)","v":0},{"$f":"IFERROR(VLOOKUP($A330,Filtro!$A$4:$AX$315,3,FALSE),0)","v":0},{"$f":"IFERROR(VLOOKUP($A330,Filtro!$A$4:$AX$315,4,FALSE),0)","v":0},{"$f":"IFERROR(VLOOKUP($A330,Filtro!$A$4:$AX$315,5,FALSE),0)","v":0}]
["80308015","0308015","Glucosa en exudados secreciones y otros liquidos",{"$f":"IFERROR(VLOOKUP($A331,Filtro!$A$4:$AX$315,2,FALSE),0)","v":0},{"$f":"IFERROR(VLOOKUP($A331,Filtro!$A$4:$AX$315,3,FALSE),0)","v":0},{"$f":"IFERROR(VLOOKUP($A331,Filtro!$A$4:$AX$315,4,FALSE),0)","v":0},{"$f":"IFERROR(VLOOKUP($A331,Filtro!$A$4:$AX$315,5,FALSE),0)","v":0}]
["80308016","0308016","Mucina, determinación de",{"$f":"IFERROR(VLOOKUP($A332,Filtro!$A$4:$AX$315,2,FALSE),0)","v":0},{"$f":"IFERROR(VLOOKUP($A332,Filtro!$A$4:$AX$315,3,FALSE),0)","v":0},{"$f":"IFERROR(VLOOKUP($A332,Filtro!$A$4:$AX$315,4,FALSE),0)","v":0},{"$f":"IFERROR(VLOOKUP($A332,Filtro!$A$4:$AX$315,5,FALSE),0)","v":0}]
["80308017","0308017","pH, (proc. aut.)",{"$f":"IFERROR(VLOOKUP($A333,Filtro!$A$4:$AX$315,2,FALSE),0)","v":0},{"$f":"IFERROR(VLOOKUP($A333,Filtro!$A$4:$AX$315,3,FALSE),0)","v":0},{"$f":"IFERROR(VLOOKUP($A333,Filtro!$A$4:$AX$315,4,FALSE),0)","v":0},{"$f":"IFERROR(VLOOKUP($A333,Filtro!$A$4:$AX$315,5,FALSE),0)","v":0}]
["80308018","0308018","Proteínas totales o albúmina (proc. aut.) c/u",{"$f":"IFERROR(VLOOKUP($A334,Filtro!$A$4:$AX$315,2,FALSE),0)","v":0},{"$f":"IFERROR(VLOOKUP($A334,Filtro!$A$4:$AX$315,3,FALSE),0)","v":0},{"$f":"IFERROR(VLOOKUP($A334,Filtro!$A$4:$AX$315,4,FALSE),0)","v":0},{"$f":"IFERROR(VLOOKUP($A334,Filtro!$A$4:$AX$315,5,FALSE),0)","v":2}]
["80308019","0308019","Proteínas, electroforesis de (incluye proteínas totales)",{"$f":"IFERROR(VLOOKUP($A335,Filtro!$A$4:$AX$315,2,FALSE),0)","v":0},{"$f":"IFERROR(VLOOKUP($A335,Filtro!$A$4:$AX$315,3,FALSE),0)","v":0},{"$f":"IFERROR(VLOOKUP($A335,Filtro!$A$4:$AX$315,4,FALSE),0)","v":0},{"$f":"IFERROR(VLOOKUP($A335,Filtro!$A$4:$AX$315,5,FALSE),0)","v":0}]
["80308020","0308020","Bandas oligoclonales (incluye electroforesis de L.C.R., suero e inmunofijación)",{"$f":"IFERROR(VLOOKUP($A336,Filtro!$A$4:$AX$315,2,FALSE),0)","v":0},{"$f":"IFERROR(VLOOKUP($A336,Filtro!$A$4:$AX$315,3,FALSE),0)","v":0},{"$f":"IFERROR(VLOOKUP($A336,Filtro!$A$4:$AX$315,4,FALSE),0)","v":0},{"$f":"IFERROR(VLOOKUP($A336,Filtro!$A$4:$AX$315,5,FALSE),0)","v":0}]
["80308021","0308021","Glutamina",{"$f":"IFERROR(VLOOKUP($A337,Filtro!$A$4:$AX$315,2,FALSE),0)","v":0},{"$f":"IFERROR(VLOOKUP($A337,Filtro!$A$4:$AX$315,3,FALSE),0)","v":0},{"$f":"IFERROR(VLOOKUP($A337,Filtro!$A$4:$AX$315,4,FALSE),0)","v":0},{"$f":"IFERROR(VLOOKUP($A337,Filtro!$A$4:$AX$315,5,FALSE),0)","v":0}]
["80308022","0308022","Indice IgG/albúmina (incluye determ. de IgG y albúmina en L.C.R. y suero)",{"$f":"IFERROR(VLOOKUP($A338,Filtro!$A$4:$AX$315,2,FALSE),0)","v":0},{"$f":"IFERROR(VLOOKUP($A338,Filtro!$A$4:$AX$315,3,FALSE),0)","v":0},{"$f":"IFERROR(VLOOKUP($A338,Filtro!$A$4:$AX$315,4,FALSE),0)","v":0},{"$f":"IFERROR(VLOOKUP($A338,Filtro!$A$4:$AX$315,5,FALSE),0)","v":41}]
["80308023","0308023","Estudio de cristales (con luz polarizada)",{"$f":"IFERROR(VLOOKUP($A339,Filtro!$A$4:$AX$315,2,FALSE),0)","v":0},{"$f":"IFERROR(VLOOKUP($A339,Filtro!$A$4:$AX$315,3,FALSE),0)","v":0},{"$f":"IFERROR(VLOOKUP($A339,Filtro!$A$4:$AX$315,4,FALSE),0)","v":0},{"$f":"IFERROR(VLOOKUP($A339,Filtro!$A$4:$AX$315,5,FALSE),0)","v":0}]
["80308024","0308024","Acidez titulable, pH, volumen (una muestra)",{"$f":"IFERROR(VLOOKUP($A340,Filtro!$A$4:$AX$315,2,FALSE),0)","v":0},{"$f":"IFERROR(VLOOKUP($A340,Filtro!$A$4:$AX$315,3,FALSE),0)","v":0},{"$f":"IFERROR(VLOOKUP($A340,Filtro!$A$4:$AX$315,4,FALSE),0)","v":0},{"$f":"IFERROR(VLOOKUP($A340,Filtro!$A$4:$AX$315,5,FALSE),0)","v":168}]
["80308025","0308025","Prueba de estimulación máxima con histamina, mínimo 5 muestras (no incluye la histamina ni el antihistamínico).",{"$f":"IFERROR(VLOOKUP($A341,Filtro!$A$4:$AX$315,2,FALSE),0)","v":0},{"$f":"IFERROR(VLOOKUP($A341,Filtro!$A$4:$AX$315,3,FALSE),0)","v":0},{"$f":"IFERROR(VLOOKUP($A341,Filtro!$A$4:$AX$315,4,FALSE),0)","v":0},{"$f":"IFERROR(VLOOKUP($A341,Filtro!$A$4:$AX$315,5,FALSE),0)","v":0}]
["80308026","0308026","Volumen, anhídrido carbónico, amilasa y lipasa",{"$f":"IFERROR(VLOOKUP($A342,Filtro!$A$4:$AX$315,2,FALSE),0)","v":0},{"$f":"IFERROR(VLOOKUP($A342,Filtro!$A$4:$AX$315,3,FALSE),0)","v":0},{"$f":"IFERROR(VLOOKUP($A342,Filtro!$A$4:$AX$315,4,FALSE),0)","v":0},{"$f":"IFERROR(VLOOKUP($A342,Filtro!$A$4:$AX$315,5,FALSE),0)","v":0}]
["80308027","0308027","Cristales de colesterol",{"$f":"IFERROR(VLOOKUP($A343,Filtro!$A$4:$AX$315,2,FALSE),0)","v":0},{"$f":"IFERROR(VLOOKUP($A343,Filtro!$A$4:$AX$315,3,FALSE),0)","v":0},{"$f":"IFERROR(VLOOKUP($A343,Filtro!$A$4:$AX$315,4,FALSE),0)","v":0},{"$f":"IFERROR(VLOOKUP($A343,Filtro!$A$4:$AX$315,5,FALSE),0)","v":0}]
["80308028","0308028","Lípidos biliares",{"$f":"IFERROR(VLOOKUP($A344,Filtro!$A$4:$AX$315,2,FALSE),0)","v":0},{"$f":"IFERROR(VLOOKUP($A344,Filtro!$A$4:$AX$315,3,FALSE),0)","v":0},{"$f":"IFERROR(VLOOKUP($A344,Filtro!$A$4:$AX$315,4,FALSE),0)","v":0},{"$f":"IFERROR(VLOOKUP($A344,Filtro!$A$4:$AX$315,5,FALSE),0)","v":0}]
["80308029","0308029","Espermiograma (físico y microscópico, con o sin observación hasta 24 horas)",{"$f":"IFERROR(VLOOKUP($A345,Filtro!$A$4:$AX$315,2,FALSE),0)","v":0},{"$f":"IFERROR(VLOOKUP($A345,Filtro!$A$4:$AX$315,3,FALSE),0)","v":0},{"$f":"IFERROR(VLOOKUP($A345,Filtro!$A$4:$AX$315,4,FALSE),0)","v":0},{"$f":"IFERROR(VLOOKUP($A345,Filtro!$A$4:$AX$315,5,FALSE),0)","v":0}]
["80308030","0308030","Fosfatasa ácida prostática",{"$f":"IFERROR(VLOOKUP($A346,Filtro!$A$4:$AX$315,2,FALSE),0)","v":0},{"$f":"IFERROR(VLOOKUP($A346,Filtro!$A$4:$AX$315,3,FALSE),0)","v":0},{"$f":"IFERROR(VLOOKUP($A346,Filtro!$A$4:$AX$315,4,FALSE),0)","v":0},{"$f":"IFERROR(VLOOKUP($A346,Filtro!$A$4:$AX$315,5,FALSE),0)","v":8}]
["80308031","0308031","Fructosa, consumo de",{"$f":"IFERROR(VLOOKUP($A347,Filtro!$A$4:$AX$315,2,FALSE),0)","v":0},{"$f":"IFERROR(VLOOKUP($A347,Filtro!$A$4:$AX$315,3,FALSE),0)","v":0},{"$f":"IFERROR(VLOOKUP($A347,Filtro!$A$4:$AX$315,4,FALSE),0)","v":0},{"$f":"IFERROR(VLOOKUP($A347,Filtro!$A$4:$AX$315,5,FALSE),0)","v":0}]
["80308032","0308032","Bilirrubina                               ",{"$f":"IFERROR(VLOOKUP($A348,Filtro!$A$4:$AX$315,2,FALSE),0)","v":0},{"$f":"IFERROR(VLOOKUP($A348,Filtro!$A$4:$AX$315,3,FALSE),0)","v":0},{"$f":"IFERROR(VLOOKUP($A348,Filtro!$A$4:$AX$315,4,FALSE),0)","v":0},{"$f":"IFERROR(VLOOKUP($A348,Filtro!$A$4:$AX$315,5,FALSE),0)","v":0}]
["80308033","0308033","Células anaranjadas (proc. aut.)",{"$f":"IFERROR(VLOOKUP($A349,Filtro!$A$4:$AX$315,2,FALSE),0)","v":0},{"$f":"IFERROR(VLOOKUP($A349,Filtro!$A$4:$AX$315,3,FALSE),0)","v":0},{"$f":"IFERROR(VLOOKUP($A349,Filtro!$A$4:$AX$315,4,FALSE),0)","v":0},{"$f":"IFERROR(VLOOKUP($A349,Filtro!$A$4:$AX$315,5,FALSE),0)","v":0}]
["80308034","0308034","Contaminantes (meconio y sangre) (proc. aut.)",{"$f":"IFERROR(VLOOKUP($A350,Filtro!$A$4:$AX$315,2,FALSE),0)","v":0},{"$f":"IFERROR(VLOOKUP($A350,Filtro!$A$4:$AX$315,3,FALSE),0)","v":0},{"$f":"IFERROR(VLOOKUP($A350,Filtro!$A$4:$AX$315,4,FALSE),0)","v":0},{"$f":"IFERROR(VLOOKUP($A350,Filtro!$A$4:$AX$315,5,FALSE),0)","v":0}]
["80308035","0308035","Creatinina (proc. aut.)",{"$f":"IFERROR(VLOOKUP($A351,Filtro!$A$4:$AX$315,2,FALSE),0)","v":0},{"$f":"IFERROR(VLOOKUP($A351,Filtro!$A$4:$AX$315,3,FALSE),0)","v":0},{"$f":"IFERROR(VLOOKUP($A351,Filtro!$A$4:$AX$315,4,FALSE),0)","v":0},{"$f":"IFERROR(VLOOKUP($A351,Filtro!$A$4:$AX$315,5,FALSE),0)","v":25}]
["80308036","0308036","Fosfatidil glicerol y/o fosfatidil inositol",{"$f":"IFERROR(VLOOKUP($A352,Filtro!$A$4:$AX$315,2,FALSE),0)","v":0},{"$f":"IFERROR(VLOOKUP($A352,Filtro!$A$4:$AX$315,3,FALSE),0)","v":0},{"$f":"IFERROR(VLOOKUP($A352,Filtro!$A$4:$AX$315,4,FALSE),0)","v":0},{"$f":"IFERROR(VLOOKUP($A352,Filtro!$A$4:$AX$315,5,FALSE),0)","v":0}]
["80308037","0308037","Indice de bilirrubina (prueba de Liley)",{"$f":"IFERROR(VLOOKUP($A353,Filtro!$A$4:$AX$315,2,FALSE),0)","v":0},{"$f":"IFERROR(VLOOKUP($A353,Filtro!$A$4:$AX$315,3,FALSE),0)","v":0},{"$f":"IFERROR(VLOOKUP($A353,Filtro!$A$4:$AX$315,4,FALSE),0)","v":0},{"$f":"IFERROR(VLOOKUP($A353,Filtro!$A$4:$AX$315,5,FALSE),0)","v":0}]
["80308038","0308038","Indice lecitina/esfingomielina",{"$f":"IFERROR(VLOOKUP($A354,Filtro!$A$4:$AX$315,2,FALSE),0)","v":0},{"$f":"IFERROR(VLOOKUP($A354,Filtro!$A$4:$AX$315,3,FALSE),0)","v":0},{"$f":"IFERROR(VLOOKUP($A354,Filtro!$A$4:$AX$315,4,FALSE),0)","v":0},{"$f":"IFERROR(VLOOKUP($A354,Filtro!$A$4:$AX$315,5,FALSE),0)","v":0}]
["80308039","0308039","Madurez fetal completa (físico; células anaranjadas, bilirrubina, test de Clements, creatinina, contaminantes)",{"$f":"IFERROR(VLOOKUP($A355,Filtro!$A$4:$AX$315,2,FALSE),0)","v":0},{"$f":"IFERROR(VLOOKUP($A355,Filtro!$A$4:$AX$315,3,FALSE),0)","v":0},{"$f":"IFERROR(VLOOKUP($A355,Filtro!$A$4:$AX$315,4,FALSE),0)","v":0},{"$f":"IFERROR(VLOOKUP($A355,Filtro!$A$4:$AX$315,5,FALSE),0)","v":0}]
["80308040","0308040","Test de Clements (proc. aut.)",{"$f":"IFERROR(VLOOKUP($A356,Filtro!$A$4:$AX$315,2,FALSE),0)","v":0},{"$f":"IFERROR(VLOOKUP($A356,Filtro!$A$4:$AX$315,3,FALSE),0)","v":0},{"$f":"IFERROR(VLOOKUP($A356,Filtro!$A$4:$AX$315,4,FALSE),0)","v":0},{"$f":"IFERROR(VLOOKUP($A356,Filtro!$A$4:$AX$315,5,FALSE),0)","v":0}]
["80308041","0308041","Colpocitograma",{"$f":"IFERROR(VLOOKUP($A357,Filtro!$A$4:$AX$315,2,FALSE),0)","v":0},{"$f":"IFERROR(VLOOKUP($A357,Filtro!$A$4:$AX$315,3,FALSE),0)","v":0},{"$f":"IFERROR(VLOOKUP($A357,Filtro!$A$4:$AX$315,4,FALSE),0)","v":0},{"$f":"IFERROR(VLOOKUP($A357,Filtro!$A$4:$AX$315,5,FALSE),0)","v":0}]
["80308042","0308042","Cristalización y filancia de moco cervical",{"$f":"IFERROR(VLOOKUP($A358,Filtro!$A$4:$AX$315,2,FALSE),0)","v":0},{"$f":"IFERROR(VLOOKUP($A358,Filtro!$A$4:$AX$315,3,FALSE),0)","v":0},{"$f":"IFERROR(VLOOKUP($A358,Filtro!$A$4:$AX$315,4,FALSE),0)","v":0},{"$f":"IFERROR(VLOOKUP($A358,Filtro!$A$4:$AX$315,5,FALSE),0)","v":0}]
["80308043","0308043","Moco-semen, prueba de compatibilidad",{"$f":"IFERROR(VLOOKUP($A359,Filtro!$A$4:$AX$315,2,FALSE),0)","v":0},{"$f":"IFERROR(VLOOKUP($A359,Filtro!$A$4:$AX$315,3,FALSE),0)","v":0},{"$f":"IFERROR(VLOOKUP($A359,Filtro!$A$4:$AX$315,4,FALSE),0)","v":0},{"$f":"IFERROR(VLOOKUP($A359,Filtro!$A$4:$AX$315,5,FALSE),0)","v":0}]
["80308044","0308044","Flujo vaginal o secreción uretral, estudio de (incluye toma de muestra y códigos 03-06-004, 03-06-005, 03-06-008, 03-06-017, y 03-06-026 )",{"$f":"IFERROR(VLOOKUP($A360,Filtro!$A$4:$AX$315,2,FALSE),0)","v":33},{"$f":"IFERROR(VLOOKUP($A360,Filtro!$A$4:$AX$315,3,FALSE),0)","v":3},{"$f":"IFERROR(VLOOKUP($A360,Filtro!$A$4:$AX$315,4,FALSE),0)","v":30},{"$f":"IFERROR(VLOOKUP($A360,Filtro!$A$4:$AX$315,5,FALSE),0)","v":11}]
[null,"TOTAL",null,{"$f":"SUM(D317:D360)","v":309},{"$f":"SUM(E317:E360)","v":3},{"$f":"SUM(F317:F360)","v":306},{"$f":"SUM(G317:G360)","v":{"v":2446,"d":"2,446"}}]
[null,"7.- EXÁMENES DE ORINA"]
["80309001","0309001","Acido ascórbico",{"$f":"IFERROR(VLOOKUP($A363,Filtro!$A$4:$AX$315,2,FALSE),0)","v":0},{"$f":"IFERROR(VLOOKUP($A363,Filtro!$A$4:$AX$315,3,FALSE),0)","v":0},{"$f":"IFERROR(VLOOKUP($A363,Filtro!$A$4:$AX$315,4,FALSE),0)","v":0},{"$f":"IFERROR(VLOOKUP($A363,Filtro!$A$4:$AX$315,5,FALSE),0)","v":0}]
["80309002","0309002","Acido delta aminolevulínico",{"$f":"IFERROR(VLOOKUP($A364,Filtro!$A$4:$AX$315,2,FALSE),0)","v":0},{"$f":"IFERROR(VLOOKUP($A364,Filtro!$A$4:$AX$315,3,FALSE),0)","v":0},{"$f":"IFERROR(VLOOKUP($A364,Filtro!$A$4:$AX$315,4,FALSE),0)","v":0},{"$f":"IFERROR(VLOOKUP($A364,Filtro!$A$4:$AX$315,5,FALSE),0)","v":0}]
["80309003","0309003","Acido fenilpirúvico (PKU, cualitativo)",{"$f":"IFERROR(VLOOKUP($A365,Filtro!$A$4:$AX$315,2,FALSE),0)","v":0},{"$f":"IFERROR(VLOOKUP($A365,Filtro!$A$4:$AX$315,3,FALSE),0)","v":0},{"$f":"IFERROR(VLOOKUP($A365,Filtro!$A$4:$AX$315,4,FALSE),0)","v":0},{"$f":"IFERROR(VLOOKUP($A365,Filtro!$A$4:$AX$315,5,FALSE),0)","v":0}]
["80309004","0309004","Acido úrico cuantitativo",{"$f":"IFERROR(VLOOKUP($A366,Filtro!$A$4:$AX$315,2,FALSE),0)","v":0},{"$f":"IFERROR(VLOOKUP($A366,Filtro!$A$4:$AX$315,3,FALSE),0)","v":0},{"$f":"IFERROR(VLOOKUP($A366,Filtro!$A$4:$AX$315,4,FALSE),0)","v":0},{"$f":"IFERROR(VLOOKUP($A366,Filtro!$A$4:$AX$315,5,FALSE),0)","v":126}]
["80309005","0309005","Acido 5 hidroxiindolacético cuantitativo",{"$f":"IFERROR(VLOOKUP($A367,Filtro!$A$4:$AX$315,2,FALSE),0)","v":0},{"$f":"IFERROR(VLOOKUP($A367,Filtro!$A$4:$AX$315,3,FALSE),0)","v":0},{"$f":"IFERROR(VLOOKUP($A367,Filtro!$A$4:$AX$315,4,FALSE),0)","v":0},{"$f":"IFERROR(VLOOKUP($A367,Filtro!$A$4:$AX$315,5,FALSE),0)","v":0}]
["80309006","0309006","Amilasa cuantitativa en orina",{"$f":"IFERROR(VLOOKUP($A368,Filtro!$A$4:$AX$315,2,FALSE),0)","v":0},{"$f":"IFERROR(VLOOKUP($A368,Filtro!$A$4:$AX$315,3,FALSE),0)","v":0},{"$f":"IFERROR(VLOOKUP($A368,Filtro!$A$4:$AX$315,4,FALSE),0)","v":0},{"$f":"IFERROR(VLOOKUP($A368,Filtro!$A$4:$AX$315,5,FALSE),0)","v":12}]
["80309007","0309007","Aminoácidos (cualitativo) (excepto fenilalanina, PKU)",{"$f":"IFERROR(VLOOKUP($A369,Filtro!$A$4:$AX$315,2,FALSE),0)","v":0},{"$f":"IFERROR(VLOOKUP($A369,Filtro!$A$4:$AX$315,3,FALSE),0)","v":0},{"$f":"IFERROR(VLOOKUP($A369,Filtro!$A$4:$AX$315,4,FALSE),0)","v":0},{"$f":"IFERROR(VLOOKUP($A369,Filtro!$A$4:$AX$315,5,FALSE),0)","v":0}]
["80309008","0309008","Calcio cuantitativo en orina",{"$f":"IFERROR(VLOOKUP($A370,Filtro!$A$4:$AX$315,2,FALSE),0)","v":0},{"$f":"IFERROR(VLOOKUP($A370,Filtro!$A$4:$AX$315,3,FALSE),0)","v":0},{"$f":"IFERROR(VLOOKUP($A370,Filtro!$A$4:$AX$315,4,FALSE),0)","v":0},{"$f":"IFERROR(VLOOKUP($A370,Filtro!$A$4:$AX$315,5,FALSE),0)","v":1}]
["80309009","0309009","Cálculo urinario (examen físico y químico)",{"$f":"IFERROR(VLOOKUP($A371,Filtro!$A$4:$AX$315,2,FALSE),0)","v":0},{"$f":"IFERROR(VLOOKUP($A371,Filtro!$A$4:$AX$315,3,FALSE),0)","v":0},{"$f":"IFERROR(VLOOKUP($A371,Filtro!$A$4:$AX$315,4,FALSE),0)","v":0},{"$f":"IFERROR(VLOOKUP($A371,Filtro!$A$4:$AX$315,5,FALSE),0)","v":0}]
["80309010","0309010","Creatinina cuantitativa en orina",{"$f":"IFERROR(VLOOKUP($A372,Filtro!$A$4:$AX$315,2,FALSE),0)","v":{"v":7301,"d":"7,301"}},{"$f":"IFERROR(VLOOKUP($A372,Filtro!$A$4:$AX$315,3,FALSE),0)","v":414},{"$f":"IFERROR(VLOOKUP($A372,Filtro!$A$4:$AX$315,4,FALSE),0)","v":{"v":6887,"d":"6,887"}},{"$f":"IFERROR(VLOOKUP($A372,Filtro!$A$4:$AX$315,5,FALSE),0)","v":{"v":9292,"d":"9,292"}}]
["80309011","0309011","Cuerpos cetónicos",{"$f":"IFERROR(VLOOKUP($A373,Filtro!$A$4:$AX$315,2,FALSE),0)","v":5},{"$f":"IFERROR(VLOOKUP($A373,Filtro!$A$4:$AX$315,3,FALSE),0)","v":0},{"$f":"IFERROR(VLOOKUP($A373,Filtro!$A$4:$AX$315,4,FALSE),0)","v":5},{"$f":"IFERROR(VLOOKUP($A373,Filtro!$A$4:$AX$315,5,FALSE),0)","v":0}]
["80309012","0309012","Electrolitos (sodio, potasio, cloro) c/u en orina",{"$f":"IFERROR(VLOOKUP($A374,Filtro!$A$4:$AX$315,2,FALSE),0)","v":0},{"$f":"IFERROR(VLOOKUP($A374,Filtro!$A$4:$AX$315,3,FALSE),0)","v":0},{"$f":"IFERROR(VLOOKUP($A374,Filtro!$A$4:$AX$315,4,FALSE),0)","v":0},{"$f":"IFERROR(VLOOKUP($A374,Filtro!$A$4:$AX$315,5,FALSE),0)","v":462}]
["80309013","0309013","Microalbuminuria cuantitativa",{"$f":"IFERROR(VLOOKUP($A375,Filtro!$A$4:$AX$315,2,FALSE),0)","v":{"v":9944,"d":"9,944"}},{"$f":"IFERROR(VLOOKUP($A375,Filtro!$A$4:$AX$315,3,FALSE),0)","v":421},{"$f":"IFERROR(VLOOKUP($A375,Filtro!$A$4:$AX$315,4,FALSE),0)","v":{"v":9523,"d":"9,523"}},{"$f":"IFERROR(VLOOKUP($A375,Filtro!$A$4:$AX$315,5,FALSE),0)","v":{"v":16858,"d":"16,858"}}]
["80309014","0309014","Embarazo, detección de (cualquier técnica)",{"$f":"IFERROR(VLOOKUP($A376,Filtro!$A$4:$AX$315,2,FALSE),0)","v":81},{"$f":"IFERROR(VLOOKUP($A376,Filtro!$A$4:$AX$315,3,FALSE),0)","v":0},{"$f":"IFERROR(VLOOKUP($A376,Filtro!$A$4:$AX$315,4,FALSE),0)","v":81},{"$f":"IFERROR(VLOOKUP($A376,Filtro!$A$4:$AX$315,5,FALSE),0)","v":139}]
["80309040","0309040","Fenilquetonuria (PKU), cuantitativo",{"$f":"IFERROR(VLOOKUP($A377,Filtro!$A$4:$AX$315,2,FALSE),0)","v":0},{"$f":"IFERROR(VLOOKUP($A377,Filtro!$A$4:$AX$315,3,FALSE),0)","v":0},{"$f":"IFERROR(VLOOKUP($A377,Filtro!$A$4:$AX$315,4,FALSE),0)","v":0},{"$f":"IFERROR(VLOOKUP($A377,Filtro!$A$4:$AX$315,5,FALSE),0)","v":0}]
["80309015","0309015","Fósforo cuantitativo en orina",{"$f":"IFERROR(VLOOKUP($A378,Filtro!$A$4:$AX$315,2,FALSE),0)","v":0},{"$f":"IFERROR(VLOOKUP($A378,Filtro!$A$4:$AX$315,3,FALSE),0)","v":0},{"$f":"IFERROR(VLOOKUP($A378,Filtro!$A$4:$AX$315,4,FALSE),0)","v":0},{"$f":"IFERROR(VLOOKUP($A378,Filtro!$A$4:$AX$315,5,FALSE),0)","v":0}]
["80309016","0309016","Glucosa (cuantitativo) en orina",{"$f":"IFERROR(VLOOKUP($A379,Filtro!$A$4:$AX$315,2,FALSE),0)","v":361},{"$f":"IFERROR(VLOOKUP($A379,Filtro!$A$4:$AX$315,3,FALSE),0)","v":0},{"$f":"IFERROR(VLOOKUP($A379,Filtro!$A$4:$AX$315,4,FALSE),0)","v":361},{"$f":"IFERROR(VLOOKUP($A379,Filtro!$A$4:$AX$315,5,FALSE),0)","v":230}]
["80309035","0309035","Hemosiderina",{"$f":"IFERROR(VLOOKUP($A380,Filtro!$A$4:$AX$315,2,FALSE),0)","v":0},{"$f":"IFERROR(VLOOKUP($A380,Filtro!$A$4:$AX$315,3,FALSE),0)","v":0},{"$f":"IFERROR(VLOOKUP($A380,Filtro!$A$4:$AX$315,4,FALSE),0)","v":0},{"$f":"IFERROR(VLOOKUP($A380,Filtro!$A$4:$AX$315,5,FALSE),0)","v":0}]
["80309017","0309017","Hidroxiprolina en orina",{"$f":"IFERROR(VLOOKUP($A381,Filtro!$A$4:$AX$315,2,FALSE),0)","v":0},{"$f":"IFERROR(VLOOKUP($A381,Filtro!$A$4:$AX$315,3,FALSE),0)","v":0},{"$f":"IFERROR(VLOOKUP($A381,Filtro!$A$4:$AX$315,4,FALSE),0)","v":0},{"$f":"IFERROR(VLOOKUP($A381,Filtro!$A$4:$AX$315,5,FALSE),0)","v":0}]
["80309018","0309018","Melanogenuria (test de cloruro férrico)",{"$f":"IFERROR(VLOOKUP($A382,Filtro!$A$4:$AX$315,2,FALSE),0)","v":0},{"$f":"IFERROR(VLOOKUP($A382,Filtro!$A$4:$AX$315,3,FALSE),0)","v":0},{"$f":"IFERROR(VLOOKUP($A382,Filtro!$A$4:$AX$315,4,FALSE),0)","v":0},{"$f":"IFERROR(VLOOKUP($A382,Filtro!$A$4:$AX$315,5,FALSE),0)","v":0}]
["80309019","0309019","Mucopolisacáridos",{"$f":"IFERROR(VLOOKUP($A383,Filtro!$A$4:$AX$315,2,FALSE),0)","v":0},{"$f":"IFERROR(VLOOKUP($A383,Filtro!$A$4:$AX$315,3,FALSE),0)","v":0},{"$f":"IFERROR(VLOOKUP($A383,Filtro!$A$4:$AX$315,4,FALSE),0)","v":0},{"$f":"IFERROR(VLOOKUP($A383,Filtro!$A$4:$AX$315,5,FALSE),0)","v":0}]
["80309020","0309020","Nitrógeno ureico o urea en orina (cuantitativo)",{"$f":"IFERROR(VLOOKUP($A384,Filtro!$A$4:$AX$315,2,FALSE),0)","v":0},{"$f":"IFERROR(VLOOKUP($A384,Filtro!$A$4:$AX$315,3,FALSE),0)","v":0},{"$f":"IFERROR(VLOOKUP($A384,Filtro!$A$4:$AX$315,4,FALSE),0)","v":0},{"$f":"IFERROR(VLOOKUP($A384,Filtro!$A$4:$AX$315,5,FALSE),0)","v":464}]
["80309021","0309021","Nucleótidos cíclicos (CAMP, CGM, u otros) c/u",{"$f":"IFERROR(VLOOKUP($A385,Filtro!$A$4:$AX$315,2,FALSE),0)","v":0},{"$f":"IFERROR(VLOOKUP($A385,Filtro!$A$4:$AX$315,3,FALSE),0)","v":0},{"$f":"IFERROR(VLOOKUP($A385,Filtro!$A$4:$AX$315,4,FALSE),0)","v":0},{"$f":"IFERROR(VLOOKUP($A385,Filtro!$A$4:$AX$315,5,FALSE),0)","v":125}]
["80309022","0309022","Orina completa, (incluye cód. 03-09-023 y 03-09-024)",{"$f":"IFERROR(VLOOKUP($A386,Filtro!$A$4:$AX$315,2,FALSE),0)","v":{"v":16560,"d":"16,560"}},{"$f":"IFERROR(VLOOKUP($A386,Filtro!$A$4:$AX$315,3,FALSE),0)","v":826},{"$f":"IFERROR(VLOOKUP($A386,Filtro!$A$4:$AX$315,4,FALSE),0)","v":{"v":15734,"d":"15,734"}},{"$f":"IFERROR(VLOOKUP($A386,Filtro!$A$4:$AX$315,5,FALSE),0)","v":{"v":46509,"d":"46,509"}}]
["80309023","0309023","Orina, físico-químico (aspecto, color, densidad, pH, proteínas, glucosa, cuerpos cetónicos, urobilinógeno, bilirrubina, hemoglobina y nitritos) todos o cada uno de los parámetros (proc. aut.)",{"$f":"IFERROR(VLOOKUP($A387,Filtro!$A$4:$AX$315,2,FALSE),0)","v":{"v":3292,"d":"3,292"}},{"$f":"IFERROR(VLOOKUP($A387,Filtro!$A$4:$AX$315,3,FALSE),0)","v":769},{"$f":"IFERROR(VLOOKUP($A387,Filtro!$A$4:$AX$315,4,FALSE),0)","v":{"v":2523,"d":"2,523"}},{"$f":"IFERROR(VLOOKUP($A387,Filtro!$A$4:$AX$315,5,FALSE),0)","v":{"v":1581,"d":"1,581"}}]
["80309024","0309024","Orina, sedimento (proc. aut.)",{"$f":"IFERROR(VLOOKUP($A388,Filtro!$A$4:$AX$315,2,FALSE),0)","v":26},{"$f":"IFERROR(VLOOKUP($A388,Filtro!$A$4:$AX$315,3,FALSE),0)","v":26},{"$f":"IFERROR(VLOOKUP($A388,Filtro!$A$4:$AX$315,4,FALSE),0)","v":0},{"$f":"IFERROR(VLOOKUP($A388,Filtro!$A$4:$AX$315,5,FALSE),0)","v":{"v":2052,"d":"2,052"}}]
["80309025","0309025","Osmolalidad",{"$f":"IFERROR(VLOOKUP($A389,Filtro!$A$4:$AX$315,2,FALSE),0)","v":0},{"$f":"IFERROR(VLOOKUP($A389,Filtro!$A$4:$AX$315,3,FALSE),0)","v":0},{"$f":"IFERROR(VLOOKUP($A389,Filtro!$A$4:$AX$315,4,FALSE),0)","v":0},{"$f":"IFERROR(VLOOKUP($A389,Filtro!$A$4:$AX$315,5,FALSE),0)","v":0}]
["80309027","0309027","Porfirinas, c/u",{"$f":"IFERROR(VLOOKUP($A390,Filtro!$A$4:$AX$315,2,FALSE),0)","v":0},{"$f":"IFERROR(VLOOKUP($A390,Filtro!$A$4:$AX$315,3,FALSE),0)","v":0},{"$f":"IFERROR(VLOOKUP($A390,Filtro!$A$4:$AX$315,4,FALSE),0)","v":0},{"$f":"IFERROR(VLOOKUP($A390,Filtro!$A$4:$AX$315,5,FALSE),0)","v":227}]
["80309028","0309028","Proteína (cuantitativa) en orina",{"$f":"IFERROR(VLOOKUP($A391,Filtro!$A$4:$AX$315,2,FALSE),0)","v":281},{"$f":"IFERROR(VLOOKUP($A391,Filtro!$A$4:$AX$315,3,FALSE),0)","v":3},{"$f":"IFERROR(VLOOKUP($A391,Filtro!$A$4:$AX$315,4,FALSE),0)","v":278},{"$f":"IFERROR(VLOOKUP($A391,Filtro!$A$4:$AX$315,5,FALSE),0)","v":{"v":1563,"d":"1,563"}}]
["80309029","0309029","Proteínas de Bence-Jones prueba térmica",{"$f":"IFERROR(VLOOKUP($A392,Filtro!$A$4:$AX$315,2,FALSE),0)","v":0},{"$f":"IFERROR(VLOOKUP($A392,Filtro!$A$4:$AX$315,3,FALSE),0)","v":0},{"$f":"IFERROR(VLOOKUP($A392,Filtro!$A$4:$AX$315,4,FALSE),0)","v":0},{"$f":"IFERROR(VLOOKUP($A392,Filtro!$A$4:$AX$315,5,FALSE),0)","v":0}]
[null,"TOTAL",null,{"$f":"SUM(D363:D392)","v":{"v":37851,"d":"37,851"}},{"$f":"SUM(E363:E392)","v":{"v":2459,"d":"2,459"}},{"$f":"SUM(F363:F392)","v":{"v":35392,"d":"35,392"}},{"$f":"SUM(G363:G392)","v":{"v":79641,"d":"79,641"}}]
[null,"TOTAL EXÁMENES",null,{"$f":"+D98+D169+D235+D315+D361+D393+D176","v":{"v":221212,"d":"221,212"}},{"$f":"+E98+E169+E176+E235+E315+E361+E393","v":{"v":9969,"d":"9,969"}},{"$f":"+F98+F169+F176+F235+F315+F361+F393","v":{"v":211233,"d":"211,233"}},{"$f":"+G98+G169+G176+G235+G315+G361+G393","v":{"v":545973,"d":"545,973"}}]
[null,"EXÁMENES RADIOLÓGICOS"]
["80401001","0401001","Radiografía de las glándulas salivales \"sialografía\"",{"$f":"IFERROR(VLOOKUP($A396,Filtro!$A$4:$AX$315,2,FALSE),0)","v":0},{"$f":"IFERROR(VLOOKUP($A396,Filtro!$A$4:$AX$315,3,FALSE),0)","v":0},{"$f":"IFERROR(VLOOKUP($A396,Filtro!$A$4:$AX$315,4,FALSE),0)","v":0},{"$f":"IFERROR(VLOOKUP($A396,Filtro!$A$4:$AX$315,5,FALSE),0)","v":0}]
["80401002","0401002","Radiografía de partes blandas, laringe lateral, cavum rinofaríngeo (rinofarinx). ",{"$f":"IFERROR(VLOOKUP($A397,Filtro!$A$4:$AX$315,2,FALSE),0)","v":65},{"$f":"IFERROR(VLOOKUP($A397,Filtro!$A$4:$AX$315,3,FALSE),0)","v":5},{"$f":"IFERROR(VLOOKUP($A397,Filtro!$A$4:$AX$315,4,FALSE),0)","v":60},{"$f":"IFERROR(VLOOKUP($A397,Filtro!$A$4:$AX$315,5,FALSE),0)","v":0}]
["80401003","0401003","Planigrafías laringe  (4 EXP.)                     ",{"$f":"IFERROR(VLOOKUP($A398,Filtro!$A$4:$AX$315,2,FALSE),0)","v":0},{"$f":"IFERROR(VLOOKUP($A398,Filtro!$A$4:$AX$315,3,FALSE),0)","v":0},{"$f":"IFERROR(VLOOKUP($A398,Filtro!$A$4:$AX$315,4,FALSE),0)","v":0},{"$f":"IFERROR(VLOOKUP($A398,Filtro!$A$4:$AX$315,5,FALSE),0)","v":0}]
["80401004","0401004","Radiografía de tórax, proyección complementaria (oblicuas, selectivas u otras)",{"$f":"IFERROR(VLOOKUP($A399,Filtro!$A$4:$AX$315,2,FALSE),0)","v":0},{"$f":"IFERROR(VLOOKUP($A399,Filtro!$A$4:$AX$315,3,FALSE),0)","v":0},{"$f":"IFERROR(VLOOKUP($A399,Filtro!$A$4:$AX$315,4,FALSE),0)","v":0},{"$f":"IFERROR(VLOOKUP($A399,Filtro!$A$4:$AX$315,5,FALSE),0)","v":0}]
["80401005","0401005","Tórax, proyección complementaria de corazón (oblicuas u otras) (1 exp.) c/u       ",{"$f":"IFERROR(VLOOKUP($A400,Filtro!$A$4:$AX$315,2,FALSE),0)","v":0},{"$f":"IFERROR(VLOOKUP($A400,Filtro!$A$4:$AX$315,3,FALSE),0)","v":0},{"$f":"IFERROR(VLOOKUP($A400,Filtro!$A$4:$AX$315,4,FALSE),0)","v":0},{"$f":"IFERROR(VLOOKUP($A400,Filtro!$A$4:$AX$315,5,FALSE),0)","v":0}]
["80401006","0401006"," Estudio radiológico de corazón (incluye fluoroscopía, telerradiografías frontal y lateral con esofagograma) ",{"$f":"IFERROR(VLOOKUP($A401,Filtro!$A$4:$AX$315,2,FALSE),0)","v":0},{"$f":"IFERROR(VLOOKUP($A401,Filtro!$A$4:$AX$315,3,FALSE),0)","v":0},{"$f":"IFERROR(VLOOKUP($A401,Filtro!$A$4:$AX$315,4,FALSE),0)","v":0},{"$f":"IFERROR(VLOOKUP($A401,Filtro!$A$4:$AX$315,5,FALSE),0)","v":0}]
["80401007","0401007"," Planigrafia localizada (incluye mínimo 6 cortes) (6 exp.)     ",{"$f":"IFERROR(VLOOKUP($A402,Filtro!$A$4:$AX$315,2,FALSE),0)","v":0},{"$f":"IFERROR(VLOOKUP($A402,Filtro!$A$4:$AX$315,3,FALSE),0)","v":0},{"$f":"IFERROR(VLOOKUP($A402,Filtro!$A$4:$AX$315,4,FALSE),0)","v":0},{"$f":"IFERROR(VLOOKUP($A402,Filtro!$A$4:$AX$315,5,FALSE),0)","v":0}]
["80401008","0401008","Radiografía de tórax  frontal o lateral con equipo móvil fuera del departamento de rayos.",{"$f":"IFERROR(VLOOKUP($A403,Filtro!$A$4:$AX$315,2,FALSE),0)","v":98},{"$f":"IFERROR(VLOOKUP($A403,Filtro!$A$4:$AX$315,3,FALSE),0)","v":61},{"$f":"IFERROR(VLOOKUP($A403,Filtro!$A$4:$AX$315,4,FALSE),0)","v":37},{"$f":"IFERROR(VLOOKUP($A403,Filtro!$A$4:$AX$315,5,FALSE),0)","v":64}]
["80401009","0401009","Radiografía de tórax simple frontal o lateral ",{"$f":"IFERROR(VLOOKUP($A404,Filtro!$A$4:$AX$315,2,FALSE),0)","v":470},{"$f":"IFERROR(VLOOKUP($A404,Filtro!$A$4:$AX$315,3,FALSE),0)","v":381},{"$f":"IFERROR(VLOOKUP($A404,Filtro!$A$4:$AX$315,4,FALSE),0)","v":89},{"$f":"IFERROR(VLOOKUP($A404,Filtro!$A$4:$AX$315,5,FALSE),0)","v":230}]
["80401070","0401070","Radiografía de tórax frontal y lateral",{"$f":"IFERROR(VLOOKUP($A405,Filtro!$A$4:$AX$315,2,FALSE),0)","v":{"v":1902,"d":"1,902"}},{"$f":"IFERROR(VLOOKUP($A405,Filtro!$A$4:$AX$315,3,FALSE),0)","v":{"v":1549,"d":"1,549"}},{"$f":"IFERROR(VLOOKUP($A405,Filtro!$A$4:$AX$315,4,FALSE),0)","v":353},{"$f":"IFERROR(VLOOKUP($A405,Filtro!$A$4:$AX$315,5,FALSE),0)","v":337}]
["80401010","0401010","Mamografía bilateral",{"$f":"IFERROR(VLOOKUP($A406,Filtro!$A$4:$AX$315,2,FALSE),0)","v":284},{"$f":"IFERROR(VLOOKUP($A406,Filtro!$A$4:$AX$315,3,FALSE),0)","v":0},{"$f":"IFERROR(VLOOKUP($A406,Filtro!$A$4:$AX$315,4,FALSE),0)","v":284},{"$f":"IFERROR(VLOOKUP($A406,Filtro!$A$4:$AX$315,5,FALSE),0)","v":182}]
["80401110","0401110","Mamografía unilateral",{"$f":"IFERROR(VLOOKUP($A407,Filtro!$A$4:$AX$315,2,FALSE),0)","v":3},{"$f":"IFERROR(VLOOKUP($A407,Filtro!$A$4:$AX$315,3,FALSE),0)","v":0},{"$f":"IFERROR(VLOOKUP($A407,Filtro!$A$4:$AX$315,4,FALSE),0)","v":3},{"$f":"IFERROR(VLOOKUP($A407,Filtro!$A$4:$AX$315,5,FALSE),0)","v":3}]
["80401130","0401130","Mamografía proyección complementaria  (axilar u otras)",{"$f":"IFERROR(VLOOKUP($A408,Filtro!$A$4:$AX$315,2,FALSE),0)","v":0},{"$f":"IFERROR(VLOOKUP($A408,Filtro!$A$4:$AX$315,3,FALSE),0)","v":0},{"$f":"IFERROR(VLOOKUP($A408,Filtro!$A$4:$AX$315,4,FALSE),0)","v":0},{"$f":"IFERROR(VLOOKUP($A408,Filtro!$A$4:$AX$315,5,FALSE),0)","v":0}]
["80401011","0401011","Marcación preoperatoria de lesiones de la mama",{"$f":"IFERROR(VLOOKUP($A409,Filtro!$A$4:$AX$315,2,FALSE),0)","v":0},{"$f":"IFERROR(VLOOKUP($A409,Filtro!$A$4:$AX$315,3,FALSE),0)","v":0},{"$f":"IFERROR(VLOOKUP($A409,Filtro!$A$4:$AX$315,4,FALSE),0)","v":0},{"$f":"IFERROR(VLOOKUP($A409,Filtro!$A$4:$AX$315,5,FALSE),0)","v":0}]
["80401012","0401012","Radiografía de mama, pieza operatoria",{"$f":"IFERROR(VLOOKUP($A410,Filtro!$A$4:$AX$315,2,FALSE),0)","v":0},{"$f":"IFERROR(VLOOKUP($A410,Filtro!$A$4:$AX$315,3,FALSE),0)","v":0},{"$f":"IFERROR(VLOOKUP($A410,Filtro!$A$4:$AX$315,4,FALSE),0)","v":0},{"$f":"IFERROR(VLOOKUP($A410,Filtro!$A$4:$AX$315,5,FALSE),0)","v":0}]
["80401013","0401013","Radiografía de Abdomen Simple",{"$f":"IFERROR(VLOOKUP($A411,Filtro!$A$4:$AX$315,2,FALSE),0)","v":444},{"$f":"IFERROR(VLOOKUP($A411,Filtro!$A$4:$AX$315,3,FALSE),0)","v":439},{"$f":"IFERROR(VLOOKUP($A411,Filtro!$A$4:$AX$315,4,FALSE),0)","v":5},{"$f":"IFERROR(VLOOKUP($A411,Filtro!$A$4:$AX$315,5,FALSE),0)","v":0}]
["80401014","0401014","Radiografía de abdomen simple, proyección complementaria (lateral y/o oblicua)",{"$f":"IFERROR(VLOOKUP($A412,Filtro!$A$4:$AX$315,2,FALSE),0)","v":57},{"$f":"IFERROR(VLOOKUP($A412,Filtro!$A$4:$AX$315,3,FALSE),0)","v":55},{"$f":"IFERROR(VLOOKUP($A412,Filtro!$A$4:$AX$315,4,FALSE),0)","v":2},{"$f":"IFERROR(VLOOKUP($A412,Filtro!$A$4:$AX$315,5,FALSE),0)","v":0}]
["80401015","0401015","Colangiografía intra o postoperatoria (por sonda T, o similar)",{"$f":"IFERROR(VLOOKUP($A413,Filtro!$A$4:$AX$315,2,FALSE),0)","v":0},{"$f":"IFERROR(VLOOKUP($A413,Filtro!$A$4:$AX$315,3,FALSE),0)","v":0},{"$f":"IFERROR(VLOOKUP($A413,Filtro!$A$4:$AX$315,4,FALSE),0)","v":0},{"$f":"IFERROR(VLOOKUP($A413,Filtro!$A$4:$AX$315,5,FALSE),0)","v":0}]
["80401016","0401016","Colangiografía medica con planigrafía (6 exp.)        ",{"$f":"IFERROR(VLOOKUP($A414,Filtro!$A$4:$AX$315,2,FALSE),0)","v":0},{"$f":"IFERROR(VLOOKUP($A414,Filtro!$A$4:$AX$315,3,FALSE),0)","v":0},{"$f":"IFERROR(VLOOKUP($A414,Filtro!$A$4:$AX$315,4,FALSE),0)","v":0},{"$f":"IFERROR(VLOOKUP($A414,Filtro!$A$4:$AX$315,5,FALSE),0)","v":0}]
["80401017","0401017","Colecistografía c/s seriografía (34 exp.)                ",{"$f":"IFERROR(VLOOKUP($A415,Filtro!$A$4:$AX$315,2,FALSE),0)","v":0},{"$f":"IFERROR(VLOOKUP($A415,Filtro!$A$4:$AX$315,3,FALSE),0)","v":0},{"$f":"IFERROR(VLOOKUP($A415,Filtro!$A$4:$AX$315,4,FALSE),0)","v":0},{"$f":"IFERROR(VLOOKUP($A415,Filtro!$A$4:$AX$315,5,FALSE),0)","v":0}]
["80401018","0401018","Enema baritado del colon (incluye llene y control post-vaciamiento)",{"$f":"IFERROR(VLOOKUP($A416,Filtro!$A$4:$AX$315,2,FALSE),0)","v":0},{"$f":"IFERROR(VLOOKUP($A416,Filtro!$A$4:$AX$315,3,FALSE),0)","v":0},{"$f":"IFERROR(VLOOKUP($A416,Filtro!$A$4:$AX$315,4,FALSE),0)","v":0},{"$f":"IFERROR(VLOOKUP($A416,Filtro!$A$4:$AX$315,5,FALSE),0)","v":0}]
["80401019","0401019","Enema baritado del colon o intestino delgado, doble contraste",{"$f":"IFERROR(VLOOKUP($A417,Filtro!$A$4:$AX$315,2,FALSE),0)","v":1},{"$f":"IFERROR(VLOOKUP($A417,Filtro!$A$4:$AX$315,3,FALSE),0)","v":1},{"$f":"IFERROR(VLOOKUP($A417,Filtro!$A$4:$AX$315,4,FALSE),0)","v":0},{"$f":"IFERROR(VLOOKUP($A417,Filtro!$A$4:$AX$315,5,FALSE),0)","v":0}]
["80401020","0401020","Esofagograma  (incluye pesquisa de cuerpo extraño) (proc.aut.)",{"$f":"IFERROR(VLOOKUP($A418,Filtro!$A$4:$AX$315,2,FALSE),0)","v":0},{"$f":"IFERROR(VLOOKUP($A418,Filtro!$A$4:$AX$315,3,FALSE),0)","v":0},{"$f":"IFERROR(VLOOKUP($A418,Filtro!$A$4:$AX$315,4,FALSE),0)","v":0},{"$f":"IFERROR(VLOOKUP($A418,Filtro!$A$4:$AX$315,5,FALSE),0)","v":0}]
["80401021","0401021","Radiografía de esófago, estómago y duodeno, relleno y/o doble contraste ",{"$f":"IFERROR(VLOOKUP($A419,Filtro!$A$4:$AX$315,2,FALSE),0)","v":0},{"$f":"IFERROR(VLOOKUP($A419,Filtro!$A$4:$AX$315,3,FALSE),0)","v":0},{"$f":"IFERROR(VLOOKUP($A419,Filtro!$A$4:$AX$315,4,FALSE),0)","v":0},{"$f":"IFERROR(VLOOKUP($A419,Filtro!$A$4:$AX$315,5,FALSE),0)","v":0}]
["80401022","0401022","Estudio radiológico de deglución faríngea",{"$f":"IFERROR(VLOOKUP($A420,Filtro!$A$4:$AX$315,2,FALSE),0)","v":0},{"$f":"IFERROR(VLOOKUP($A420,Filtro!$A$4:$AX$315,3,FALSE),0)","v":0},{"$f":"IFERROR(VLOOKUP($A420,Filtro!$A$4:$AX$315,4,FALSE),0)","v":0},{"$f":"IFERROR(VLOOKUP($A420,Filtro!$A$4:$AX$315,5,FALSE),0)","v":0}]
["80401023","0401023","Estudio radiológico del intestino delgado",{"$f":"IFERROR(VLOOKUP($A421,Filtro!$A$4:$AX$315,2,FALSE),0)","v":0},{"$f":"IFERROR(VLOOKUP($A421,Filtro!$A$4:$AX$315,3,FALSE),0)","v":0},{"$f":"IFERROR(VLOOKUP($A421,Filtro!$A$4:$AX$315,4,FALSE),0)","v":0},{"$f":"IFERROR(VLOOKUP($A421,Filtro!$A$4:$AX$315,5,FALSE),0)","v":0}]
["80401024","0401024","Radiografía de esófago, estómago y duodeno, simple en niños ",{"$f":"IFERROR(VLOOKUP($A422,Filtro!$A$4:$AX$315,2,FALSE),0)","v":0},{"$f":"IFERROR(VLOOKUP($A422,Filtro!$A$4:$AX$315,3,FALSE),0)","v":0},{"$f":"IFERROR(VLOOKUP($A422,Filtro!$A$4:$AX$315,4,FALSE),0)","v":0},{"$f":"IFERROR(VLOOKUP($A422,Filtro!$A$4:$AX$315,5,FALSE),0)","v":0}]
["80401026","0401026","Pielografía de eliminación con control minutado (10 exp.)",{"$f":"IFERROR(VLOOKUP($A423,Filtro!$A$4:$AX$315,2,FALSE),0)","v":0},{"$f":"IFERROR(VLOOKUP($A423,Filtro!$A$4:$AX$315,3,FALSE),0)","v":0},{"$f":"IFERROR(VLOOKUP($A423,Filtro!$A$4:$AX$315,4,FALSE),0)","v":0},{"$f":"IFERROR(VLOOKUP($A423,Filtro!$A$4:$AX$315,5,FALSE),0)","v":0}]
["80401027","0401027","Pielografía de eliminación o descendente: incluye renal y vesical simples previas, 3 placas post inyección de medio de contraste, controles de pie y cistografía pre y post miccional. ",{"$f":"IFERROR(VLOOKUP($A424,Filtro!$A$4:$AX$315,2,FALSE),0)","v":0},{"$f":"IFERROR(VLOOKUP($A424,Filtro!$A$4:$AX$315,3,FALSE),0)","v":0},{"$f":"IFERROR(VLOOKUP($A424,Filtro!$A$4:$AX$315,4,FALSE),0)","v":0},{"$f":"IFERROR(VLOOKUP($A424,Filtro!$A$4:$AX$315,5,FALSE),0)","v":0}]
["80401028","0401028","Radiografía renal simple (proc. aut.)",{"$f":"IFERROR(VLOOKUP($A425,Filtro!$A$4:$AX$315,2,FALSE),0)","v":19},{"$f":"IFERROR(VLOOKUP($A425,Filtro!$A$4:$AX$315,3,FALSE),0)","v":18},{"$f":"IFERROR(VLOOKUP($A425,Filtro!$A$4:$AX$315,4,FALSE),0)","v":1},{"$f":"IFERROR(VLOOKUP($A425,Filtro!$A$4:$AX$315,5,FALSE),0)","v":0}]
["80401029","0401029","Radiografía vesical simple o perivesical (proc. aut.)",{"$f":"IFERROR(VLOOKUP($A426,Filtro!$A$4:$AX$315,2,FALSE),0)","v":9},{"$f":"IFERROR(VLOOKUP($A426,Filtro!$A$4:$AX$315,3,FALSE),0)","v":8},{"$f":"IFERROR(VLOOKUP($A426,Filtro!$A$4:$AX$315,4,FALSE),0)","v":1},{"$f":"IFERROR(VLOOKUP($A426,Filtro!$A$4:$AX$315,5,FALSE),0)","v":0}]
["80401030","0401030","Radiografía agujeros ópticos, ambos lados",{"$f":"IFERROR(VLOOKUP($A427,Filtro!$A$4:$AX$315,2,FALSE),0)","v":4},{"$f":"IFERROR(VLOOKUP($A427,Filtro!$A$4:$AX$315,3,FALSE),0)","v":4},{"$f":"IFERROR(VLOOKUP($A427,Filtro!$A$4:$AX$315,4,FALSE),0)","v":0},{"$f":"IFERROR(VLOOKUP($A427,Filtro!$A$4:$AX$315,5,FALSE),0)","v":0}]
["80401031","0401031","Radiografía de cavidades perinasales, órbitas, articulaciones temporomandibulares, huesos propios de la nariz, malar, maxilar, arco cigomático y cara",{"$f":"IFERROR(VLOOKUP($A428,Filtro!$A$4:$AX$315,2,FALSE),0)","v":552},{"$f":"IFERROR(VLOOKUP($A428,Filtro!$A$4:$AX$315,3,FALSE),0)","v":480},{"$f":"IFERROR(VLOOKUP($A428,Filtro!$A$4:$AX$315,4,FALSE),0)","v":72},{"$f":"IFERROR(VLOOKUP($A428,Filtro!$A$4:$AX$315,5,FALSE),0)","v":0}]
["80401032","0401032","Radiografía de cráneo frontal y lateral",{"$f":"IFERROR(VLOOKUP($A429,Filtro!$A$4:$AX$315,2,FALSE),0)","v":665},{"$f":"IFERROR(VLOOKUP($A429,Filtro!$A$4:$AX$315,3,FALSE),0)","v":639},{"$f":"IFERROR(VLOOKUP($A429,Filtro!$A$4:$AX$315,4,FALSE),0)","v":26},{"$f":"IFERROR(VLOOKUP($A429,Filtro!$A$4:$AX$315,5,FALSE),0)","v":0}]
["80401033","0401033","Radiografía de Cráneo  proyección especial de  base de cráneo (Towne)",{"$f":"IFERROR(VLOOKUP($A430,Filtro!$A$4:$AX$315,2,FALSE),0)","v":40},{"$f":"IFERROR(VLOOKUP($A430,Filtro!$A$4:$AX$315,3,FALSE),0)","v":40},{"$f":"IFERROR(VLOOKUP($A430,Filtro!$A$4:$AX$315,4,FALSE),0)","v":0},{"$f":"IFERROR(VLOOKUP($A430,Filtro!$A$4:$AX$315,5,FALSE),0)","v":0}]
["80401034","0401034","Radiografía de globo ocular, estudio de cuerpo extraño",{"$f":"IFERROR(VLOOKUP($A431,Filtro!$A$4:$AX$315,2,FALSE),0)","v":0},{"$f":"IFERROR(VLOOKUP($A431,Filtro!$A$4:$AX$315,3,FALSE),0)","v":0},{"$f":"IFERROR(VLOOKUP($A431,Filtro!$A$4:$AX$315,4,FALSE),0)","v":0},{"$f":"IFERROR(VLOOKUP($A431,Filtro!$A$4:$AX$315,5,FALSE),0)","v":0}]
["80401035","0401035","Radiografía de oído, uno o ambos ",{"$f":"IFERROR(VLOOKUP($A432,Filtro!$A$4:$AX$315,2,FALSE),0)","v":0},{"$f":"IFERROR(VLOOKUP($A432,Filtro!$A$4:$AX$315,3,FALSE),0)","v":0},{"$f":"IFERROR(VLOOKUP($A432,Filtro!$A$4:$AX$315,4,FALSE),0)","v":0},{"$f":"IFERROR(VLOOKUP($A432,Filtro!$A$4:$AX$315,5,FALSE),0)","v":0}]
["80401036","0401036","Radiografía de oído, uno o ambos (2 proy.) (2 exp.)                     ",{"$f":"IFERROR(VLOOKUP($A433,Filtro!$A$4:$AX$315,2,FALSE),0)","v":0},{"$f":"IFERROR(VLOOKUP($A433,Filtro!$A$4:$AX$315,3,FALSE),0)","v":0},{"$f":"IFERROR(VLOOKUP($A433,Filtro!$A$4:$AX$315,4,FALSE),0)","v":0},{"$f":"IFERROR(VLOOKUP($A433,Filtro!$A$4:$AX$315,5,FALSE),0)","v":0}]
["80401037","0401037","Radiografía de oído, uno o ambos (3 proy.) (3 exp.)                    ",{"$f":"IFERROR(VLOOKUP($A434,Filtro!$A$4:$AX$315,2,FALSE),0)","v":0},{"$f":"IFERROR(VLOOKUP($A434,Filtro!$A$4:$AX$315,3,FALSE),0)","v":0},{"$f":"IFERROR(VLOOKUP($A434,Filtro!$A$4:$AX$315,4,FALSE),0)","v":0},{"$f":"IFERROR(VLOOKUP($A434,Filtro!$A$4:$AX$315,5,FALSE),0)","v":0}]
["80401038","0401038","Planigrafía de oidos (68 exp.)                     ",{"$f":"IFERROR(VLOOKUP($A435,Filtro!$A$4:$AX$315,2,FALSE),0)","v":0},{"$f":"IFERROR(VLOOKUP($A435,Filtro!$A$4:$AX$315,3,FALSE),0)","v":0},{"$f":"IFERROR(VLOOKUP($A435,Filtro!$A$4:$AX$315,4,FALSE),0)","v":0},{"$f":"IFERROR(VLOOKUP($A435,Filtro!$A$4:$AX$315,5,FALSE),0)","v":0}]
["80401039","0401039","Planigrafía silla turca, canal optico, cavidades perinasales, c/u (68 exp.)  ",{"$f":"IFERROR(VLOOKUP($A436,Filtro!$A$4:$AX$315,2,FALSE),0)","v":0},{"$f":"IFERROR(VLOOKUP($A436,Filtro!$A$4:$AX$315,3,FALSE),0)","v":0},{"$f":"IFERROR(VLOOKUP($A436,Filtro!$A$4:$AX$315,4,FALSE),0)","v":0},{"$f":"IFERROR(VLOOKUP($A436,Filtro!$A$4:$AX$315,5,FALSE),0)","v":0}]
["80401040","0401040","Radiografía de silla turca frontal y lateral ",{"$f":"IFERROR(VLOOKUP($A437,Filtro!$A$4:$AX$315,2,FALSE),0)","v":0},{"$f":"IFERROR(VLOOKUP($A437,Filtro!$A$4:$AX$315,3,FALSE),0)","v":0},{"$f":"IFERROR(VLOOKUP($A437,Filtro!$A$4:$AX$315,4,FALSE),0)","v":0},{"$f":"IFERROR(VLOOKUP($A437,Filtro!$A$4:$AX$315,5,FALSE),0)","v":0}]
["80401041","0401041","Planigrafía localizada (cervical, dorsal o lumbosacra) (68 exp.)              ",{"$f":"IFERROR(VLOOKUP($A438,Filtro!$A$4:$AX$315,2,FALSE),0)","v":0},{"$f":"IFERROR(VLOOKUP($A438,Filtro!$A$4:$AX$315,3,FALSE),0)","v":0},{"$f":"IFERROR(VLOOKUP($A438,Filtro!$A$4:$AX$315,4,FALSE),0)","v":0},{"$f":"IFERROR(VLOOKUP($A438,Filtro!$A$4:$AX$315,5,FALSE),0)","v":0}]
["80401042","0401042","Radiografía de columna cervical o atlas-axis (frontal y lateral)",{"$f":"IFERROR(VLOOKUP($A439,Filtro!$A$4:$AX$315,2,FALSE),0)","v":319},{"$f":"IFERROR(VLOOKUP($A439,Filtro!$A$4:$AX$315,3,FALSE),0)","v":233},{"$f":"IFERROR(VLOOKUP($A439,Filtro!$A$4:$AX$315,4,FALSE),0)","v":86},{"$f":"IFERROR(VLOOKUP($A439,Filtro!$A$4:$AX$315,5,FALSE),0)","v":0}]
["80401043","0401043","Radiografía de columna cervical (frontal, lateral y oblicuas)",{"$f":"IFERROR(VLOOKUP($A440,Filtro!$A$4:$AX$315,2,FALSE),0)","v":140},{"$f":"IFERROR(VLOOKUP($A440,Filtro!$A$4:$AX$315,3,FALSE),0)","v":133},{"$f":"IFERROR(VLOOKUP($A440,Filtro!$A$4:$AX$315,4,FALSE),0)","v":7},{"$f":"IFERROR(VLOOKUP($A440,Filtro!$A$4:$AX$315,5,FALSE),0)","v":0}]
["80401044","0401044","Radiografía de columna cervical  flexión y  extensión (Dinámicas)",{"$f":"IFERROR(VLOOKUP($A441,Filtro!$A$4:$AX$315,2,FALSE),0)","v":4},{"$f":"IFERROR(VLOOKUP($A441,Filtro!$A$4:$AX$315,3,FALSE),0)","v":3},{"$f":"IFERROR(VLOOKUP($A441,Filtro!$A$4:$AX$315,4,FALSE),0)","v":1},{"$f":"IFERROR(VLOOKUP($A441,Filtro!$A$4:$AX$315,5,FALSE),0)","v":0}]
["80401045","0401045","Radiografía de columna dorsal o dorsolumbar localizada, parrilla costal adultos (frontal y lateral).",{"$f":"IFERROR(VLOOKUP($A442,Filtro!$A$4:$AX$315,2,FALSE),0)","v":672},{"$f":"IFERROR(VLOOKUP($A442,Filtro!$A$4:$AX$315,3,FALSE),0)","v":605},{"$f":"IFERROR(VLOOKUP($A442,Filtro!$A$4:$AX$315,4,FALSE),0)","v":67},{"$f":"IFERROR(VLOOKUP($A442,Filtro!$A$4:$AX$315,5,FALSE),0)","v":0}]
["80401046","0401046","Radiografía columna lumbar o lumbosacra   ",{"$f":"IFERROR(VLOOKUP($A443,Filtro!$A$4:$AX$315,2,FALSE),0)","v":627},{"$f":"IFERROR(VLOOKUP($A443,Filtro!$A$4:$AX$315,3,FALSE),0)","v":355},{"$f":"IFERROR(VLOOKUP($A443,Filtro!$A$4:$AX$315,4,FALSE),0)","v":272},{"$f":"IFERROR(VLOOKUP($A443,Filtro!$A$4:$AX$315,5,FALSE),0)","v":0}]
["80401047","0401047","Radiografía columna lumbar o lumbosacra  flexión y  extensión (Dinámicas)",{"$f":"IFERROR(VLOOKUP($A444,Filtro!$A$4:$AX$315,2,FALSE),0)","v":1},{"$f":"IFERROR(VLOOKUP($A444,Filtro!$A$4:$AX$315,3,FALSE),0)","v":0},{"$f":"IFERROR(VLOOKUP($A444,Filtro!$A$4:$AX$315,4,FALSE),0)","v":1},{"$f":"IFERROR(VLOOKUP($A444,Filtro!$A$4:$AX$315,5,FALSE),0)","v":0}]
["80401048","0401048","Radiografía columna lumbar o lumbosacra, oblicuas adicionales ",{"$f":"IFERROR(VLOOKUP($A445,Filtro!$A$4:$AX$315,2,FALSE),0)","v":18},{"$f":"IFERROR(VLOOKUP($A445,Filtro!$A$4:$AX$315,3,FALSE),0)","v":18},{"$f":"IFERROR(VLOOKUP($A445,Filtro!$A$4:$AX$315,4,FALSE),0)","v":0},{"$f":"IFERROR(VLOOKUP($A445,Filtro!$A$4:$AX$315,5,FALSE),0)","v":0}]
["80401049","0401049","Radiografía de columna total, panorámica con folio graduado  frontal o lateral",{"$f":"IFERROR(VLOOKUP($A446,Filtro!$A$4:$AX$315,2,FALSE),0)","v":3},{"$f":"IFERROR(VLOOKUP($A446,Filtro!$A$4:$AX$315,3,FALSE),0)","v":3},{"$f":"IFERROR(VLOOKUP($A446,Filtro!$A$4:$AX$315,4,FALSE),0)","v":0},{"$f":"IFERROR(VLOOKUP($A446,Filtro!$A$4:$AX$315,5,FALSE),0)","v":0}]
["80401051","0401051","Radiografía de pelvis, cadera o coxofemoral",{"$f":"IFERROR(VLOOKUP($A447,Filtro!$A$4:$AX$315,2,FALSE),0)","v":879},{"$f":"IFERROR(VLOOKUP($A447,Filtro!$A$4:$AX$315,3,FALSE),0)","v":497},{"$f":"IFERROR(VLOOKUP($A447,Filtro!$A$4:$AX$315,4,FALSE),0)","v":382},{"$f":"IFERROR(VLOOKUP($A447,Filtro!$A$4:$AX$315,5,FALSE),0)","v":607}]
["80401151","0401151","Radiografía de pelvis, cadera o coxofemoral de RN, lactante o niño menor de 6 años.",{"$f":"IFERROR(VLOOKUP($A448,Filtro!$A$4:$AX$315,2,FALSE),0)","v":633},{"$f":"IFERROR(VLOOKUP($A448,Filtro!$A$4:$AX$315,3,FALSE),0)","v":429},{"$f":"IFERROR(VLOOKUP($A448,Filtro!$A$4:$AX$315,4,FALSE),0)","v":204},{"$f":"IFERROR(VLOOKUP($A448,Filtro!$A$4:$AX$315,5,FALSE),0)","v":{"v":1605,"d":"1,605"}}]
["80401052","0401052","Radiografía de pelvis, cadera o coxofemoral, proyecciones especiales; (rotación interna, abducción, lateral, Lawenstein u otras)",{"$f":"IFERROR(VLOOKUP($A449,Filtro!$A$4:$AX$315,2,FALSE),0)","v":428},{"$f":"IFERROR(VLOOKUP($A449,Filtro!$A$4:$AX$315,3,FALSE),0)","v":144},{"$f":"IFERROR(VLOOKUP($A449,Filtro!$A$4:$AX$315,4,FALSE),0)","v":284},{"$f":"IFERROR(VLOOKUP($A449,Filtro!$A$4:$AX$315,5,FALSE),0)","v":0}]
["80401053","0401053","Radiografía de Sacrocoxis o articulaciones sacroilíacas.",{"$f":"IFERROR(VLOOKUP($A450,Filtro!$A$4:$AX$315,2,FALSE),0)","v":102},{"$f":"IFERROR(VLOOKUP($A450,Filtro!$A$4:$AX$315,3,FALSE),0)","v":84},{"$f":"IFERROR(VLOOKUP($A450,Filtro!$A$4:$AX$315,4,FALSE),0)","v":18},{"$f":"IFERROR(VLOOKUP($A450,Filtro!$A$4:$AX$315,5,FALSE),0)","v":0}]
["80401054","0401054","Radiografía de brazo, antebrazo, codo, muñeca, mano, dedos, pie  (frontal y lateral)",{"$f":"IFERROR(VLOOKUP($A451,Filtro!$A$4:$AX$315,2,FALSE),0)","v":{"v":4460,"d":"4,460"}},{"$f":"IFERROR(VLOOKUP($A451,Filtro!$A$4:$AX$315,3,FALSE),0)","v":{"v":3842,"d":"3,842"}},{"$f":"IFERROR(VLOOKUP($A451,Filtro!$A$4:$AX$315,4,FALSE),0)","v":618},{"$f":"IFERROR(VLOOKUP($A451,Filtro!$A$4:$AX$315,5,FALSE),0)","v":0}]
["80401055","0401055","Radiografía de clavícula.",{"$f":"IFERROR(VLOOKUP($A452,Filtro!$A$4:$AX$315,2,FALSE),0)","v":107},{"$f":"IFERROR(VLOOKUP($A452,Filtro!$A$4:$AX$315,3,FALSE),0)","v":103},{"$f":"IFERROR(VLOOKUP($A452,Filtro!$A$4:$AX$315,4,FALSE),0)","v":4},{"$f":"IFERROR(VLOOKUP($A452,Filtro!$A$4:$AX$315,5,FALSE),0)","v":0}]
["80401056","0401056","Radiografía Edad Ósea: carpo y mano ",{"$f":"IFERROR(VLOOKUP($A453,Filtro!$A$4:$AX$315,2,FALSE),0)","v":17},{"$f":"IFERROR(VLOOKUP($A453,Filtro!$A$4:$AX$315,3,FALSE),0)","v":3},{"$f":"IFERROR(VLOOKUP($A453,Filtro!$A$4:$AX$315,4,FALSE),0)","v":14},{"$f":"IFERROR(VLOOKUP($A453,Filtro!$A$4:$AX$315,5,FALSE),0)","v":3}]
["80401057","0401057","Radiografía Edad ósea : rodilla frontal",{"$f":"IFERROR(VLOOKUP($A454,Filtro!$A$4:$AX$315,2,FALSE),0)","v":0},{"$f":"IFERROR(VLOOKUP($A454,Filtro!$A$4:$AX$315,3,FALSE),0)","v":0},{"$f":"IFERROR(VLOOKUP($A454,Filtro!$A$4:$AX$315,4,FALSE),0)","v":0},{"$f":"IFERROR(VLOOKUP($A454,Filtro!$A$4:$AX$315,5,FALSE),0)","v":0}]
["80401058","0401058","Estudio radiológico de escafoides",{"$f":"IFERROR(VLOOKUP($A455,Filtro!$A$4:$AX$315,2,FALSE),0)","v":12},{"$f":"IFERROR(VLOOKUP($A455,Filtro!$A$4:$AX$315,3,FALSE),0)","v":12},{"$f":"IFERROR(VLOOKUP($A455,Filtro!$A$4:$AX$315,4,FALSE),0)","v":0},{"$f":"IFERROR(VLOOKUP($A455,Filtro!$A$4:$AX$315,5,FALSE),0)","v":0}]
["80401059","0401059","Estudio radiológico de muñeca o tobillo frontal lateral y oblicuas",{"$f":"IFERROR(VLOOKUP($A456,Filtro!$A$4:$AX$315,2,FALSE),0)","v":496},{"$f":"IFERROR(VLOOKUP($A456,Filtro!$A$4:$AX$315,3,FALSE),0)","v":456},{"$f":"IFERROR(VLOOKUP($A456,Filtro!$A$4:$AX$315,4,FALSE),0)","v":40},{"$f":"IFERROR(VLOOKUP($A456,Filtro!$A$4:$AX$315,5,FALSE),0)","v":0}]
["80401060","0401060","Radiografía de hombro, fémur, rodilla, pierna, costilla o esternón Frontal y Lateral",{"$f":"IFERROR(VLOOKUP($A457,Filtro!$A$4:$AX$315,2,FALSE),0)","v":{"v":2776,"d":"2,776"}},{"$f":"IFERROR(VLOOKUP($A457,Filtro!$A$4:$AX$315,3,FALSE),0)","v":{"v":1620,"d":"1,620"}},{"$f":"IFERROR(VLOOKUP($A457,Filtro!$A$4:$AX$315,4,FALSE),0)","v":{"v":1156,"d":"1,156"}},{"$f":"IFERROR(VLOOKUP($A457,Filtro!$A$4:$AX$315,5,FALSE),0)","v":650}]
["80401061","0401061","Planigrafía ósea frontal y/o lateral (6 exp.) ",{"$f":"IFERROR(VLOOKUP($A458,Filtro!$A$4:$AX$315,2,FALSE),0)","v":2},{"$f":"IFERROR(VLOOKUP($A458,Filtro!$A$4:$AX$315,3,FALSE),0)","v":2},{"$f":"IFERROR(VLOOKUP($A458,Filtro!$A$4:$AX$315,4,FALSE),0)","v":0},{"$f":"IFERROR(VLOOKUP($A458,Filtro!$A$4:$AX$315,5,FALSE),0)","v":0}]
["80401062","0401062","Radiografía de Proyecciones especiales oblicuas u otras en hombro, brazo, codo, rodilla, rótulas, sesamoideos, axial de ambas rótulas o similares",{"$f":"IFERROR(VLOOKUP($A459,Filtro!$A$4:$AX$315,2,FALSE),0)","v":306},{"$f":"IFERROR(VLOOKUP($A459,Filtro!$A$4:$AX$315,3,FALSE),0)","v":245},{"$f":"IFERROR(VLOOKUP($A459,Filtro!$A$4:$AX$315,4,FALSE),0)","v":61},{"$f":"IFERROR(VLOOKUP($A459,Filtro!$A$4:$AX$315,5,FALSE),0)","v":0}]
["80401063","0401063","Radiografía de túnel intercondíleo o radio-carpiano",{"$f":"IFERROR(VLOOKUP($A460,Filtro!$A$4:$AX$315,2,FALSE),0)","v":7},{"$f":"IFERROR(VLOOKUP($A460,Filtro!$A$4:$AX$315,3,FALSE),0)","v":7},{"$f":"IFERROR(VLOOKUP($A460,Filtro!$A$4:$AX$315,4,FALSE),0)","v":0},{"$f":"IFERROR(VLOOKUP($A460,Filtro!$A$4:$AX$315,5,FALSE),0)","v":0}]
["80401064","0401064","Apoyo fluoroscópico a procedimientos intraoperatorios y/o biopsia (no incluye el proc.)",{"$f":"IFERROR(VLOOKUP($A461,Filtro!$A$4:$AX$315,2,FALSE),0)","v":0},{"$f":"IFERROR(VLOOKUP($A461,Filtro!$A$4:$AX$315,3,FALSE),0)","v":0},{"$f":"IFERROR(VLOOKUP($A461,Filtro!$A$4:$AX$315,4,FALSE),0)","v":0},{"$f":"IFERROR(VLOOKUP($A461,Filtro!$A$4:$AX$315,5,FALSE),0)","v":0}]
["80404002","0404002","Ecografía obstétrica",{"$f":"IFERROR(VLOOKUP($A462,Filtro!$A$4:$AX$315,2,FALSE),0)","v":{"v":2405,"d":"2,405"}},{"$f":"IFERROR(VLOOKUP($A462,Filtro!$A$4:$AX$315,3,FALSE),0)","v":26},{"$f":"IFERROR(VLOOKUP($A462,Filtro!$A$4:$AX$315,4,FALSE),0)","v":{"v":2379,"d":"2,379"}},{"$f":"IFERROR(VLOOKUP($A462,Filtro!$A$4:$AX$315,5,FALSE),0)","v":23}]
["80404003","0404003","Ecografía abdominal (incluye hígado, vía biliar, vesícula, páncreas, riñones, bazo, retroperitoneo y grandes vasos)",{"$f":"IFERROR(VLOOKUP($A463,Filtro!$A$4:$AX$315,2,FALSE),0)","v":73},{"$f":"IFERROR(VLOOKUP($A463,Filtro!$A$4:$AX$315,3,FALSE),0)","v":5},{"$f":"IFERROR(VLOOKUP($A463,Filtro!$A$4:$AX$315,4,FALSE),0)","v":68},{"$f":"IFERROR(VLOOKUP($A463,Filtro!$A$4:$AX$315,5,FALSE),0)","v":360}]
["80404004","0404004","Ecografía como apoyo a cirugía, o a procedimiento (de tórax, muscular, partes blandas, etc.)",{"$f":"IFERROR(VLOOKUP($A464,Filtro!$A$4:$AX$315,2,FALSE),0)","v":0},{"$f":"IFERROR(VLOOKUP($A464,Filtro!$A$4:$AX$315,3,FALSE),0)","v":0},{"$f":"IFERROR(VLOOKUP($A464,Filtro!$A$4:$AX$315,4,FALSE),0)","v":0},{"$f":"IFERROR(VLOOKUP($A464,Filtro!$A$4:$AX$315,5,FALSE),0)","v":0}]
["80404005","0404005","Ecografía transvaginal o transrectal",{"$f":"IFERROR(VLOOKUP($A465,Filtro!$A$4:$AX$315,2,FALSE),0)","v":52},{"$f":"IFERROR(VLOOKUP($A465,Filtro!$A$4:$AX$315,3,FALSE),0)","v":0},{"$f":"IFERROR(VLOOKUP($A465,Filtro!$A$4:$AX$315,4,FALSE),0)","v":52},{"$f":"IFERROR(VLOOKUP($A465,Filtro!$A$4:$AX$315,5,FALSE),0)","v":0}]
["80404006","0404006","Ecografía ginecológica, pelviana femenina u obstétrica con estudio fetal",{"$f":"IFERROR(VLOOKUP($A466,Filtro!$A$4:$AX$315,2,FALSE),0)","v":81},{"$f":"IFERROR(VLOOKUP($A466,Filtro!$A$4:$AX$315,3,FALSE),0)","v":0},{"$f":"IFERROR(VLOOKUP($A466,Filtro!$A$4:$AX$315,4,FALSE),0)","v":81},{"$f":"IFERROR(VLOOKUP($A466,Filtro!$A$4:$AX$315,5,FALSE),0)","v":0}]
["80404007","0404007","Ecografía transvaginal para seguimiento de ovulación, procedimiento completo (6-8 sesiones )",{"$f":"IFERROR(VLOOKUP($A467,Filtro!$A$4:$AX$315,2,FALSE),0)","v":0},{"$f":"IFERROR(VLOOKUP($A467,Filtro!$A$4:$AX$315,3,FALSE),0)","v":0},{"$f":"IFERROR(VLOOKUP($A467,Filtro!$A$4:$AX$315,4,FALSE),0)","v":0},{"$f":"IFERROR(VLOOKUP($A467,Filtro!$A$4:$AX$315,5,FALSE),0)","v":0}]
["80404008","0404008","Ecografía para seguimiento de ovulación, procedimiento completo (6 a 8 sesiones)",{"$f":"IFERROR(VLOOKUP($A468,Filtro!$A$4:$AX$315,2,FALSE),0)","v":0},{"$f":"IFERROR(VLOOKUP($A468,Filtro!$A$4:$AX$315,3,FALSE),0)","v":0},{"$f":"IFERROR(VLOOKUP($A468,Filtro!$A$4:$AX$315,4,FALSE),0)","v":0},{"$f":"IFERROR(VLOOKUP($A468,Filtro!$A$4:$AX$315,5,FALSE),0)","v":0}]
["80404009","0404009","Ecografía pélvica masculina (incluye vejiga y próstata)",{"$f":"IFERROR(VLOOKUP($A469,Filtro!$A$4:$AX$315,2,FALSE),0)","v":0},{"$f":"IFERROR(VLOOKUP($A469,Filtro!$A$4:$AX$315,3,FALSE),0)","v":0},{"$f":"IFERROR(VLOOKUP($A469,Filtro!$A$4:$AX$315,4,FALSE),0)","v":0},{"$f":"IFERROR(VLOOKUP($A469,Filtro!$A$4:$AX$315,5,FALSE),0)","v":0}]
["80404010","0404010","Ecografía renal (bilateral), o de bazo",{"$f":"IFERROR(VLOOKUP($A470,Filtro!$A$4:$AX$315,2,FALSE),0)","v":0},{"$f":"IFERROR(VLOOKUP($A470,Filtro!$A$4:$AX$315,3,FALSE),0)","v":0},{"$f":"IFERROR(VLOOKUP($A470,Filtro!$A$4:$AX$315,4,FALSE),0)","v":0},{"$f":"IFERROR(VLOOKUP($A470,Filtro!$A$4:$AX$315,5,FALSE),0)","v":0}]
["80404011","0404011","Ecografía encefálica (RN o lactante)",{"$f":"IFERROR(VLOOKUP($A471,Filtro!$A$4:$AX$315,2,FALSE),0)","v":0},{"$f":"IFERROR(VLOOKUP($A471,Filtro!$A$4:$AX$315,3,FALSE),0)","v":0},{"$f":"IFERROR(VLOOKUP($A471,Filtro!$A$4:$AX$315,4,FALSE),0)","v":0},{"$f":"IFERROR(VLOOKUP($A471,Filtro!$A$4:$AX$315,5,FALSE),0)","v":0}]
["80404012","0404012","Ecografía mamaria bilateral (incluye Doppler)",{"$f":"IFERROR(VLOOKUP($A472,Filtro!$A$4:$AX$315,2,FALSE),0)","v":136},{"$f":"IFERROR(VLOOKUP($A472,Filtro!$A$4:$AX$315,3,FALSE),0)","v":0},{"$f":"IFERROR(VLOOKUP($A472,Filtro!$A$4:$AX$315,4,FALSE),0)","v":136},{"$f":"IFERROR(VLOOKUP($A472,Filtro!$A$4:$AX$315,5,FALSE),0)","v":47}]
["80404013","0404013","Ecografía ocular, uno o ambos ojos.",{"$f":"IFERROR(VLOOKUP($A473,Filtro!$A$4:$AX$315,2,FALSE),0)","v":0},{"$f":"IFERROR(VLOOKUP($A473,Filtro!$A$4:$AX$315,3,FALSE),0)","v":0},{"$f":"IFERROR(VLOOKUP($A473,Filtro!$A$4:$AX$315,4,FALSE),0)","v":0},{"$f":"IFERROR(VLOOKUP($A473,Filtro!$A$4:$AX$315,5,FALSE),0)","v":0}]
["80404014","0404014","Ecografía testicular (uno o ambos) (Incluye Doppler)",{"$f":"IFERROR(VLOOKUP($A474,Filtro!$A$4:$AX$315,2,FALSE),0)","v":0},{"$f":"IFERROR(VLOOKUP($A474,Filtro!$A$4:$AX$315,3,FALSE),0)","v":0},{"$f":"IFERROR(VLOOKUP($A474,Filtro!$A$4:$AX$315,4,FALSE),0)","v":0},{"$f":"IFERROR(VLOOKUP($A474,Filtro!$A$4:$AX$315,5,FALSE),0)","v":0}]
["80404015","0404015","Ecografía tiroidea (Incluye Doppler)",{"$f":"IFERROR(VLOOKUP($A475,Filtro!$A$4:$AX$315,2,FALSE),0)","v":0},{"$f":"IFERROR(VLOOKUP($A475,Filtro!$A$4:$AX$315,3,FALSE),0)","v":0},{"$f":"IFERROR(VLOOKUP($A475,Filtro!$A$4:$AX$315,4,FALSE),0)","v":0},{"$f":"IFERROR(VLOOKUP($A475,Filtro!$A$4:$AX$315,5,FALSE),0)","v":0}]
["80404016","0404016","Ecografía vascular periférica, articular o de partes blandas",{"$f":"IFERROR(VLOOKUP($A476,Filtro!$A$4:$AX$315,2,FALSE),0)","v":0},{"$f":"IFERROR(VLOOKUP($A476,Filtro!$A$4:$AX$315,3,FALSE),0)","v":0},{"$f":"IFERROR(VLOOKUP($A476,Filtro!$A$4:$AX$315,4,FALSE),0)","v":0},{"$f":"IFERROR(VLOOKUP($A476,Filtro!$A$4:$AX$315,5,FALSE),0)","v":0}]
["80404018","0404018","Ecotomografía vascular periférica (bilateral), cervical (bilateral), abdominal o de otros órganos con doppler duplex                 ",{"$f":"IFERROR(VLOOKUP($A477,Filtro!$A$4:$AX$315,2,FALSE),0)","v":0},{"$f":"IFERROR(VLOOKUP($A477,Filtro!$A$4:$AX$315,3,FALSE),0)","v":0},{"$f":"IFERROR(VLOOKUP($A477,Filtro!$A$4:$AX$315,4,FALSE),0)","v":0},{"$f":"IFERROR(VLOOKUP($A477,Filtro!$A$4:$AX$315,5,FALSE),0)","v":0}]
["80404019","0404019","Ecotomografía vascular periférica (bilateral), cervical (bilateral), abdominal o de otros órganos con doppler color                ",{"$f":"IFERROR(VLOOKUP($A478,Filtro!$A$4:$AX$315,2,FALSE),0)","v":0},{"$f":"IFERROR(VLOOKUP($A478,Filtro!$A$4:$AX$315,3,FALSE),0)","v":0},{"$f":"IFERROR(VLOOKUP($A478,Filtro!$A$4:$AX$315,4,FALSE),0)","v":0},{"$f":"IFERROR(VLOOKUP($A478,Filtro!$A$4:$AX$315,5,FALSE),0)","v":0}]
[null,"SECCIÓN B: PROCEDIMIENTOS APOYO CLÍNICO Y TERAPÉUTICO"]
[null,"CÓDIGOS","PROCEDIMIENTOS","TOTAL","SAPU/SAR/SUR","NO SAPU/ NO SUR","FUNCIONARIO",null,"COMPRAS DE SERVICIOS"]
[{"$nulls":6},"MÉDICO","OTRO"]
[null,"NEUROLOGÍA"]
["81101003",1101003,"Lumbar c/s manometria c/s queckensted   ",{"$f":"IFERROR(VLOOKUP($A483,Filtro!$A$4:$AX$315,2,FALSE),0)","v":0},{"$f":"IFERROR(VLOOKUP($A483,Filtro!$A$4:$AX$315,3,FALSE),0)","v":0},{"$f":"IFERROR(VLOOKUP($A483,Filtro!$A$4:$AX$315,4,FALSE),0)","v":0},{"$f":"IFERROR(VLOOKUP($A483,Filtro!$A$4:$AX$315,5,FALSE),0)","v":0},{"$f":"IFERROR(VLOOKUP($A483,Filtro!$A$4:$AX$315,6,FALSE),0)","v":0},{"$f":"IFERROR(VLOOKUP($A483,Filtro!$A$4:$AX$315,7,FALSE),0)","v":0}]
[null,"OFTALMOLOGÍA"]
["81201003",1201003,"cuantificacion de lagrimacion (test de   schirmer),  uno o                  ",{"$f":"IFERROR(VLOOKUP($A485,Filtro!$A$4:$AX$315,2,FALSE),0)","v":0},{"$f":"IFERROR(VLOOKUP($A485,Filtro!$A$4:$AX$315,3,FALSE),0)","v":0},{"$f":"IFERROR(VLOOKUP($A485,Filtro!$A$4:$AX$315,4,FALSE),0)","v":0},{"$f":"IFERROR(VLOOKUP($A485,Filtro!$A$4:$AX$315,5,FALSE),0)","v":0},{"$f":"IFERROR(VLOOKUP($A485,Filtro!$A$4:$AX$315,6,FALSE),0)","v":0},{"$f":"IFERROR(VLOOKUP($A485,Filtro!$A$4:$AX$315,7,FALSE),0)","v":0}]
["81201004",1201004,"curva de tension aplanatica (por cada dia), c/ojo                                ",{"$f":"IFERROR(VLOOKUP($A486,Filtro!$A$4:$AX$315,2,FALSE),0)","v":0},{"$f":"IFERROR(VLOOKUP($A486,Filtro!$A$4:$AX$315,3,FALSE),0)","v":0},{"$f":"IFERROR(VLOOKUP($A486,Filtro!$A$4:$AX$315,4,FALSE),0)","v":0},{"$f":"IFERROR(VLOOKUP($A486,Filtro!$A$4:$AX$315,5,FALSE),0)","v":0},{"$f":"IFERROR(VLOOKUP($A486,Filtro!$A$4:$AX$315,6,FALSE),0)","v":0},{"$f":"IFERROR(VLOOKUP($A486,Filtro!$A$4:$AX$315,7,FALSE),0)","v":0}]
["81201005",1201005,"diploscopia cuantitativa, ambos ojos                                                      ",{"$f":"IFERROR(VLOOKUP($A487,Filtro!$A$4:$AX$315,2,FALSE),0)","v":0},{"$f":"IFERROR(VLOOKUP($A487,Filtro!$A$4:$AX$315,3,FALSE),0)","v":0},{"$f":"IFERROR(VLOOKUP($A487,Filtro!$A$4:$AX$315,4,FALSE),0)","v":0},{"$f":"IFERROR(VLOOKUP($A487,Filtro!$A$4:$AX$315,5,FALSE),0)","v":0},{"$f":"IFERROR(VLOOKUP($A487,Filtro!$A$4:$AX$315,6,FALSE),0)","v":0},{"$f":"IFERROR(VLOOKUP($A487,Filtro!$A$4:$AX$315,7,FALSE),0)","v":0}]
["81201009",1201009,"exploracion sensoriomotora: estrabismo, estudio completo ,               ",{"$f":"IFERROR(VLOOKUP($A488,Filtro!$A$4:$AX$315,2,FALSE),0)","v":0},{"$f":"IFERROR(VLOOKUP($A488,Filtro!$A$4:$AX$315,3,FALSE),0)","v":0},{"$f":"IFERROR(VLOOKUP($A488,Filtro!$A$4:$AX$315,4,FALSE),0)","v":0},{"$f":"IFERROR(VLOOKUP($A488,Filtro!$A$4:$AX$315,5,FALSE),0)","v":0},{"$f":"IFERROR(VLOOKUP($A488,Filtro!$A$4:$AX$315,6,FALSE),0)","v":0},{"$f":"IFERROR(VLOOKUP($A488,Filtro!$A$4:$AX$315,7,FALSE),0)","v":0}]
["81201012",1201012,"retinografia, ambos ojos                                                                           ",{"$f":"IFERROR(VLOOKUP($A489,Filtro!$A$4:$AX$315,2,FALSE),0)","v":194},{"$f":"IFERROR(VLOOKUP($A489,Filtro!$A$4:$AX$315,3,FALSE),0)","v":0},{"$f":"IFERROR(VLOOKUP($A489,Filtro!$A$4:$AX$315,4,FALSE),0)","v":194},{"$f":"IFERROR(VLOOKUP($A489,Filtro!$A$4:$AX$315,5,FALSE),0)","v":0},{"$f":"IFERROR(VLOOKUP($A489,Filtro!$A$4:$AX$315,6,FALSE),0)","v":0},{"$f":"IFERROR(VLOOKUP($A489,Filtro!$A$4:$AX$315,7,FALSE),0)","v":0}]
["81201014",1201014,"tonometria ocular, cualquier tecnica, c/ojo                                            ",{"$f":"IFERROR(VLOOKUP($A490,Filtro!$A$4:$AX$315,2,FALSE),0)","v":0},{"$f":"IFERROR(VLOOKUP($A490,Filtro!$A$4:$AX$315,3,FALSE),0)","v":0},{"$f":"IFERROR(VLOOKUP($A490,Filtro!$A$4:$AX$315,4,FALSE),0)","v":0},{"$f":"IFERROR(VLOOKUP($A490,Filtro!$A$4:$AX$315,5,FALSE),0)","v":0},{"$f":"IFERROR(VLOOKUP($A490,Filtro!$A$4:$AX$315,6,FALSE),0)","v":0},{"$f":"IFERROR(VLOOKUP($A490,Filtro!$A$4:$AX$315,7,FALSE),0)","v":0}]
["81201015",1201015,"tratamiento ortoptico y/ o pleoptico (por sesion) ,                               ",{"$f":"IFERROR(VLOOKUP($A491,Filtro!$A$4:$AX$315,2,FALSE),0)","v":0},{"$f":"IFERROR(VLOOKUP($A491,Filtro!$A$4:$AX$315,3,FALSE),0)","v":0},{"$f":"IFERROR(VLOOKUP($A491,Filtro!$A$4:$AX$315,4,FALSE),0)","v":0},{"$f":"IFERROR(VLOOKUP($A491,Filtro!$A$4:$AX$315,5,FALSE),0)","v":0},{"$f":"IFERROR(VLOOKUP($A491,Filtro!$A$4:$AX$315,6,FALSE),0)","v":0},{"$f":"IFERROR(VLOOKUP($A491,Filtro!$A$4:$AX$315,7,FALSE),0)","v":0}]
["81201019",1201019," Exploracion vitreorretinal, ambos ojos                                                       ",{"$f":"IFERROR(VLOOKUP($A492,Filtro!$A$4:$AX$315,2,FALSE),0)","v":0},{"$f":"IFERROR(VLOOKUP($A492,Filtro!$A$4:$AX$315,3,FALSE),0)","v":0},{"$f":"IFERROR(VLOOKUP($A492,Filtro!$A$4:$AX$315,4,FALSE),0)","v":0},{"$f":"IFERROR(VLOOKUP($A492,Filtro!$A$4:$AX$315,5,FALSE),0)","v":0},{"$f":"IFERROR(VLOOKUP($A492,Filtro!$A$4:$AX$315,6,FALSE),0)","v":0},{"$f":"IFERROR(VLOOKUP($A492,Filtro!$A$4:$AX$315,7,FALSE),0)","v":0}]
["81201029",1201029,"Cuerpo extrano conjuntival y/o corneal en adultos                                 ",{"$f":"IFERROR(VLOOKUP($A493,Filtro!$A$4:$AX$315,2,FALSE),0)","v":113},{"$f":"IFERROR(VLOOKUP($A493,Filtro!$A$4:$AX$315,3,FALSE),0)","v":56},{"$f":"IFERROR(VLOOKUP($A493,Filtro!$A$4:$AX$315,4,FALSE),0)","v":57},{"$f":"IFERROR(VLOOKUP($A493,Filtro!$A$4:$AX$315,5,FALSE),0)","v":18},{"$f":"IFERROR(VLOOKUP($A493,Filtro!$A$4:$AX$315,6,FALSE),0)","v":67},{"$f":"IFERROR(VLOOKUP($A493,Filtro!$A$4:$AX$315,7,FALSE),0)","v":0}]
["81201042",1201042,"Campimetría computarizada, c/ojo (excluye UAPO)                            ",{"$f":"IFERROR(VLOOKUP($A494,Filtro!$A$4:$AX$315,2,FALSE),0)","v":0},{"$f":"IFERROR(VLOOKUP($A494,Filtro!$A$4:$AX$315,3,FALSE),0)","v":0},{"$f":"IFERROR(VLOOKUP($A494,Filtro!$A$4:$AX$315,4,FALSE),0)","v":0},{"$f":"IFERROR(VLOOKUP($A494,Filtro!$A$4:$AX$315,5,FALSE),0)","v":0},{"$f":"IFERROR(VLOOKUP($A494,Filtro!$A$4:$AX$315,6,FALSE),0)","v":0},{"$f":"IFERROR(VLOOKUP($A494,Filtro!$A$4:$AX$315,7,FALSE),0)","v":0}]
["81201042A",1201042,"Campimetría computarizada, c/ojo (en UAPO)                                  ",{"$f":"IFERROR(VLOOKUP($A495,Filtro!$A$4:$AX$315,2,FALSE),0)","v":0},{"$f":"IFERROR(VLOOKUP($A495,Filtro!$A$4:$AX$315,3,FALSE),0)","v":0},{"$f":"IFERROR(VLOOKUP($A495,Filtro!$A$4:$AX$315,4,FALSE),0)","v":0},{"$f":"IFERROR(VLOOKUP($A495,Filtro!$A$4:$AX$315,5,FALSE),0)","v":0},{"$f":"IFERROR(VLOOKUP($A495,Filtro!$A$4:$AX$315,6,FALSE),0)","v":0},{"$f":"IFERROR(VLOOKUP($A495,Filtro!$A$4:$AX$315,7,FALSE),0)","v":0}]
[null,"TOTAL",null,{"$f":"SUM(D485:D495)","v":307},{"$f":"SUM(E485:E495)","v":56},{"$f":"SUM(F485:F495)","v":251},{"$f":"SUM(G485:G495)","v":18},{"$f":"SUM(H485:H495)","v":67},{"$f":"SUM(I485:I495)","v":0}]
[null,"OTORRINOLARINGOLOGÍA"]
["81301025",1301025,"Taponamiento nasal anterior (proc. aut.)",{"$f":"IFERROR(VLOOKUP($A498,Filtro!$A$4:$AX$315,2,FALSE),0)","v":122},{"$f":"IFERROR(VLOOKUP($A498,Filtro!$A$4:$AX$315,3,FALSE),0)","v":72},{"$f":"IFERROR(VLOOKUP($A498,Filtro!$A$4:$AX$315,4,FALSE),0)","v":50},{"$f":"IFERROR(VLOOKUP($A498,Filtro!$A$4:$AX$315,5,FALSE),0)","v":29},{"$f":"IFERROR(VLOOKUP($A498,Filtro!$A$4:$AX$315,6,FALSE),0)","v":85},{"$f":"IFERROR(VLOOKUP($A498,Filtro!$A$4:$AX$315,7,FALSE),0)","v":0}]
["81301026",1301026,"Taponamiento nasal posterior",{"$f":"IFERROR(VLOOKUP($A499,Filtro!$A$4:$AX$315,2,FALSE),0)","v":40},{"$f":"IFERROR(VLOOKUP($A499,Filtro!$A$4:$AX$315,3,FALSE),0)","v":35},{"$f":"IFERROR(VLOOKUP($A499,Filtro!$A$4:$AX$315,4,FALSE),0)","v":5},{"$f":"IFERROR(VLOOKUP($A499,Filtro!$A$4:$AX$315,5,FALSE),0)","v":5},{"$f":"IFERROR(VLOOKUP($A499,Filtro!$A$4:$AX$315,6,FALSE),0)","v":35},{"$f":"IFERROR(VLOOKUP($A499,Filtro!$A$4:$AX$315,7,FALSE),0)","v":0}]
["81301029",1301029,"Cuerpo extraño en fosas nasales, extraccion en adultos        ",{"$f":"IFERROR(VLOOKUP($A500,Filtro!$A$4:$AX$315,2,FALSE),0)","v":15},{"$f":"IFERROR(VLOOKUP($A500,Filtro!$A$4:$AX$315,3,FALSE),0)","v":14},{"$f":"IFERROR(VLOOKUP($A500,Filtro!$A$4:$AX$315,4,FALSE),0)","v":1},{"$f":"IFERROR(VLOOKUP($A500,Filtro!$A$4:$AX$315,5,FALSE),0)","v":7},{"$f":"IFERROR(VLOOKUP($A500,Filtro!$A$4:$AX$315,6,FALSE),0)","v":7},{"$f":"IFERROR(VLOOKUP($A500,Filtro!$A$4:$AX$315,7,FALSE),0)","v":0}]
["81301030",1301030,"Cuerpo extraño en fosas nasales, extraccion en niños        ",{"$f":"IFERROR(VLOOKUP($A501,Filtro!$A$4:$AX$315,2,FALSE),0)","v":26},{"$f":"IFERROR(VLOOKUP($A501,Filtro!$A$4:$AX$315,3,FALSE),0)","v":13},{"$f":"IFERROR(VLOOKUP($A501,Filtro!$A$4:$AX$315,4,FALSE),0)","v":13},{"$f":"IFERROR(VLOOKUP($A501,Filtro!$A$4:$AX$315,5,FALSE),0)","v":3},{"$f":"IFERROR(VLOOKUP($A501,Filtro!$A$4:$AX$315,6,FALSE),0)","v":23},{"$f":"IFERROR(VLOOKUP($A501,Filtro!$A$4:$AX$315,7,FALSE),0)","v":0}]
["81301042",1301042,"Trompa de eustaquio, insuflacion instrumental (proc. Aut.) en adultos                                                                             ",{"$f":"IFERROR(VLOOKUP($A502,Filtro!$A$4:$AX$315,2,FALSE),0)","v":0},{"$f":"IFERROR(VLOOKUP($A502,Filtro!$A$4:$AX$315,3,FALSE),0)","v":0},{"$f":"IFERROR(VLOOKUP($A502,Filtro!$A$4:$AX$315,4,FALSE),0)","v":0},{"$f":"IFERROR(VLOOKUP($A502,Filtro!$A$4:$AX$315,5,FALSE),0)","v":0},{"$f":"IFERROR(VLOOKUP($A502,Filtro!$A$4:$AX$315,6,FALSE),0)","v":0},{"$f":"IFERROR(VLOOKUP($A502,Filtro!$A$4:$AX$315,7,FALSE),0)","v":0}]
["81301043",1301043,"Trompa de eustaquio, insuflacion instrumental (proc. Aut.) en ninos                                                                                     ",{"$f":"IFERROR(VLOOKUP($A503,Filtro!$A$4:$AX$315,2,FALSE),0)","v":1},{"$f":"IFERROR(VLOOKUP($A503,Filtro!$A$4:$AX$315,3,FALSE),0)","v":1},{"$f":"IFERROR(VLOOKUP($A503,Filtro!$A$4:$AX$315,4,FALSE),0)","v":0},{"$f":"IFERROR(VLOOKUP($A503,Filtro!$A$4:$AX$315,5,FALSE),0)","v":1},{"$f":"IFERROR(VLOOKUP($A503,Filtro!$A$4:$AX$315,6,FALSE),0)","v":0},{"$f":"IFERROR(VLOOKUP($A503,Filtro!$A$4:$AX$315,7,FALSE),0)","v":0}]
[null,"TOTAL",null,{"$f":"SUM(D498:D503)","v":204},{"$f":"SUM(E498:E503)","v":135},{"$f":"SUM(F498:F503)","v":69},{"$f":"SUM(G498:G503)","v":45},{"$f":"SUM(H498:H503)","v":150},{"$f":"SUM(I498:I503)","v":0}]
[null,"DERMATOLOGÍA Y TEGUMENTOS"]
["81601110",1601110,"Curetaje de lesiones virales o similares hasta 10 lesiones                          ",{"$f":"IFERROR(VLOOKUP($A506,Filtro!$A$4:$AX$315,2,FALSE),0)","v":21},{"$f":"IFERROR(VLOOKUP($A506,Filtro!$A$4:$AX$315,3,FALSE),0)","v":21},{"$f":"IFERROR(VLOOKUP($A506,Filtro!$A$4:$AX$315,4,FALSE),0)","v":0},{"$f":"IFERROR(VLOOKUP($A506,Filtro!$A$4:$AX$315,5,FALSE),0)","v":0},{"$f":"IFERROR(VLOOKUP($A506,Filtro!$A$4:$AX$315,6,FALSE),0)","v":0},{"$f":"IFERROR(VLOOKUP($A506,Filtro!$A$4:$AX$315,7,FALSE),0)","v":0}]
["81601115",1601115,"Implantes Subcutáneos, instalación o retiro",{"$f":"IFERROR(VLOOKUP($A507,Filtro!$A$4:$AX$315,2,FALSE),0)","v":324},{"$f":"IFERROR(VLOOKUP($A507,Filtro!$A$4:$AX$315,3,FALSE),0)","v":0},{"$f":"IFERROR(VLOOKUP($A507,Filtro!$A$4:$AX$315,4,FALSE),0)","v":324},{"$f":"IFERROR(VLOOKUP($A507,Filtro!$A$4:$AX$315,5,FALSE),0)","v":0},{"$f":"IFERROR(VLOOKUP($A507,Filtro!$A$4:$AX$315,6,FALSE),0)","v":326},{"$f":"IFERROR(VLOOKUP($A507,Filtro!$A$4:$AX$315,7,FALSE),0)","v":3}]
[null,"TOTAL",null,{"$f":"SUM(D506:D507)","v":345},21,324,0,326,3]
[null,"CARDIOLOGÍA"]
["81701001","1701001","Electrocardiograma",{"$f":"IFERROR(VLOOKUP($A510,Filtro!$A$4:$AX$315,2,FALSE),0)","v":{"v":27592,"d":"27,592"}},{"$f":"IFERROR(VLOOKUP($A510,Filtro!$A$4:$AX$315,3,FALSE),0)","v":{"v":8566,"d":"8,566"}},{"$f":"IFERROR(VLOOKUP($A510,Filtro!$A$4:$AX$315,4,FALSE),0)","v":{"v":19026,"d":"19,026"}},{"$f":"IFERROR(VLOOKUP($A510,Filtro!$A$4:$AX$315,5,FALSE),0)","v":819},{"$f":"IFERROR(VLOOKUP($A510,Filtro!$A$4:$AX$315,6,FALSE),0)","v":{"v":23340,"d":"23,340"}},{"$f":"IFERROR(VLOOKUP($A510,Filtro!$A$4:$AX$315,7,FALSE),0)","v":{"v":5578,"d":"5,578"}}]
["81701006","1701006","E.C.G. Continuo (test holter o similares, por ej. variabilidad de la frecuencia cardiaca y/o alta resolución  del st y/o despolarización tardía);20 a 24 horas de registro                                                                         ",{"$f":"IFERROR(VLOOKUP($A511,Filtro!$A$4:$AX$315,2,FALSE),0)","v":0},{"$f":"IFERROR(VLOOKUP($A511,Filtro!$A$4:$AX$315,3,FALSE),0)","v":0},{"$f":"IFERROR(VLOOKUP($A511,Filtro!$A$4:$AX$315,4,FALSE),0)","v":0},{"$f":"IFERROR(VLOOKUP($A511,Filtro!$A$4:$AX$315,5,FALSE),0)","v":0},{"$f":"IFERROR(VLOOKUP($A511,Filtro!$A$4:$AX$315,6,FALSE),0)","v":12},{"$f":"IFERROR(VLOOKUP($A511,Filtro!$A$4:$AX$315,7,FALSE),0)","v":0}]
["81701009","1701009","Monitoreo continuo de presión arterial",{"$f":"IFERROR(VLOOKUP($A512,Filtro!$A$4:$AX$315,2,FALSE),0)","v":{"v":21386,"d":"21,386"}},{"$f":"IFERROR(VLOOKUP($A512,Filtro!$A$4:$AX$315,3,FALSE),0)","v":{"v":2230,"d":"2,230"}},{"$f":"IFERROR(VLOOKUP($A512,Filtro!$A$4:$AX$315,4,FALSE),0)","v":{"v":19156,"d":"19,156"}},{"$f":"IFERROR(VLOOKUP($A512,Filtro!$A$4:$AX$315,5,FALSE),0)","v":91},{"$f":"IFERROR(VLOOKUP($A512,Filtro!$A$4:$AX$315,6,FALSE),0)","v":{"v":20551,"d":"20,551"}},{"$f":"IFERROR(VLOOKUP($A512,Filtro!$A$4:$AX$315,7,FALSE),0)","v":0}]
[null,"TOTAL",null,{"$f":"SUM(D510:D512)","v":{"v":48978,"d":"48,978"}},{"$f":"SUM(E510:E512)","v":{"v":10796,"d":"10,796"}},{"v":38182,"d":"38,182"},910,{"v":43903,"d":"43,903"},{"$f":"SUM(I510:I512)","v":{"v":5578,"d":"5,578"}}]
[null,"NEUMOLOGÍA"]
["81707001",1707001,"Espirometría Basal                                                                                       ",{"$f":"IFERROR(VLOOKUP($A515,Filtro!$A$4:$AX$315,2,FALSE),0)","v":671},{"$f":"IFERROR(VLOOKUP($A515,Filtro!$A$4:$AX$315,3,FALSE),0)","v":4},{"$f":"IFERROR(VLOOKUP($A515,Filtro!$A$4:$AX$315,4,FALSE),0)","v":667},{"$f":"IFERROR(VLOOKUP($A515,Filtro!$A$4:$AX$315,5,FALSE),0)","v":4},{"$f":"IFERROR(VLOOKUP($A515,Filtro!$A$4:$AX$315,6,FALSE),0)","v":655},{"$f":"IFERROR(VLOOKUP($A515,Filtro!$A$4:$AX$315,7,FALSE),0)","v":4}]
["81707002",1707002,"Espirometria basal y con broncodilatador                                                         ",{"$f":"IFERROR(VLOOKUP($A516,Filtro!$A$4:$AX$315,2,FALSE),0)","v":304},{"$f":"IFERROR(VLOOKUP($A516,Filtro!$A$4:$AX$315,3,FALSE),0)","v":26},{"$f":"IFERROR(VLOOKUP($A516,Filtro!$A$4:$AX$315,4,FALSE),0)","v":278},{"$f":"IFERROR(VLOOKUP($A516,Filtro!$A$4:$AX$315,5,FALSE),0)","v":26},{"$f":"IFERROR(VLOOKUP($A516,Filtro!$A$4:$AX$315,6,FALSE),0)","v":316},{"$f":"IFERROR(VLOOKUP($A516,Filtro!$A$4:$AX$315,7,FALSE),0)","v":31}]
["81707004",1707004,"Test de provocacion con ejercicio                                                                      ",{"$f":"IFERROR(VLOOKUP($A517,Filtro!$A$4:$AX$315,2,FALSE),0)","v":35},{"$f":"IFERROR(VLOOKUP($A517,Filtro!$A$4:$AX$315,3,FALSE),0)","v":0},{"$f":"IFERROR(VLOOKUP($A517,Filtro!$A$4:$AX$315,4,FALSE),0)","v":35},{"$f":"IFERROR(VLOOKUP($A517,Filtro!$A$4:$AX$315,5,FALSE),0)","v":0},{"$f":"IFERROR(VLOOKUP($A517,Filtro!$A$4:$AX$315,6,FALSE),0)","v":35},{"$f":"IFERROR(VLOOKUP($A517,Filtro!$A$4:$AX$315,7,FALSE),0)","v":0}]
["81707030",1707030,"Aerosolterapia (Nebulización)    ",{"$f":"IFERROR(VLOOKUP($A518,Filtro!$A$4:$AX$315,2,FALSE),0)","v":{"v":3413,"d":"3,413"}},{"$f":"IFERROR(VLOOKUP($A518,Filtro!$A$4:$AX$315,3,FALSE),0)","v":{"v":2741,"d":"2,741"}},{"$f":"IFERROR(VLOOKUP($A518,Filtro!$A$4:$AX$315,4,FALSE),0)","v":672},{"$f":"IFERROR(VLOOKUP($A518,Filtro!$A$4:$AX$315,5,FALSE),0)","v":293},{"$f":"IFERROR(VLOOKUP($A518,Filtro!$A$4:$AX$315,6,FALSE),0)","v":{"v":2840,"d":"2,840"}},{"$f":"IFERROR(VLOOKUP($A518,Filtro!$A$4:$AX$315,7,FALSE),0)","v":70}]
[null,"TOTAL",null,{"$f":"SUM(D515:D518)","v":{"v":4423,"d":"4,423"}},{"$f":"SUM(E515:E518)","v":{"v":2771,"d":"2,771"}},{"$f":"SUM(F515:F518)","v":{"v":1652,"d":"1,652"}},{"$f":"SUM(G515:G518)","v":323},{"$f":"SUM(H515:H518)","v":{"v":3846,"d":"3,846"}},{"$f":"SUM(I515:I518)","v":105}]
[null,"GASTROENTEROLOGÍA"]
["81801023",1801023,"Intubacion con sonda gastrica                                                                ",{"$f":"IFERROR(VLOOKUP($A521,Filtro!$A$4:$AX$315,2,FALSE),0)","v":112},{"$f":"IFERROR(VLOOKUP($A521,Filtro!$A$4:$AX$315,3,FALSE),0)","v":58},{"$f":"IFERROR(VLOOKUP($A521,Filtro!$A$4:$AX$315,4,FALSE),0)","v":54},{"$f":"IFERROR(VLOOKUP($A521,Filtro!$A$4:$AX$315,5,FALSE),0)","v":8},{"$f":"IFERROR(VLOOKUP($A521,Filtro!$A$4:$AX$315,6,FALSE),0)","v":98},{"$f":"IFERROR(VLOOKUP($A521,Filtro!$A$4:$AX$315,7,FALSE),0)","v":0}]
["81801042",1801042,"Vaciamiento manual de fecaloma                                                                   ",{"$f":"IFERROR(VLOOKUP($A522,Filtro!$A$4:$AX$315,2,FALSE),0)","v":12},{"$f":"IFERROR(VLOOKUP($A522,Filtro!$A$4:$AX$315,3,FALSE),0)","v":3},{"$f":"IFERROR(VLOOKUP($A522,Filtro!$A$4:$AX$315,4,FALSE),0)","v":9},{"$f":"IFERROR(VLOOKUP($A522,Filtro!$A$4:$AX$315,5,FALSE),0)","v":2},{"$f":"IFERROR(VLOOKUP($A522,Filtro!$A$4:$AX$315,6,FALSE),0)","v":8},{"$f":"IFERROR(VLOOKUP($A522,Filtro!$A$4:$AX$315,7,FALSE),0)","v":0}]
["81801001",1801001,"Gastroduodenoscopía (incluye esofagoscopía)                                                      ",{"$f":"IFERROR(VLOOKUP($A523,Filtro!$A$4:$AX$315,2,FALSE),0)","v":0},{"$f":"IFERROR(VLOOKUP($A523,Filtro!$A$4:$AX$315,3,FALSE),0)","v":0},{"$f":"IFERROR(VLOOKUP($A523,Filtro!$A$4:$AX$315,4,FALSE),0)","v":0},{"$f":"IFERROR(VLOOKUP($A523,Filtro!$A$4:$AX$315,5,FALSE),0)","v":0},{"$f":"IFERROR(VLOOKUP($A523,Filtro!$A$4:$AX$315,6,FALSE),0)","v":0},{"$f":"IFERROR(VLOOKUP($A523,Filtro!$A$4:$AX$315,7,FALSE),0)","v":0}]
[null,"TOTAL",null,{"$f":"SUM(D521:D523)","v":124},61,63,10,106,0]
[null,"UROLOGÍA"]
["81901019",1901019,"Instilacion vesical (incluye colocacion de sonda) proc. Aut.                                      ",{"$f":"IFERROR(VLOOKUP($A526,Filtro!$A$4:$AX$315,2,FALSE),0)","v":764},{"$f":"IFERROR(VLOOKUP($A526,Filtro!$A$4:$AX$315,3,FALSE),0)","v":304},{"$f":"IFERROR(VLOOKUP($A526,Filtro!$A$4:$AX$315,4,FALSE),0)","v":460},{"$f":"IFERROR(VLOOKUP($A526,Filtro!$A$4:$AX$315,5,FALSE),0)","v":27},{"$f":"IFERROR(VLOOKUP($A526,Filtro!$A$4:$AX$315,6,FALSE),0)","v":616},{"$f":"IFERROR(VLOOKUP($A526,Filtro!$A$4:$AX$315,7,FALSE),0)","v":0}]
["81901022",1901022,"Vac. Vesical por sonda uretral, (proc. Aut.)                                                    ",{"$f":"IFERROR(VLOOKUP($A527,Filtro!$A$4:$AX$315,2,FALSE),0)","v":205},{"$f":"IFERROR(VLOOKUP($A527,Filtro!$A$4:$AX$315,3,FALSE),0)","v":124},{"$f":"IFERROR(VLOOKUP($A527,Filtro!$A$4:$AX$315,4,FALSE),0)","v":81},{"$f":"IFERROR(VLOOKUP($A527,Filtro!$A$4:$AX$315,5,FALSE),0)","v":2},{"$f":"IFERROR(VLOOKUP($A527,Filtro!$A$4:$AX$315,6,FALSE),0)","v":200},{"$f":"IFERROR(VLOOKUP($A527,Filtro!$A$4:$AX$315,7,FALSE),0)","v":0}]
[null,"TOTAL",null,{"$f":"SUM(D526:D527)","v":969},{"$f":"SUM(E526:E527)","v":428},541,29,816,0]
[null,"GINECOLOGÍA"]
["82001015",2001015,"Colocación o extracción de dispositivo intrauterino (no incluye el valor del dispositivo)                    ",{"$f":"IFERROR(VLOOKUP($A530,Filtro!$A$4:$AX$315,2,FALSE),0)","v":483},{"$f":"IFERROR(VLOOKUP($A530,Filtro!$A$4:$AX$315,3,FALSE),0)","v":4},{"$f":"IFERROR(VLOOKUP($A530,Filtro!$A$4:$AX$315,4,FALSE),0)","v":479},{"$f":"IFERROR(VLOOKUP($A530,Filtro!$A$4:$AX$315,5,FALSE),0)","v":1},{"$f":"IFERROR(VLOOKUP($A530,Filtro!$A$4:$AX$315,6,FALSE),0)","v":470},{"$f":"IFERROR(VLOOKUP($A530,Filtro!$A$4:$AX$315,7,FALSE),0)","v":3}]
[null,"ORTOPEDIA Y TRAUMATOLOGÍA"]
["82101001",2101001,"Infiltracion local medicamentos (bursas, tendones, yuxtaarticulares y/o intraarticulares",{"$f":"IFERROR(VLOOKUP($A532,Filtro!$A$4:$AX$315,2,FALSE),0)","v":24},{"$f":"IFERROR(VLOOKUP($A532,Filtro!$A$4:$AX$315,3,FALSE),0)","v":23},{"$f":"IFERROR(VLOOKUP($A532,Filtro!$A$4:$AX$315,4,FALSE),0)","v":1},{"$f":"IFERROR(VLOOKUP($A532,Filtro!$A$4:$AX$315,5,FALSE),0)","v":10},{"$f":"IFERROR(VLOOKUP($A532,Filtro!$A$4:$AX$315,6,FALSE),0)","v":14},{"$f":"IFERROR(VLOOKUP($A532,Filtro!$A$4:$AX$315,7,FALSE),0)","v":0}]
["82101002",2101002,"Procedimiento para exploraciones radiologicas (incluye maniobra e inyeccion del medio de contraste)  BM18A  Revisar en BM Colocación valva",{"$f":"IFERROR(VLOOKUP($A533,Filtro!$A$4:$AX$315,2,FALSE),0)","v":0},{"$f":"IFERROR(VLOOKUP($A533,Filtro!$A$4:$AX$315,3,FALSE),0)","v":0},{"$f":"IFERROR(VLOOKUP($A533,Filtro!$A$4:$AX$315,4,FALSE),0)","v":0},{"$f":"IFERROR(VLOOKUP($A533,Filtro!$A$4:$AX$315,5,FALSE),0)","v":0},{"$f":"IFERROR(VLOOKUP($A533,Filtro!$A$4:$AX$315,6,FALSE),0)","v":0},{"$f":"IFERROR(VLOOKUP($A533,Filtro!$A$4:$AX$315,7,FALSE),0)","v":0}]
["82106005",2106005,"Rodillera, bota larga o corta de yeso",{"$f":"IFERROR(VLOOKUP($A534,Filtro!$A$4:$AX$315,2,FALSE),0)","v":3},{"$f":"IFERROR(VLOOKUP($A534,Filtro!$A$4:$AX$315,3,FALSE),0)","v":2},{"$f":"IFERROR(VLOOKUP($A534,Filtro!$A$4:$AX$315,4,FALSE),0)","v":1},{"$f":"IFERROR(VLOOKUP($A534,Filtro!$A$4:$AX$315,5,FALSE),0)","v":0},{"$f":"IFERROR(VLOOKUP($A534,Filtro!$A$4:$AX$315,6,FALSE),0)","v":3},{"$f":"IFERROR(VLOOKUP($A534,Filtro!$A$4:$AX$315,7,FALSE),0)","v":0}]
["82106007",2106007,"Velpeau",{"$f":"IFERROR(VLOOKUP($A535,Filtro!$A$4:$AX$315,2,FALSE),0)","v":32},{"$f":"IFERROR(VLOOKUP($A535,Filtro!$A$4:$AX$315,3,FALSE),0)","v":28},{"$f":"IFERROR(VLOOKUP($A535,Filtro!$A$4:$AX$315,4,FALSE),0)","v":4},{"$f":"IFERROR(VLOOKUP($A535,Filtro!$A$4:$AX$315,5,FALSE),0)","v":0},{"$f":"IFERROR(VLOOKUP($A535,Filtro!$A$4:$AX$315,6,FALSE),0)","v":32},{"$f":"IFERROR(VLOOKUP($A535,Filtro!$A$4:$AX$315,7,FALSE),0)","v":0}]
["82106006",2106006,"Yeso antebraquial c/s ferula digital",{"$f":"IFERROR(VLOOKUP($A536,Filtro!$A$4:$AX$315,2,FALSE),0)","v":66},{"$f":"IFERROR(VLOOKUP($A536,Filtro!$A$4:$AX$315,3,FALSE),0)","v":66},{"$f":"IFERROR(VLOOKUP($A536,Filtro!$A$4:$AX$315,4,FALSE),0)","v":0},{"$f":"IFERROR(VLOOKUP($A536,Filtro!$A$4:$AX$315,5,FALSE),0)","v":0},{"$f":"IFERROR(VLOOKUP($A536,Filtro!$A$4:$AX$315,6,FALSE),0)","v":14},{"$f":"IFERROR(VLOOKUP($A536,Filtro!$A$4:$AX$315,7,FALSE),0)","v":0}]
["82106004",2106004,"Yeso braquicarpiano",{"$f":"IFERROR(VLOOKUP($A537,Filtro!$A$4:$AX$315,2,FALSE),0)","v":3},{"$f":"IFERROR(VLOOKUP($A537,Filtro!$A$4:$AX$315,3,FALSE),0)","v":3},{"$f":"IFERROR(VLOOKUP($A537,Filtro!$A$4:$AX$315,4,FALSE),0)","v":0},{"$f":"IFERROR(VLOOKUP($A537,Filtro!$A$4:$AX$315,5,FALSE),0)","v":0},{"$f":"IFERROR(VLOOKUP($A537,Filtro!$A$4:$AX$315,6,FALSE),0)","v":9},{"$f":"IFERROR(VLOOKUP($A537,Filtro!$A$4:$AX$315,7,FALSE),0)","v":0}]
["82107003",2107003,"Luxaciones de articulaciones menores (el resto)      ",{"$f":"IFERROR(VLOOKUP($A538,Filtro!$A$4:$AX$315,2,FALSE),0)","v":256},{"$f":"IFERROR(VLOOKUP($A538,Filtro!$A$4:$AX$315,3,FALSE),0)","v":243},{"$f":"IFERROR(VLOOKUP($A538,Filtro!$A$4:$AX$315,4,FALSE),0)","v":13},{"$f":"IFERROR(VLOOKUP($A538,Filtro!$A$4:$AX$315,5,FALSE),0)","v":3},{"$f":"IFERROR(VLOOKUP($A538,Filtro!$A$4:$AX$315,6,FALSE),0)","v":236},{"$f":"IFERROR(VLOOKUP($A538,Filtro!$A$4:$AX$315,7,FALSE),0)","v":0}]
[null,"TOTAL",null,{"$f":"SUM(D532:D538)","v":384},{"$f":"SUM(E532:E538)","v":365},19,13,308,0]
[null," SECCIÓN C: INTERVENCIONES QUIRÚRGICAS MENORES"]
["81602201",1602201,"Biopsia de piel y/o mucosa por curetaje o sección tangencial c/s electro x 1 sesion        ",{"$f":"IFERROR(VLOOKUP($A541,Filtro!$A$4:$AX$315,2,FALSE),0)","v":9},{"$f":"IFERROR(VLOOKUP($A541,Filtro!$A$4:$AX$315,3,FALSE),0)","v":1},{"$f":"IFERROR(VLOOKUP($A541,Filtro!$A$4:$AX$315,4,FALSE),0)","v":8},{"$f":"IFERROR(VLOOKUP($A541,Filtro!$A$4:$AX$315,5,FALSE),0)","v":7},{"$f":"IFERROR(VLOOKUP($A541,Filtro!$A$4:$AX$315,6,FALSE),0)","v":0},{"$f":"IFERROR(VLOOKUP($A541,Filtro!$A$4:$AX$315,7,FALSE),0)","v":1}]
["81602202",1602202,"Extirpacion de, reparacion o biopsia total o parcial, de lesiones benignas cutáneas por excision cabeza, cuello, genitales, hasta 3 lesiones                                                                  ",{"$f":"IFERROR(VLOOKUP($A542,Filtro!$A$4:$AX$315,2,FALSE),0)","v":40},{"$f":"IFERROR(VLOOKUP($A542,Filtro!$A$4:$AX$315,3,FALSE),0)","v":10},{"$f":"IFERROR(VLOOKUP($A542,Filtro!$A$4:$AX$315,4,FALSE),0)","v":30},{"$f":"IFERROR(VLOOKUP($A542,Filtro!$A$4:$AX$315,5,FALSE),0)","v":27},{"$f":"IFERROR(VLOOKUP($A542,Filtro!$A$4:$AX$315,6,FALSE),0)","v":3},{"$f":"IFERROR(VLOOKUP($A542,Filtro!$A$4:$AX$315,7,FALSE),0)","v":31}]
["81602203",1602203,"Extirpacion de, reparacion o biopsia total o parcial, de lesiones benignas cutáneas por excision resto de cuerpo hasta 3 lesiones                                                                              ",{"$f":"IFERROR(VLOOKUP($A543,Filtro!$A$4:$AX$315,2,FALSE),0)","v":66},{"$f":"IFERROR(VLOOKUP($A543,Filtro!$A$4:$AX$315,3,FALSE),0)","v":0},{"$f":"IFERROR(VLOOKUP($A543,Filtro!$A$4:$AX$315,4,FALSE),0)","v":66},{"$f":"IFERROR(VLOOKUP($A543,Filtro!$A$4:$AX$315,5,FALSE),0)","v":29},{"$f":"IFERROR(VLOOKUP($A543,Filtro!$A$4:$AX$315,6,FALSE),0)","v":7},{"$f":"IFERROR(VLOOKUP($A543,Filtro!$A$4:$AX$315,7,FALSE),0)","v":0}]
["81602204",1602204,"Extirpacion de, reparacion o biopsia total o parcial, de lesiones benignas cutáneas por excision cabeza, cuello, genitales, desde 4 hasta 6 lesiones                                              ",{"$f":"IFERROR(VLOOKUP($A544,Filtro!$A$4:$AX$315,2,FALSE),0)","v":13},{"$f":"IFERROR(VLOOKUP($A544,Filtro!$A$4:$AX$315,3,FALSE),0)","v":0},{"$f":"IFERROR(VLOOKUP($A544,Filtro!$A$4:$AX$315,4,FALSE),0)","v":13},{"$f":"IFERROR(VLOOKUP($A544,Filtro!$A$4:$AX$315,5,FALSE),0)","v":13},{"$f":"IFERROR(VLOOKUP($A544,Filtro!$A$4:$AX$315,6,FALSE),0)","v":0},{"$f":"IFERROR(VLOOKUP($A544,Filtro!$A$4:$AX$315,7,FALSE),0)","v":0}]
["81602205",1602205,"Extirpacion de, reparacion o biopsia total o parcial, de lesiones benignas cutáneas por excision resto de cuerpo desde 4 hasta 6 lesiones                                                             ",{"$f":"IFERROR(VLOOKUP($A545,Filtro!$A$4:$AX$315,2,FALSE),0)","v":17},{"$f":"IFERROR(VLOOKUP($A545,Filtro!$A$4:$AX$315,3,FALSE),0)","v":0},{"$f":"IFERROR(VLOOKUP($A545,Filtro!$A$4:$AX$315,4,FALSE),0)","v":17},{"$f":"IFERROR(VLOOKUP($A545,Filtro!$A$4:$AX$315,5,FALSE),0)","v":13},{"$f":"IFERROR(VLOOKUP($A545,Filtro!$A$4:$AX$315,6,FALSE),0)","v":4},{"$f":"IFERROR(VLOOKUP($A545,Filtro!$A$4:$AX$315,7,FALSE),0)","v":0}]
["81602206",1602206,"Extirpacion de lesiones benignas por sec tangencial ,curetaje,y/o fulguracion hasta 15 lesiones   ",{"$f":"IFERROR(VLOOKUP($A546,Filtro!$A$4:$AX$315,2,FALSE),0)","v":36},{"$f":"IFERROR(VLOOKUP($A546,Filtro!$A$4:$AX$315,3,FALSE),0)","v":0},{"$f":"IFERROR(VLOOKUP($A546,Filtro!$A$4:$AX$315,4,FALSE),0)","v":36},{"$f":"IFERROR(VLOOKUP($A546,Filtro!$A$4:$AX$315,5,FALSE),0)","v":36},{"$f":"IFERROR(VLOOKUP($A546,Filtro!$A$4:$AX$315,6,FALSE),0)","v":0},{"$f":"IFERROR(VLOOKUP($A546,Filtro!$A$4:$AX$315,7,FALSE),0)","v":0}]
["81602207",1602207,"Tratamiento por electro de hemangiomas o telangectasias hasta 15 lesiones",{"$f":"IFERROR(VLOOKUP($A547,Filtro!$A$4:$AX$315,2,FALSE),0)","v":0},{"$f":"IFERROR(VLOOKUP($A547,Filtro!$A$4:$AX$315,3,FALSE),0)","v":0},{"$f":"IFERROR(VLOOKUP($A547,Filtro!$A$4:$AX$315,4,FALSE),0)","v":0},{"$f":"IFERROR(VLOOKUP($A547,Filtro!$A$4:$AX$315,5,FALSE),0)","v":0},{"$f":"IFERROR(VLOOKUP($A547,Filtro!$A$4:$AX$315,6,FALSE),0)","v":0},{"$f":"IFERROR(VLOOKUP($A547,Filtro!$A$4:$AX$315,7,FALSE),0)","v":0}]
["81602211",1602211,"Cabeza, cuello, genitales: tratamiento quirúrgico de tumor maligno por escisión total o parcial, con o sin sutura, por cada lesión o melanoma cualquier localización",{"$f":"IFERROR(VLOOKUP($A548,Filtro!$A$4:$AX$315,2,FALSE),0)","v":1},{"$f":"IFERROR(VLOOKUP($A548,Filtro!$A$4:$AX$315,3,FALSE),0)","v":0},{"$f":"IFERROR(VLOOKUP($A548,Filtro!$A$4:$AX$315,4,FALSE),0)","v":1},{"$f":"IFERROR(VLOOKUP($A548,Filtro!$A$4:$AX$315,5,FALSE),0)","v":0},{"$f":"IFERROR(VLOOKUP($A548,Filtro!$A$4:$AX$315,6,FALSE),0)","v":1},{"$f":"IFERROR(VLOOKUP($A548,Filtro!$A$4:$AX$315,7,FALSE),0)","v":0}]
["81602212",1602212,"Resto del cuerpo: tratamiento quirúrgico de tumor maligno por escisión total o parcial, con o sin sutura, por cada lesión",{"$f":"IFERROR(VLOOKUP($A549,Filtro!$A$4:$AX$315,2,FALSE),0)","v":1},{"$f":"IFERROR(VLOOKUP($A549,Filtro!$A$4:$AX$315,3,FALSE),0)","v":0},{"$f":"IFERROR(VLOOKUP($A549,Filtro!$A$4:$AX$315,4,FALSE),0)","v":1},{"$f":"IFERROR(VLOOKUP($A549,Filtro!$A$4:$AX$315,5,FALSE),0)","v":0},{"$f":"IFERROR(VLOOKUP($A549,Filtro!$A$4:$AX$315,6,FALSE),0)","v":1},{"$f":"IFERROR(VLOOKUP($A549,Filtro!$A$4:$AX$315,7,FALSE),0)","v":0}]
["81602213",1602213,"Cabeza, cuello, genitales o melanoma cualquier ubicación: ampliación de márgenes quirúrgicos de tumor maligno extirpado previamente ",{"$f":"IFERROR(VLOOKUP($A550,Filtro!$A$4:$AX$315,2,FALSE),0)","v":0},{"$f":"IFERROR(VLOOKUP($A550,Filtro!$A$4:$AX$315,3,FALSE),0)","v":0},{"$f":"IFERROR(VLOOKUP($A550,Filtro!$A$4:$AX$315,4,FALSE),0)","v":0},{"$f":"IFERROR(VLOOKUP($A550,Filtro!$A$4:$AX$315,5,FALSE),0)","v":0},{"$f":"IFERROR(VLOOKUP($A550,Filtro!$A$4:$AX$315,6,FALSE),0)","v":0},{"$f":"IFERROR(VLOOKUP($A550,Filtro!$A$4:$AX$315,7,FALSE),0)","v":0}]
["81602214",1602214,"Resto del cuerpo: ampliación de márgenes quirúrgicos de tumor maligno extirpado prevíamente",{"$f":"IFERROR(VLOOKUP($A551,Filtro!$A$4:$AX$315,2,FALSE),0)","v":0},{"$f":"IFERROR(VLOOKUP($A551,Filtro!$A$4:$AX$315,3,FALSE),0)","v":0},{"$f":"IFERROR(VLOOKUP($A551,Filtro!$A$4:$AX$315,4,FALSE),0)","v":0},{"$f":"IFERROR(VLOOKUP($A551,Filtro!$A$4:$AX$315,5,FALSE),0)","v":0},{"$f":"IFERROR(VLOOKUP($A551,Filtro!$A$4:$AX$315,6,FALSE),0)","v":0},{"$f":"IFERROR(VLOOKUP($A551,Filtro!$A$4:$AX$315,7,FALSE),0)","v":0}]
["81602215",1602215,"Tumores vasculares profundos cara, cuero cabelludo, cuello, genitales",{"$f":"IFERROR(VLOOKUP($A552,Filtro!$A$4:$AX$315,2,FALSE),0)","v":0},{"$f":"IFERROR(VLOOKUP($A552,Filtro!$A$4:$AX$315,3,FALSE),0)","v":0},{"$f":"IFERROR(VLOOKUP($A552,Filtro!$A$4:$AX$315,4,FALSE),0)","v":0},{"$f":"IFERROR(VLOOKUP($A552,Filtro!$A$4:$AX$315,5,FALSE),0)","v":0},{"$f":"IFERROR(VLOOKUP($A552,Filtro!$A$4:$AX$315,6,FALSE),0)","v":0},{"$f":"IFERROR(VLOOKUP($A552,Filtro!$A$4:$AX$315,7,FALSE),0)","v":0}]
["81602216",1602216,"Tumores vasculares profundos resto del cuerpo",{"$f":"IFERROR(VLOOKUP($A553,Filtro!$A$4:$AX$315,2,FALSE),0)","v":12},{"$f":"IFERROR(VLOOKUP($A553,Filtro!$A$4:$AX$315,3,FALSE),0)","v":12},{"$f":"IFERROR(VLOOKUP($A553,Filtro!$A$4:$AX$315,4,FALSE),0)","v":0},{"$f":"IFERROR(VLOOKUP($A553,Filtro!$A$4:$AX$315,5,FALSE),0)","v":3},{"$f":"IFERROR(VLOOKUP($A553,Filtro!$A$4:$AX$315,6,FALSE),0)","v":0},{"$f":"IFERROR(VLOOKUP($A553,Filtro!$A$4:$AX$315,7,FALSE),0)","v":0}]
["81602221",1602221,"Herida cortante o contusa complicada, reparación y sutura (más de 5 cm)",{"$f":"IFERROR(VLOOKUP($A554,Filtro!$A$4:$AX$315,2,FALSE),0)","v":829},{"$f":"IFERROR(VLOOKUP($A554,Filtro!$A$4:$AX$315,3,FALSE),0)","v":571},{"$f":"IFERROR(VLOOKUP($A554,Filtro!$A$4:$AX$315,4,FALSE),0)","v":258},{"$f":"IFERROR(VLOOKUP($A554,Filtro!$A$4:$AX$315,5,FALSE),0)","v":395},{"$f":"IFERROR(VLOOKUP($A554,Filtro!$A$4:$AX$315,6,FALSE),0)","v":335},{"$f":"IFERROR(VLOOKUP($A554,Filtro!$A$4:$AX$315,7,FALSE),0)","v":0}]
["81602222",1602222,"Herida cortante o contusa NO complicada, reparacion y sutura (una o multiples de mas de 5 cms de largo total y/o que comprometa solo piel)                                                                             ",{"$f":"IFERROR(VLOOKUP($A555,Filtro!$A$4:$AX$315,2,FALSE),0)","v":{"v":1871,"d":"1,871"}},{"$f":"IFERROR(VLOOKUP($A555,Filtro!$A$4:$AX$315,3,FALSE),0)","v":{"v":1237,"d":"1,237"}},{"$f":"IFERROR(VLOOKUP($A555,Filtro!$A$4:$AX$315,4,FALSE),0)","v":634},{"$f":"IFERROR(VLOOKUP($A555,Filtro!$A$4:$AX$315,5,FALSE),0)","v":{"v":1045,"d":"1,045"}},{"$f":"IFERROR(VLOOKUP($A555,Filtro!$A$4:$AX$315,6,FALSE),0)","v":595},{"$f":"IFERROR(VLOOKUP($A555,Filtro!$A$4:$AX$315,7,FALSE),0)","v":0}]
["81602217",1602223,"Cabeza, cuello, genitales: extirpación de lesión benigna subepidérmica, incluye tumor sólido, quiste epidérmico y lipoma por lesión ",{"$f":"IFERROR(VLOOKUP($A556,Filtro!$A$4:$AX$315,2,FALSE),0)","v":17},{"$f":"IFERROR(VLOOKUP($A556,Filtro!$A$4:$AX$315,3,FALSE),0)","v":0},{"$f":"IFERROR(VLOOKUP($A556,Filtro!$A$4:$AX$315,4,FALSE),0)","v":17},{"$f":"IFERROR(VLOOKUP($A556,Filtro!$A$4:$AX$315,5,FALSE),0)","v":14},{"$f":"IFERROR(VLOOKUP($A556,Filtro!$A$4:$AX$315,6,FALSE),0)","v":3},{"$f":"IFERROR(VLOOKUP($A556,Filtro!$A$4:$AX$315,7,FALSE),0)","v":0}]
["81602224",1602224,"Resto del cuerpo: extirpación de lesión benigna subepidérmica, incluye tumor sólido, quiste epidérmico y lipoma por lesión ",{"$f":"IFERROR(VLOOKUP($A557,Filtro!$A$4:$AX$315,2,FALSE),0)","v":84},{"$f":"IFERROR(VLOOKUP($A557,Filtro!$A$4:$AX$315,3,FALSE),0)","v":1},{"$f":"IFERROR(VLOOKUP($A557,Filtro!$A$4:$AX$315,4,FALSE),0)","v":83},{"$f":"IFERROR(VLOOKUP($A557,Filtro!$A$4:$AX$315,5,FALSE),0)","v":63},{"$f":"IFERROR(VLOOKUP($A557,Filtro!$A$4:$AX$315,6,FALSE),0)","v":11},{"$f":"IFERROR(VLOOKUP($A557,Filtro!$A$4:$AX$315,7,FALSE),0)","v":5}]
["81602225",1602225,"Vaciamiento y curetaje quirurgico de lesiones quistica o abscesos                              ",{"$f":"IFERROR(VLOOKUP($A558,Filtro!$A$4:$AX$315,2,FALSE),0)","v":58},{"$f":"IFERROR(VLOOKUP($A558,Filtro!$A$4:$AX$315,3,FALSE),0)","v":1},{"$f":"IFERROR(VLOOKUP($A558,Filtro!$A$4:$AX$315,4,FALSE),0)","v":57},{"$f":"IFERROR(VLOOKUP($A558,Filtro!$A$4:$AX$315,5,FALSE),0)","v":38},{"$f":"IFERROR(VLOOKUP($A558,Filtro!$A$4:$AX$315,6,FALSE),0)","v":10},{"$f":"IFERROR(VLOOKUP($A558,Filtro!$A$4:$AX$315,7,FALSE),0)","v":0}]
["81602231",1602231,"Onisectomia total o parcial simple                                                                                      ",{"$f":"IFERROR(VLOOKUP($A559,Filtro!$A$4:$AX$315,2,FALSE),0)","v":179},{"$f":"IFERROR(VLOOKUP($A559,Filtro!$A$4:$AX$315,3,FALSE),0)","v":32},{"$f":"IFERROR(VLOOKUP($A559,Filtro!$A$4:$AX$315,4,FALSE),0)","v":147},{"$f":"IFERROR(VLOOKUP($A559,Filtro!$A$4:$AX$315,5,FALSE),0)","v":96},{"$f":"IFERROR(VLOOKUP($A559,Filtro!$A$4:$AX$315,6,FALSE),0)","v":33},{"$f":"IFERROR(VLOOKUP($A559,Filtro!$A$4:$AX$315,7,FALSE),0)","v":15}]
["81602232",1602232,"Cirugia reparadora ungueal por proceso inflamatorio                                                                 ",{"$f":"IFERROR(VLOOKUP($A560,Filtro!$A$4:$AX$315,2,FALSE),0)","v":0},{"$f":"IFERROR(VLOOKUP($A560,Filtro!$A$4:$AX$315,3,FALSE),0)","v":0},{"$f":"IFERROR(VLOOKUP($A560,Filtro!$A$4:$AX$315,4,FALSE),0)","v":0},{"$f":"IFERROR(VLOOKUP($A560,Filtro!$A$4:$AX$315,5,FALSE),0)","v":0},{"$f":"IFERROR(VLOOKUP($A560,Filtro!$A$4:$AX$315,6,FALSE),0)","v":0},{"$f":"IFERROR(VLOOKUP($A560,Filtro!$A$4:$AX$315,7,FALSE),0)","v":0}]
["81602223",1602233,"Correccion quirurgica de defecto congenito o por tumor ungueal",{"$f":"IFERROR(VLOOKUP($A561,Filtro!$A$4:$AX$315,2,FALSE),0)","v":0},{"$f":"IFERROR(VLOOKUP($A561,Filtro!$A$4:$AX$315,3,FALSE),0)","v":0},{"$f":"IFERROR(VLOOKUP($A561,Filtro!$A$4:$AX$315,4,FALSE),0)","v":0},{"$f":"IFERROR(VLOOKUP($A561,Filtro!$A$4:$AX$315,5,FALSE),0)","v":0},{"$f":"IFERROR(VLOOKUP($A561,Filtro!$A$4:$AX$315,6,FALSE),0)","v":0},{"$f":"IFERROR(VLOOKUP($A561,Filtro!$A$4:$AX$315,7,FALSE),0)","v":0}]
["81602240",1602240,"Curacion por medico, quemadura o similar menor al 5% superficie corporal en pabellon       ",{"$f":"IFERROR(VLOOKUP($A562,Filtro!$A$4:$AX$315,2,FALSE),0)","v":73},{"$f":"IFERROR(VLOOKUP($A562,Filtro!$A$4:$AX$315,3,FALSE),0)","v":66},{"$f":"IFERROR(VLOOKUP($A562,Filtro!$A$4:$AX$315,4,FALSE),0)","v":7},{"$f":"IFERROR(VLOOKUP($A562,Filtro!$A$4:$AX$315,5,FALSE),0)","v":1},{"$f":"IFERROR(VLOOKUP($A562,Filtro!$A$4:$AX$315,6,FALSE),0)","v":68},{"$f":"IFERROR(VLOOKUP($A562,Filtro!$A$4:$AX$315,7,FALSE),0)","v":0}]
["81602241",1602241,"Curacion por medico, quemadura o similar  5 a 10% superficie corporal en pabellon        ",{"$f":"IFERROR(VLOOKUP($A563,Filtro!$A$4:$AX$315,2,FALSE),0)","v":0},{"$f":"IFERROR(VLOOKUP($A563,Filtro!$A$4:$AX$315,3,FALSE),0)","v":0},{"$f":"IFERROR(VLOOKUP($A563,Filtro!$A$4:$AX$315,4,FALSE),0)","v":0},{"$f":"IFERROR(VLOOKUP($A563,Filtro!$A$4:$AX$315,5,FALSE),0)","v":0},{"$f":"IFERROR(VLOOKUP($A563,Filtro!$A$4:$AX$315,6,FALSE),0)","v":0},{"$f":"IFERROR(VLOOKUP($A563,Filtro!$A$4:$AX$315,7,FALSE),0)","v":0}]
["81602242",1602242,"Curacion por medico, quemadura o similar  mayor  al 10% superficie corporal en pabellon",{"$f":"IFERROR(VLOOKUP($A564,Filtro!$A$4:$AX$315,2,FALSE),0)","v":9},{"$f":"IFERROR(VLOOKUP($A564,Filtro!$A$4:$AX$315,3,FALSE),0)","v":9},{"$f":"IFERROR(VLOOKUP($A564,Filtro!$A$4:$AX$315,4,FALSE),0)","v":0},{"$f":"IFERROR(VLOOKUP($A564,Filtro!$A$4:$AX$315,5,FALSE),0)","v":8},{"$f":"IFERROR(VLOOKUP($A564,Filtro!$A$4:$AX$315,6,FALSE),0)","v":0},{"$f":"IFERROR(VLOOKUP($A564,Filtro!$A$4:$AX$315,7,FALSE),0)","v":0}]
[null,"TOTAL",null,{"$f":"SUM(D541:D564)","v":{"v":3315,"d":"3,315"}},{"$f":"SUM(E541:E564)","v":{"v":1940,"d":"1,940"}},{"$f":"SUM(F541:F564)","v":{"v":1375,"d":"1,375"}},{"v":1788,"d":"1,788"},{"v":1071,"d":"1,071"},52]
[null,"SECCIÓN D: MISCELÁNEOS"]
["80106002","0106002","Curación simple ambulatoria",{"$f":"IFERROR(VLOOKUP($A567,Filtro!$A$4:$AX$315,2,FALSE),0)","v":{"v":84674,"d":"84,674"}},{"$f":"IFERROR(VLOOKUP($A567,Filtro!$A$4:$AX$315,3,FALSE),0)","v":{"v":11735,"d":"11,735"}},{"$f":"IFERROR(VLOOKUP($A567,Filtro!$A$4:$AX$315,4,FALSE),0)","v":{"v":72939,"d":"72,939"}},{"$f":"IFERROR(VLOOKUP($A567,Filtro!$A$4:$AX$315,5,FALSE),0)","v":193},{"$f":"IFERROR(VLOOKUP($A567,Filtro!$A$4:$AX$315,6,FALSE),0)","v":{"v":73227,"d":"73,227"}},{"$f":"IFERROR(VLOOKUP($A567,Filtro!$A$4:$AX$315,7,FALSE),0)","v":283}]
["80106005","0106005","Autocontrol pacientes Diabetico insulino dependiente (D.I.D. mensual)",{"$f":"IFERROR(VLOOKUP($A568,Filtro!$A$4:$AX$315,2,FALSE),0)","v":{"v":4133,"d":"4,133"}},{"$f":"IFERROR(VLOOKUP($A568,Filtro!$A$4:$AX$315,3,FALSE),0)","v":{"v":2334,"d":"2,334"}},{"$f":"IFERROR(VLOOKUP($A568,Filtro!$A$4:$AX$315,4,FALSE),0)","v":{"v":1799,"d":"1,799"}},{"$f":"IFERROR(VLOOKUP($A568,Filtro!$A$4:$AX$315,5,FALSE),0)","v":41},{"$f":"IFERROR(VLOOKUP($A568,Filtro!$A$4:$AX$315,6,FALSE),0)","v":{"v":4056,"d":"4,056"}},{"$f":"IFERROR(VLOOKUP($A568,Filtro!$A$4:$AX$315,7,FALSE),0)","v":0}]
["80106006","0106006","Oxigenoterapia domiciliaria (pacientes oxígeno dependientes)",{"$f":"IFERROR(VLOOKUP($A569,Filtro!$A$4:$AX$315,2,FALSE),0)","v":905},{"$f":"IFERROR(VLOOKUP($A569,Filtro!$A$4:$AX$315,3,FALSE),0)","v":84},{"$f":"IFERROR(VLOOKUP($A569,Filtro!$A$4:$AX$315,4,FALSE),0)","v":821},{"$f":"IFERROR(VLOOKUP($A569,Filtro!$A$4:$AX$315,5,FALSE),0)","v":0},{"$f":"IFERROR(VLOOKUP($A569,Filtro!$A$4:$AX$315,6,FALSE),0)","v":834},{"$f":"IFERROR(VLOOKUP($A569,Filtro!$A$4:$AX$315,7,FALSE),0)","v":0}]
["80106017","0106017","Curación compleja",{"$f":"IFERROR(VLOOKUP($A570,Filtro!$A$4:$AX$315,2,FALSE),0)","v":{"v":48017,"d":"48,017"}},{"$f":"IFERROR(VLOOKUP($A570,Filtro!$A$4:$AX$315,3,FALSE),0)","v":{"v":2333,"d":"2,333"}},{"$f":"IFERROR(VLOOKUP($A570,Filtro!$A$4:$AX$315,4,FALSE),0)","v":{"v":45684,"d":"45,684"}},{"$f":"IFERROR(VLOOKUP($A570,Filtro!$A$4:$AX$315,5,FALSE),0)","v":97},{"$f":"IFERROR(VLOOKUP($A570,Filtro!$A$4:$AX$315,6,FALSE),0)","v":{"v":45462,"d":"45,462"}},{"$f":"IFERROR(VLOOKUP($A570,Filtro!$A$4:$AX$315,7,FALSE),0)","v":197}]
["80106007","0106007","Extracción cuerpo extraño ojo",{"$f":"IFERROR(VLOOKUP($A571,Filtro!$A$4:$AX$315,2,FALSE),0)","v":978},{"$f":"IFERROR(VLOOKUP($A571,Filtro!$A$4:$AX$315,3,FALSE),0)","v":441},{"$f":"IFERROR(VLOOKUP($A571,Filtro!$A$4:$AX$315,4,FALSE),0)","v":537},{"$f":"IFERROR(VLOOKUP($A571,Filtro!$A$4:$AX$315,5,FALSE),0)","v":184},{"$f":"IFERROR(VLOOKUP($A571,Filtro!$A$4:$AX$315,6,FALSE),0)","v":708},{"$f":"IFERROR(VLOOKUP($A571,Filtro!$A$4:$AX$315,7,FALSE),0)","v":0}]
["80106008","0106008","Extracción cuerpo extraño otro lugar",{"$f":"IFERROR(VLOOKUP($A572,Filtro!$A$4:$AX$315,2,FALSE),0)","v":441},{"$f":"IFERROR(VLOOKUP($A572,Filtro!$A$4:$AX$315,3,FALSE),0)","v":174},{"$f":"IFERROR(VLOOKUP($A572,Filtro!$A$4:$AX$315,4,FALSE),0)","v":267},{"$f":"IFERROR(VLOOKUP($A572,Filtro!$A$4:$AX$315,5,FALSE),0)","v":64},{"$f":"IFERROR(VLOOKUP($A572,Filtro!$A$4:$AX$315,6,FALSE),0)","v":254},{"$f":"IFERROR(VLOOKUP($A572,Filtro!$A$4:$AX$315,7,FALSE),0)","v":0}]
["80106009","0106009","Lavado gástrico",{"$f":"IFERROR(VLOOKUP($A573,Filtro!$A$4:$AX$315,2,FALSE),0)","v":38},{"$f":"IFERROR(VLOOKUP($A573,Filtro!$A$4:$AX$315,3,FALSE),0)","v":28},{"$f":"IFERROR(VLOOKUP($A573,Filtro!$A$4:$AX$315,4,FALSE),0)","v":10},{"$f":"IFERROR(VLOOKUP($A573,Filtro!$A$4:$AX$315,5,FALSE),0)","v":13},{"$f":"IFERROR(VLOOKUP($A573,Filtro!$A$4:$AX$315,6,FALSE),0)","v":24},{"$f":"IFERROR(VLOOKUP($A573,Filtro!$A$4:$AX$315,7,FALSE),0)","v":0}]
["80106010","0106010","Lavado oído",{"$f":"IFERROR(VLOOKUP($A574,Filtro!$A$4:$AX$315,2,FALSE),0)","v":818},{"$f":"IFERROR(VLOOKUP($A574,Filtro!$A$4:$AX$315,3,FALSE),0)","v":124},{"$f":"IFERROR(VLOOKUP($A574,Filtro!$A$4:$AX$315,4,FALSE),0)","v":694},{"$f":"IFERROR(VLOOKUP($A574,Filtro!$A$4:$AX$315,5,FALSE),0)","v":342},{"$f":"IFERROR(VLOOKUP($A574,Filtro!$A$4:$AX$315,6,FALSE),0)","v":230},{"$f":"IFERROR(VLOOKUP($A574,Filtro!$A$4:$AX$315,7,FALSE),0)","v":0}]
["80106011","0106011","Técnicas reanimación cardiopulmonar básico",{"$f":"IFERROR(VLOOKUP($A575,Filtro!$A$4:$AX$315,2,FALSE),0)","v":26},{"$f":"IFERROR(VLOOKUP($A575,Filtro!$A$4:$AX$315,3,FALSE),0)","v":17},{"$f":"IFERROR(VLOOKUP($A575,Filtro!$A$4:$AX$315,4,FALSE),0)","v":9},{"$f":"IFERROR(VLOOKUP($A575,Filtro!$A$4:$AX$315,5,FALSE),0)","v":7},{"$f":"IFERROR(VLOOKUP($A575,Filtro!$A$4:$AX$315,6,FALSE),0)","v":17},{"$f":"IFERROR(VLOOKUP($A575,Filtro!$A$4:$AX$315,7,FALSE),0)","v":0}]
["80106012","0106012","Técnicas reanimación cardiopulmonar avanzado",{"$f":"IFERROR(VLOOKUP($A576,Filtro!$A$4:$AX$315,2,FALSE),0)","v":65},{"$f":"IFERROR(VLOOKUP($A576,Filtro!$A$4:$AX$315,3,FALSE),0)","v":58},{"$f":"IFERROR(VLOOKUP($A576,Filtro!$A$4:$AX$315,4,FALSE),0)","v":7},{"$f":"IFERROR(VLOOKUP($A576,Filtro!$A$4:$AX$315,5,FALSE),0)","v":24},{"$f":"IFERROR(VLOOKUP($A576,Filtro!$A$4:$AX$315,6,FALSE),0)","v":27},{"$f":"IFERROR(VLOOKUP($A576,Filtro!$A$4:$AX$315,7,FALSE),0)","v":0}]
["80106013","0106013","Aseo ocular",{"$f":"IFERROR(VLOOKUP($A577,Filtro!$A$4:$AX$315,2,FALSE),0)","v":{"v":2636,"d":"2,636"}},{"$f":"IFERROR(VLOOKUP($A577,Filtro!$A$4:$AX$315,3,FALSE),0)","v":{"v":1396,"d":"1,396"}},{"$f":"IFERROR(VLOOKUP($A577,Filtro!$A$4:$AX$315,4,FALSE),0)","v":{"v":1240,"d":"1,240"}},{"$f":"IFERROR(VLOOKUP($A577,Filtro!$A$4:$AX$315,5,FALSE),0)","v":419},{"$f":"IFERROR(VLOOKUP($A577,Filtro!$A$4:$AX$315,6,FALSE),0)","v":{"v":2102,"d":"2,102"}},{"$f":"IFERROR(VLOOKUP($A577,Filtro!$A$4:$AX$315,7,FALSE),0)","v":0}]
["80106014","0106014","Administración inyecciones",{"$f":"IFERROR(VLOOKUP($A578,Filtro!$A$4:$AX$315,2,FALSE),0)","v":{"v":225641,"d":"225,641"}},{"$f":"IFERROR(VLOOKUP($A578,Filtro!$A$4:$AX$315,3,FALSE),0)","v":{"v":116217,"d":"116,217"}},{"$f":"IFERROR(VLOOKUP($A578,Filtro!$A$4:$AX$315,4,FALSE),0)","v":{"v":109424,"d":"109,424"}},{"$f":"IFERROR(VLOOKUP($A578,Filtro!$A$4:$AX$315,5,FALSE),0)","v":{"v":9665,"d":"9,665"}},{"$f":"IFERROR(VLOOKUP($A578,Filtro!$A$4:$AX$315,6,FALSE),0)","v":{"v":201629,"d":"201,629"}},{"$f":"IFERROR(VLOOKUP($A578,Filtro!$A$4:$AX$315,7,FALSE),0)","v":{"v":1118,"d":"1,118"}}]
["80106015","0106015","Administración fleboclisis",{"$f":"IFERROR(VLOOKUP($A579,Filtro!$A$4:$AX$315,2,FALSE),0)","v":{"v":33096,"d":"33,096"}},{"$f":"IFERROR(VLOOKUP($A579,Filtro!$A$4:$AX$315,3,FALSE),0)","v":{"v":25592,"d":"25,592"}},{"$f":"IFERROR(VLOOKUP($A579,Filtro!$A$4:$AX$315,4,FALSE),0)","v":{"v":7504,"d":"7,504"}},{"$f":"IFERROR(VLOOKUP($A579,Filtro!$A$4:$AX$315,5,FALSE),0)","v":{"v":3800,"d":"3,800"}},{"$f":"IFERROR(VLOOKUP($A579,Filtro!$A$4:$AX$315,6,FALSE),0)","v":{"v":26467,"d":"26,467"}},{"$f":"IFERROR(VLOOKUP($A579,Filtro!$A$4:$AX$315,7,FALSE),0)","v":86}]
["80106020","0106020","Administración oxigeno",{"$f":"IFERROR(VLOOKUP($A580,Filtro!$A$4:$AX$315,2,FALSE),0)","v":{"v":2410,"d":"2,410"}},{"$f":"IFERROR(VLOOKUP($A580,Filtro!$A$4:$AX$315,3,FALSE),0)","v":{"v":1855,"d":"1,855"}},{"$f":"IFERROR(VLOOKUP($A580,Filtro!$A$4:$AX$315,4,FALSE),0)","v":555},{"$f":"IFERROR(VLOOKUP($A580,Filtro!$A$4:$AX$315,5,FALSE),0)","v":152},{"$f":"IFERROR(VLOOKUP($A580,Filtro!$A$4:$AX$315,6,FALSE),0)","v":{"v":1961,"d":"1,961"}},{"$f":"IFERROR(VLOOKUP($A580,Filtro!$A$4:$AX$315,7,FALSE),0)","v":8}]
["80106021","0106021","Aspiración secreciones",{"$f":"IFERROR(VLOOKUP($A581,Filtro!$A$4:$AX$315,2,FALSE),0)","v":112},{"$f":"IFERROR(VLOOKUP($A581,Filtro!$A$4:$AX$315,3,FALSE),0)","v":66},{"$f":"IFERROR(VLOOKUP($A581,Filtro!$A$4:$AX$315,4,FALSE),0)","v":46},{"$f":"IFERROR(VLOOKUP($A581,Filtro!$A$4:$AX$315,5,FALSE),0)","v":12},{"$f":"IFERROR(VLOOKUP($A581,Filtro!$A$4:$AX$315,6,FALSE),0)","v":92},{"$f":"IFERROR(VLOOKUP($A581,Filtro!$A$4:$AX$315,7,FALSE),0)","v":0}]
["80106022","0106022","Instalación sonda",{"$f":"IFERROR(VLOOKUP($A582,Filtro!$A$4:$AX$315,2,FALSE),0)","v":{"v":2382,"d":"2,382"}},{"$f":"IFERROR(VLOOKUP($A582,Filtro!$A$4:$AX$315,3,FALSE),0)","v":976},{"$f":"IFERROR(VLOOKUP($A582,Filtro!$A$4:$AX$315,4,FALSE),0)","v":{"v":1406,"d":"1,406"}},{"$f":"IFERROR(VLOOKUP($A582,Filtro!$A$4:$AX$315,5,FALSE),0)","v":15},{"$f":"IFERROR(VLOOKUP($A582,Filtro!$A$4:$AX$315,6,FALSE),0)","v":{"v":2088,"d":"2,088"}},{"$f":"IFERROR(VLOOKUP($A582,Filtro!$A$4:$AX$315,7,FALSE),0)","v":3}]
["80106023",null,"Procedimientos de podología",{"$f":"IFERROR(VLOOKUP($A583,Filtro!$A$4:$AX$315,2,FALSE),0)","v":{"v":11742,"d":"11,742"}},{"$f":"IFERROR(VLOOKUP($A583,Filtro!$A$4:$AX$315,3,FALSE),0)","v":301},{"$f":"IFERROR(VLOOKUP($A583,Filtro!$A$4:$AX$315,4,FALSE),0)","v":{"v":11441,"d":"11,441"}},{"$f":"IFERROR(VLOOKUP($A583,Filtro!$A$4:$AX$315,5,FALSE),0)","v":0},{"$f":"IFERROR(VLOOKUP($A583,Filtro!$A$4:$AX$315,6,FALSE),0)","v":{"v":9113,"d":"9,113"}},{"$f":"IFERROR(VLOOKUP($A583,Filtro!$A$4:$AX$315,7,FALSE),0)","v":568}]
[null,"TOTAL",null,{"$f":"SUM(D567:D583)","v":{"v":418114,"d":"418,114"}},{"v":163731,"d":"163,731"},{"v":254383,"d":"254,383"},{"v":15028,"d":"15,028"},{"v":368291,"d":"368,291"},{"v":2263,"d":"2,263"}]
[null,"CÓDIGOS","OTROS PROCEDIMIENTOS","TOTAL","SAPU/SAR/SUR","NO SAPU/ NO SUR","COMPRAS DE SERVICIOS"]
[]
["80307011","0307011","Toma de muestra de sangre venosa en adultos",{"$f":"IFERROR(VLOOKUP($A587,Filtro!$A$4:$AX$315,2,FALSE),0)","v":{"v":139141,"d":"139,141"}},{"$f":"IFERROR(VLOOKUP($A587,Filtro!$A$4:$AX$315,3,FALSE),0)","v":{"v":3416,"d":"3,416"}},{"$f":"IFERROR(VLOOKUP($A587,Filtro!$A$4:$AX$315,4,FALSE),0)","v":{"v":135725,"d":"135,725"}},{"$f":"IFERROR(VLOOKUP($A587,Filtro!$A$4:$AX$315,5,FALSE),0)","v":{"v":48932,"d":"48,932"}}]
["80307012","0307012","Toma de muestra de sangre venosa en niños y lactantes",{"$f":"IFERROR(VLOOKUP($A588,Filtro!$A$4:$AX$315,2,FALSE),0)","v":{"v":3838,"d":"3,838"}},{"$f":"IFERROR(VLOOKUP($A588,Filtro!$A$4:$AX$315,3,FALSE),0)","v":304},{"$f":"IFERROR(VLOOKUP($A588,Filtro!$A$4:$AX$315,4,FALSE),0)","v":{"v":3534,"d":"3,534"}},{"$f":"IFERROR(VLOOKUP($A588,Filtro!$A$4:$AX$315,5,FALSE),0)","v":511}]
[null,"TOTAL",null,{"$f":"SUM(D587:D588)","v":{"v":142979,"d":"142,979"}},{"$f":"SUM(E587:E588)","v":{"v":3720,"d":"3,720"}},{"v":139259,"d":"139,259"},{"v":49443,"d":"49,443"}]
[null,"SECCIÓN E: OTROS EXÁMENES Y PROCEDIMIENTOS  DE APOYO CLÍNICO Y TERAPEUTICO (SIN CÓDIGO EN ARANCEL)"]
[null,"EXÁMENES Y/O PROCEDIMIENTO",null,"TOTAL","SAPU/SAR/SUR","NO SAPU/ NO SUR","FUNCIONARIO",null,"COMPRAS DE SERVICIOS"]
[{"$nulls":6},"MÉDICO","OTRO"]
["80500001","Toma agudeza visual (ambos ojos)",null,{"$f":"IFERROR(VLOOKUP($A593,Filtro!$A$4:$AX$315,2,FALSE),0)","v":774},{"$f":"IFERROR(VLOOKUP($A593,Filtro!$A$4:$AX$315,3,FALSE),0)","v":5},{"$f":"IFERROR(VLOOKUP($A593,Filtro!$A$4:$AX$315,4,FALSE),0)","v":769},{"$f":"IFERROR(VLOOKUP($A593,Filtro!$A$4:$AX$315,5,FALSE),0)","v":24},{"$f":"IFERROR(VLOOKUP($A593,Filtro!$A$4:$AX$315,6,FALSE),0)","v":733},{"$f":"IFERROR(VLOOKUP($A593,Filtro!$A$4:$AX$315,7,FALSE),0)","v":0}]
["80500002","Autorrefractomia",null,{"$f":"IFERROR(VLOOKUP($A594,Filtro!$A$4:$AX$315,2,FALSE),0)","v":0},{"$f":"IFERROR(VLOOKUP($A594,Filtro!$A$4:$AX$315,3,FALSE),0)","v":0},{"$f":"IFERROR(VLOOKUP($A594,Filtro!$A$4:$AX$315,4,FALSE),0)","v":0},{"$f":"IFERROR(VLOOKUP($A594,Filtro!$A$4:$AX$315,5,FALSE),0)","v":0},{"$f":"IFERROR(VLOOKUP($A594,Filtro!$A$4:$AX$315,6,FALSE),0)","v":0},{"$f":"IFERROR(VLOOKUP($A594,Filtro!$A$4:$AX$315,7,FALSE),0)","v":0}]
["80500003","Lensometria",null,{"$f":"IFERROR(VLOOKUP($A595,Filtro!$A$4:$AX$315,2,FALSE),0)","v":0},{"$f":"IFERROR(VLOOKUP($A595,Filtro!$A$4:$AX$315,3,FALSE),0)","v":0},{"$f":"IFERROR(VLOOKUP($A595,Filtro!$A$4:$AX$315,4,FALSE),0)","v":0},{"$f":"IFERROR(VLOOKUP($A595,Filtro!$A$4:$AX$315,5,FALSE),0)","v":0},{"$f":"IFERROR(VLOOKUP($A595,Filtro!$A$4:$AX$315,6,FALSE),0)","v":0},{"$f":"IFERROR(VLOOKUP($A595,Filtro!$A$4:$AX$315,7,FALSE),0)","v":0}]
["80500004","Paquimetria Ultrasónica",null,{"$f":"IFERROR(VLOOKUP($A596,Filtro!$A$4:$AX$315,2,FALSE),0)","v":0},{"$f":"IFERROR(VLOOKUP($A596,Filtro!$A$4:$AX$315,3,FALSE),0)","v":0},{"$f":"IFERROR(VLOOKUP($A596,Filtro!$A$4:$AX$315,4,FALSE),0)","v":0},{"$f":"IFERROR(VLOOKUP($A596,Filtro!$A$4:$AX$315,5,FALSE),0)","v":0},{"$f":"IFERROR(VLOOKUP($A596,Filtro!$A$4:$AX$315,6,FALSE),0)","v":0},{"$f":"IFERROR(VLOOKUP($A596,Filtro!$A$4:$AX$315,7,FALSE),0)","v":0}]
["80500005","Paquimetria óptica",null,{"$f":"IFERROR(VLOOKUP($A597,Filtro!$A$4:$AX$315,2,FALSE),0)","v":0},{"$f":"IFERROR(VLOOKUP($A597,Filtro!$A$4:$AX$315,3,FALSE),0)","v":0},{"$f":"IFERROR(VLOOKUP($A597,Filtro!$A$4:$AX$315,4,FALSE),0)","v":0},{"$f":"IFERROR(VLOOKUP($A597,Filtro!$A$4:$AX$315,5,FALSE),0)","v":0},{"$f":"IFERROR(VLOOKUP($A597,Filtro!$A$4:$AX$315,6,FALSE),0)","v":0},{"$f":"IFERROR(VLOOKUP($A597,Filtro!$A$4:$AX$315,7,FALSE),0)","v":0}]
["80500006","Tomografía coherencia óptica",null,{"$f":"IFERROR(VLOOKUP($A598,Filtro!$A$4:$AX$315,2,FALSE),0)","v":0},{"$f":"IFERROR(VLOOKUP($A598,Filtro!$A$4:$AX$315,3,FALSE),0)","v":0},{"$f":"IFERROR(VLOOKUP($A598,Filtro!$A$4:$AX$315,4,FALSE),0)","v":0},{"$f":"IFERROR(VLOOKUP($A598,Filtro!$A$4:$AX$315,5,FALSE),0)","v":0},{"$f":"IFERROR(VLOOKUP($A598,Filtro!$A$4:$AX$315,6,FALSE),0)","v":0},{"$f":"IFERROR(VLOOKUP($A598,Filtro!$A$4:$AX$315,7,FALSE),0)","v":0}]
["80500007","Inyeccion intravitrea avastin",null,{"$f":"IFERROR(VLOOKUP($A599,Filtro!$A$4:$AX$315,2,FALSE),0)","v":3},{"$f":"IFERROR(VLOOKUP($A599,Filtro!$A$4:$AX$315,3,FALSE),0)","v":0},{"$f":"IFERROR(VLOOKUP($A599,Filtro!$A$4:$AX$315,4,FALSE),0)","v":3},{"$f":"IFERROR(VLOOKUP($A599,Filtro!$A$4:$AX$315,5,FALSE),0)","v":1},{"$f":"IFERROR(VLOOKUP($A599,Filtro!$A$4:$AX$315,6,FALSE),0)","v":1},{"$f":"IFERROR(VLOOKUP($A599,Filtro!$A$4:$AX$315,7,FALSE),0)","v":0}]
["80500008","Insercion Implante Anticonceptivo",null,{"$f":"IFERROR(VLOOKUP($A600,Filtro!$A$4:$AX$315,2,FALSE),0)","v":{"v":1110,"d":"1,110"}},{"$f":"IFERROR(VLOOKUP($A600,Filtro!$A$4:$AX$315,3,FALSE),0)","v":12},{"$f":"IFERROR(VLOOKUP($A600,Filtro!$A$4:$AX$315,4,FALSE),0)","v":{"v":1098,"d":"1,098"}},{"$f":"IFERROR(VLOOKUP($A600,Filtro!$A$4:$AX$315,5,FALSE),0)","v":0},{"$f":"IFERROR(VLOOKUP($A600,Filtro!$A$4:$AX$315,6,FALSE),0)","v":{"v":1078,"d":"1,078"}},{"$f":"IFERROR(VLOOKUP($A600,Filtro!$A$4:$AX$315,7,FALSE),0)","v":12}]
["80500009","Remocion Implante Anticonceptivo",null,{"$f":"IFERROR(VLOOKUP($A601,Filtro!$A$4:$AX$315,2,FALSE),0)","v":852},{"$f":"IFERROR(VLOOKUP($A601,Filtro!$A$4:$AX$315,3,FALSE),0)","v":10},{"$f":"IFERROR(VLOOKUP($A601,Filtro!$A$4:$AX$315,4,FALSE),0)","v":842},{"$f":"IFERROR(VLOOKUP($A601,Filtro!$A$4:$AX$315,5,FALSE),0)","v":0},{"$f":"IFERROR(VLOOKUP($A601,Filtro!$A$4:$AX$315,6,FALSE),0)","v":825},{"$f":"IFERROR(VLOOKUP($A601,Filtro!$A$4:$AX$315,7,FALSE),0)","v":7}]
["80500010","Insercion Pellets subcutáneo",null,{"$f":"IFERROR(VLOOKUP($A602,Filtro!$A$4:$AX$315,2,FALSE),0)","v":160},{"$f":"IFERROR(VLOOKUP($A602,Filtro!$A$4:$AX$315,3,FALSE),0)","v":70},{"$f":"IFERROR(VLOOKUP($A602,Filtro!$A$4:$AX$315,4,FALSE),0)","v":90},{"$f":"IFERROR(VLOOKUP($A602,Filtro!$A$4:$AX$315,5,FALSE),0)","v":0},{"$f":"IFERROR(VLOOKUP($A602,Filtro!$A$4:$AX$315,6,FALSE),0)","v":100},{"$f":"IFERROR(VLOOKUP($A602,Filtro!$A$4:$AX$315,7,FALSE),0)","v":0}]
["80500011","Hemoglocotest instantaneo ",null,{"$f":"IFERROR(VLOOKUP($A603,Filtro!$A$4:$AX$315,2,FALSE),0)","v":{"v":50348,"d":"50,348"}},{"$f":"IFERROR(VLOOKUP($A603,Filtro!$A$4:$AX$315,3,FALSE),0)","v":{"v":24669,"d":"24,669"}},{"$f":"IFERROR(VLOOKUP($A603,Filtro!$A$4:$AX$315,4,FALSE),0)","v":{"v":25679,"d":"25,679"}},{"$f":"IFERROR(VLOOKUP($A603,Filtro!$A$4:$AX$315,5,FALSE),0)","v":{"v":2402,"d":"2,402"}},{"$f":"IFERROR(VLOOKUP($A603,Filtro!$A$4:$AX$315,6,FALSE),0)","v":{"v":38579,"d":"38,579"}},{"$f":"IFERROR(VLOOKUP($A603,Filtro!$A$4:$AX$315,7,FALSE),0)","v":469}]
["80500014","Radiografía de pelvis, cadera o coxofemoral de 1er screening  (entre 3 -6 meses)",null,{"$f":"IFERROR(VLOOKUP($A604,Filtro!$A$4:$AX$315,2,FALSE),0)","v":978},{"$f":"IFERROR(VLOOKUP($A604,Filtro!$A$4:$AX$315,3,FALSE),0)","v":189},{"$f":"IFERROR(VLOOKUP($A604,Filtro!$A$4:$AX$315,4,FALSE),0)","v":789},{"$f":"IFERROR(VLOOKUP($A604,Filtro!$A$4:$AX$315,5,FALSE),0)","v":36},{"$f":"IFERROR(VLOOKUP($A604,Filtro!$A$4:$AX$315,6,FALSE),0)","v":806},{"$f":"IFERROR(VLOOKUP($A604,Filtro!$A$4:$AX$315,7,FALSE),0)","v":{"v":1747,"d":"1,747"}}]
["80500016","Cartridge para Troponina",null,{"$f":"IFERROR(VLOOKUP($A605,Filtro!$A$4:$AX$315,2,FALSE),0)","v":438},{"$f":"IFERROR(VLOOKUP($A605,Filtro!$A$4:$AX$315,3,FALSE),0)","v":432},{"$f":"IFERROR(VLOOKUP($A605,Filtro!$A$4:$AX$315,4,FALSE),0)","v":6},{"$f":"IFERROR(VLOOKUP($A605,Filtro!$A$4:$AX$315,5,FALSE),0)","v":0},{"$f":"IFERROR(VLOOKUP($A605,Filtro!$A$4:$AX$315,6,FALSE),0)","v":432},{"$f":"IFERROR(VLOOKUP($A605,Filtro!$A$4:$AX$315,7,FALSE),0)","v":6}]
["80500017","Cartridge Multiple",null,{"$f":"IFERROR(VLOOKUP($A606,Filtro!$A$4:$AX$315,2,FALSE),0)","v":{"v":1140,"d":"1,140"}},{"$f":"IFERROR(VLOOKUP($A606,Filtro!$A$4:$AX$315,3,FALSE),0)","v":{"v":1140,"d":"1,140"}},{"$f":"IFERROR(VLOOKUP($A606,Filtro!$A$4:$AX$315,4,FALSE),0)","v":0},{"$f":"IFERROR(VLOOKUP($A606,Filtro!$A$4:$AX$315,5,FALSE),0)","v":0},{"$f":"IFERROR(VLOOKUP($A606,Filtro!$A$4:$AX$315,6,FALSE),0)","v":{"v":1140,"d":"1,140"}},{"$f":"IFERROR(VLOOKUP($A606,Filtro!$A$4:$AX$315,7,FALSE),0)","v":30}]
[null,"TOTAL",null,{"$f":"SUM(D593:D606)","v":{"v":55803,"d":"55,803"}},{"$f":"SUM(E593:E606)","v":{"v":26527,"d":"26,527"}},{"$f":"SUM(F593:F606)","v":{"v":29276,"d":"29,276"}},{"v":2463,"d":"2,463"},{"v":43694,"d":"43,694"},{"v":2271,"d":"2,271"}]